{"text_format":"1","workbook":"xlsx","n_sheets":56,"sheets":["HOME","PART A - GENERAL","PART A - GENERAL(2)","Part A Gen_139(8A)","BALANCE_SHEET","MANUFACTURING ACCOUNT","TRADING ACCOUNT","PROFIT_LOSS","PART - A OI","PDTCAse","Tax(N)","Tax","QUANTITATIVE_DETAILS","HOUSE_PROPERTY","BP","DPM_DOA","DEP_DCG","ESR","CG","Schedule 112A","Instructions","Schedule 115AD(1)(iii)(p)","HelpCSV","OS","CYLA-BFLA","CFL","Unabsorbed Depreciation","Schedule ICDS","10AA","80G","80GGA","RA","80","80P","VI-A","AMT","AMTC","SI","IF","EI","Schedule PTI","Schedule TPSA","FSI","TR_FA","GST","PARTB - TI - TTI","Part B ATI","IT","TDS","FD","VERIFICATION","SUMMARY","Help","DB","112","115"],"not_rendered":{"charts":0,"images":1,"macros":1,"external_links":1,"defined_names":5814,"comments":11,"pivot_tables":0},"unopened":[],"bounds":{"document_bytes":16777216,"sheet_cells":100000,"rows_first":2000,"rows_last":500,"rows_between":2000,"halvings":0,"cell_chars":16384,"cell_head_chars":4096},"cells_cut":0,"cells_raw":0,"read":"whole","date_system":"1900"}

{"sheet":"HOME","index":0,"n_rows":55,"n_cols":8,"rows_kept":55,"cut":false,"hidden":false,"merged":[[2,2,5,2],[2,3,5,7],[54,2,54,7]]}
[]
[]
[null,null,null,"                                                                              Assessment Year 2022-23"]
[]
[]
[]
[]
[null,null,"Sl.No","Schedule Name","Schedule for filing Income tax return","Description \n(\"Click on applicable links to navigate to the respective sheet / schedule.\")","Select applicable sheets below by choosing Y/N and Click on Apply","Select sheets to print and click apply"]
[null,null,1,"PART A - GENERAL","Personal Information, Filing Status & Audit Information","Details of Personal Information, Filing Status & Audit Information","Y","Y"]
[null,null,{"$f":"C9+1","v":2},"PART A - GENERAL(2)","Partners/ Members Information, Nature of Business or Profession","Partners/ Members Information, Nature of business or profession, if more than one trade names please specify upto 3 trade names ","Y","Y"]
[null,null,{"$f":"C10+1","v":3},"Part A Gen_139(8A)","GENERAL INFORMATION _139(8A)","ITR U - INDIAN INCOME TAX UPDATED RETURN","Y","Y"]
[null,null,{"$f":"C11+1","v":4},"BALANCE_SHEET","PartA-BS","Balance sheet as on 31st day of March, 2022 or date of dissolution.","Y","Y"]
[null,null,{"$f":"C12+1","v":5},"MANUFACTURING ACCOUNT","Part A Manufacturing Account","Manufacturing Account  for the financial year 2021-22","Y","Y"]
[null,null,6,"TRADING ACCOUNT","Part A-Trading Account ","Trading Account  for the financial year 2021-22","Y","Y"]
[null,null,7,"PROFIT_LOSS","PartA-P&L","Profit and Loss Account for the previous year 2021-22","Y","Y"]
[null,null,8,"PART - A OI","PartA-OI","Other Information (optional in a case not liable for audit under section 44AB)","Y","Y"]
[null,null,9,"QUANTITATIVE_DETAILS","PartA-QD","Quantitative details (optional in a case not liable for audit under section 44AB)","Y","Y"]
[null,null,10,"HOUSE_PROPERTY","Schedule HP","Details of Income from House Property","Y","Y"]
[null,null,11,"BP","Schedule BP","Computation of income from business or profession","Y","Y"]
[null,null,12,"DPM_DOA","Schedule DPM, Schedule DOA","Depreciation on Plant and Machinery & on other assets","Y","Y"]
[null,null,13,"DEP_DCG","Schedule DEP, Schedule DCG","Summary of depreciation on assets & Deemed Capital Gains on sale of depreciable assets","Y","Y"]
[null,null,14,"ESR","Schedule ESR","Deduction under section 35 or 35CCC or 35CCD","Y","Y"]
[null,null,15,"CG","Schedule CG","Details of Income from Capital Gains","Y","Y"]
[null,null,16,"Schedule 112A","Schedule 112A","From sale of equity share in a company or unit of equity oriented fund or unit of a business trust on which STT is paid under section 112A","Y","Y"]
[null,null,17,"Schedule 115AD(1)(iii)(p)","Schedule 115AD(1)(iii) proviso","For NON-RESIDENTS - From sale of equity share in a company or unit of equity oriented fund or unit of a business trust on which STT is paid under section 112A","Y","Y"]
[null,null,18,"OS","Schedule OS","Details of Income from Other Sources","Y","Y"]
[null,null,19,"CYLA-BFLA","Schedule CYLA, Schedule BFLA","Details of Income after Set off of Current years losses &Brought Forward Losses of earlier years","Y","Y"]
[null,null,20,"CFL","Schedule CFL","Details of Losses to be carried forward to future Years","Y","Y"]
[null,null,21,"Unabsorbed Depreciation","Schedule UD","Unabsorbed depreciation and allowance under section 35(4)","Y","Y"]
[null,null,22,"Schedule ICDS","Schedule ICDS","Effect of Income Computation Disclosure Standards on profit","Y","Y"]
[null,null,23,"10AA","Schedule 10AA","Deduction under section 10AA","Y","Y"]
[null,null,24,"80G","Schedule 80G","Details of donations entitled for deduction under section 80G","Y","Y"]
[null,null,25,"80GGA","Schedule 80GGA","Details of donations for scientific research or rural development","Y","Y"]
[null,null,26,"RA","Schedule RA","Details of donations to research associations etc. [deduction under sections 35(1)(ii) or 35(1)(iia) or 35(1)(iii) or 35(2AA)] ","Y","Y"]
[null,null,27,"80","Schedule 80-IA, Schedule 80-IB, Schedule 80-IC or Schedule 80-IE","Deductions under section 80-IA, 80-IB, 80-IC or 80-IE &  Chapter VI-A","Y","Y"]
[null,null,28,"80P","Schedule 80P","Deductions under section 80P","Y","Y"]
[null,null,29,"VI-A","Schedule VI-A","Deductions under  Chapter VI-A","Y","Y"]
[null,null,30,"AMT","Schedule AMT","Computation of Alternate Minimum  Tax payable under section 115JC ","Y","Y"]
[null,null,31,"AMTC","Schedule AMTC","Computation of tax credit under section 115JD ","Y","Y"]
[null,null,32,"SI","Schedule SI","Income chargeable to Income tax at special rates IB ","Y","Y"]
[null,null,33,"IF","Schedule IF","Information regarding partnership firms in which you are partner ","Y","Y"]
[null,null,34,"EI","Schedule EI","Details of Exempt Income","Y","Y"]
[null,null,35,"Schedule PTI","Schedule PTI","Pass Through Income details from business trust or investment fund as per section 115UA, 115UB","Y","Y"]
[null,null,36,"Schedule TPSA","Schedule TPSA","Details of Tax on secondary adjustments as per section 92CE(2A)","Y","Y"]
[null,null,37,"FSI","Schedule FSI","Details of Income from outside India and tax relief","Y","Y"]
[null,null,38,"TR_FA","Schedule TR, Schedule FA","Summary of tax relief claimed for taxes paid outside India & Schedule FA Details of foreign assets","Y","Y"]
[null,null,39,"Schedule DI","Schedule DI","Details of investments","Y","N"]
[null,null,{"$f":"C46+1","v":39},"GST","Schedule GST","Information regarding turnover/gross receipt reported for GST","Y","Y"]
[null,null,40,"PARTB - TI - TTI","PartB-TI, PartB-TTI & Verification","Computation of Total Income & Tax Liability on total income","Y","Y"]
[null,null,{"$f":"C49+1","v":41},"Part B ATI","Part B ATI","Details of Part B ATI","Y","Y"]
[null,null,{"$f":"C50+1","v":42},"IT","15A","Details of payments of Advance Tax and Self-Assessment Tax","Y","Y"]
[null,null,43,"TDS","15B, 15C","Details of Tax Deducted at Source & Tax Collected at Source","Y","Y"]
[null,null,44,"VERIFICATION","Schedule Verification","Schedule Verification","Y","Y"]
[]
[null,null,"Instructions:\n1. Green cells are for data entry\n2. Red labels indicate Mandatory fields\n3. Do not use CTRL X/CTRL V or Cut/Copy/paste while data entry."]

{"sheet":"PART A - GENERAL","index":1,"n_rows":91,"n_cols":59,"rows_kept":91,"cut":false,"hidden":false,"merged":[[58,2,77,3],[76,5,76,48],[16,2,38,3],[46,4,46,48],[16,4,16,30],[27,4,27,8],[6,2,15,3],[28,37,28,48],[20,37,20,48],[27,9,27,21],[26,37,26,48],[33,9,33,21],[28,4,28,8],[27,22,27,36],[27,37,27,48],[20,4,20,8],[20,9,20,21],[20,22,20,36],[28,22,28,36],[19,4,19,48],[26,4,26,36],[17,9,17,21],[17,22,17,36],[17,37,17,48],[18,4,18,8],[18,22,18,36],[14,19,14,25],[33,37,33,48],[29,4,29,36],[28,9,28,21],[21,4,21,21],[13,42,13,48],[14,7,14,18],[13,33,13,37],[15,31,15,37],[15,4,15,6],[15,7,15,18],[15,26,15,30],[21,22,21,36],[22,4,22,30],[22,31,22,48],[24,4,24,30],[24,31,24,48],[16,31,16,48],[17,4,17,8],[33,22,33,36],[33,4,33,8],[18,37,18,48],[21,37,21,48],[12,33,12,37],[12,4,12,13],[11,33,11,48],[10,33,10,48],[12,42,12,48],[15,39,15,48],[15,20,15,25],[12,38,12,41],[13,38,13,41],[11,4,11,13],[14,4,14,6],[10,22,10,32],[11,22,11,32],[10,14,10,21],[13,14,13,21],[14,26,14,30],[14,31,14,37],[10,4,10,13],[11,14,11,21],[12,22,12,32],[12,14,12,21],[18,9,18,21],[13,22,13,32],[14,38,14,48],[13,4,13,13],[9,14,9,21],[6,4,6,13],[7,33,7,48],[6,33,6,48],[8,4,8,13],[6,14,6,21],[6,22,6,32],[7,4,7,13],[7,22,7,32],[2,41,2,48],[8,33,8,48],[9,33,9,48],[8,22,8,32],[3,6,3,40],[52,39,52,42],[52,37,52,38],[51,37,51,38],[2,2,5,3],[2,4,5,5],[2,6,2,40],[7,14,7,21],[3,41,3,48],[4,41,4,48],[5,6,5,40],[51,22,51,25],[50,26,50,29],[50,19,50,21],[51,30,51,33],[51,26,51,29],[50,15,50,18],[51,19,51,21],[51,15,51,18],[52,22,52,25],[4,6,4,40],[9,22,9,32],[9,4,9,13],[73,35,73,48],[70,22,70,48],[67,22,67,48],[70,5,70,21],[66,22,66,48],[55,39,55,42],[53,39,53,42],[53,30,53,33],[54,19,54,21],[54,26,54,29],[54,22,54,25],[54,15,54,18],[53,22,53,25],[54,43,54,48],[54,37,54,38],[53,43,53,48],[53,26,53,29],[53,19,53,21],[53,34,53,36],[54,30,54,33],[8,14,8,21],[91,2,92,3],[87,2,87,3],[88,2,88,3],[89,2,89,3],[91,4,92,48],[55,43,55,48],[55,37,55,38],[55,30,55,33],[55,34,55,36],[55,22,55,25],[55,26,55,29],[56,4,56,48],[65,5,65,36],[65,37,65,48],[69,5,69,21],[57,2,57,4],[57,5,57,48],[64,37,64,48],[63,37,63,48],[67,5,67,21],[68,22,68,48],[90,2,90,3],[58,37,58,48],[72,37,72,48],[83,4,84,48],[69,22,69,48],[66,5,66,21],[59,37,59,48],[60,37,60,48],[61,37,61,48],[73,5,73,34],[75,5,75,36],[74,35,74,48],[74,5,74,34],[86,2,86,3],[85,4,85,48],[75,37,75,48],[54,39,54,42],[54,34,54,36],[52,9,52,14],[52,43,52,48],[52,26,52,29],[62,37,62,48],[55,15,55,18],[55,9,55,14],[72,5,72,36],[68,5,68,21],[55,19,55,21],[63,5,63,36],[64,5,64,36],[71,5,71,21],[71,22,71,48],[85,2,85,3],[58,5,58,36],[59,5,59,36],[60,5,60,36],[61,5,61,36],[62,5,62,36],[53,9,53,14],[54,9,54,14],[53,37,53,38],[53,15,53,18],[49,34,49,38],[50,34,50,36],[50,30,50,33],[50,9,50,14],[51,9,51,14],[52,30,52,33],[51,43,51,48],[51,34,51,36],[50,39,50,42],[50,37,50,38],[49,6,50,6],[48,4,48,36],[52,34,52,36],[52,15,52,18],[52,19,52,21],[49,39,49,48],[50,22,50,25],[51,39,51,42],[48,37,48,48],[49,4,50,4],[49,5,50,5],[50,43,50,48],[49,7,50,7],[49,15,49,33],[49,8,49,14],[37,5,37,21],[37,22,37,48],[40,4,40,36],[34,37,34,48],[34,4,34,36],[47,5,47,48],[35,22,35,48],[35,5,35,21],[36,5,36,21],[36,22,36,48],[39,5,39,21],[39,22,39,48],[47,2,47,4],[38,22,38,48],[38,5,38,21],[40,37,40,48],[23,4,23,30],[23,31,23,48],[30,37,30,48],[31,37,31,48],[32,37,32,48],[30,4,30,36],[31,4,31,36],[32,4,32,36],[25,31,25,48],[25,4,25,30],[29,37,29,48]]}
[]
[]
[null,null,"FORM",null,"ITR-5",null,"INDIAN INCOME TAX RETURN",null,null,null,null,null,null,null,null,null,null,null,null,null,null,null,null,null,null,null,null,null,null,null,null,null,null,null,null,null,null,null,null,null,null,"Assessment Year",null,null,null,null,null,null,null,null,null,null,null,"adp059327"]
[null,null,null,null,null,null," [For persons other than,- (i) individual, (ii) HUF, (iii) company and (iv) person filing Form ITR-7]",null,null,null,null,null,null,null,null,null,null,null,null,null,null,null,null,null,null,null,null,null,null,null,null,null,null,null,null,null,null,null,null,null,null,"Year"]
[null,null,null,null,null,null,"(Please see Rule 12 of the Income Tax-Rules,1962)",null,null,null,null,null,null,null,null,null,null,null,null,null,null,null,null,null,null,null,null,null,null,null,null,null,null,null,null,null,null,null,null,null,null,"2 0 2 2 - 23"]
[null,null,null,null,null,null,"(Please refer instructions)"]
[null,null,"PERSONAL INFORMATION",null,"Name",null,null,null,null,null,null,null,null,null,"Is there any change in the name? If yes, please furnish the old name",null,null,null,null,null,null,null,"PAN",null,null,null,null,null,null,null,null,null,null,"Limited Liability Partnership Identification Number (LLPIN) issued by MCA, if applicable"]
[null,null,null,null,"YUVA ASSOCIATES",null,null,null,null,null,null,null,null,null,null,null,null,null,null,null,null,null,"AAAFY4512P"]
[null,null,null,null,"Flat/ Door/ Block No.",null,null,null,null,null,null,null,null,null,"Name of Premises/ Building/ Village",null,null,null,null,null,null,null,"Status                    ",null,null,null,null,null,null,null,null,null,null,"Sub Status"]
[null,null,null,null,"RA, 1020",null,null,null,null,null,null,null,null,null,null,null,null,null,null,null,null,null,"1-Firm",null,null,null,null,null,null,null,null,null,null,"1-Partnership Firm"]
[null,null,null,null,"Road / Street / Post Office",null,null,null,null,null,null,null,null,null,"Area / Locality",null,null,null,null,null,null,null,"Date of formation (dd/mm/yyyy)",null,null,null,null,null,null,null,null,null,null,"Date of Commencement of business (dd/mm/yyyy)"]
[null,null,null,null,null,null,null,null,null,null,null,null,null,null,"RAJA GARDEN",null,null,null,null,null,null,null,"10/02/1970",null,null,null,null,null,null,null,null,null,null,"23/09/1970"]
[null,null,null,null,"Town/City/District",null,null,null,null,null,null,null,null,null,"State",null,null,null,null,null,null,null,"Country",null,null,null,null,null,null,null,null,null,null,"Pin Code",null,null,null,null,"No Zip Code.?"]
[null,null,null,null,"NEW DELHI",null,null,null,null,null,null,null,null,null,"09-DELHI",null,null,null,null,null,null,null,"91-INDIA",null,null,null,null,null,null,null,null,null,null,110027,null,null,null,null,"Zip Code"]
[null,null,null,null,"Email Address-1 ",null,null,"Email Address - 2",null,null,null,null,null,null,null,null,null,null,null,"Mobile No 1",null,null,null,null,null,null,"(STD code)",null,null,null,null,"Office Phone Number",null,null,null,null,null,null,"Mobile No 2",null,null,null,null,null,null,null,null,null,null,null,null,null,null,{"$f":"IF(MID(sheet1.SubStatus,1,1)=\"6\",sheet1.SubStatus,sheet1.SubStatus)","v":"1-Partnership Firm"}]
[null,null,null,null,"YUVA10@GMAIL.COM",null,null,"RATHORE_INCOMETAX@YAHOO.CO.IN",null,null,null,null,null,null,null,null,null,null,null,"91","9891475869",null,null,null,null,null,null,null,null,null,null,null,null,null,null,null,null,null,"91","9811116835"]
[null,null,null,null,"Filing Section:                                                      Filed u/s                                                               Filed in response to notice u/s.",null,null,null,null,null,null,null,null,null,null,null,null,null,null,null,null,null,null,null,null,null,null,null,null,null,null,"139(1)-On or before due date",null,null,null,null,null,null,null,null,null,null,null,null,null,null,null,null,null,null,null,null,null,null,null,null,null,null,{"$f":"VLOOKUP(sheet1.ReturnFileSec1,FiledSectionLookUp,2,FALSE)","v":11}]
[null,null,null,null,"Whether you are a business trust?",null,null,null,null,"No",null,null,null,null,null,null,null,null,null,null,null,null,"Whether you are a investment fund referred to in section 115UB?",null,null,null,null,null,null,null,null,null,null,null,null,null,null,"No"]
[null,null,null,null,"If revised/defective/ in response to notice for Modified, then enter Receipt no.",null,null,null,null,null,null,null,null,null,null,null,null,null,null,null,null,null,"Date of filing original return (dd/mm/yyyy)"]
[null,null,null,null,"If filed, in response to a notice u/s 139(9)/142(1)/148 or order u/s 119(2)(b) enter unique number/Document Identification Number (DIN)  and date of such notice/Order, or if filed u/s 92CD enter date of advance pricing agreement"]
[null,null,null,null,"Unique number/ Document Identification Number (DIN) ",null,null,null,null,null,null,null,null,null,null,null,null,null,null,null,null,null,"Date of such Notice or Order (dd/mm/yyyy)"]
[null,null,null,null,null,null,null,null,null,null,null,null,null,null,null,null,null,null,null,null,null,null,"Residential Status",null,null,null,null,null,null,null,null,null,null,null,null,null,null,"RES-Resident"]
[null,null,null,null,"Have you opted for new tax regime u/s 115BAD and filed form 10-IF in AY 2021-22?"]
[null,null,null,null," If no, Option for current assessment year"]
[null,null,null,null,"Date of filing of form 10IF DD/MM/YYYY",null,null,null,null,null,null,null,null,null,null,null,null,null,null,null,null,null,null,null,null,null,null,null,null,null,null,""]
[null,null,null,null,"Acknowledgement number  "]
[null,null,null,null,"Whether assessee has a unit in an International Financial Services Centre and derives income solely in convertible foreign exchange?",null,null,null,null,null,null,null,null,null,null,null,null,null,null,null,null,null,null,null,null,null,null,null,null,null,null,null,null,null,null,null,null,"No"]
[null,null,null,null,"Whether you are recognized as start up by DPIIT ",null,null,null,null,"No",null,null,null,null,null,null,null,null,null,null,null,null,"If yes, please provide start up recognition number allotted by the DPIIT  "]
[null,null,null,null,"Whether certificate from inter-ministerial board for certification is received? ",null,null,null,null,"No",null,null,null,null,null,null,null,null,null,null,null,null,"If yes, please provide the certification number"]
[null,null,null,null,"In case of non-resident, is there a permanent establishment (PE) in India? "]
[null,null,null,null,"In the case of non-resident, is there a Significant economic presence (SEP)  in India",null,null,null,null,null,null,null,null,null,null,null,null,null,null,null,null,null,null,null,null,null,null,null,null,null,null,null,null,null,null,null,null,"NA"]
[null,null,null,null,"please provide details of\n(a)   aggregate of payments arising from the transaction or transactions during the previous year as referred in Explanation 2A(a) to Section 9(1)(i)."]
[null,null,null,null,"(b)  number of users in India as referred in Explanation 2A(b) to Section 9(1)(i)"]
[null,null,null,null,"Whether you are an FII / FPI? ",null,null,null,null,"No",null,null,null,null,null,null,null,null,null,null,null,null,"If yes, please provide SEBI Regn. No"]
[null,null,null,null,"Whether this return is being filed by a representative assessee? If yes, please furnish following information",null,null,null,null,null,null,null,null,null,null,null,null,null,null,null,null,null,null,null,null,null,null,null,null,null,null,null,null,null,null,null,null,"No"]
[null,null,null,null,"a","Name of representative assessee"]
[null,null,null,null,"b","Capacity of the Representative assessee "]
[null,null,null,null,"c","Address of the representative "]
[null,null,null,null,"d","PAN of the representative "]
[null,null,null,null,"e","Aadhaar No. of the representative"]
[null,null,null,null,"Whether you are Partner in a firm?  If yes, please furnish following information",null,null,null,null,null,null,null,null,null,null,null,null,null,null,null,null,null,null,null,null,null,null,null,null,null,null,null,null,null,null,null,null,"No"]
[null,null,null,null,"Sl. No.","Name of Firm","PAN"]
[null,null,null,null,1,"",""]
[null,null,null,null,{"$f":"E43+1","v":2},"",""]
[null,null,null,null,{"$f":"E44+1","v":3},"",""]
[null,null,null,null,{"$f":"E45+1","v":4},"",""]
[]
[null,null,"Note :",null,null,"If field \"Whether you are Partner in a Firm ?\" is \"Yes\" then at least one row is mandatory."]
[null,null,null,null,"Whether you have held unlisted equity shares at any time during the previous year? If yes, please furnish following information in respect of equity shares -",null,null,null,null,null,null,null,null,null,null,null,null,null,null,null,null,null,null,null,null,null,null,null,null,null,null,null,null,null,null,null,null,"No"]
[null,null,null,null,"Sl. No.","Name of company","Type of Company","PAN","Opening Balance",null,null,null,null,null,null,"Shares acquired during the year",null,null,null,null,null,null,null,null,null,null,null,null,null,null,null,null,null,null,"Shares transferred during the year",null,null,null,null,"Closing Balance"]
[null,null,null,null,null,null,null,null,"No. of shares","Cost of acquisition",null,null,null,null,null,"No. of shares",null,null,null,"Date of subscription / purchase (dd/mm/yyyy)",null,null,"Face value per share",null,null,null,"Issue price per share (incase of fresh issue)",null,null,null,"Purchase price per share (in case of purchase from existing shareholder)",null,null,null,"No. of shares",null,null,"Sale consideration",null,"No. of shares",null,null,null,"Cost of acquisition"]
[null,null,null,null,null,"(1)","(1b)","(2)","(3)","(4)",null,null,null,null,null,"(5)",null,null,null,"(6)",null,null,"(7)",null,null,null,"(8)",null,null,null,"(9)",null,null,null,"(10)",null,null,"(11)",null,"(12)",null,null,null,"(13)"]
[null,null,null,null,1,"","","",null,null,null,null,null,null,null,null,null,null,null,""]
[null,null,null,null,{"$f":"E53+1","v":2},"","","",null,null,null,null,null,null,null,null,null,null,null,""]
[null,null,null,null,{"$f":"E54+1","v":3},"","","",null,null,null,null,null,null,null,null,null,null,null,""]
[null,null,null,null,{"$f":"E55+1","v":4},"","","",null,null,null,null,null,null,null,null,null,null,null,""]
[]
[null,null,"Note :",null,null,"If field \"Whether you have held unlisted equity shares at any time during the previous year? \" is \"Yes\" then at least 1 row is mandatory except \"Shares acquired during the year\" and \"Shares transferred during the year\"."]
[null,null,"AUDIT INFORMATION",null,"a1","Whether liable to maintain accounts as per section 44AA?",null,null,null,null,null,null,null,null,null,null,null,null,null,null,null,null,null,null,null,null,null,null,null,null,null,null,null,null,null,null,null,"Y-Yes"]
[null,null,null,null,"a2","Whether assessee is declaring income only under section 44AD/44ADA/44AE/44B/44BB/44BBA?",null,null,null,null,null,null,null,null,null,null,null,null,null,null,null,null,null,null,null,null,null,null,null,null,null,null,null,null,null,null,null,"N-No"]
[null,null,null,null,"a2i","If No, whether during the year Total sales/turnover/gross receipts of business is between Rs.1 crore and Rs.10 crores?",null,null,null,null,null,null,null,null,null,null,null,null,null,null,null,null,null,null,null,null,null,null,null,null,null,null,null,null,null,null,null,"Y-Yes"]
[null,null,null,null,"a2ii","If Yes is selected at a2i, whether aggregate of all amounts received including amount received for sales, turnover or gross receipts or on capital account such as capital contribution, loans etc. during the previous year, in cash & non-a/c payee cheque/DD, does not exceed five per cent of the said amount? ",null,null,null,null,null,null,null,null,null,null,null,null,null,null,null,null,null,null,null,null,null,null,null,null,null,null,null,null,null,null,null,"N-No"]
[null,null,null,null,"a2iii","If Yes is selected at a2i, whether aggregate of all payments made including amount incurred for expenditure or on capital account such as asset acquisition, repayment of loans etc. during the previous year, in cash & non-a/c payee cheque/DD, does not exceed five per cent of the said payment?",null,null,null,null,null,null,null,null,null,null,null,null,null,null,null,null,null,null,null,null,null,null,null,null,null,null,null,null,null,null,null,"N-No"]
[null,null,null,null,"b","Whether liable for audit under section 44AB? ",null,null,null,null,null,null,null,null,null,null,null,null,null,null,null,null,null,null,null,null,null,null,null,null,null,null,null,null,null,null,null,"Y-Yes"]
[null,null,null,null,"c","If (b) is Yes, whether the accounts have been audited by an accountant? \nIf Yes, furnish the following information-",null,null,null,null,null,null,null,null,null,null,null,null,null,null,null,null,null,null,null,null,null,null,null,null,null,null,null,null,null,null,null,"Y-Yes"]
[null,null,null,null,"i","Date of furnishing of the audit report. (dd/mm/yyyy)",null,null,null,null,null,null,null,null,null,null,null,null,null,null,null,null,null,null,null,null,null,null,null,null,null,null,null,null,null,null,null,"30/09/2022"]
[null,null,null,null,"ii","Name of the auditor signing the tax audit report",null,null,null,null,null,null,null,null,null,null,null,null,null,null,null,null,"DIVYA MAHAJAN"]
[null,null,null,null,"iii","Membership no. of the auditor  ",null,null,null,null,null,null,null,null,null,null,null,null,null,null,null,null,"012487"]
[null,null,null,null,"iv","Name of the auditor (proprietorship/ firm)",null,null,null,null,null,null,null,null,null,null,null,null,null,null,null,null,"MAHAJAN ASSOCIATES"]
[null,null,null,null,"v","Proprietorship/firm registration number",null,null,null,null,null,null,null,null,null,null,null,null,null,null,null,null,"17000328"]
[null,null,null,null,"vi","Permanent Account Number (PAN) of the proprietorship/ firm",null,null,null,null,null,null,null,null,null,null,null,null,null,null,null,null,"ASDFM1468W"]
[null,null,null,null,null,"Aadhaar Number of  the auditor (proprietorship)",null,null,null,null,null,null,null,null,null,null,null,null,null,null,null,null,""]
[null,null,null,null,"vii","Date of Audit Report (dd/mm/yyyy)",null,null,null,null,null,null,null,null,null,null,null,null,null,null,null,null,null,null,null,null,null,null,null,null,null,null,null,null,null,null,null,"30/09/2022"]
[null,null,null,null,"di","Are you liable for Audit u/s 92E?",null,null,null,null,null,null,null,null,null,null,null,null,null,null,null,null,null,null,null,null,null,null,null,null,null,null,null,null,null,"No"]
[null,null,null,null,"dia","If (di) is Yes, whether the accounts have been audited u/s. 92E?"]
[null,null,null,null,null,"Date of furnishing audit report? DD/MM/YYYY "]
[null,null,null,null,"diii","If liable to furnish other audit report under Income Tax Act, mention section code(Please see Instruction 5)"]
[null,null,null,null,"Sl. No.","Section Code","Whether have you furnished such other audit report?","Date (dd/mm/yyyy)"]
[null,null,null,null,1,"(Select)","(Select)"]
[null,null,null,null,{"$f":"E79+1","v":2},"(Select)","(Select)"]
[null,null,null,null,{"$f":"E80+1","v":3},"(Select)","(Select)"]
[null,null,null,null,{"$f":"E81+1","v":4},"(Select)","(Select)"]
[null,null,null,null,{"$f":"E82+1","v":5},"(Select)","(Select)"]
[]
[]
[null,null,null,null,"If liable to audit under any Act other than the Income-tax Act, mention the Act, section and date of furnishing the audit report?"]
[null,null,null,null,"Sl. No.","Act","Description","Section","Have you got audited under the selected Act other than the Income-tax Act? ","Date (dd/mm/yyyy)"]
[null,null,null,null,1]
[null,null,null,null,{"$f":"E88+1","v":2}]
[null,null,null,null,{"$f":"E89+1","v":3}]
[null,null,null,null,{"$f":"E90+1","v":4}]

{"sheet":"PART A - GENERAL(2)","index":2,"n_rows":43,"n_cols":24,"rows_kept":43,"cut":false,"hidden":false,"merged":[[2,3,2,9],[7,3,7,9],[8,3,8,9],[9,3,9,9],[10,3,10,10],[6,3,6,7],[11,18,12,18],[11,15,12,15],[11,16,12,16],[11,11,12,11],[11,12,12,12],[11,17,12,17],[11,13,12,13],[43,2,43,6],[13,13,13,14],[11,14,12,14],[30,4,30,11],[11,4,11,10],[13,4,13,10],[11,3,12,3],[10,2,16,2],[26,2,34,2],[34,5,34,11],[33,5,33,11],[32,5,32,11],[31,5,31,11],[29,4,29,11],[36,3,36,6]]}
[]
[]
[null,null,null,{"$f":"CONCATENATE(\"PARTNERS/ MEMBERS INFORMATION\",CHAR(10),\"A. Whether there was any change during the previous year in the partners/members of the firm/AOP/BOI \",CHAR(10),\"(In case of societies and cooperative banks give details of Managing Committee) If Yes, provide the following details\")","v":"PARTNERS/ MEMBERS INFORMATION\nA. Whether there was any change during the previous year in the partners/members of the firm/AOP/BOI \n(In case of societies and cooperative banks give details of Managing Committee) If Yes, provide the following details"},null,null,null,null,null,null,"N",null,null,null,null,null,null,null,null,null,null,{"$f":"MAX(0,SUM(PMInfo.SharePercentage)-PARTNERSHARE_IND_RETIRED)","v":100},{"$f":"SUMIF(PMInfo.StatusCode,\"=FOREIGN_COMPANY\",PMInfo.SharePercentage)","v":0},{"$f":"IF(ISNA(MATCH(MID(sheet1.MainStatus,1,1),{\"1\",\"3\"},0)),FALSE,IF(ISNA(MATCH(MID(sheet1.MainStatus,1,1),{\"3\"},0)),TRUE,IF(ISNA(MATCH(MID(sheet1.SubStatus,1,1),{\"1\",\"2\",\"3\",\"4\",\"5\",\"6\",\"7\"},0)),FALSE,TRUE)))","v":true}]
[null,null,null,"Sl. No.","Name of the Partner/member","Admitted/Retired","Date of admission/ retirement (dd/mm/yyyy)","Percentage of share (if determinate)",null,null,null,null,null,null,null,null,null,null,null,null,null,null,{"$f":"IF(MID(sheet1.MainStatus,1,1)=\"1\",SUMIF(PMInfo.StatusCode,\"=INDIVIDUAL_RETIRED_PARTNER\",PMInfo.SharePercentage),0)","v":0}]
[null,null,null,1,"","(Select)",""]
[null,null,null,{"$f":"D5+1","v":2},"","(Select)",""]
[]
[null,null,null,"B. Is any member of the AOP/BOI or executor of AJP a foreign company? ",null,null,null,null,null,null,"NO"]
[null,null,null,"C. If Yes, mention the percentage of share of the foreign company in the AOP/BOI or executor of AJP."]
[null,null,null,"D. Whether total income of any member of the AOP/BOI or executor of AJP (excluding his share from such association or body or Executor of AJP) exceeds the maximum amount which is not chargeable to tax in the case of that member? ",null,null,null,null,null,null,"N"]
[null,null,"PARTNERS/ MEMBERS/TRUST  INFORMATION","E-  Particulars of persons who were partners/ members in the firm/AOP/BOI or settlor/trustee/beneficiary in the trust or executors in case of estate of deceased /executor in case of estate of insolvent as on 31st day of March, 2022 or date of dissolution"]
[null,null,null,"Sl.No.","Name and address",null,null,null,null,null,null,"Percentage of share (if determinate)","PAN","Aadhaar Number","Aadhaar Enrolment Id (if eligible for Aadhaar)","Designated Partner Identification No in case Partner in LLP","Status (see instruction)","Rate of Interest on Capital","Remuneration paid/ payable"]
[null,null,null,null,"Name","Address","City","State","Country","Pin Code","Zip Code"]
[null,null,null,"(1)","(2)",null,null,null,null,null,null,"(3)","(4)","(5)",null,"(6)","(7)","(8)","(9)"]
[null,null,null,1,"YUVA KUMAR","M-32, SECTOR-6, DWARKA","NEW DELLHI","09-Delhi","91-INDIA","110075","",75,"AANPK7889K","687542587459",null,null,"INDIVIDUAL_WORKING_PARTNER [AS PER EXPL.4 TO SEC.40(b)]",5,480000,null,null,null,{"$f":"SUM(PMInfo.SharePercentage)","v":100}]
[null,null,null,{"$f":"D15+1","v":2},"MANISH RANA","M-32, SECTOR-6, DWARKA","NEW DELHI","09-Delhi","91-INDIA","110075","",25,"AASPR3279J","587469851254",null,null,"INDIVIDUAL_WORKING_PARTNER [AS PER EXPL.4 TO SEC.40(b)]",5,480000,null,null,null,{"$f":"SUM(PMInfo.Rem)","v":960000}]
[null,null,null,{"$f":"D16+1","v":3},null,null,null,null,null,null,""]
[null,null,null,4,null,null,null,null,null,null,""]
[null,null,null,5]
[null,null,null,6]
[null,null,null,7]
[null,null,null,8]
[null,null,null,9]
[null,null,null,10]
[null,null,null,11]
[]
[null,null,"For persons referred to in section \n160(1)(iii) or (iv)\n","F","To be filled in case of persons referred to in section 160(1)(iii) or (iv)",null,null,null,null,null,null,null,"Select Yes/No"]
[null,null,null,1,"Whether shares of the beneficiary are determinate or known?"]
[null,null,null,2,"Whether the person referred in section 160(1)(iv) has Business Income?"]
[null,null,null,3,"Whether the person referred in section 160(1)(iv) is declared by a Will and /or is exclusively for the benefit of any dependent relative of the settlor and/or is the only trust declared by the settlor?"]
[null,null,null,4,"please furnish the following details (as applicable):"]
[null,null,null,null,"(i)","Whether all the beneficiaries has income below basic exemption limit?"]
[null,null,null,null,"(ii)","Whether the relevant income or any part thereof is receivable under a trust declared by any person by will and such trust is the only trust so declared by him?"]
[null,null,null,null,"(iii)","Whether the trust is non-testamentary trust created before 01-03-1970 for the exclusive benefit of relatives/member of HUF of the settlor mainly dependent on him/Family?"]
[null,null,null,null,"(iv)","Whether the trust is created on behalf of a provident fund, superannuation fund, gratuity fund, pension fund or any other fund created bona fide by a person carrying on Business or profession exclusive for the employees in such Business or Profession?"]
[]
[null,null,null,"Nature of business/profession, if more than one business or profession indicate the three main activities/ products (OTHER THAN THOSE DECLARING INCOME UNDER 44AD, 44ADA AND 44AE) ."]
[null,null,null,"Sl. No.","Code\n(Please see instructions)","Trade name of business, if any","Description"]
[null,null,null,1,"09010-Wholesale of household goods ","YUVA ASSOCIATES"]
[null,null,null,2]
[null,null,null,3]
[null,null,null,4]
[null,null,null,5]

{"sheet":"Part A Gen_139(8A)","index":3,"n_rows":27,"n_cols":54,"rows_kept":27,"cut":false,"hidden":true,"merged":[[2,2,3,3],[2,4,3,8],[2,9,2,48],[3,9,3,48],[5,4,5,18],[5,19,5,48],[11,4,11,48],[6,4,6,18],[6,19,6,48],[7,4,7,23],[7,24,7,40],[7,41,7,48],[8,4,8,23],[8,24,8,40],[8,41,8,48],[9,4,9,43],[9,44,9,48],[10,4,10,24],[10,25,10,30],[10,31,10,48],[17,4,17,38],[12,4,12,24],[12,25,12,30],[12,31,12,48],[13,4,13,14],[13,15,13,25],[13,26,13,38],[13,39,13,48],[14,4,14,43],[14,44,14,48],[15,4,15,43],[15,44,15,48],[16,4,16,48],[18,4,18,38],[20,4,20,38],[21,4,21,37],[21,38,21,48],[22,4,22,43],[22,44,22,48],[19,4,19,38],[26,5,26,10],[26,11,26,25],[26,26,26,38],[27,4,27,38],[23,4,23,48],[24,5,24,10],[24,11,24,25],[24,26,24,38],[25,5,25,10],[25,11,25,25],[25,26,25,38]]}
[]
[]
[null,null,"FORM",null,"ITR-U",null,null,null,null,"INDIAN INCOME TAX UPDATED RETURN "]
[null,null,null,null,null,null,null,null,null,"[ For persons to update income within twenty-four months from end of the relevant assessment year] \n(Refer Instructions for eligibility )\n(Please see rule 12AC of the Income-tax Rules, 1962)"]
[null,null,null,null,"PART A GENERAL INFORMATION – 139(8A)"]
[null,null,null,null,"(A1) PAN",null,null,null,null,null,null,null,null,null,null,null,null,null,null,"(A2) Name",null,null,null,null,null,null,null,null,null,null,null,null,null,null,null,null,null,null,null,null,null,null,null,null,null,null,null,null,null," "]
[null,null,null,null,{"$f":"IF(sheet1.PAN=\"\",\"\",sheet1.PAN)","v":"AAAFY4512P"},null,null,null,null,null,null,null,null,null,null,null,null,null,null,{"$f":"IF(sheet1.FirstName=\"\",\"\",sheet1.FirstName)","v":"YUVA ASSOCIATES"}]
[null,null,null,null,"(A3) Aadhaar Number (Please enter  Aadhaar Number. Applicable to Individual only)",null,null,null,null,null,null,null,null,null,null,null,null,null,null,null,null,null,null,null,"(A3a) Aadhaar Enrolment Id (28 digits) (If eligible for Aadhaar No.)",null,null,null,null,null,null,null,null,null,null,null,null,null,null,null,null,"(A4) Assessment Year"]
[null,null,null,null,"",null,null,null,null,null,null,null,null,null,null,null,null,null,null,null,null,null,null,null,"",null,null,null,null,null,null,null,null,null,null,null,null,null,null,null,null,"AY 2022-23"]
[null,null,null,null,"(A5) Whether return previously filed for this assessment year?",null,null,null,null,null,null,null,null,null,null,null,null,null,null,null,null,null,null,null,null,null,null,null,null,null,null,null,null,null,null,null,null,null,null,null,null,null,null,null,"(Select)"]
[null,null,null,null,"(A6) If Yes, Whether U/s",null,null,null,null,null,null,null,null,null,null,null,null,null,null,null,null,null,null,null,null,"(Select)"]
[null,null,null,null,"(A7) If applicable, enter form filed, acknowledgement no. or Receipt no. and date of filing original return (DD/MM/YYYY)"]
[null,null,null,null,"ITR Type",null,null,null,null,null,null,null,null,null,null,null,null,null,null,null,null,null,null,null,null,"(Select)"]
[null,null,null,null,"Acknowledgement Number",null,null,null,null,null,null,null,null,null,null,null,null,null,null,null,null,null,null,null,null,null,"Date of Filing of Original Return",null,null,null,null,null,null,null,null,null,null,null,null,""]
[null,null,null,null,"(A8) Are you eligible for filing an updated return as per the conditions laid out in first, second and third provisos to section 139(8A)?",null,null,null,null,null,null,null,null,null,null,null,null,null,null,null,null,null,null,null,null,null,null,null,null,null,null,null,null,null,null,null,null,null,null,null,null,null,null,null,"(Select)"]
[null,null,null,null,"(A9) Please choose the ITR form for updating your income (ITRs 1-7 to be selected from drop-down and filled as per the details made available by e-filing utility– see instruction)",null,null,null,null,null,null,null,null,null,null,null,null,null,null,null,null,null,null,null,null,null,null,null,null,null,null,null,null,null,null,null,null,null,null,null,null,null,null,null,"ITR5"]
[null,null,null,null,"(A10) Reasons for updating your income: ",null,null,null,null,null,null,null,null,null,null,null,null,null,null,null,null,null,null,null,null,null,null,null,null,null,null,null,null,null,null,null,null,null,null,null,null,null,null,null,null,null,null,null,null,null,null,{"$f":"COUNTIF(U_ReasonsForUpdatingIncome,\"Reduction of carried forward loss\")","v":0},{"$f":"COUNTIF(U_ReasonsForUpdatingIncome,\"Reduction of unabsorbed depreciation\")","v":0},{"$f":"COUNTIF(U_ReasonsForUpdatingIncome,\"Reduction of tax credit u/s 115JB/115JC\")","v":0}]
[]
[]
[]
[]
[null,null,null,null,"(A11) Are you filing the updated return during the period"]
[null,null,null,null,"(A12) (a) Are you filing the updated return to reduce carried forward loss or unabsorbed depreciation or tax credit?"]
[null,null,null,null,"(b) If Yes , please specify the assessment years where carried forward loss or unabsorbed depreciation or tax credit is being affected because of the updated return ",null,null,null,null,null,null,null,null,null,null,null,null,null,null,null,null,null,null,null,null,null,null,null,null,null,null,null,null,null,null,null,null,null,null,null,null,null,null,null,null,null,null,null,null,null,null,{"$f":"COUNTIF(U_UnabsorbedDepreciationYear,\"2023\")","v":0},{"$f":"COUNTIF(U_UnabsorbedDepreciationYear,\"2024\")","v":0}]
[null,null,null,null,"Sl.No.","Assessment Year",null,null,null,null,null,"Whether return has been filed after giving effect of Sl. No. 12a above ",null,null,null,null,null,null,null,null,null,null,null,null,null,null,"Return Filed, if yes is selected"]
[null,null,null,null,1]
[null,null,null,null,2]

{"sheet":"BALANCE_SHEET","index":4,"n_rows":130,"n_cols":12,"rows_kept":130,"cut":false,"hidden":false,"merged":[[2,2,2,4],[2,5,2,11],[4,2,124,2],[4,10,4,11],[6,10,10,11],[61,10,66,11],[102,7,102,9],[98,6,98,7],[52,10,55,11],[91,10,94,11],[7,6,7,7],[34,5,34,7],[11,6,11,7],[80,10,82,11],[8,6,8,7],[9,6,9,7],[12,6,12,7],[10,6,10,7],[48,10,51,11],[38,10,42,11],[14,10,20,11],[93,6,93,7],[84,10,87,11],[92,6,92,7],[22,10,28,11],[32,4,32,11],[33,10,34,11],[33,5,33,7],[24,6,24,9],[57,10,60,11],[69,10,78,11],[83,7,83,9],[44,10,47,11],[47,6,47,9],[125,2,129,2],[125,4,125,9],[125,10,125,11],[97,6,97,7],[97,10,98,11],[120,10,122,11],[112,10,116,11],[100,10,108,11]]}
[]
[]
[null,null,"Part A-BS",null,null,"Balance Sheet as on 31st March, 2022 OR DATE OF DISSOLUTION (fill items A and B in a case where regular books of accounts are maintained, otherwise fill item C)"]
[null,null,null,"A","Sources of Funds"]
[null,null,"SOURCES OF FUNDS",1,"Partners’ / members’ fund"]
[null,null,null,null,"a","Partners’ / members’ capital",null,null,null,null,"a",15000000]
[null,null,null,null,"b","Reserves and Surplus"]
[null,null,null,null,null,"i","Revaluation Reserve",null,"bi",0]
[null,null,null,null,null,"ii","Capital Reserve",null,"bii",0]
[null,null,null,null,null,"iii","Statutory Reserve",null,"biii",0]
[null,null,null,null,null,"iv","Any other Reserve",null,"biv",0]
[null,null,null,null,null,"v","Credit balance of Profit and loss account",null,"bv",0]
[null,null,null,null,null,"vi","Total (bi + bii + biii + biv + bv)",null,null,null,"bvi",{"$f":"SUM(J8:J12)","v":0}]
[null,null,null,null,"c","Total partners’/ members’ fund (a + bvi)",null,null,null,null,"1c",{"$f":"BS.TotResrNSurp+BS.PartnerOrMemberCap","v":15000000}]
[null,null,null,2,"Loan funds"]
[null,null,null,null,"a","Secured loans"]
[null,null,null,null,null,"i","Foreign Currency Loans",null,"ai",0]
[null,null,null,null,null,"ii","Rupee Loans"]
[null,null,null,null,null,null,"A","From Banks","iiA",0]
[null,null,null,null,null,null,"B","From others","iiB",0]
[null,null,null,null,null,null,"C","Total ( iiA + iiB)","iiC",{"$f":"SUM(J19:J20)","v":0}]
[null,null,null,null,null,"iii","Total secured loans (ai + iiC)",null,null,null,"aiii",{"$f":"BS.ForeignCurrLoan+BS.TotRupeeLoan","v":0}]
[null,null,null,null,"b","Unsecured loans (including Deposits)"]
[null,null,null,null,null,"i","Foreign Currency Loans",null,"bi",0]
[null,null,null,null,null,"ii","Rupee Loans"]
[null,null,null,null,null,null,"A","From Banks","iiA",1275000]
[null,null,null,null,null,null,"B","From persons specified in section 40A(2)(b)\nof the I. T. Act","iiB",0]
[null,null,null,null,null,null,"C","From others","iiC",0]
[null,null,null,null,null,null,"D","Total Rupee Loans ( iiA + iiB + iiC)","iiD",{"$f":"SUM(J26:J28)","v":1275000}]
[null,null,null,null,null,"iii","Total unsecured loans (bi + iiD)",null,null,null,"biii",{"$f":"BSUnSec.TotRupeeLoan+BSUnSec.ForeignCurrencyLoans","v":1275000}]
[null,null,null,null,"c","Total Loan Funds (aiii + biii)",null,null,null,null,"2c",{"$f":"BS.TotUnSecrLoan+BS.TotSecrLoan","v":1275000}]
[null,null,null,3,"Deferred tax liability",null,null,null,null,null,3,0]
[null,null,null,4,"Advances"]
[null,null,null,null,"i","From persons specified in section 40A(2)(b) of the I. T.\nAct",null,null,"i",0]
[null,null,null,null,"ii","From Others",null,null,"ii",0]
[null,null,null,null,"iii","Total Advances (i + ii)",null,null,null,null,"4iii",{"$f":"SUM(J34:J35)","v":0}]
[null,null,null,5,"Sources of funds (1c + 2c +3 + 4iii)",null,null,null,null,null,5,{"$f":"BS.DeferredTax+BS.TotLoanFund+BS.TotPartnerOrMemberFund+BSAdv.TotalAdvances","v":16275000}]
[null,null,null,"B","Application of funds"]
[null,null,null,1,"Fixed assets"]
[null,null,null,null,"a","Gross: Block",null,null,"1a",5500000]
[null,null,null,null,"b","Depreciation",null,null,"1b",1000000]
[null,null,null,null,"c","Net Block (a – b)",null,null,"1c",{"$f":"MAX(J40-J41,0)","v":4500000}]
[null,null,null,null,"d","Capital work-in-progress",null,null,"1d",0]
[null,null,null,null,"e","Total (1c + 1d)",null,null,null,null,"1e",{"$f":"J42+J43","v":4500000}]
[null,null,null,2,"Investments"]
[null,null,null,null,"a","Long-term investments"]
[null,null,null,null,null,"i","Investment in property",null,"i",0]
[null,null,null,null,null,"ii","Equity instruments"]
[null,null,null,null,null,null,"A","Listed equities","A",9000000]
[null,null,null,null,null,null,"B","Unlisted equities","B",0]
[null,null,null,null,null,null,"C","Total","iiC",{"$f":"BS.ListedEquities+BS.UnListedEquities","v":9000000}]
[null,null,null,null,null,"iii","Preference Shares",null,"iii",0]
[null,null,null,null,null,"iv","Government or trust securities",null,"iv",0]
[null,null,null,null,null,"v","Debenture or bonds",null,"v",0]
[null,null,null,null,null,"vi","Mutual Funds",null,"vi",0]
[null,null,null,null,null,"vii","Others",null,"vii",0]
[null,null,null,null,null,"viii","Total Long-term investments (i + iiC + iii + iv + v + vi + vii)",null,null,null,"aviii",{"$f":"SUM(J52:J56)+BS.Total+BS.InvInProperty","v":9000000}]
[null,null,null,null,"b","Short-term investments"]
[null,null,null,null,null,"i","Equity instruments"]
[null,null,null,null,null,null,"A","Listed equities","A",0]
[null,null,null,null,null,null,"B","Unlisted equities","B",0]
[null,null,null,null,null,null,"C","Total","iC",{"$f":"BSS.UnListedEquities+BSS.ListedEquities","v":0}]
[null,null,null,null,null,"ii","Preference Shares",null,"ii",900000]
[null,null,null,null,null,"iii","Government or trust securities",null,"iii",0]
[null,null,null,null,null,"iv","Debenture or bonds",null,"iv",0]
[null,null,null,null,null,"v","Mutual Funds",null,"v",0]
[null,null,null,null,null,"vi","Others",null,"vi",0]
[null,null,null,null,null,"vii","Total Short-term investments (iC + ii + iii + iv + v + vi)",null,null,null,"bvii",{"$f":"SUM(J63:J67)+BSS.Total","v":900000}]
[null,null,null,null,"c","Total investments (aviii + bvii)",null,null,null,null,"2c",{"$f":"L68+L57","v":9900000}]
[null,null,null,3,"Current assets, loans and advances"]
[null,null,null,null,"a","Current assets"]
[null,null,null,null,null,"i","Inventories"]
[null,null,null,null,null,null,"A","Raw materials","iA",0]
[null,null,null,null,null,null,"B","Work in progress","iB",0]
[null,null,null,null,null,null,"C","Finished Goods","iC",1100000]
[null,null,null,null,null,null,"D","Stock-in-trade (in respect of goods acquired\nfor trading)","iD",0]
[null,null,null,null,null,null,"E","Stores/consumables including packing\nmaterial","iE",0]
[null,null,null,null,null,null,"F","Loose tools","iF",0]
[null,null,null,null,null,null,"G","Others","iG",0]
[null,null,null,null,null,null,"H","Total (iA + iB + iC + iD + iE + iF + iG)",null,null,"iH",{"$f":"SUM(J73:J79)","v":1100000}]
[null,null,null,null,null,"ii","Sundry Debtors"]
[null,null,null,null,null,null,"A","Outstanding for more than one year","A",0]
[null,null,null,null,null,null,"B","Others","B",750000]
[null,null,null,null,null,null,"C","Total Sundry Debtors",null,null,"iiC",{"$f":"SUM(J82:J83)","v":750000}]
[null,null,null,null,null,"iii","Cash and Bank Balances"]
[null,null,null,null,null,null,"A","Balance with banks","iiiA",1125000]
[null,null,null,null,null,null,"B","Cash-in-hand","iiiB",150000]
[null,null,null,null,null,null,"C","Others","iiiC",0]
[null,null,null,null,null,null,"D","Total Cash and cash equivalents (iiiA + iiiB + iiiC)",null,null,"iiiD",{"$f":"J87+J86+J88","v":1275000}]
[null,null,null,null,null,"iv","Other Current Assets",null,null,null,"aiv",0]
[null,null,null,null,null,"v","Total current assets (iH +iiC + iiiD + aiv) ",null,null,null,"av",{"$f":"BS.TotCashOrBankBal+BS.SundryDebtors+BS.TotInventries+BS.OthCurrAsset","v":3125000}]
[null,null,null,null,"b","Loans and advances"]
[null,null,null,null,null,"i","Advances recoverable in cash or in kind or for value to be received",null,"bi",0]
[null,null,null,null,null,"ii","Deposits, loans and advances to corporates and others",null,"bii",0]
[null,null,null,null,null,"iii","Balance with Revenue Authorities",null,"biii",0]
[null,null,null,null,null,"iv","Total (bi + bii + biii)",null,null,null,"biv",{"$f":"SUM(J93:J95)","v":0}]
[null,null,null,null,null,"v","Loans and advances included in biv which is"]
[null,null,null,null,null,"a","for the purpose of business or profession",null,"a",0]
[null,null,null,null,null,"b","not for the purpose of business or profession",null,"b",0]
[null,null,null,null,"c","Total (av + biv)",null,null,null,null,"3c",{"$f":"BS.TotLoanAdv+BS.TotCurrAsset","v":3125000}]
[null,null,null,null,"d","Current liabilities and provisions"]
[null,null,null,null,null,"i","Current liabilities"]
[null,null,null,null,null,null,"A","Sundry Creditors"]
[null,null,null,null,null,null,1,"Outstanding for more than one year",1]
[null,null,null,null,null,null,2,"Other",2,1250000]
[null,null,null,null,null,null,3,"Total","A3",{"$f":"SUM(J104:J105)","v":1250000}]
[null,null,null,null,null,null,"B","Liability for Leased Assets","iB",0]
[null,null,null,null,null,null,"C","Interest Accrued and due on borrowings","iC",0]
[null,null,null,null,null,null,"D","Interest accrued but not due on borrowings","iD",0]
[null,null,null,null,null,null,"E","Income received in advance","iE",0]
[null,null,null,null,null,null,"F","Other payables","iF",0]
[null,null,null,null,null,null,"G","Total (A3 + iB + iC + iD + iE + iF)",null,null,"iG",{"$f":"SUM(J106:J111)","v":1250000}]
[null,null,null,null,null,"ii","Provisions"]
[null,null,null,null,null,null,"A","Provision for Income Tax","iiA",0]
[null,null,null,null,null,null,"B","Provision for Wealth Tax","iiB"]
[null,null,null,null,null,null,"B","Provision for Leave encashment/Superannuation/\nGratuity","iiB",0]
[null,null,null,null,null,null,"C","Other Provisions","iiC",0]
[null,null,null,null,null,null,"D","Total (iiA + iiB + iiC)",null,null,"iiE",{"$f":"SUM(J114:J117)","v":0}]
[null,null,null,null,null,"iii","Total (iG + iiD)",null,null,null,"diii",{"$f":"BS.TotProvisions+BS.TotCurrLiabilities","v":1250000}]
[null,null,null,null,"e","Net current assets (3c – diii)",null,null,null,null,"3e",{"$f":"BS.TotCurrAssetLoanAdv-BS.TotCurrLiabilitiesProvision","v":1875000}]
[null,null,null,4,"a","Miscellaneous expenditure not written off or adjusted",null,null,"4a",0]
[null,null,null,null,"b","Deferred tax asset",null,null,"4b",0]
[null,null,null,null,"c","Debit balancein ProfitLoss account accumulated balance",null,null,"4c",0]
[null,null,null,null,"d","Total (4a + 4b + 4c)",null,null,null,null,"4d",{"$f":"SUM(J121:J123)","v":0}]
[null,null,null,5,"Total, application of funds (1e + 2c + 3e +4d)",null,null,null,null,null,5,{"$f":"BS.TotMiscAdjust+BS.NetCurrAsset+BS.TotInvestments+BS.TotFixedAsset","v":16275000}]
[null,null,"NO ACCOUNT CASE","C","In a case where regular books of account of business or profession are not maintained, furnish the following information as on 31st day of March, 2022, in respect of business or profession"]
[null,null,null,null,1,"Amount of total sundry debtors",null,null,null,null,"C1",0]
[null,null,null,null,2,"Amount of total sundry creditors",null,null,null,null,"C2",0]
[null,null,null,null,3,"Amount of total stock-in-trade",null,null,null,null,"C3",0]
[null,null,null,null,4,"Amount of the cash balance",null,null,null,null,"C4",0]

{"sheet":"MANUFACTURING ACCOUNT","index":5,"n_rows":28,"n_cols":17,"rows_kept":28,"cut":false,"hidden":false,"merged":[[2,2,2,5],[2,6,2,16],[4,2,22,2],[5,3,7,3],[5,5,5,14],[6,5,6,14],[7,5,7,14],[11,3,13,3],[15,3,21,3],[16,5,16,14],[10,4,10,14],[20,5,20,14],[21,5,21,14],[11,5,11,14],[12,5,12,14],[13,5,13,14],[19,5,19,14],[8,4,8,14],[9,4,9,14],[3,3,3,16],[27,4,27,14],[22,4,22,14],[14,4,14,16],[15,5,15,14],[17,5,17,14],[18,5,18,14],[23,2,26,2],[23,3,23,16],[24,5,24,14],[25,5,25,14],[26,5,26,14],[24,3,26,3]]}
[]
[]
[null,null,"Schedule Manufacturing Account",null,null,null,"Manufacturing Account  for the financial year 2021-22 (fill items 1 to 3 in a case where regular books of accounts are maintained, otherwise fill items 62 to 66 as applicable)"]
[null,null,1,"Debits to manufacturing account "]
[null,null,null,"A","Opening Inventory"]
[null,null,null,null,"i","Opening stock of raw-material ",null,null,null,null,null,null,null,null,null,"Ai"]
[null,null,null,null,"ii","Opening stock of Work in progress",null,null,null,null,null,null,null,null,null,"Aii"]
[null,null,null,null,"iii","Total (i + ii)",null,null,null,null,null,null,null,null,null,"Aiii",{"$f":"ManuFactureAcc_OpenStockRawMaterial+ManuFactureAcc_OpenStockWorkProgress","v":0}]
[null,null,null,"B","Purchases (net of refunds and duty or tax, if any)",null,null,null,null,null,null,null,null,null,null,"B"]
[null,null,null,"C","Direct wages ",null,null,null,null,null,null,null,null,null,null,"C"]
[null,null,null,"D","Direct expenses (Di + Dii + Diii)",null,null,null,null,null,null,null,null,null,null,"D",{"$f":"SUM(Q12:Q14)","v":0}]
[null,null,null,null,"i","Carriage inward",null,null,null,null,null,null,null,null,null,"Di"]
[null,null,null,null,"ii","Power and fuel ",null,null,null,null,null,null,null,null,null,"Dii"]
[null,null,null,null,"iii","Other direct expenses ",null,null,null,null,null,null,null,null,null,"Diii"]
[null,null,null,"E","Factory Overheads "]
[null,null,null,null,"i","Indirect wages",null,null,null,null,null,null,null,null,null,"Ei"]
[null,null,null,null,"ii","Factory rent and rates ",null,null,null,null,null,null,null,null,null,"Eii"]
[null,null,null,null,"iii","Factory Insurance",null,null,null,null,null,null,null,null,null,"Eiii"]
[null,null,null,null,"iv","Factory fuel and power ",null,null,null,null,null,null,null,null,null,"Eiv"]
[null,null,null,null,"v","Factory general expenses ",null,null,null,null,null,null,null,null,null,"Ev"]
[null,null,null,null,"vi","Depreciation of factory machinery",null,null,null,null,null,null,null,null,null,"Evi"]
[null,null,null,null,"vii","Total (i+ii+iii+iv+v+vi)",null,null,null,null,null,null,null,null,null,"Evii",{"$f":"SUM(Q16:Q21)","v":0}]
[null,null,null,"F","Total of Debits to Manufacturing Account (Aiii+B+C+D+Evii)",null,null,null,null,null,null,null,null,null,null,"F",{"$f":"ManuFactureAcc_TotalOpeningInventary+ManuFactureAcc_Purchases+ManuFactureAcc_DirectWages+ManuFactureAcc_TotalOfDirectExpenses+ManuFactureAcc_TotalFactoryOverheads","v":0}]
[null,null,2,"Closing Stock"]
[null,null,null,null,"i","Raw material",null,null,null,null,null,null,null,null,null,"i"]
[null,null,null,null,"ii","Work-in-progress",null,null,null,null,null,null,null,null,null,"ii"]
[null,null,null,null,"iii","Total (2i +2ii)",null,null,null,null,null,null,null,null,null,"iii",{"$f":"SUM(Q25:Q26)","v":0}]
[null,null,3,null,"Cost of Goods Produced – transferred to Trading Account (1F-2)",null,null,null,null,null,null,null,null,null,null,3,{"$f":"ManuFactureAcc_TotalOfDebitstoManuFacturingAcc-ManuFactureAcc_TotalClosingClock","v":0}]

{"sheet":"TRADING ACCOUNT","index":6,"n_rows":54,"n_cols":12,"rows_kept":54,"cut":false,"hidden":false,"merged":[[38,2,53,2],[52,4,52,9],[53,4,53,9],[39,4,39,9],[49,5,49,7],[50,5,50,7],[45,5,45,7],[43,5,43,7],[41,5,41,7],[44,5,44,7],[31,5,31,7],[27,4,27,9],[28,4,28,9],[29,4,29,9],[12,2,27,2],[15,5,15,9],[32,5,32,7],[51,5,51,9],[42,5,42,7],[46,5,46,7],[33,5,33,7],[38,4,38,9],[48,5,48,7],[40,5,40,7],[47,5,47,7],[2,2,2,5],[2,6,2,11],[30,4,30,9],[12,5,12,9],[26,4,26,9],[3,4,3,7],[5,6,5,7],[6,6,6,7],[7,6,7,7],[11,5,11,8]]}
[]
[]
[null,null,"Part A-Trading Account",null,null,null,"Trading Account  for the financial year 2021-22 (fill items 4 to 12 in a case where regular books of accounts are maintained, otherwise fill items 62 to 66 as applicable)"]
[null,null,null,4,"Revenue from operations"]
[null,null,null,null,"A","Sales/ Gross receipts of business (net of returns and refunds and duty or tax, if any"]
[null,null,null,null,null,"i","Sale of goods",null,"i",19200000]
[null,null,null,null,null,"ii","Sale of Services",null,"ii",2400000]
[null,null,null,null,null,"iii","Other operating revenues (specify nature and \namount)"]
[null,null,null,null,null,null,"Sl. No.","Nature",null,"Amount"]
[null,null,null,null,null,null,1,null,{"$f":"1","v":1}]
[null,null,null,null,null,null,{"$f":"G10+1","v":2},"",{"$f":"I10+1","v":2}]
[null,null,null,null,null,"Total ",null,null,null,{"$f":"SUM(TradingAcc_RevenueAmount)","v":0}]
[null,null,"CREDITS OF TRADING ACCOUNT"]
[null,null,null,null,null,"iv","Total (i + ii + iii)",null,null,null,"Aiv",{"$f":"SUM(TradingAcc_SalesOfGoods,TradingAcc_SalesOfServices,SUM(TradingAcc_RevenueAmount))","v":21600000}]
[null,null,null,null,"B","Gross receipts from Profession",null,null,null,null,"B",0]
[null,null,null,null,"C","Duties, taxes and cess, received or receivable, in respect of goods and services sold or supplied"]
[null,null,null,null,null,"i","Union Excise duties",null,"i",0]
[null,null,null,null,null,"ii","Service tax",null,"ii",0]
[null,null,null,null,null,"iii","VAT/ Sales tax",null,"iii",0]
[null,null,null,null,null,"iv","Central Goods & Service Tax (CGST)",null,"iv",0]
[null,null,null,null,null,"v","State Goods & Services Tax (SGST)",null,"v",0]
[null,null,null,null,null,"vi","Integrated Goods & Services Tax (IGST)",null,"vi",1536000]
[null,null,null,null,null,"vii","Union Territory Goods & Services Tax  (UTGST)",null,"vii",0]
[null,null,null,null,null,"viii","Any other duty, tax and cess",null,"viii",0]
[null,null,null,null,null,"ix","Total (i+ii+iii+iv+v+vi+vii+viii)",null,null,null,"Cix",{"$f":"SUM(J17:J24)","v":1536000}]
[null,null,null,null,"D","Total Revenue from operations (Aiv + B+ Cix)",null,null,null,null,"4D",{"$f":"TradingAcc_RevenueTotal+TradingAcc_GrossRecieptsFromProfession+TradingAcc_TotalDutiesTaxesCess","v":23136000}]
[null,null,null,5,"Closing Stock of Finished Goods",null,null,null,null,null,5,1100000]
[null,null,null,6,"Total of credits to Trading Account (4D + 5 )",null,null,null,null,null,6,{"$f":"TradingAcc_TotalRevenueFromOperations+TradingAcc_ClosingStockOfFinishedStocks","v":24236000}]
[null,null,null,7,"Opening Stock of Finished Goods",null,null,null,null,null,7,440000]
[null,null,null,8,"Purchases (net of refunds and duty or tax, if any)",null,null,null,null,null,8,8640000]
[null,null,null,9,"Direct Expenses (9i + 9ii + 9iii)",null,null,null,null,null,9,{"$f":"SUM(TradingAcc_CarriageInward,TradingAcc_PowerAndFuel,SUM(TradingAcc_OtherDirectAmount))","v":422400}]
[null,null,null,null,"i","Carriage inward",null,null,"i",192000]
[null,null,null,null,"ii","Power and fuel ",null,null,"ii",153600]
[null,null,null,null,"iii","Other direct expenses "]
[null,null,null,null,null,null,"Sl. No.","Nature",null,"Amount"]
[null,null,null,null,null,null,1,"MISC",{"$f":"1","v":1},76800]
[null,null,null,null,null,null,{"$f":"G36+1","v":2},"",{"$f":"I36+1","v":2}]
[null,null,null,null,null,null,null,null,"Total",{"$f":"SUM(TradingAcc_OtherDirectAmount)","v":76800}]
[null,null,"DEBITS TO TRADING ACCOUNT"]
[null,null,null,10,"Duties and taxes, paid or payable, in respect of goods and services purchased"]
[null,null,null,null,"i","Custom duty ",null,null,"i"]
[null,null,null,null,"ii","Counter veiling duty ",null,null,"ii"]
[null,null,null,null,"iii","Special additional duty ",null,null,"iii"]
[null,null,null,null,"iv","Union excise duty ",null,null,"iv"]
[null,null,null,null,"v","Service Tax",null,null,"v"]
[null,null,null,null,"vi","VAT/ Sales tax",null,null,"vi"]
[null,null,null,null,"vii","Central Goods & Service Tax (CGST)",null,null,"vii"]
[null,null,null,null,"viii","State Goods & Services Tax (SGST)",null,null,"viii"]
[null,null,null,null,"ix","Integrated Goods & Services Tax (IGST)",null,null,"ix",480000]
[null,null,null,null,"x","Union Territory Goods & Services Tax  (UTGST)",null,null,"x"]
[null,null,null,null,"xi","Any other tax, paid or payable ",null,null,"xi"]
[null,null,null,null,"xii","Total (10i + 10ii + 10iii + 10iv + 10v + 10vi + 10vii + 10viii + 10ix + 10x+10xi)",null,null,null,null,"10xii",{"$f":"SUM(J41:J51)","v":480000}]
[null,null,null,11,"Cost of goods produced – Transferred from Manufacturing Account ",null,null,null,null,null,11,{"$f":"ManuFactureAcc_CostOfGoodsProduced","v":0}]
[null,null,null,12,"Gross Profit from Business/Profession - transferred to Profit and Loss account (6-7-8-9-10xii-11)",null,null,null,null,null,12,{"$f":"TradingAcc_TotalOfCreditsToTradingAccount-TradingAcc_OpeningStockOfFinishedGoods-TradingAcc_Purchases-TradingAcc_TotalDirectExpenses-TradingAcc_TotalDuties-TradingAcc_CostOfGoods","v":14253600}]

{"sheet":"PROFIT_LOSS","index":7,"n_rows":187,"n_cols":15,"rows_kept":187,"cut":false,"hidden":false,"merged":[[185,4,185,12],[179,5,179,12],[142,5,142,11],[162,4,162,11],[183,3,186,3],[175,4,175,11],[183,4,183,12],[184,4,184,12],[186,4,186,12],[178,5,178,12],[143,4,143,11],[156,4,156,11],[168,4,168,11],[181,5,181,12],[182,3,182,12],[176,5,176,12],[148,5,148,12],[164,5,164,12],[150,5,150,11],[170,5,170,12],[171,5,171,12],[177,5,177,12],[165,5,165,12],[180,5,180,12],[81,5,81,9],[118,5,118,10],[103,5,103,11],[71,4,71,12],[120,5,120,9],[117,5,117,9],[119,5,119,9],[79,5,79,9],[80,5,80,9],[116,5,116,9],[83,5,83,9],[90,4,90,12],[88,5,88,12],[109,5,109,9],[91,4,91,14],[97,4,97,11],[113,4,113,12],[114,4,114,14],[82,5,82,9],[108,4,108,11],[102,4,102,7],[50,4,50,12],[24,4,24,12],[21,5,21,12],[22,4,22,12],[44,5,44,9],[46,5,46,9],[47,5,47,9],[64,5,64,9],[66,5,66,12],[49,4,49,12],[59,4,59,11],[56,5,56,9],[57,5,57,9],[48,5,48,11],[39,5,39,9],[42,5,42,9],[124,2,130,2],[73,4,73,12],[74,4,74,12],[75,4,75,12],[76,4,76,12],[112,4,112,12],[60,5,60,9],[65,5,65,9],[62,5,62,12],[89,4,89,12],[69,4,69,12],[70,4,70,12],[68,4,68,12],[121,5,121,12],[126,4,126,12],[124,4,124,12],[125,4,125,12],[84,5,84,9],[85,5,85,9],[86,5,86,9],[96,4,96,11],[111,4,111,12],[110,5,110,11],[77,4,77,12],[2,2,2,4],[2,5,2,14],[23,2,24,2],[3,4,3,11],[5,5,5,9],[37,5,37,9],[26,4,26,12],[78,4,78,11],[72,4,72,12],[40,5,40,11],[51,4,51,12],[52,4,52,12],[53,4,53,12],[58,5,58,12],[29,4,29,11],[31,5,31,9],[32,5,32,9],[33,5,33,9],[63,4,63,11],[41,5,41,9],[43,4,43,11],[45,5,45,9],[55,4,55,11],[15,5,15,11],[137,6,137,9],[4,4,4,11],[7,5,7,9],[8,5,8,9],[9,5,9,9],[20,4,20,11],[30,5,30,9],[25,4,25,12],[10,5,10,9],[11,5,11,9],[6,5,6,9],[27,4,27,12],[28,4,28,12],[34,5,34,9],[54,4,54,12],[35,5,35,9],[36,5,36,9],[67,4,67,12],[23,4,23,12],[12,5,12,9],[13,5,13,9],[14,5,14,9],[38,5,38,9],[61,5,61,9],[138,6,138,9],[87,5,87,9],[115,5,115,10],[127,4,127,12],[141,6,141,9],[123,4,123,12],[130,4,130,12],[167,2,174,2],[167,4,167,11],[140,6,140,9],[166,5,166,12],[139,5,139,12],[136,5,136,12],[169,5,169,12],[172,5,172,12],[173,5,173,12],[174,5,174,12],[122,4,122,12],[131,4,131,11],[128,4,128,12],[129,4,129,12],[161,4,161,7],[149,5,149,12],[151,4,151,11]]}
[]
[]
[null,null,"Part A-P& L",null,null,"Profit and Loss Account for the financial year 2021-22 (fill items 13 to 61 in a case where regular books of accounts are maintained, otherwise fill items 62 to 66 as applicable) "]
[null,null,null,13,"Gross profit transferred from Trading Account ",null,null,null,null,null,null,null,null,13,{"$f":"TradingAcc_GrossProfitOrLoss","v":14253600}]
[null,null,null,14,"Other income"]
[null,null,null,null,"i","Rent",null,null,null,null,"i",0]
[null,null,null,null,"ii","Commission",null,null,null,null,"ii",0]
[null,null,null,null,"iii","Dividend income",null,null,null,null,"iii",0]
[null,null,null,null,"iv","Interest income",null,null,null,null,"iv",0]
[null,null,null,null,"v","Profit on sale of fixed assets",null,null,null,null,"v",0]
[null,null,null,null,"vi","Profit on sale of investment being securities chargeable to Securities Transaction Tax (STT)",null,null,null,null,"vi",0]
[null,null,null,null,"vii","Profit on sale of other investment",null,null,null,null,"vii",0]
[null,null,null,null,"viii","Gain (Loss) on account of foreign exchange fluctuation u/s 43AA",null,null,null,null,"viii",0]
[null,null,null,null,"ix","Profit on conversion of inventory into capital asset u/s 28(via)  (FMV of inventory as on the date of conversion)",null,null,null,null,"ix",0]
[null,null,null,null,"x","Agricultural income",null,null,null,null,"x",0]
[null,null,null,null,"xi","Any other income (specify nature and amount)"]
[null,null,null,null,null,"Sl. No.","Nature","Amount"]
[null,null,null,null,null,1]
[null,null,null,null,null,{"$f":"F18+1","v":2},""]
[null,null,null,null,null,"Total",null,{"$f":"SUM(PL.Amount)","v":0}]
[]
[null,null,null,null,"xii","Total of other income (i + ii + iii + iv + v + vi + vii + viii + ix +x+ xic)",null,null,null,null,null,null,null,"14xii",{"$f":"SUM(L6:L15)+PL.MiscOthIncome","v":0}]
[null,null,null,15,"Total of credits to profit and loss account (13+14xii)",null,null,null,null,null,null,null,null,15,{"$f":"SUM(PL.GrossProfitTrnsfFrmTrdAcc,PL.TotOthIncome)","v":14253600}]
[null,null,null,16,"Freight outward ",null,null,null,null,null,null,null,null,16,0]
[null,null,null,17,"Consumption of stores and spare parts",null,null,null,null,null,null,null,null,17,0]
[null,null,null,18,"Power and fuel",null,null,null,null,null,null,null,null,18,0]
[null,null,null,19,"Rents",null,null,null,null,null,null,null,null,19,600000]
[null,null,null,20,"Repairs to building",null,null,null,null,null,null,null,null,20,375000]
[null,null,null,21,"Repairs to machinery",null,null,null,null,null,null,null,null,21,300000]
[null,null,null,22,"Compensation to employees"]
[null,null,null,null,"i","Salaries and wages",null,null,null,null,"22i",2400000]
[null,null,null,null,"ii","Bonus",null,null,null,null,"22ii",240000]
[null,null,null,null,"iii","Reimbursement of medical expenses",null,null,null,null,"22iii",0]
[null,null,null,null,"iv","Leave encashment",null,null,null,null,"22iv",0]
[null,null,null,null,"v","Leave travel benefits",null,null,null,null,"22v",0]
[null,null,null,null,"vi","Contribution to approved superannuation fund",null,null,null,null,"22vi",0]
[null,null,null,null,"vii","Contribution to recognised provident fund",null,null,null,null,"22vii",0]
[null,null,null,null,"viii","Contribution to recognised gratuity fund",null,null,null,null,"22viii",0]
[null,null,null,null,"ix","Contribution to any other fund",null,null,null,null,"22ix",0]
[null,null,null,null,"x","Any other benefit to employees in respect of which an expenditure has been incurred",null,null,null,null,"22x",0]
[null,null,null,null,"xi","Total compensation to employees (total of 22i to 22x)",null,null,null,null,null,null,null,"22xi",{"$f":"SUM(L31:L40)","v":2640000}]
[null,null,null,null,"xii","Whether any compensation, included in 22xi, paid to non-residents",null,null,null,null,"xiia","No"]
[null,null,null,null,null,"If Yes, amount paid to non-residents",null,null,null,null,"xiib"]
[null,null,null,23,"Insurance"]
[null,null,null,null,"i","Medical Insurance",null,null,null,null,"23i",0]
[null,null,null,null,"ii","Life Insurance",null,null,null,null,"23ii",0]
[null,null,null,null,"iii","Keyman’s Insurance",null,null,null,null,"23iii",0]
[null,null,null,null,"iv","Other Insurance including factory, office, car, goods,etc.",null,null,null,null,"23iv",0]
[null,null,null,null,"v","Total expenditure on insurance (23i+23ii+23iii+23iv)",null,null,null,null,null,null,null,"23v",{"$f":"SUM(L45:L48)","v":0}]
[null,null,null,24,"Workmen and staff welfare expenses",null,null,null,null,null,null,null,null,24,480000]
[null,null,null,25,"Entertainment",null,null,null,null,null,null,null,null,25,0]
[null,null,null,26,"Hospitality",null,null,null,null,null,null,null,null,26,0]
[null,null,null,27,"Conference",null,null,null,null,null,null,null,null,27,0]
[null,null,null,28,"Sales promotion including publicity (other than advertisement)",null,null,null,null,null,null,null,null,28,0]
[null,null,null,29,"Advertisement",null,null,null,null,null,null,null,null,29,912000]
[null,null,null,30,"Commission"]
[null,null,null,null,"i","Paid outside India, or paid in India to a non-resident other than a company or a foreign company",null,null,null,null,"i",0]
[null,null,null,null,"ii","To others",null,null,null,null,"ii",270000]
[null,null,null,null,"iii","Total (i + ii)",null,null,null,null,null,null,null,"30iii",{"$f":"SUM(L57:L58)","v":270000}]
[null,null,null,31,"Royalty"]
[null,null,null,null,"i","Paid outside India, or paid in India to a non-resident other than a company or a foreign company",null,null,null,null,"i",0]
[null,null,null,null,"ii","To others",null,null,null,null,"ii",0]
[null,null,null,null,"iii","Total (i + ii)",null,null,null,null,null,null,null,"31iii",{"$f":"SUM(L61:L62)","v":0}]
[null,null,null,32,"Professional / Consultancy fees / Fee for technical services"]
[null,null,null,null,"i","Paid outside India, or paid in India to a non-resident other than a company or a foreign company",null,null,null,null,"i",0]
[null,null,null,null,"ii","To others",null,null,null,null,"ii",0]
[null,null,null,null,"iii","Total (i + ii)",null,null,null,null,null,null,null,"32iii",{"$f":"SUM(L65:L66)","v":0}]
[null,null,null,33,"Hotel , boarding and Lodging",null,null,null,null,null,null,null,null,33,0]
[null,null,null,34,"Traveling expenses other than on foreign traveling",null,null,null,null,null,null,null,null,34,90000]
[null,null,null,35,"Foreign travelling expenses",null,null,null,null,null,null,null,null,35,0]
[null,null,null,36,"Conveyance expenses",null,null,null,null,null,null,null,null,36,0]
[null,null,null,37,"Telephone expenses",null,null,null,null,null,null,null,null,37,30000]
[null,null,null,38,"Guest House expenses",null,null,null,null,null,null,null,null,38,0]
[null,null,null,39,"Club expenses",null,null,null,null,null,null,null,null,39,0]
[null,null,null,40,"Festival celebration expenses",null,null,null,null,null,null,null,null,40,0]
[null,null,null,41,"Scholarship",null,null,null,null,null,null,null,null,41,0]
[null,null,null,42,"Gift",null,null,null,null,null,null,null,null,42,0]
[null,null,null,43,"Donation",null,null,null,null,null,null,null,null,43,0]
[null,null,null,44,"Rates and taxes, paid or payable to Government or any local body (excluding taxes on income)"]
[null,null,null,null,"i","Union excise duty",null,null,null,null,"44i",0]
[null,null,null,null,"ii","Service tax",null,null,null,null,"44ii",0]
[null,null,null,null,"iii","VAT/ Sales tax",null,null,null,null,"44iii",0]
[null,null,null,null,"iv","Cess",null,null,null,null,"44iv",0]
[null,null,null,null,"v","Central Goods & Service Tax (CGST)",null,null,null,null,"44v",0]
[null,null,null,null,"vi","State Goods & Services Tax (SGST)",null,null,null,null,"44vi",0]
[null,null,null,null,"vii","Integrated Goods & Services Tax (IGST)",null,null,null,null,"44vii",1056000]
[null,null,null,null,"viii","Union Territory Goods & Services Tax  (UTGST)",null,null,null,null,"44viii",0]
[null,null,null,null,"ix","Any other rate, tax, duty or cess including STT and CTT",null,null,null,null,"44ix",0]
[null,null,null,null,"x","Total rates and taxes paid or payable (44i+44ii+44iii+44iv+44v+ 44vi + 44vii + 44viii + 44ix)",null,null,null,null,null,null,null,"44x",{"$f":"SUM(L80:L88)","v":1056000}]
[null,null,null,45,"Audit fee",null,null,null,null,null,null,null,null,45,150000]
[null,null,null,46,"Salary/Remuneration to Partners of the firm",null,null,null,null,null,null,null,null,46,960000]
[null,null,null,47,"Other expenses (Specify nature and amount)"]
[null,null,null,null,"Sl. No.","Nature","Amount"]
[null,null,null,null,1,"MISC",1810000]
[null,null,null,null,{"$f":"E94+1","v":2},""]
[]
[null,null,null,null,"Total ",null,null,null,null,null,null,null,null,47,{"$f":"SUM(PLOE.ExpenseAmt)","v":1810000}]
[null,null,null,48,"Bad debts (specify PAN of the person, if available, for whom Bad Debt for amount of Rs. 1 lakh or more is claimed and amount)\n\n(Note: If no entry is made in first row then other rows will not be considered)"]
[null,null,null,"i","Sl. No.","PAN","Aadhaar No.","Amount"]
[null,null,null,null,1]
[null,null,null,null,{"$f":"E100+1","v":2}]
[null,null,null,null,null,null,"Total",{"$f":"SUM(PLBD.Amount)","v":0}]
[]
[null,null,null,null,"ii","Others (more than Rs. 1 lakh) where PAN/ Aadhaar No. is not available (provide name and complete address)"]
[null,null,null,"Sl. No.","Name","Flat/ Door/ Block No.","Name of Premises / Building / Village","Road/ Street/Post office","Area/ Locality","Town/ City/ District","State","Country","PIN Code","ZIP Code","Amount"]
[null,null,null,1,null,null,null,null,null,null,"(Select)","(Select)","",""]
[null,null,null,{"$f":"D106+1","v":2},null,null,null,null,null,null,"(Select)","(select)"]
[null,null,null,null,null,null,null,null,null,null,null,null,null,"Total",{"$f":"SUM(PLOT.Amount)","v":0}]
[]
[null,null,null,null,"iii","Others (amounts less than Rs. 1 lakh)",null,null,null,null,"iii",0]
[null,null,null,null,"iv","Total Bad Debt (48i + 48ii + 48iii)",null,null,null,null,null,null,null,"48iv",{"$f":"SUM(PLBD.Amount)+SUM(PLOT.Amount)+PL.OthersAmtLt1Lakh","v":0}]
[null,null,null,49,"Provision for bad and doubtful debts",null,null,null,null,null,null,null,null,49,0]
[null,null,null,50,"Other provisions",null,null,null,null,null,null,null,null,50,0]
[null,null,null,51,"Profit before interest, depreciation and taxes [15 – (16 to 21 + 22xi + 23v + 24 to 29 + 30iii + 31iii + 32iii + 33 to 43 + 44x + 45 + 46 + 47iii + 48vii + 49 + 50)]",null,null,null,null,null,null,null,null,51,{"$f":"PL.TotCreditsToPL-(SUM(O24:O29)+PL.TotEmployeeComp+PL.TotInsurances+SUM(O50:O55)+PL.CommissionExpdr+PLRY.Total+PLPC.Total+SUM(O68:O78)+PLRateEx.TotExciseCustomsVAT+PL.AuditFee+PL.SalRemToPartnerFirm+PL.OtherExpenses+PL.BadDebt+PL.ProvForBadDoubtDebt+PL.OthProvisionsExpdr)","v":4580600}]
[null,null,null,52,"Interest"]
[null,null,null,null,"i","Paid outside India, or paid in India to a non-resident other than a company or a foreign company"]
[null,null,null,null,"a","To Partners",null,null,null,null,"ia"]
[null,null,null,null,"b","To others",null,null,null,null,"ib",0]
[null,null,null,null,"ii","Paid in India, or paid to a resident"]
[null,null,null,null,"a","To Partners",null,null,null,null,"iia",750000]
[null,null,null,null,"b","To others",null,null,null,null,"iib",0]
[null,null,null,null,"iii","Total (ia+ib+iia+iib)",null,null,null,null,null,null,null,"52iii",{"$f":"SUM(L116:L121)","v":750000}]
[null,null,null,53,"Depreciation and amortization",null,null,null,null,null,null,null,null,53,1000000]
[null,null,null,54,"Net profit before taxes (51 – 52iii – 53)",null,null,null,null,null,null,null,null,54,{"$f":"O114-O122-O123","v":2830600}]
[null,null,null,55,"Provision for current tax",null,null,null,null,null,null,null,null,55,0]
[null,null,null,56,"Provision for Deferred Tax",null,null,null,null,null,null,null,null,56,0]
[null,null,null,57,"Profit after tax (54 – 55 – 56)",null,null,null,null,null,null,null,null,57,{"$f":"O124-O125-O126","v":2830600}]
[null,null,null,58,"Balance brought forward from previous year",null,null,null,null,null,null,null,null,58,0]
[null,null,null,59,"Amount available for appropriation (57 + 58)",null,null,null,null,null,null,null,null,59,{"$f":"SUM(O127:O128)","v":2830600}]
[null,null,null,60,"Transferred to reserves and surplus",null,null,null,null,null,null,null,null,60,0]
[null,null,null,61,"Balance carried to balance sheet in proprietor’s account (59 – 60)",null,null,null,null,null,null,null,null,61,{"$f":"O129-O130","v":2830600}]
[null,null,null,62,"COMPUTATION OF PRESUMPTIVE BUSINESS INCOME UNDER SECTION 44AD (Only for Resident Partnership Firm other than LLP) "]
[null,null,null,null,null,"Sl.No.","Name of the Business","Business Code","Description"]
[null,null,null,null,null,1,"","",""]
[null,null,null,null,null,{"$f":"F134+1","v":2},"","",""]
[null,null,null,null,null,{"$f":"F135+1","v":3},"","",""]
[null,null,null,null,"i","Gross Turnover or Gross Receipts (ia + ib)",null,null,null,null,null,null,null,"62i",{"$f":"SUM(L138:L139)","v":0}]
[null,null,null,null,null,"a","Through a/c payee cheque or a/c payee bank draft or bank electronic clearing system or other prescribed electronic modes received before specified date",null,null,null,"ia"]
[null,null,null,null,null,"b","Any other mode",null,null,null,"ib"]
[null,null,null,null,"ii","Presumptive income under section 44AD(iia+iib)",null,null,null,null,null,null,null,"62ii",{"$f":"SUM(L141:L142)","v":0}]
[null,null,null,null,null,"a","6% of 62ia,  or the amount claimed to have been earned, whichever is higher",null,null,null,"iia"]
[null,null,null,null,null,"b","8% of 62ib, or the amount claimed to have been earned, whichever is higher",null,null,null,"iib"]
[null,null,null,null,"Note : ","If income is less than  the above percentage  of Gross Receipts/Turnover, it is mandatory to maintain books of accounts and have a tax audit under 44AB"]
[null,null,null,63,"COMPUTATION OF PRESUMPTIVE INCOME FROM PROFESSIONS UNDER SECTION 44ADA (Only for Resident Partnership Firm other than LLP) "]
[null,null,null,null,null,"Sl.No.","Name of the Business","Business Code","Description"]
[null,null,null,null,null,1,"","",""]
[null,null,null,null,null,{"$f":"F146+1","v":2},"","",""]
[null,null,null,null,null,{"$f":"F147+1","v":3},"","",""]
[null,null,null,null,"i","Gross Receipts",null,null,null,null,null,null,null,"63i"]
[null,null,null,null,"ii","Presumptive Income under section 44ADA (50% of 63i, or the amount claimed to have been earned, whichever is higher)",null,null,null,null,null,null,null,"63ii"]
[null,null,null,null,"Note :","If income is less than 50% of Gross Receipts, it is mandatory to maintain books of accounts and have a tax audit under section 44AB "]
[null,null,null,64,"COMPUTATION OF PRESUMPTIVE INCOME FROM GOODS CARRIAGES UNDER SECTION 44AE"]
[null,null,null,null,null,"Sl.No.","Name of the Business","Business Code","Description"]
[null,null,null,null,null,1,"","(Select)",""]
[null,null,null,null,null,{"$f":"F154+1","v":2},"","(Select)"]
[null,null,null,null,null,{"$f":"F155+1","v":3},null,"(Select)"]
[]
[null,null,null,null,"Sl.No.","Registration No. of goods carriage","Whether owned/leased/hired","Tonnage Capacity of goods carriage(in MT)","Number of months for which goods carriage was owned / leased / hired by assessee","Presumptive income u/s 44AE for the goods carriage\n(Computed @ Rs.1000 per ton per month in case tonnage exceeds 12MT, or else @ Rs.7500 per month) or the amount claimed to have been actually earned, whichever is higher"]
[null,null,null,null,"i","(1)","(2)","(3)","(4)","(5)"]
[null,null,null,null,1,"","(Select)"]
[null,null,null,null,{"$f":"E160+1","v":2},"","(Select)"]
[null,null,null,null,"Total",null,null,null,{"$f":"SUM(PL44AE2.NoMonthsOwned)","v":0},{"$f":"SUM(PL44AE2.PresemptiveIncome)","v":0}]
[]
[null,null,null,null,"Note :","If the profits are lower than prescribed under S.44AE or the number of goods carriage owned at any time during the year exceeds 10,it is mandatory to maintain books of accounts and have a tax audit under 44AB."]
[null,null,null,null,"ii","Total presumptive income from goods carriage u/s 44AE [total of column (5) of table 64(i)]",null,null,null,null,null,null,null,"64ii",{"$f":"SUM(PL44AE2.PresemptiveIncome)","v":0}]
[null,null,null,null,"iii","Less: Salary/Remuneration to Partners of the firm ",null,null,null,null,null,null,null,"64iii"]
[null,null,null,null,"iv","Total Presumptive Income u/s 44AE (ii-iii)",null,null,null,null,null,null,null,"64iv",{"$f":"MAX(0,PL.TotalPrsumptvIncGCUs44E-PL.SalRemrtnToPartnerFirm)","v":0}]
[null,null,"NO ACCOUNT CASE",65,"IF REGULAR BOOKS OF ACCOUNT OF BUSINESS OR PROFESSION ARE NOT MAINTAINED, furnish the following information for previous year 2021-22 in respect of business or profession -"]
[null,null,null,"(i)","For assessee carrying on Business"]
[null,null,null,null,"a","Gross receipts (a1+a2)",null,null,null,null,null,null,null,"65(i)a",{"$f":"SUM(O171:O172)","v":0}]
[null,null,null,null,null,"i Through a/c payee cheque or a/c payee bank draft or bank electronic clearing system or other prescribed electronic modes received before specified date",null,null,null,null,null,null,null,"ai",0]
[null,null,null,null,null,"ii Any other mode",null,null,null,null,null,null,null,"aii",0]
[null,null,null,null,"b","Gross profit",null,null,null,null,null,null,null,"65(i)b",0]
[null,null,null,null,"c","Expenses",null,null,null,null,null,null,null,"65(i)c",0]
[null,null,null,null,"d","Net profit",null,null,null,null,null,null,null,"65(i)d",{"$f":"MAX(0,PL.GrossProfit-PL.Expenses)","v":0}]
[null,null,null,"(ii)","For assessee carrying on Profession"]
[null,null,null,null,"a","Gross receipts (a1 + a2)",null,null,null,null,null,null,null,"65(ii)a",{"$f":"SUM(O178:O179)","v":0}]
[null,null,null,null,null,"i Through a/c payee cheque or a/c payee bank draft or bank electronic clearing system or other prescribed electronic modes received before specified date",null,null,null,null,null,null,null,"ai",0]
[null,null,null,null,null,"ii Any other mode",null,null,null,null,null,null,null,"aii",0]
[null,null,null,null,"b","Gross profit",null,null,null,null,null,null,null,"65(ii)b",0]
[null,null,null,null,"c","Expenses",null,null,null,null,null,null,null,"65(ii)c",0]
[null,null,null,null,"d","Net profit",null,null,null,null,null,null,null,"65(ii)d",{"$f":"MAX(0,PL.GrossProfitPrf-PL.ExpensesPrf)","v":0}]
[null,null,null,"Total Profit (65(i)d + 65(ii)d)",null,null,null,null,null,null,null,null,null,65,{"$f":"PL.NetProfit+PL.NetProfitPrf","v":0}]
[null,null,null,66,"(i) Turnover from speculative activity",null,null,null,null,null,null,null,null,"66i",0]
[null,null,null,null,"(ii) Gross Profit ",null,null,null,null,null,null,null,null,"66ii",0]
[null,null,null,null,"(iii) Expenditure, if any",null,null,null,null,null,null,null,null,"66iii",0]
[null,null,null,null,"(iv) Net income from speculative activity (66ii - 66iii)",null,null,null,null,null,null,null,null,"66iv",{"$f":"PL.GrossProfit_2-PL.Expenditure","v":0}]

{"sheet":"PART - A OI","index":8,"n_rows":114,"n_cols":12,"rows_kept":114,"cut":false,"hidden":false,"merged":[[76,10,78,11],[79,5,79,7],[77,5,77,7],[78,5,78,7],[70,5,70,7],[96,10,104,11],[97,5,97,7],[98,5,98,7],[84,5,84,7],[75,5,75,9],[76,4,76,9],[104,5,104,7],[87,5,87,7],[93,5,93,7],[86,10,94,11],[83,5,83,7],[79,10,83,11],[92,5,92,7],[85,5,85,9],[91,5,91,7],[102,5,102,7],[80,5,80,7],[99,5,99,7],[68,10,74,11],[24,5,24,7],[25,5,25,7],[36,5,36,7],[29,5,29,7],[28,5,28,7],[26,5,26,7],[37,5,37,7],[45,10,54,11],[56,10,65,11],[63,6,63,7],[64,6,64,7],[52,5,52,7],[59,6,59,7],[60,6,60,7],[53,5,53,7],[50,5,50,7],[51,5,51,7],[46,5,46,7],[45,4,45,9],[47,5,47,7],[48,5,48,7],[61,6,61,7],[49,5,49,7],[55,5,55,9],[22,5,22,7],[2,2,2,4],[2,5,2,11],[3,4,3,9],[4,4,4,9],[7,4,7,11],[8,5,8,9],[5,4,5,9],[13,10,18,11],[17,5,17,7],[13,4,13,9],[23,5,23,7],[81,5,81,7],[113,4,113,9],[3,2,113,2],[16,5,16,7],[14,5,14,7],[112,4,112,9],[111,4,111,9],[95,5,95,9],[96,4,96,9],[100,5,100,7],[107,5,107,9],[9,5,9,9],[10,5,10,9],[11,5,11,9],[19,5,19,9],[20,4,20,9],[21,5,21,7],[18,5,18,7],[15,5,15,7],[105,5,105,7],[6,4,6,9],[12,5,12,9],[40,5,40,9],[110,4,110,9],[88,5,88,7],[89,5,89,7],[90,5,90,7],[73,5,73,7],[69,5,69,7],[74,5,74,7],[41,5,41,9],[39,5,39,7],[66,6,66,9],[71,5,71,7],[67,5,67,9],[72,5,72,7],[68,4,68,9],[65,6,65,7],[101,5,101,7],[57,6,57,7],[56,5,56,9],[54,5,54,7],[58,6,58,7],[62,6,62,7],[82,5,82,7],[86,4,86,9],[27,5,27,7],[108,5,108,9],[106,4,106,9],[94,5,94,7],[30,5,30,7],[109,5,109,9],[103,5,103,7],[38,5,38,7],[34,5,34,7],[33,5,33,7],[31,5,31,7],[35,5,35,7],[32,5,32,7]]}
[]
[]
[null,null,"Part A- OI",null,null,"OI Other Information (Mandatory if liable for audit under section 44AB). Where applicable, all fields with Serial nos marked in red, are compulsory and blank numeric fields will be treated as zeroes."]
[null,null,"OTHER INFORMATION",1,"Method of accounting employed in the previous year",null,null,null,null,null,1,"Mercantile"]
[null,null,null,2,"Is there any change in method of accounting    ",null,null,null,null,null,2,"No"]
[null,null,null,"3a","Increase in the profit or decrease in loss   because of deviation, if any, as per Income Computation Disclosure Standards notified under section 145(2) [column 11a(iii) of Schedule ICDS]",null,null,null,null,null,"3a",{"$f":"ICDS.PositiveTotal","v":0}]
[null,null,null,"3b","Decrease in the profit or increase in loss because of deviation, if any,  as per Income Computation Disclosure Standards notified under section 145(2) [column 11b(iii) of Schedule ICDS]",null,null,null,null,null,"3b",{"$f":"ICDS.NegativeTotal","v":0}]
[null,null,null,4,"Method of valuation of closing stock employed in the previous year  (If applicable, fill all serial nos in red, since  blank will be treated as zeroes)"]
[null,null,null,null,"a","Raw Material (if at cost or market rates whichever is less write 1, if at cost write 2, if at market rate write 3)",null,null,null,null,"4a","(Select)"]
[null,null,null,null,"b","Finished goods (if at cost or market rates whichever is less write 1, if at cost write 2, if at market rate write 3)",null,null,null,null,"4b","(Select)"]
[null,null,null,null,"c","Is there any change in stock valuation method (Select)",null,null,null,null,"4c","No"]
[null,null,null,null,"d","Increase in the profit or decrease in loss because of deviation, if any, from the method of valuation specified under section 145A",null,null,null,null,"4d"]
[null,null,null,null,"e","Decrease in the profit or increase in loss because of deviation, if any, from the method of valuation specified under section 145A",null,null,null,null,"4e"]
[null,null,null,5,"Amounts not credited to the profit and loss account, being"]
[null,null,null,null,"a","the items falling within the scope of section 28",null,null,"5a"]
[null,null,null,null,"b","The proforma credits, drawbacks, refund of duty of customs or excise or service tax, or refund of sales tax or value added tax, or refund of GST, where such credits, drawbacks or refunds are admitted as due by the authorities concerned",null,null,"5b"]
[null,null,null,null,"c","escalation claims accepted during the previous year",null,null,"5c"]
[null,null,null,null,"d","Any other item of income",null,null,"5d"]
[null,null,null,null,"e","Capital receipt, if any",null,null,"5e"]
[null,null,null,null,"f","Total of amounts not credited to profit and loss account (5a+5b+5c+5d+5e)",null,null,null,null,"5f",{"$f":"SUM(J15:J19)","v":0}]
[null,null,null,6,"Amounts debited to the profit and loss account, to the extent disallowable under section 36 due to non-fulfilment of condition specified in relevant clauses-"]
[null,null,null,null,"a","Premium paid for insurance against risk of damage or destruction of stocks or store [36(1)(i)]",null,null,"6a"]
[null,null,null,null,"b","Premium paid for insurance on the health of employees [36(1)(ib)]",null,null,"6b"]
[null,null,null,null,"c","Any sum paid to an employee as bonus or commission for services rendered, where such sum was otherwise payable to him as profits or dividend [36(1)(ii)]",null,null,"6c"]
[null,null,null,null,"d","Any amount of interest paid in respect of borrowed capital [36(1)(iii)]",null,null,"6d"]
[null,null,null,null,"e","Amount of discount on a zero-coupon bond [36(1)(iiia)]",null,null,"6e"]
[null,null,null,null,"f","Amount of contributions to a recognised provident fund [36(1)(iv)]",null,null,"6f"]
[null,null,null,null,"g","Amount of contributions to an approved superannuation fund  [36(1)(iv)]",null,null,"6g"]
[null,null,null,null,"h","Amount of contribution to a pension scheme referred to in section 80CCD [36(1)(iva)]",null,null,"6h"]
[null,null,null,null,"i","Amount of contributions to an approved gratuity fund [36(1)(v)]",null,null,"6i"]
[null,null,null,null,"j","Amount of contributions to any other fund",null,null,"6j"]
[null,null,null,null,"k","Any sum received from employees as contribution to any provident fund or superannuation fund or any fund set up under ESI Act or any other fund for the welfare of employees to the extent not credited to the employees account on or before the due date [36(1)(va)]",null,null,"6k"]
[null,null,null,null,"l","Amount of bad and doubtful debts [36(1)(vii)]",null,null,"6l"]
[null,null,null,null,"m","Provision for bad and doubtful debts [36(1)(viia)]",null,null,"6m"]
[null,null,null,null,"n","Amount transferred to any special reserve [36(1)(viii)]",null,null,"6n"]
[null,null,null,null,"o","Expenditure for the purposes of promoting family planning amongst employees [36(1)(ix)]",null,null,"6o"]
[null,null,null,null,"p","Amount of securities transaction paid in respect of transaction in securities if such income is not included in business income [36(1)(xv)]",null,null,"6p"]
[null,null,null,null,"q","Marked to market loss or other expected loss as computed in accordance with the ICDS notified u/s 145(2) [36(1)(xviii)]",null,null,"6q"]
[null,null,null,null,"r","Expenditure for purchase of sugarcane in excess of the government approved price [36(1)(xvii)]",null,null,"6r"]
[null,null,null,null,"s","Any other disallowance",null,null,"6s"]
[null,null,null,null,"t","Total amount disallowable under section 36 (total of 6a to 6s)",null,null,null,null,"6t",{"$f":"SUM(J22:J40)","v":0}]
[null,null,null,null,"u","Total number of employees employed by the company (mandatory in case company has recognized Provident Fund)"]
[null,null,null,null,null,"i","Deployed in India",null,"i"]
[null,null,null,null,null,"ii","Deployed outside India",null,"ii"]
[null,null,null,null,null,"iii","Total Deployed (i) + (ii)",null,"iii",{"$f":"SUM(J43:J44)","v":0}]
[null,null,null,7,"Amounts debited to the profit and loss account, to the extent disallowable under section 37"]
[null,null,null,null,"a","Expenditure of capital nature [37(1)]",null,null,"7a",80000]
[null,null,null,null,"b","Expenditure of personal nature [37(1)]",null,null,"7b"]
[null,null,null,null,"c","Expenditure laid out or expended wholly and exclusively NOT for the purpose of business or profession [37(1)]",null,null,"7c",18000]
[null,null,null,null,"d","Expenditure on advertisement in any souvenir, brochure, tract, pamphlet or the like, published by a political party [37(2B)]",null,null,"7d"]
[null,null,null,null,"e","Expenditure by way of penalty or fine for violation of any law for the time being in force;",null,null,"7e"]
[null,null,null,null,"f","Any other penalty or fine;",null,null,"7f"]
[null,null,null,null,"g","Expenditure incurred for any purpose which is an offence or which is prohibited by law;",null,null,"7g"]
[null,null,null,null,"h","Amount of any liability of a contingent nature",null,null,"7h"]
[null,null,null,null,"i","Any other amount not allowable under section 37",null,null,"7i"]
[null,null,null,null,"j","Total amount disallowable under section 37(total of 7a to 7i)",null,null,null,null,"7j",{"$f":"SUM(J47:J55)","v":98000}]
[null,null,null,8,"A","Amounts debited to the profit and loss account, to the extent disallowable under section 40"]
[null,null,null,null,null,"a","Amount disallowable under section 40 (a)(i), on account of non-compliance with the provisions of Chapter XVII-B",null,"Aa"]
[null,null,null,null,null,"b","Amount disallowable under section 40(a)(ia) on account of non-compliance with the provisions of Chapter XVII-B",null,"Ab"]
[null,null,null,null,null,"c","Amount disallowable under section 40 (a)(ib), on account of non-compliance with the provisions of Chapter VIII of the Finance Act, 2016",null,"Ac"]
[null,null,null,null,null,"d","Amount disallowable under section 40(a)(iii) on account of non-compliance with the provisions of Chapter XVII-B",null,"Ad"]
[null,null,null,null,null,"e","Amount of tax or rate levied or assessed on the basis of profits [40(a)(ii)]",null,"Ae",40000]
[null,null,null,null,null,"f","Amount paid as wealth tax [40(a)(iia)]",null,"Af"]
[null,null,null,null,null,"g","Amount paid by way of royalty, license fee, service fee etc. as per section 40(a)(iib)",null,"Ag"]
[null,null,null,null,null,"h","Amount of interest, salary, bonus, commission or remuneration paid to any partner or member [40(b)]",null,"Ah"]
[null,null,null,null,null,"i","Any other disallowance",null,"Ai"]
[null,null,null,null,null,"j","Total amount disallowable under section 40(total of Aa to Ai)",null,null,null,"8Aj",{"$f":"SUM(J58:J66)","v":40000}]
[null,null,null,null,"B","Any amount disallowed under section 40 in any preceding previous year but allowable during the previous year",null,null,null,null,"8B"]
[null,null,null,9,"Amounts debited to the profit and loss account, to the extent disallowable under section 40A"]
[null,null,null,null,"a","Amounts paid to persons specified in section 40A(2)(b)",null,null,"9a",100000]
[null,null,null,null,"b","Amount paid, otherwise than by account payee cheque or account payee bank draft or use of electronic clearing system through a bank account, or through such electronic mode as may be prescribed disallowable under section 40A(3)",null,null,"9b"]
[null,null,null,null,"c","Provision for payment of gratuity [40A(7)]",null,null,"9c"]
[null,null,null,null,"d","any sum paid by the assessee as an employer for setting up or as contribution to any fund, trust, company, AOP, or BOI or society or any other institution [40A(9)]\n\n[40A(9)]",null,null,"9d"]
[null,null,null,null,"e","Marked to market loss or other expected loss except as allowable u/s 36(1)(xviii) [40A(13)]",null,null,"9e"]
[null,null,null,null,"f","Any other disallowance",null,null,"9f"]
[null,null,null,null,"g","Total amount disallowable under section 40A",null,null,null,null,"9g",{"$f":"SUM(J70:J75)","v":100000}]
[null,null,null,10,"Any amount disallowed under section 43B in any preceding previous year but allowable during the previous year"]
[null,null,null,null,"a","Any sum in the nature of tax, duty, cess or fee under any law",null,null,"10a"]
[null,null,null,null,"b","Any sum payable by way of contribution to any provident fund or superannuation fund or gratuity fund or any other fund for the welfare of employees",null,null,"10b"]
[null,null,null,null,"c","Any sum payable to an employee as bonus or commission for services rendered",null,null,"10c"]
[null,null,null,null,"d","Any sum payable as interest on any loan or borrowing from any public financial institution or a State financial corporation or a State Industrial investment corporation",null,null,"10d"]
[null,null,null,null,"da","Any sum payable as interest on any loan or borrowing from a deposit taking non-banking financial company or systemically important non-deposit taking non-banking financial company, in accordance with the terms and conditions of the agreement governing such loan or borrowing   ",null,null,"10da"]
[null,null,null,null,"e","Any sum payable as interest on any loan or borrowing from any scheduled bank or a co-operative bank other than a primary agricultural credit society or a primary co-operative agricultural and rural development bank",null,null,"10e"]
[null,null,null,null,"f","Any sum payable towards leave encashment",null,null,"10f"]
[null,null,null,null,"g","Any sum payable to the Indian Railways for the use of railway assets",null,null,"10g"]
[null,null,null,null,"h","Total amount allowable under section 43B (total of 10a to 10g)",null,null,null,null,"10h",{"$f":"SUM(J78:J85)","v":0}]
[null,null,null,11,"Any amount debited to profit and loss account of the previous year but disallowable under section 43B:-"]
[null,null,null,null,"a","Any sum in the nature of tax, duty, cess or fee under any law",null,null,"11a",800000]
[null,null,null,null,"b","Any sum payable by way of contribution to any provident fund or superannuation fund or gratuity fund or any other fund for the welfare of employees",null,null,"11b"]
[null,null,null,null,"c","Any sum payable to an employee as bonus or commission for services rendered",null,null,"11c"]
[null,null,null,null,"d","Any sum payable as interest on any loan or borrowing from any public financial institution or a State financial corporation or a State Industrial investment corporation",null,null,"11d"]
[null,null,null,null,"da","Any sum payable as interest on any loan or borrowing from a deposit taking non-banking financial company or systemically important non-deposit taking non-banking financial company, in accordance with the terms and conditions of the agreement governing such loan or borrowing",null,null,"11da"]
[null,null,null,null,"e","Any sum payable as interest on any loan or borrowing from any scheduled bank or a co-operative bank other than a primary agricultural credit society or a primary co-operative agricultural and rural development bank",null,null,"11e"]
[null,null,null,null,"f","Any sum payable towards leave encashment",null,null,"11f"]
[null,null,null,null,"g","Any sum payable to the Indian Railways for the use of railway assets",null,null,"11g"]
[null,null,null,null,"h","Total amount disallowable under Section 43B(total of 11a to 11g)",null,null,null,null,"11h",{"$f":"SUM(J88:J95)","v":800000}]
[null,null,null,12,"Amount of credit outstanding in the accounts in respect of"]
[null,null,null,null,"a","Union Excise Duty",null,null,"12a"]
[null,null,null,null,"b","Service tax",null,null,"12b"]
[null,null,null,null,"c","VAT/sales tax",null,null,"12c"]
[null,null,null,null,"d","Central Goods & Service Tax (CGST)",null,null,"12d"]
[null,null,null,null,"e","State Goods & Services Tax (SGST)",null,null,"12e"]
[null,null,null,null,"f","Integrated Goods & Services Tax (IGST)",null,null,"12f"]
[null,null,null,null,"g","Union Territory Goods & Services Tax  (UTGST)",null,null,"12g"]
[null,null,null,null,"h","Any other tax",null,null,"12h"]
[null,null,null,null,"i","Total amount outstanding (total of 12a to 12h)",null,null,null,null,"12i",{"$f":"SUM(J98:J105)","v":0}]
[null,null,null,13,"Amounts deemed to be profits and gains under section 33AB or 33ABA or 33 AC (13a + 13b +13c)",null,null,null,null,null,13,{"$f":"SUM(L108:L110)","v":0}]
[null,null,null,null,"a","33AB",null,null,null,null,"13a"]
[null,null,null,null,"b","33ABA",null,null,null,null,"13b"]
[null,null,null,null,"c","33AC",null,null,null,null,"13c"]
[null,null,null,14,"Any amount of profit chargeable to tax under section 41",null,null,null,null,null,14]
[null,null,null,15,"Amount of income or expenditure of prior period credited or debited to the profit and loss account (net)",null,null,null,null,null,15]
[null,null,null,16,"Amount of expenditure disallowed u/s 14A",null,null,null,null,null,16]
[null,null,null,17,"Whether assessee is exercising option under subsection 2A of section 92CE ? [If yes , please fill schedule TPSA] ",null,null,null,null,null,17,"No"]

{"sheet":"PDTCAse","index":9,"n_rows":11,"n_cols":9,"rows_kept":11,"cut":false,"hidden":true,"merged":[]}
["Q1","Q2","Q3","Q4_1","Q4_2","Q4_3","Q4_4","Q4_Case1","Q4_Case2"]
[{"$f":"UPPER(IF(OR(PAG2.Sec160_1=\"(Select)\",PAG2.Sec160_1=\"\"),\"NA\",PAG2.Sec160_1))","v":"NA"},{"$f":"UPPER(IF(OR(PAG2.Sec160_2=\"(Select)\",PAG2.Sec160_2=\"\"),\"NA\",PAG2.Sec160_2))","v":"NA"},{"$f":"UPPER(IF(OR(PAG2.Sec160_3=\"(Select)\",PAG2.Sec160_3=\"\"),\"NA\",PAG2.Sec160_3))","v":"NA"},{"$f":"UPPER(IF(OR(PAG2.Sec160_4_1=\"(Select)\",PAG2.Sec160_4_1=\"\"),\"NA\",PAG2.Sec160_4_1))","v":"NA"},{"$f":"UPPER(IF(OR(PAG2.Sec160_4_2=\"(Select)\",PAG2.Sec160_4_2=\"\"),\"NA\",PAG2.Sec160_4_2))","v":"NA"},{"$f":"UPPER(IF(OR(PAG2.Sec160_4_3=\"(Select)\",PAG2.Sec160_4_3=\"\"),\"NA\",PAG2.Sec160_4_3))","v":"NA"},{"$f":"UPPER(IF(OR(PAG2.Sec160_4_4=\"(Select)\",PAG2.Sec160_4_4=\"\"),\"NA\",PAG2.Sec160_4_4))","v":"NA"},{"$f":"IF(PDT.Q41_1=\"N\",IF(PDT.Q42_1=\"N\",IF(PDT.Q43_1=\"N\",IF(PDT.Q44_1=\"N\",FALSE,TRUE),TRUE),TRUE), TRUE)","v":true},{"$f":"IF(PDT.Q41_1=\"N\",IF(PDT.Q42_1=\"N\",IF(PDT.Q43_1=\"N\",IF(PDT.Q44_1=\"N\",TRUE,FALSE),FALSE),FALSE), FALSE)","v":false}]
[]
[]
[{"$f":"IF(PDT.Q1_1=\"Y\",IF(PDT.Q2_1=\"Y\",IF(PDT.Q3_1=\"Y\",TRUE, FALSE),FALSE),FALSE)","v":false},{"$f":"IF(OR(PDT.C1_1=TRUE,PDT.C4_1=TRUE,PDT.C6_1=TRUE),TRUE,FALSE)","v":false}]
[{"$f":"IF(PDT.Q1_1=\"Y\",IF(PDT.Q2_1=\"Y\",IF(PDT.Q3_1=\"N\",TRUE, FALSE),FALSE),FALSE)","v":false},{"$f":"IF(OR(PDT.C2_1=TRUE,PDT.C3_1=TRUE,PDT.C5_1=TRUE,PDT.C7_1=TRUE),TRUE,FALSE)","v":false}]
[{"$f":"IF(PDT.Q1_1=\"Y\",IF(PDT.Q2_1=\"N\",IF(PDT.Q3_1=\"NA\",TRUE, FALSE),FALSE),FALSE)","v":false},null,null,null,null,{"$f":"ISNA(MATCH(MID(sheet1.SubStatus,1,1),{\"4\",\"6\"},0))","v":true},{"$f":"ISNA(MATCH(MID(sheet1.MainStatus,1,1),{\"3\"},0))","v":true}]
[{"$f":"IF(PDT.Q1_1=\"N\",IF(PDT.Q2_1=\"Y\",IF(PDT.Q3_1=\"Y\",TRUE, FALSE),FALSE),FALSE)","v":false}]
[{"$f":"IF(PDT.Q1_1=\"N\",IF(PDT.Q2_1=\"Y\",IF(PDT.Q3_1=\"N\",TRUE, FALSE),FALSE),FALSE)","v":false}]
[{"$f":"IF(PDT.Q1_1=\"N\",IF(PDT.Q2_1=\"N\",IF(PDT.Q3_1=\"NA\",IF(Q4_Case1_1=TRUE,TRUE,FALSE),FALSE),FALSE))","v":false},null,{"$f":"IF(GrpsB_1,FALSE,IF(GrpB.Grp3.PDT_1,FALSE,IF((PDT.C3_1=TRUE),TRUE,FALSE)))","v":false}]
[{"$f":"IF(PDT.Q1_1=\"N\",IF(PDT.Q2_1=\"N\",IF(PDT.Q3_1=\"NA\",IF(Q4_Case2_1=TRUE,TRUE,FALSE),FALSE),FALSE))","v":false}]

{"sheet":"Tax(N)","index":10,"n_rows":228,"n_cols":51,"rows_kept":228,"cut":false,"hidden":true,"merged":[[101,7,101,8],[101,11,101,12],[101,15,101,16]]}
["BASIC TAX CALCULATION PART",null,null,null,null,null,"Special Benefit Income",{"$f":"MAX(0,SI.111ASTCG+C167+C170+SI_Income_5AD1iDiv+SI_Income_PTI_5AD1iDiv+SI_Income_PTI_5AD1IBd+SI_Income_5AD1IBd)","v":0},"Special Benefit Income Tax",{"$f":"SI!J10+SI!J13+SI!J14+SI!J15+SI!J30+SI!J31+SI!J46+SI!J47+SI!J48+SI!J73+SI!J74+SI!J75+SI!J77+K1","v":0},{"$f":"IF(TaxAtNormalRate>0,(TaxAtNormalRate*K2),0)","v":0},{"$f":"MIN(DivInc,MIN(osBFLA,OSSW1))+Surcharge_IncomeEH2","v":0},"STATUS","Group A","Group B","Group C","Is any member of the AOP/BOI a foreign company","If Yes, mention the percentage of share of the foreign company in the AOP/BOI",0,"Particulars of persons who were partners/ members in the firm/AOP/BOI or settlor/trustee/beneficiary in the trust on 31st day of March, 2014","Interest 234C in case MATC higher than Normal Tax"]
[null,null,null,null,null,null,"other Income",{"$f":"MAX(0,H3-H1)","v":5256350},null,{"$f":"K1","v":0},{"$f":"IF(OSSW1>0,(Surcharge_IncomeEH/OSSW1),0)","v":0},{"$f":"MIN(0.15,Surcharge_Rate)","v":0.12},{"$f":"IF(bacValue=1,0.1,IF(ISNA(MATCH(MID(sheet1.MainStatus,1,1),{\"1\",\"2\",\"3\"},0)),IF(H1=0,M4,IF(M5=0,M6,M5)),IF(GrpsB,0.12,IF(GrpsB.1,IF(H1=0,M4,IF(M5=0,M6,M5)),0.12))))","v":0.12},{"$f":"ISNA(MATCH(MID(sheet1.MainStatus,1,1),{\"1\",\"2\"},0))","v":false},{"$f":"ISNA(MATCH(MID(sheet1.MainStatus,1,1),{\"3\"},0))","v":true},{"$f":"ISNA(MATCH(MID(sheet1.MainStatus,1,1),{\"4\"},0))","v":true},{"$f":"UPPER(IF(OR(PMInfo.PartnerForeignCompFlg=\"(Select)\",PMInfo.PartnerForeignCompFlg=\"\"),\"NA\",PMInfo.PartnerForeignCompFlg))","v":"NO"},{"$f":"IF(Q2=\"YES\",PMInfo.PercentageOfShareForeignComp,\"NA\")","v":"NA"},{"$f":"IF(Q2=\"YES\",\"NA\",UPPER(IF(PMInfo.TotIncFrmMemberOfAop=\"Y\",PMInfo.TotIncFrmMemberOfAop,\"NA\")))","v":"NA"},{"$f":"IF(SUM(PMInfo.SharePercentage)>=99.9,TRUE,FALSE)","v":true},"MATC Tax higher than Gross Tax",null,{"$f":"sheet9.TotalTax_DI>Sheet9.GrossTaxLiability","v":false}]
["Reference Of Tax Head",null,"Tax Head","Value",null,null,"Total Income",{"$f":"MAX(0,TotalIncome)","v":5256350},null,null,null,{"$f":"MIN(OSSW1,MIN(MAX(0,PL.Dividends-sheet10.IncRecCredPLOthHeads4Div),busipofincl.IncOfCurYrAfterSetOffBFLosses2))","v":0},null,null,null,null,null,null,null,null,"TotalTax_DI",null,{"$f":"sheet9.TotalTax_DI","v":0}]
["Point (16) of Part B-TI",null,"Taxable Income",{"$f":"Sheet8b.AggregateIncome","v":5256350},{"$f":"Sheet8b.AggregateIncome","v":5256350},null,null,null,null,null,null,"BI = 0",{"$f":"IF(TotalIncome>50000000,0.37,IF(TotalIncome>20000000,0.25,IF(TotalIncome>10000000,0.15,IF(TotalIncome>5000000,0.1,0))))","v":0.1},null,{"$f":"ISNA(MATCH(MID(sheet1.SubStatus,1,1),{\"1\",\"3\"},0))","v":false},{"$f":"ISNA(MATCH(MID(sheet1.SubStatus,1,1),{\"1\"},0))","v":false},null,null,null,null,"Basic Exemption",null,{"$f":"IF(ISERROR(getExemption(MID(sheet1.MainStatus, 1, 1))),0,getExemption(MID(sheet1.MainStatus, 1, 1)))","v":0},null,null,null,null,"Qtr","Income given by assessee in CG schedule","Basic Exemption [2lkh]","Net Fig","Cumulative tax to be paid","Tax paid","12 & 36 % for 1,2 Qtr","Cumulative Tax paid","Amount on which interst is payable","Net tax"]
[null,null,null,null,null,null,"OI<2Cr and TI >2cr<5cr",0.15,0.15,{"$f":"IF(AND(H2<=20000000,AND(H3>20000000,H3<=50000000)),TRUE,FALSE)","v":false},null,"BI > 0",{"$f":"IF(J5,0.15,IF(J6,0.25,IF(J7,0.15,IF(J8,0.25,IF(J9,0.37,0)))))","v":0},{"$f":"IF(MID(sheet1.SubStatus,1,2)=\"6\",\"2\",sheet1.SubStatus)","v":"1-Partnership Firm"},{"$f":"ISNA(MATCH(MID(sheet1.SubStatus,1,1),{\"2\",\"2\"},0))","v":true},{"$f":"ISNA(MATCH(MID(sheet1.SubStatus,1,1),{\"2\"},0))","v":true},null,null,null,null,null,null,null,null,null,null,null,"On or before 15th June",{"$f":"IF(Higher_MATC,MAX(TotalTax_DI-(Tax.TDS+Tax.TCS+sheet9.CreditUS115JD+Sheet9.TotTaxRelief),0),0)","v":0},null,null,{"$f":"FLOOR(AC5*0.15,100)","v":0},{"$f":"IT.Qtr1","v":0},{"$f":"FLOOR(0.12*AC5,100)","v":0},{"$f":"AG5","v":0},{"$f":"IF(AI5>=AH5,0,MAX(0,FLOOR(MAX(0,AF5-AI5),100)))","v":0},{"$f":"AJ5*0.01*3","v":0}]
["Group A",null,null,null,null,null,"OI>2cr<5cr andTI >2cr<5cr",0.15,0.25,{"$f":"IF(AND(AND(H2>20000000,H2<=50000000),AND(H3>20000000,H3<=50000000)),TRUE,FALSE)","v":false},null,"Special BI",{"$f":"IF(bacValue=1,0.1,IF(ISNA(MATCH(MID(sheet1.MainStatus,1,1),{\"1\",\"2\",\"3\"},0)),IF(OR(J5,J6,J7,J8,J9),0.15,IF(TotalIncome>50000000,0.37,IF(TotalIncome>20000000,0.25,IF(TotalIncome>10000000,0.15,IF(TotalIncome>5000000,0.1,0))))),IF(GrpsB,0.12,IF(GrpsB.1,IF(OR(J5,J6,J7,J8,J9),0.15,IF(TotalIncome>50000000,0.37,IF(TotalIncome>20000000,0.25,IF(TotalIncome>10000000,0.15,IF(TotalIncome>5000000,0.1,0))))),0.12))))","v":0.12},{"$f":"MID(sheet1.SubStatus,1,2)","v":"1-"},{"$f":"ISNA(MATCH(MID(sheet1.SubStatus,1,1),{\"6\"},0))","v":true},{"$f":"ISNA(MATCH(MID(sheet1.SubStatus,1,1),{\"3\"},0))","v":true},null,null,null,null,null,null,null,null,null,null,null,"On or before 15th Sept",{"$f":"IF(Higher_MATC,MAX(TotalTax_DI-(Tax.TDS+Tax.TCS+sheet9.CreditUS115JD+Sheet9.TotTaxRelief),0),0)","v":0},null,null,{"$f":"FLOOR(AC6*0.45,100)","v":0},{"$f":"IT.Qtr2","v":0},{"$f":"FLOOR(0.36*AC6,100)","v":0},{"$f":"AG6+AI5","v":0},{"$f":"IF(AI6>=AH6,0,MAX(0,FLOOR(MAX(0,AF6-AI6),100)))","v":0},{"$f":"AJ6*0.01*3","v":0}]
[null,null,{"$f":"IF(GrpsA,0,ROUND(VALUE(TaxableIncome)*0.3,0))","v":1576905},null,null,null,"OI<2cr and TI>5cr",0.15,0.15,{"$f":"IF(AND(H2<=20000000,H3>50000000),TRUE,FALSE)","v":false},null,null,null,null,{"$f":"ISNA(MATCH(MID(sheet1.SubStatus,1,1),{\"4\",\"5\",\"7\"},0))","v":true},{"$f":"ISNA(MATCH(MID(sheet1.SubStatus,1,1),{\"6\"},0))","v":true},null,null,null,null,null,null,null,null,null,null,null,"On or before 15th Dec",{"$f":"IF(Higher_MATC,MAX(TotalTax_DI-(Tax.TDS+Tax.TCS+sheet9.CreditUS115JD+Sheet9.TotTaxRelief),0),0)","v":0},null,null,{"$f":"FLOOR(AC7*0.75,100)","v":0},{"$f":"IT.Qtr3","v":85000},null,{"$f":"AG7+AI6","v":85000},{"$f":"MAX(AF7-AI7,0)","v":0},{"$f":"AJ7*0.01*3","v":0}]
[null,null,null,null,null,null,"OI>2cr<5cr andTI >5cr",0.15,0.25,{"$f":"IF(AND(AND(H2>20000000,H2<=50000000),H3>50000000),TRUE,FALSE)","v":false},null,null,null,null,null,{"$f":"ISNA(MATCH(MID(sheet1.SubStatus,1,1),{\"6\"},0))","v":true},null,null,null,null,null,null,null,null,null,null,null,"On or before 15th Mar",{"$f":"IF(Higher_MATC,MAX(TotalTax_DI-(Tax.TDS+Tax.TCS+sheet9.CreditUS115JD+Sheet9.TotTaxRelief),0),0)","v":0},null,null,{"$f":"FLOOR(AC8*1,100)","v":0},{"$f":"IT.Qtr4","v":0},null,{"$f":"AG8+AI7","v":85000},{"$f":"MAX(AF8-AI8,0)","v":0},{"$f":"AJ8*0.01*1","v":0}]
["Group B",null,null,null,null,null,"OI>5cr and TI>5cr",0.15,0.37,{"$f":"IF(AND(H2>50000000,H3>50000000),TRUE,FALSE)","v":false},null,null,null,null,null,null,null,null,null,null,null,null,null,null,null,null,null,"On or before 31th Mar",0,null,null,{"$f":"FLOOR(AC9*1,100)","v":0},{"$f":"IT.Qtr5","v":0},null,{"$f":"AG9","v":0},{"$f":"MAX(AF9-AI9,0)","v":0},{"$f":"AJ9*0.01*1","v":0}]
[10000,null,{"$f":"IF(GrpsB,0,IF(GrpsB.1,0,IF(AND(TaxableIncome>=0,TaxableIncome<=A10),ROUND(VALUE(TaxableIncome)*0.1,0),0)))","v":0},"GrpsB.Grp1",null,null,null,null,null,null,null,null,null,null,"PDT CASES"]
[20000,null,{"$f":"IF(GrpsB,0,IF(GrpsB.1,0,IF(AND(TaxableIncome>=10001,TaxableIncome<=A11),(ROUND(VALUE(TaxableIncome-A10) * 0.2,0))+1000,0)))","v":0},null,null,null,null,null,null,null,null,null,null,null,"Q1",{"$f":"UPPER(IF(OR(PAG2.Sec160_1=\"(Select)\",PAG2.Sec160_1=\"\"),\"NA\",PAG2.Sec160_1))","v":"NA"},null,null,null,null,"Interest 234C",null,null,null,null,null,null,null,null,null,null,null,null,null,null,null,{"$f":"ROUND(SUM(AK5:AK10),0)","v":0}]
[20001,null,{"$f":"IF(GrpsB,0,IF(GrpsB.1,0,IF(bacValue=1,IF(AND(TaxableIncome>0),(ROUND(VALUE(TaxableIncome) * 0.22,0)),0),IF(AND(TaxableIncome>=A12),(ROUND(VALUE(TaxableIncome-A11) * 0.3,0))+3000,0))))","v":0},{"$f":"IF(GrpsB,0,IF(GrpsB.1,0,IF(AND(TaxableIncome>=A12),(ROUND(VALUE(TaxableIncome-A11) * 0.3,0))+3000,0)))","v":0},null,null,null,null,null,null,null,null,null,null,"Q2",{"$f":"UPPER(IF(OR(PAG2.Sec160_2=\"(Select)\",PAG2.Sec160_2=\"\"),\"NA\",PAG2.Sec160_2))","v":"NA"},null,null,null,null,"Normal Income",null,{"$f":"MAX(Sheet8b.GrossTotalIncome-(W13+W14+W15+W16+W17+W18+W20),0)","v":1814000},null,null,null,null,null,null,null,null,null,null,null,null,null,null,null,null,null,null,null,null,null,"Q5 Calculation"]
[null,null,null,null,null,null,null,null,null,null,null,null,null,null,"Q3",{"$f":"UPPER(IF(OR(PAG2.Sec160_3=\"(Select)\",PAG2.Sec160_3=\"\"),\"NA\",PAG2.Sec160_3))","v":"NA"},null,null,null,null,"CG income",null,{"$f":"CGIncome_SR+SI!H8+SI!H9","v":0},null,null,null,null,null,null,null,null,null,null,null,null,"AggriIncome",null,null,null,null,null,null,null,null,null,"STEP 1"]
[250000,null,{"$f":"IF(GrpsB,0,IF(GrpsB.2,0,IF(AND(TaxableIncome>=0,TaxableIncome<=A14),0,0)))","v":0},"GrpsB.Grp2",null,null,null,null,null,null,null,null,null,null,"Q4_1",{"$f":"UPPER(IF(OR(PAG2.Sec160_4_1=\"(Select)\",PAG2.Sec160_4_1=\"\"),\"NA\",PAG2.Sec160_4_1))","v":"NA"},null,null,null,null,"Winning from lottery",null,0,null,null,null,null,"NORMAL INCOME+ CG AR Income",null,"Balanced Basic Exemption",null,{"$f":"IF(Normal_Income_234C+AJ14>BasicExemption,0, MAX(0,BasicExemption-MIN(Normal_Income_234C+AJ14,BasicExemption)))","v":0},null,"Normal Income Excluding BE",{"$f":"MAX(IF(Normal_Income_234C+AJ14>BasicExemption,(Normal_Income_234C+AJ14-BasicExemption),Normal_Income_234C+AJ14-MIN(Normal_Income_234C+AJ14,BasicExemption)),0)","v":1814000},{"$f":" IF(sheet9.RebateOnAgriInc>0,Sheet8b.NetAgricultureIncomeOrOtherIncomeForRate,0)","v":0},null,null,null,null,null,null,null,null,null,null,"AR Income (Qtr1 to Qtr4)",{"$f":"SUM($AM$16:$AM$20,NormalIncome_MinusBE)","v":22839400}]
[500000,null,{"$f":"IF(GrpsB,0,IF(GrpsB.2,0,IF(AND(TaxableIncome>=250001,TaxableIncome<=A15),(ROUND(VALUE(TaxableIncome-A14) * 0.05,0)),0)))","v":0},null,null,null,null,null,null,null,null,null,null,null,"Q4_2",{"$f":"UPPER(IF(OR(PAG2.Sec160_4_2=\"(Select)\",PAG2.Sec160_4_2=\"\"),\"NA\",PAG2.Sec160_4_2))","v":"NA"},null,null,null,null,"OS Special rate",null,{"$f":"os.IncChargeableSpecialRates","v":0},null,null,null,null,"Due date Qtr","BP - Normal, Speculation and Specified","Income Break AR","AC15+AF15","B.E","Final Fig","Cumulative Income ","Normal Income","Total Income For TaX","Chapter VIA + Us 10","Deduction set off against TI","TI after deduction","Tax","Tax on tot Income - Agri_Rebate",null,null,null,null,null,"Tax",{"$f":"IF(ISERROR(CalculateTax(AV14+BasicExemption)),0,CalculateTax(AV14+BasicExemption))","v":6851820}]
[1000000,null,{"$f":"IF(GrpsB,0,IF(GrpsB.2,0,IF(AND(TaxableIncome>=500001,TaxableIncome<=A16),(ROUND(VALUE(TaxableIncome-A15) * 0.2,0))+12500,0)))","v":0},null,null,null,null,null,null,null,null,null,null,null,"Q4_3",{"$f":"UPPER(IF(OR(PAG2.Sec160_4_3=\"(Select)\",PAG2.Sec160_4_3=\"\"),\"NA\",PAG2.Sec160_4_3))","v":"NA"},null,null,null,null,"CG AR Income",null,{"$f":"stcg.IncOfCurYrAfterSetOffBFLosses3b","v":0},null,"Q1",{"$f":"IF(W50<2021,TRUE,IF(AND(W50=2021,W51<6),TRUE,IF(AND(W51=6,W52<=15),TRUE,FALSE)))","v":true},null,"On or before 15th June",{"$f":"IF(Z16,$W$17-(IF(Is_44_AD_Applicable,MIN(busipofincl.IncOfCurYrAfterSetOffBFLosses2,Income_44_AD),0)),0)","v":3777350},{"$f":"AccSTCGOTH.Upto15Of6+OS10_Upto15Of6","v":0},{"$f":"AC16+AD16","v":3777350},{"$f":"AE16-AG16","v":0},{"$f":"IF(ISERROR(applyExemption(Consumed_BE,1,$AE$16:$AE$20)),0,applyExemption(Consumed_BE,1,$AE$16:$AE$20))","v":3777350},{"$f":"AG16","v":3777350},{"$f":"NormalIncome_MinusBE","v":1814000},{"$f":"AH16+AI16","v":5591350},{"$f":"Sheet8b.DeductionsUnderScheduleVIA+Sheet8b.IncomeNotPart10","v":335000},{"$f":"MIN(AJ16,AK16)","v":335000},{"$f":"AJ16-AL16","v":5256350},{"$f":"MAX(IF(ISERROR(CalculateTax(AM16+BasicExemption)),0,CalculateTax(AM16+BasicExemption)),0)","v":1576905},{"$f":"MAX(AN16-sheet9.RebateOnAgriInc,0)","v":1576905},null,null,null,null,"STEP 2"]
[1000001,null,{"$f":"IF(GrpsB,0,IF(GrpsB.2,0,IF((TaxableIncome>=A17),(ROUND(VALUE(TaxableIncome-A16) * 0.3,0))+112500,0)))","v":0},null,null,null,null,null,null,null,null,null,null,null,"Q4_4",{"$f":"UPPER(IF(OR(PAG2.Sec160_4_4=\"(Select)\",PAG2.Sec160_4_4=\"\"),\"NA\",PAG2.Sec160_4_4))","v":"NA"},null,null,null,null,"BP - Normal, Speculation and Specified",null,{"$f":"busipofincl.IncOfCurYrAfterSetOffBFLosses2-(IF(Is_44_AD_Applicable,MIN(busipofincl.IncOfCurYrAfterSetOffBFLosses2,Income_44_AD),0))+busipofinclspec.IncOfCurYrAfterSetOffBFLosses2a+busipofinclspecified.IncOfCurYrAfterSetOffBFLosses2b+(IF(Is_44_AD_Applicable,MIN(busipofincl.IncOfCurYrAfterSetOffBFLosses2,Income_44_AD),0))","v":3777350},null,"Q2",{"$f":"IF(Z16,FALSE,IF(AND(W51>=6,W51<=9),IF(AND(W51=6,W52>15),TRUE,IF(AND(W51>6,W51<9),TRUE,IF(W51=9,IF(W52<=15,TRUE,FALSE)))),FALSE))","v":false},null,"On or before 15th Sept",{"$f":"IF(Z17,$W$17-(IF(Is_44_AD_Applicable,MIN(busipofincl.IncOfCurYrAfterSetOffBFLosses2,Income_44_AD),0)),0)","v":0},{"$f":"AccSTCGOTH.Upto15Of9+OS10_Up16Of6To15Of9","v":0},{"$f":"AC17+AD17","v":0},{"$f":"AE17-AG17","v":0},{"$f":"IF(ISERROR(applyExemption(Consumed_BE,2,$AE$16:$AE$20)),0,applyExemption(Consumed_BE,2,$AE$16:$AE$20))","v":0},{"$f":"AG17+AH16","v":3777350},{"$f":"NormalIncome_MinusBE","v":1814000},{"$f":"AH17+AI17","v":5591350},{"$f":"Sheet8b.DeductionsUnderScheduleVIA+Sheet8b.IncomeNotPart10","v":335000},{"$f":"MIN(AJ17,AK17)","v":335000},{"$f":"AJ17-AL17","v":5256350},{"$f":"MAX(IF(ISERROR(CalculateTax(AM17+BasicExemption)),0,CalculateTax(AM17+BasicExemption)),0)","v":1576905},{"$f":"MAX(AN17-sheet9.RebateOnAgriInc,0)","v":1576905},null,null,null,null,null,"AR Income (Qtr1 to Qtr3)",{"$f":"SUM($AM$16:$AM$19,NormalIncome_MinusBE)","v":22839400}]
[null,null,null,null,null,null,null,null,null,null,null,null,null,null,null,null,null,null,null,null,"BP-115B, 115BBF, 115BBG",null,{"$f":"B115Inc+SI!I38+SI!I41","v":0},null,"Q3",{"$f":"IF(OR(Z16,Z17),FALSE,IF(AND(W51>=9,W51<=12),IF(AND(W51=9,W52>15),TRUE,IF(AND(W51>9,W51<12),TRUE,IF(W51=12,IF(W52<=15,TRUE,FALSE)))),FALSE))","v":false},null,"On or before 15th Dec",{"$f":"IF(Z18,$W$17-(IF(Is_44_AD_Applicable,MIN(busipofincl.IncOfCurYrAfterSetOffBFLosses2,Income_44_AD),0)),0)","v":0},{"$f":"AccSTCGOTH.Up16Of9To15Of12+OS10_Up16Of9To15Of12","v":0},{"$f":"AC18+AD18","v":0},{"$f":"AE18-AG18","v":0},{"$f":"IF(ISERROR(applyExemption(Consumed_BE,3,$AE$16:$AE$20)),0,applyExemption(Consumed_BE,3,$AE$16:$AE$20))","v":0},{"$f":"AG18+AH17","v":3777350},{"$f":"NormalIncome_MinusBE","v":1814000},{"$f":"AH18+AI18","v":5591350},{"$f":"Sheet8b.DeductionsUnderScheduleVIA+Sheet8b.IncomeNotPart10","v":335000},{"$f":"MIN(AJ18,AK18)","v":335000},{"$f":"AJ18-AL18","v":5256350},{"$f":"MAX(IF(ISERROR(CalculateTax(AM18+BasicExemption)),0,CalculateTax(AM18+BasicExemption)),0)","v":1576905},{"$f":"MAX(AN18-sheet9.RebateOnAgriInc,0)","v":1576905},null,null,null,null,null,"Tax",{"$f":"IF(ISERROR(CalculateTax(AV17+BasicExemption)),0,CalculateTax(AV17+BasicExemption))","v":6851820}]
[null,null,{"$f":"IF(GrpsB,0,IF(GrpsB.3,0,IF(PDT.MMR,ROUND(VALUE(TaxableIncome)*0.3,0),0)))","v":0},"GrpsB.Grp3",null,null,null,null,null,null,null,null,null,null,"Q4_Case1",{"$f":"IF(PDT.Q41=\"N\",IF(PDT.Q42=\"N\",IF(PDT.Q43=\"N\",IF(PDT.Q44=\"N\",FALSE,TRUE),TRUE),TRUE), TRUE)","v":true},null,null,null,null,"Tax on 115B, 115BBF and 115BBG",null,{"$f":"SI!J6+SI!J38+SI!J41","v":0},null,"Q4",{"$f":"IF(OR(Z16,Z17,Z18),FALSE,IF(W50=2021,IF(AND(W51=12,W52>15),TRUE,FALSE),IF(W50=2022,IF(W51<3,TRUE,IF(AND(W51=3,W52<16),TRUE,FALSE)),FALSE)))","v":false},null,"On or before 15th Mar",{"$f":"IF(Z19,$W$17-(IF(Is_44_AD_Applicable,MIN(busipofincl.IncOfCurYrAfterSetOffBFLosses2,Income_44_AD),0)),0)+IF(Is_44_AD_Applicable,MIN(busipofincl.IncOfCurYrAfterSetOffBFLosses2,Income_44_AD),0)","v":0},{"$f":"AccSTCGOTH.Up16Of12To15Of3+OS10_Up16Of12To15Of3","v":0},{"$f":"AC19+AD19","v":0},{"$f":"AE19-AG19","v":0},{"$f":"IF(ISERROR(applyExemption(Consumed_BE,4,$AE$16:$AE$20)),0,applyExemption(Consumed_BE,4,$AE$16:$AE$20))","v":0},{"$f":"AG19+AH18","v":3777350},{"$f":"NormalIncome_MinusBE","v":1814000},{"$f":"AH19+AI19","v":5591350},{"$f":"Sheet8b.DeductionsUnderScheduleVIA+Sheet8b.IncomeNotPart10","v":335000},{"$f":"MIN(AJ19,AK19)","v":335000},{"$f":"AJ19-AL19","v":5256350},{"$f":"MAX(IF(ISERROR(CalculateTax(AM19+BasicExemption)),0,CalculateTax(AM19+BasicExemption)),0)","v":1576905},{"$f":"MAX(AN19-sheet9.RebateOnAgriInc,0)","v":1576905}]
[null,null,{"$f":"IF(GrpsB,0,IF(GrpsB.4,IF(GrpsB.3,0,IF(PDT.AOP,IF(Case1,ROUND(VALUE(TaxableIncome)*0.3,0),0),0)),IF(Case1,ROUND(VALUE(TaxableIncome)*0.3,0),0)))","v":0},"GrpsB.Grp3/ GrpsB.Grp4.Case1",null,null,null,null,null,null,null,null,null,null,"Q4_Case2",{"$f":"IF(PDT.Q41=\"N\",IF(PDT.Q42=\"N\",IF(PDT.Q43=\"N\",IF(PDT.Q44=\"N\",TRUE,FALSE),FALSE),FALSE), FALSE)","v":false},null,null,null,null,"Dividend Income",null,{"$f":"DivInc","v":0},null,"Q5",{"$f":"IF(OR(Z16,Z17,Z18,Z19),FALSE,TRUE)","v":false},null,"On or before 31th Mar",{"$f":"IF(Z20,$W$17-(IF(Is_44_AD_Applicable,MIN(busipofincl.IncOfCurYrAfterSetOffBFLosses2,Income_44_AD),0)),0)","v":0},{"$f":"AccSTCGOTH.Up16Of3To31Of3+OS10_Up16Of3To31Of3","v":0},{"$f":"AC20+AD20","v":0},{"$f":"AE20-AG20","v":0},{"$f":"IF(ISERROR(applyExemption(Consumed_BE,5,$AE$16:$AE$20)),0,applyExemption(Consumed_BE,5,$AE$16:$AE$20))","v":0},{"$f":"AG20","v":0},0,{"$f":"AH20+AI20","v":0},{"$f":"Sheet8b.DeductionsUnderScheduleVIA+Sheet8b.IncomeNotPart10","v":335000},{"$f":"IF(AK19>AL19,MIN(AJ20,AK19-AL19),0)","v":0},{"$f":"AJ20-AL20","v":0},{"$f":"MAX(Step1Tax-Step2Tax,0)","v":0},{"$f":"MAX(AN20-MAX(0,sheet9.RebateOnAgriInc-AN19),0)","v":0}]
[null,null,null,null,null,null,null,null,null,null,null,null,null,null,null,null,null,null,null,null,"44AD Calculaion"]
[250000,null,{"$f":"IF(GrpsB,0,IF(GrpsB.4,IF(GrpsB.3,0,IF(PDT.AOP,IF(Case2,IF(AND(TaxableIncome>=0,TaxableIncome<=A22),0,0),0),0)),IF(Case2,IF(AND(TaxableIncome>=0,TaxableIncome<=A22),0,0),0)))","v":0},"GrpsB.Grp3/ GrpsB.Grp4.Case2",null,null,null,null,null,null,null,null,null,null,null,null,null,null,null,null,"IS FIRM",null,{"$f":"IF(AND(MID(sheet1.MainStatus,1,1)=\"1\",MID(sheet1.SubStatus,1,1)=\"1\"),TRUE,FALSE)","v":true}]
[500000,null,{"$f":"IF(GrpsB,0,IF(GrpsB.4,IF(GrpsB.3,0,IF(PDT.AOP,IF(Case2,IF(AND(TaxableIncome>=250001,TaxableIncome<=A23),(ROUND(VALUE(TaxableIncome-A22) * 0.05,0)),0),0),0)),IF(Case2,IF(AND(TaxableIncome>=250001,TaxableIncome<=A23),(ROUND(VALUE(TaxableIncome-A22) * 0.05,0)),0),0)))","v":0},null,null,null,null,null,null,null,null,null,null,null,{"$f":"IF(PDT.Q1=\"Y\",IF(PDT.Q2=\"Y\",IF(PDT.Q3=\"Y\",TRUE, FALSE),FALSE),FALSE)","v":false},null,null,null,null,null,null,null,null,null,null,null,null,"SPECIAL RATE TAX"]
[1000000,null,{"$f":"IF(GrpsB,0,IF(GrpsB.4,IF(GrpsB.3,0,IF(PDT.AOP,IF(Case2,IF(AND(TaxableIncome>=500001,TaxableIncome<=A24),(ROUND(VALUE(TaxableIncome-A23) * 0.2,0))+12500,0),0),0)),IF(Case2,IF(AND(TaxableIncome>=500001,TaxableIncome<=A24),(ROUND(VALUE(TaxableIncome-A23) * 0.2,0))+12500,0),0)))","v":0},null,null,null,null,null,null,null,null,null,null,null,{"$f":"IF(PDT.Q1=\"Y\",IF(PDT.Q2=\"Y\",IF(PDT.Q3=\"N\",TRUE, FALSE),FALSE),FALSE)","v":false},null,null,null,null,null,"scvia.TotPartCchapterVIA_Calc ",null,{"$f":"scvia.TotPartCchapterVIA_Calc","v":0},null,null,null,null,null,"Income from SI","Tax From SI"]
[1000001,null,{"$f":"IF(GrpsB,0,IF(GrpsB.4,IF(GrpsB.3,0,IF(PDT.AOP,IF(Case2,IF((TaxableIncome>=A25),(ROUND(VALUE(TaxableIncome-A24) * 0.3,0))+112500,0),0),0)),IF(Case2,IF((TaxableIncome>=A25),(ROUND(VALUE(TaxableIncome-A24) * 0.3,0))+112500,0),0)))","v":0},null,null,null,null,null,null,null,null,null,null,null,{"$f":"IF(PDT.Q1=\"Y\",IF(PDT.Q2=\"N\",IF(PDT.Q3=\"NA\",TRUE, FALSE),FALSE),FALSE)","v":false},null,null,null,null,null,"SEZA10.TotalDedUs10Sub",null,0,null,null,null,null,null,{"$f":"SI!I6+SI!I17+SI!I18+SI!I19+SI!I20+SI!I21+SI!I22+SI!I23+SI!I24+SI!I25+SI!I26+SI!I27+SI!I28+SI!I29+SI!I32+SI!I33+SI_115BBC+SI!I36+SI_115EA","v":0},{"$f":"SI.TotSplRateIncTax-(SI!J6+SI!J7+SI!J8+SI!J9+SI!J10+SI!J11+SI!J12+SI!J13+SI!J14+SI!J15+SI!J16+SI!J27+SI!J30+SI!J31+SI!J32+SI!J35+SI!J38+SI!J41+SI!J44+SI!J46+SI!J47+SI!J48+SI!J49+SI!J50+SI!J66+SI!J73+SI!J74+SI!J75+SI!J77+SI!J79+SI!J80+SI!J51+SI!J17)","v":0}]
[null,null,null,null,null,null,null,null,null,null,null,null,null,null,{"$f":"IF(PDT.Q1=\"N\",IF(PDT.Q2=\"Y\",IF(PDT.Q3=\"Y\",TRUE, FALSE),FALSE),FALSE)","v":false},{"$f":"IF(OR(PDT.C1=TRUE,PDT.C3=TRUE,PDT.C4=TRUE,PDT.C6=TRUE),TRUE,FALSE)","v":false},null,null,null,null,"AA10.TotalDedUs10Sub",null,{"$f":"AA10.TotalDedUs10Sub","v":0}]
[null,null,{"$f":"IF(GrpsB,0,IF(GrpsB.4,IF(GrpsB.3,0,IF(PDT.AOP,IF(Case3,ROUND(VALUE(TaxableIncome *IF(R2=\"NA\",0,(R2/100)))*0.4,0)+ROUND(VALUE(TaxableIncome *IF(R2=\"NA\",0,((100-R2)/100)))*0.3,0),0),0)),IF(Case3,ROUND(VALUE(TaxableIncome *IF(R2=\"NA\",0,(R2/100)))*0.4,0)+ROUND(VALUE(TaxableIncome *IF(R2=\"NA\",0,((100-R2)/100)))*0.3,0),0)))","v":0},"GrpsB.Grp3/ GrpsB.Grp4.Case3",null,null,null,null,null,null,null,null,null,null,{"$f":"IF(PDT.Q1=\"N\",IF(PDT.Q2=\"Y\",IF(PDT.Q3=\"N\",TRUE, FALSE),FALSE),FALSE)","v":false},{"$f":"IF(OR(PDT.C2=TRUE,PDT.C5=TRUE,PDT.C7=TRUE),TRUE,FALSE)","v":false},null,null,null,null,"IS 44 AD Applicable",null,{"$f":"IF(IS_FIRM, IF(Income_44_AD>0,IF(OR(W24>0,W25>0,W26>0),FALSE,TRUE),FALSE),FALSE)","v":false},null,null,null,null,"CG INCOME"]
[null,null,null,null,null,null,null,null,null,null,null,null,null,null,{"$f":"IF(PDT.Q1=\"N\",IF(PDT.Q2=\"N\",IF(PDT.Q3=\"NA\",IF(Q4_Case1=TRUE,TRUE,FALSE),FALSE),FALSE))","v":false},null,null,null,null,null,"44 AD Income",null,{"$f":"IF(sheet11.Section44AD=\"\",0,sheet11.Section44AD) + IF(sheet11.Section44ADA=\"\",0,sheet11.Section44ADA)","v":0}]
[null,null,{"$f":"IF(GrpsB,0,IF(GrpsB.4,IF(GrpsB.3,0,IF(PDT.AOP,IF(Case4,ROUND(VALUE(TaxableIncome)*0.3,0),0),0)),IF(Case4,ROUND(VALUE(TaxableIncome)*0.3,0),0)))","v":0},"GrpsB.Grp3/ GrpsB.Grp4.Case4",null,null,null,null,null,null,null,null,null,null,{"$f":"IF(PDT.Q1=\"N\",IF(PDT.Q2=\"N\",IF(PDT.Q3=\"NA\",IF(Q4_Case2=TRUE,TRUE,FALSE),FALSE),FALSE))","v":false},null,null,null,null,null,"Surcharge",null,{"$f":"IF(ISERROR(ROUND(Income_44_AD * (Sheet9.Surcharge_ii/(MAX(1,(Sheet8b.TotalIncome-SI!H36)))),0)),0,ROUND(Income_44_AD * (Sheet9.Surcharge_ii/(MAX(1,(Sheet8b.TotalIncome-SI!H36)))),0))","v":0},null,null,null,null,"STCG 15 %","CG 15% Exemption ",{"$f":"MAX(exmp15Inc-exmp15TaxInc,0)","v":0}]
[null,null,null,null,null,null,null,null,null,null,null,null,null,null,null,null,null,null,null,null,null,null,null,null,null,null,null,"Qtr","Income given by assessee in CG schedule","Basic Exemption ","Net Fig","Cumulative Income ","Tax Rate will be depend upon the nature of Captial Gain","Total Tax"]
[null,null,{"$f":"IF(GrpsB,0,IF(GrpsB.4,IF(GrpsB.3,0,IF(PDT.AOP,IF(Case5,ROUND(VALUE(TaxableIncome)*0.4,0),0),0)),IF(Case5,ROUND(VALUE(TaxableIncome)*0.4,0),0)))","v":0},"GrpsB.Grp3/ GrpsB.Grp4.Case5",null,null,null,null,null,null,null,null,null,null,null,{"$f":"IF(GrpsB,FALSE,IF(GrpsB.3,FALSE,IF((PDT.C3=TRUE),TRUE,FALSE)))","v":false},null,null,null,null,null,null,null,null,null,null,null,"On or before 15th June",{"$f":"AccSTCG.Upto15Of6","v":0},{"$f":"AC31-AE31","v":0},{"$f":"IF(ISERROR(applyExemption(CGExmptn15Per,1,$AC$31:$AC$35)),0,applyExemption(CGExmptn15Per,1,$AC$31:$AC$35))","v":0},{"$f":"AE31","v":0},15,{"$f":"ROUND(AF31*AG31/100,0)","v":0}]
[null,null,null,null,null,null,null,null,null,null,null,null,null,null,null,null,null,null,null,null,null,null,null,null,null,null,null,"On or before 15th Sept",{"$f":"AccSTCG.Upto15Of9","v":0},{"$f":"AC32-AE32","v":0},{"$f":"IF(ISERROR(applyExemption(CGExmptn15Per,2,$AC$31:$AC$35)),0,applyExemption(CGExmptn15Per,2,$AC$31:$AC$35))","v":0},{"$f":"AE32+AF31","v":0},15,{"$f":"ROUND(AF32*AG32/100,0)","v":0}]
["Group C",null,null,null,null,null,null,null,null,null,null,null,null,null,null,null,null,null,null,null,null,null,null,null,null,null,null,"On or before 15th Dec",{"$f":"AccSTCG.Up16Of9To15Of12","v":0},{"$f":"AC33-AE33","v":0},{"$f":"IF(ISERROR(applyExemption(CGExmptn15Per,3,$AC$31:$AC$35)),0,applyExemption(CGExmptn15Per,3,$AC$31:$AC$35))","v":0},{"$f":"AE33+AF32","v":0},15,{"$f":"ROUND(AF33*AG33/100,0)","v":0}]
[250000,null,{"$f":"IF(GrpsC,0,IF(GrpsC.1,0,IF(CaseEstateOfDeceased,IF(AND(TaxableIncome>=0,TaxableIncome<=A34),0,0),0)))","v":0},"GrpsC.1",null,null,null,null,null,null,null,null,null,null,null,null,null,null,null,null,"Interest u/s 234A",null,65695,null,null,null,null,"On or before 15th Mar",{"$f":"AccSTCG.Up16Of12To15Of3","v":0},{"$f":"AC34-AE34","v":0},{"$f":"IF(ISERROR(applyExemption(CGExmptn15Per,4,$AC$31:$AC$35)),0,applyExemption(CGExmptn15Per,4,$AC$31:$AC$35))","v":0},{"$f":"AE34+AF33","v":0},15,{"$f":"ROUND(AF34*AG34/100,0)","v":0}]
[500000,null,{"$f":"IF(GrpsC,0,IF(GrpsC.1,0,IF(CaseEstateOfDeceased,IF(AND(TaxableIncome>=250001,TaxableIncome<=A35),(ROUND(VALUE(TaxableIncome-A34) * 0.05,0)),0),0)))","v":0},null,null,null,null,null,null,null,null,null,null,null,"AOP/BOI CASES","Estate of Deceased CASE",null,null,null,null,"Interest u/s 234B",null,157668,null,null,null,null,"On or before 31th Mar",{"$f":"AccSTCG.Up16Of3To31Of3","v":0},{"$f":"AC35-AE35","v":0},{"$f":"IF(ISERROR(applyExemption(CGExmptn15Per,5,$AC$31:$AC$35)),0,applyExemption(CGExmptn15Per,5,$AC$31:$AC$35))","v":0},{"$f":"AE35","v":0},15,{"$f":"ROUND(AF35*AG35/100,0)","v":0}]
[1000000,null,{"$f":"IF(GrpsC,0,IF(GrpsC.1,0,IF(CaseEstateOfDeceased,IF(AND(TaxableIncome>=500001,TaxableIncome<=A36),(ROUND(VALUE(TaxableIncome-A35) * 0.2,0))+12500,0),0)))","v":0},null,null,null,null,null,null,null,null,null,null,null,{"$f":"IF(GrpsB,FALSE,IF(GrpsB.4,IF(GrpsB.3,FALSE,IF(PDT.AOP,IF(S2=\"Y\",IF(T2=TRUE,TRUE,TRUE)),FALSE)),IF(Q2=\"NO\",IF(R2=\"NA\",IF(S2=\"Y\",IF(T2=TRUE,TRUE,TRUE))))))","v":false},{"$f":"IF(GrpsC.1,FALSE,IF(AND(('PART A - GENERAL(2)'!L15)>=99.9,'PART A - GENERAL(2)'!Q15=\"EXECUTOR\"),TRUE,FALSE))","v":false},null,null,null,null,"Interest u/s 234C",null,67244]
[1000001,null,{"$f":"IF(GrpsC,0,IF(GrpsC.1,0,IF(CaseEstateOfDeceased,IF((TaxableIncome>=A37),(ROUND(VALUE(TaxableIncome-A36)*0.3,0))+112500,0),ROUND(VALUE(TaxableIncome)*0.3,0))))","v":0},null,null,null,null,null,null,null,null,null,null,null,{"$f":"IF(GrpsB,FALSE,IF(GrpsB.4,IF(GrpsB.3,FALSE,IF(PDT.AOP,IF(S2=\"NA\",IF(T2=TRUE,TRUE,FALSE)),FALSE)),IF(Q2=\"NO\",IF(R2=\"NA\",IF(S2=\"NA\",IF(T2=TRUE,TRUE,FALSE))))))","v":false},null,null,null,null,null,"Interest u/s 234F",null,5000,null,null,null,null,"STCG 30 %"]
[null,null,null,null,null,null,null,null,null,null,null,null,null,null,{"$f":"IF(GrpsB,FALSE,IF(GrpsB.4,IF(GrpsB.3,FALSE,IF(PDT.AOP,FALSE,FALSE)),IF(Q2=\"YES\",IF(R2>0,IF(S2=\"NA\",IF(T2=TRUE,TRUE,FALSE))))))","v":false},null,null,null,{"$f":"CONCATENATE(MID(sheet9.Date,7,4),\"-\",MID(sheet9.Date,4,2),\"-\",MID(sheet9.Date,1,2))","v":"2023-03-02"},null,"Normal Income",null,null,null,null,null,null,"Qtr","Income given by assessee in CG schedule","Basic Exemption ","Net Fig","Cumulative Income ","Tax Rate will be depend upon the nature of Captial Gain","Total Tax"]
[null,null,{"$f":"IF(GrpsC,0,IF(GrpsC.2,0,ROUND(VALUE(TaxableIncome)*0.3,0)))","v":0},"GrpsC.2",null,null,null,null,null,null,null,null,null,null,{"$f":"IF(GrpsB,FALSE,IF(GrpsB.4,IF(GrpsB.3,FALSE,IF(PDT.AOP,IF(S2=\"NA\",IF(T2=FALSE,TRUE,FALSE)),FALSE)),IF(Q2=\"NO\",IF(R2=\"NA\",IF(S2=\"NA\",IF(T2=FALSE,TRUE,FALSE))))))","v":false},null,null,null,null,null,"TDS",null,{"$f":"Sheet9.TDS","v":241000},null,null,null,null,"On or before 15th June",{"$f":"AccSTCG30.Upto15Of6","v":0},null,null,{"$f":"AC39","v":0},30,{"$f":"ROUND(AF39*AG39/100,0)","v":0}]
[null,null,null,null,null,null,null,null,null,null,null,null,null,null,{"$f":"IF(GrpsB,FALSE,IF(GrpsB.4,IF(GrpsB.3,FALSE,IF(PDT.AOP,FALSE,FALSE)),IF(Q2=\"YES\",IF(R2>0,IF(S2=\"NA\",IF(T2=FALSE,TRUE,FALSE))))))","v":false},null,null,null,null,null,"TCS",null,{"$f":"Sheet9.TCS","v":0},null,null,null,null,"On or before 15th Sept",{"$f":"AccSTCG30.Upto15Of9","v":0},null,null,{"$f":"AC40+AF39","v":0},30,{"$f":"ROUND(AF40*AG40/100,0)","v":0}]
[250000,null,{"$f":"IF(GrpsC,0,IF(GrpsC.3,0,IF(AND(TaxableIncome>=0,TaxableIncome<=A41),0,0)))","v":0},"GrpsC.3",null,null,null,null,null,null,null,null,null,null,null,null,null,null,null,null,null,null,null,null,null,null,null,"On or before 15th Dec",{"$f":"ACCSTCG30.Up16Of9To15Of12","v":0},null,null,{"$f":"AC41+AF40","v":0},30,{"$f":"ROUND(AF41*AG41/100,0)","v":0}]
[500000,null,{"$f":"IF(GrpsC,0,IF(GrpsC.3,0,IF(AND(TaxableIncome>=250001,TaxableIncome<=A42),(ROUND(VALUE(TaxableIncome-A41) * 0.05,0)),0)))","v":0},null,null,null,null,null,null,null,null,null,null,null,null,null,null,null,null,null,"Date of filing",null,"02/03/2023",null,null,null,null,"On or before 15th Mar",{"$f":"ACCSTCG30.Up16Of12To15Of3","v":0},null,null,{"$f":"AC42+AF41","v":0},30,{"$f":"ROUND(AF42*AG42/100,0)","v":0}]
[1000000,null,{"$f":"IF(GrpsC,0,IF(GrpsC.3,0,IF(AND(TaxableIncome>=500001,TaxableIncome<=A43),(ROUND(VALUE(TaxableIncome-A42) * 0.2,0))+12500,0)))","v":0},null,null,null,null,null,null,null,null,null,null,null,null,null,null,null,null,null,"Date Of  interest calculation",null,{"$f":"CONCATENATE(YEAR(TODAY()),\"-\",IF(MONTH(TODAY())<10,\"0\",\"\"),MONTH(TODAY()),\"-\",IF(DAY(TODAY())<10,\"0\",\"\"),DAY(TODAY()))","v":"2023-03-02"},{"$f":"CONCATENATE(YEAR(TODAY()),\"-\",IF(MONTH(TODAY())<10,\"0\",\"\"),MONTH(TODAY()),\"-\",IF(DAY(TODAY())<10,\"0\",\"\"),DAY(TODAY()))","v":"2023-03-02"},null,null,null,"On or before 31th Mar",{"$f":"ACCSTCG30.Up16Of3To31Of3","v":0},null,null,{"$f":"AC43","v":0},30,{"$f":"ROUND(AF43*AG43/100,0)","v":0}]
[1000001,null,{"$f":"IF(GrpsC,0,IF(GrpsC.3,0,IF((TaxableIncome>=A44),(ROUND(VALUE(TaxableIncome-A43)*0.3,0))+112500,0)))","v":0},null,null,null,null,null,null,null,null,null,null,null,null,null,null,null,null,null,"Due date for filing of returns"]
[null,null,null,null,null,null,null,null,null,null,null,null,null,null,null,null,null,null,null,null,"Date of filing 234A",null,"05/05/2022",null,null,null,null,"STCG DTAA"]
["Tax on Taxable Income",null,{"$f":"SUM(C7:C44)","v":1576905},null,null,null,null,null,null,null,null,null,null,null,null,null,null,null,null,null,"Date of filing 234B",null,null,null,null,null,null,"Qtr","Income given by assessee in CG schedule","Basic Exemption ","Net Fig","Cumulative Income ","Tax from SI","Total Tax"]
[null,null,null,null,null,null,null,null,null,null,null,null,null,null,null,null,null,null,null,null,"Date of filing 234C",null,null,null,null,null,null,"On or before 15th June",{"$f":"AccSTCGDTAA.Upto15Of6","v":0},null,null,{"$f":"AC47","v":0},{"$f":"SI!J8","v":0},{"$f":"IF(ISERROR(ROUND(AG47*AF47/($AF$51+$AF$50),0)),0,ROUND(AG47*AF47/($AF$51+$AF$50),0))","v":0}]
[null,null,null,null,null,null,null,null,null,null,null,null,null,null,null,null,null,null,null,null,null,null,null,null,null,null,null,"On or before 15th Sept",{"$f":"AccSTCGDTAA.Upto15Of9","v":0},null,null,{"$f":"AC48+AF47","v":0},{"$f":"SI!J8","v":0},{"$f":"IF(ISERROR(ROUND(AG48*AF48/($AF$51+$AF$50),0)),0,ROUND(AG48*AF48/($AF$51+$AF$50),0))","v":0}]
[null,null,null,null,null,null,null,null,null,null,null,null,null,null,null,null,null,null,null,null,"Date of commencement",null,{"$f":"sheet1.DOC","v":"23/09/1970"},null,null,null,null,"On or before 15th Dec",{"$f":"ACCSTCGDTAA.Up16Of9To15Of12","v":0},null,null,{"$f":"AC49+AF48","v":0},{"$f":"SI!J8","v":0},{"$f":"IF(ISERROR(ROUND(AG49*AF49/($AF$51+$AF$50),0)),0,ROUND(AG49*AF49/($AF$51+$AF$50),0))","v":0}]
[null,null,null,null,null,null,null,null,null,null,null,null,null,null,null,null,null,null,null,null,"Year",null,{"$f":"IF(ISERROR(VALUE(MID(W49,7,4))),VALUE(2020),VALUE(MID(W49,7,4)))","v":1970},null,null,null,null,"On or before 15th Mar",{"$f":"ACCSTCGDTAA.Up16Of12To15Of3","v":0},null,null,{"$f":"AC50+AF49","v":0},{"$f":"SI!J8","v":0},{"$f":"IF(ISERROR(ROUND(AG50*AF50/($AF$51+$AF$50),0)),0,ROUND(AG50*AF50/($AF$51+$AF$50),0))","v":0}]
[null,null,null,null,null,null,null,null,null,null,null,null,null,null,null,null,null,null,null,null,"Month",null,{"$f":"IF(ISERROR(VALUE(MID(W49,4,2))),VALUE(4),VALUE(MID(W49,4,2)))","v":9},null,null,null,null,"On or before 31th Mar",{"$f":"ACCSTCGDTAA.Up16Of3To31Of3","v":0},null,null,{"$f":"AC51","v":0},{"$f":"SI!J8","v":0},{"$f":"IF(ISERROR(ROUND(AG51*AF51/($AF$51+$AF$50),0)),0,ROUND(AG51*AF51/($AF$51+$AF$50),0))","v":0}]
["REBATE ON AGRICULTURAL INCOME CALCULATION PART",null,null,null,null,null,null,null,null,null,null,null,null,null,null,null,null,null,null,null,"Day",null,{"$f":"IF(ISERROR(VALUE(MID(W49,1,2))),VALUE(1),VALUE(MID(W49,1,2)))","v":23}]
["Reference Of Tax Head",null,"Tax Head",null,null,null,null,null,null,null,null,null,null,null,null,null,null,null,null,null,null,null,null,null,null,null,null,"LTCG 10 %","CG 10% Exemption ",{"$f":"MAX(exmp10Inc-exmp10TaxInc,0)","v":0}]
["Point 15of Part B-TI",null,"Agriculture Income",{"$f":"IF(Sheet8b.NetAgricultureIncomeOrOtherIncomeForRate>0,IF(GrpsA,IF(GrpsB,AggregateIncome,IF(GrpsB.4,IF(GrpsB.3,IF(GrpsB.2,Sheet8b.NetAgricultureIncomeOrOtherIncomeForRate,AggregateIncome),IF(PDT.AOP, IF(Case2,AggregateIncome,Sheet8b.NetAgricultureIncomeOrOtherIncomeForRate),Sheet8b.NetAgricultureIncomeOrOtherIncomeForRate)),IF(Case2,AggregateIncome,Sheet8b.NetAgricultureIncomeOrOtherIncomeForRate))),Sheet8b.NetAgricultureIncomeOrOtherIncomeForRate),0)","v":0},null,{"$f":"IF(MAX(0,Sheet8b.TotalIncome-Sheet8b.IncChargeTaxSplRate111A112)> 250000,Sheet8b.NetAgricultureIncomeOrOtherIncomeForRate + 250000,0)","v":250000},null,null,null,null,null,null,null,null,null,null,null,null,null,null,null,null,null,null,null,null,null,"Qtr","Income given by assessee in CG schedule","Basic Exemption ","Net Fig","Cumulative Income ","Tax Rate will be depend upon the nature of Captial Gain","Total Tax",{"$f":"SI_Income_112A +SI_Income_112A_PTI+SI_Income_112A_115AD","v":0},0]
[null,null,null,null,null,null,null,null,null,null,null,null,null,null,null,null,null,null,null,null,null,null,null,null,null,null,null,"On or before 15th June",{"$f":"MAX(0,AccLTCG.Upto15Of6+IncD_115ACQ1+IncD_115AD1i10PQ1-LTCG10Per_Benefit_Q1)","v":0},{"$f":"AC55-AE55","v":0},{"$f":"IF(ISERROR(applyExemption(CGExmptn10Per,1,$AC$55:$AC$59)),0,applyExemption(CGExmptn10Per,1,$AC$55:$AC$59))","v":0},{"$f":"AE55","v":0},10,{"$f":"ROUND(AF55*AG55/100,0)","v":0},{"$f":"LTCG10Per_Benefit_Q12A+LTCG10Per_Benefit_Q15AD","v":0},{"$f":"MIN(AccLTCG.Upto15Of6,MIN(100000,TI2A))","v":0},{"$f":"MIN(AccLTCG.Upto15Of6-LTCG10Per_Benefit_Q12A,MIN(100000,TI5AD))","v":0}]
["Group A",null,null,null,null,null,null,null,null,null,null,null,null,null,null,null,null,null,null,null,null,null,null,null,null,null,null,"On or before 15th Sept",{"$f":"MAX(0,AccLTCG.Upto15Of9+IncD_115ACQ2+IncD_115AD1i10PQ2-LTCG10Per_Benefit_Q2)","v":0},{"$f":"AC56-AE56","v":0},{"$f":"IF(ISERROR(applyExemption(CGExmptn10Per,2,$AC$55:$AC$59)),0,applyExemption(CGExmptn10Per,2,$AC$55:$AC$59))","v":0},{"$f":"AE56+AF55","v":0},10,{"$f":"ROUND(AF56*AG56/100,0)","v":0},{"$f":"LTCG10Per_Benefit_Q22A+LTCG10Per_Benefit_Q25AD","v":0},{"$f":"MIN(AccLTCG.Upto15Of9,MIN(MAX(0,100000-LTCG10Per_Benefit_Q12A),TI2A-LTCG10Per_Benefit_Q12A))","v":0},{"$f":"MIN(AccLTCG.Upto15Of9-LTCG10Per_Benefit_Q22A,MIN(MAX(0,100000-LTCG10Per_Benefit_Q15AD),TI5AD-LTCG10Per_Benefit_Q15AD))","v":0}]
[null,null,{"$f":"IF(GrpsA,0,ROUND(VALUE(AgricultureIncome)*0.3,0))","v":0},null,null,null,null,null,null,null,null,null,null,null,null,null,null,null,null,null,null,null,null,null,null,null,null,"On or before 15th Dec",{"$f":"MAX(0,AccLTCG.Up16Of9To15Of12+IncD_115ACQ3+IncD_115AD1i10PQ3-LTCG10Per_Benefit_Q3)","v":0},{"$f":"AC57-AE57","v":0},{"$f":"IF(ISERROR(applyExemption(CGExmptn10Per,3,$AC$55:$AC$59)),0,applyExemption(CGExmptn10Per,3,$AC$55:$AC$59))","v":0},{"$f":"AE57+AF56","v":0},10,{"$f":"ROUND(AF57*AG57/100,0)","v":0},{"$f":"LTCG10Per_Benefit_Q32A+LTCG10Per_Benefit_Q35AD","v":0},{"$f":"MIN(AccLTCG.Up16Of9To15Of12,MIN(MAX(0,100000-LTCG10Per_Benefit_Q12A-LTCG10Per_Benefit_Q22A),TI2A-LTCG10Per_Benefit_Q12A-LTCG10Per_Benefit_Q22A))","v":0},{"$f":"MIN(AccLTCG.Up16Of9To15Of12,MIN(MAX(0,100000-LTCG10Per_Benefit_Q15AD-LTCG10Per_Benefit_Q25AD),TI5AD-LTCG10Per_Benefit_Q15AD-LTCG10Per_Benefit_Q25AD))","v":0}]
[null,null,null,null,null,null,null,null,null,null,null,null,null,null,null,null,null,null,null,null,null,null,null,null,null,null,null,"On or before 15th Mar",{"$f":"MAX(0,AccLTCG.Up16Of12To15Of3+IncD_115ACQ4+IncD_115AD1i10PQ4-LTCG10Per_Benefit_Q4)","v":0},{"$f":"AC58-AE58","v":0},{"$f":"IF(ISERROR(applyExemption(CGExmptn10Per,4,$AC$55:$AC$59)),0,applyExemption(CGExmptn10Per,4,$AC$55:$AC$59))","v":0},{"$f":"AE58+AF57","v":0},10,{"$f":"ROUND(AF58*AG58/100,0)","v":0},{"$f":"LTCG10Per_Benefit_Q42A+LTCG10Per_Benefit_Q45AD","v":0},{"$f":"MIN(AccLTCG.Up16Of12To15Of3,MIN(MAX(0,100000-LTCG10Per_Benefit_Q12A-LTCG10Per_Benefit_Q22A-LTCG10Per_Benefit_Q32A),TI2A-LTCG10Per_Benefit_Q12A-LTCG10Per_Benefit_Q22A-LTCG10Per_Benefit_Q32A))","v":0},{"$f":"MIN(AccLTCG.Up16Of12To15Of3,MIN(MAX(0,100000-LTCG10Per_Benefit_Q15AD-LTCG10Per_Benefit_Q25AD-LTCG10Per_Benefit_Q35AD),TI5AD-LTCG10Per_Benefit_Q15AD-LTCG10Per_Benefit_Q25AD-LTCG10Per_Benefit_Q35AD))","v":0}]
["Group B",null,null,null,null,null,null,null,null,null,null,null,null,null,null,null,null,null,null,null,null,null,null,null,null,null,null,"On or before 31th Mar",{"$f":"MAX(0,AccLTCG.Up16Of3To31Of3+IncD_115ACQ5+IncD_115AD1i10PQ5-LTCG10Per_Benefit_Q5)","v":0},{"$f":"AC59-AE59","v":0},{"$f":"IF(ISERROR(applyExemption(CGExmptn10Per,5,$AC$55:$AC$59)),0,applyExemption(CGExmptn10Per,5,$AC$55:$AC$59))","v":0},{"$f":"AE59","v":0},10,{"$f":"ROUND(AF59*AG59/100,0)","v":0},{"$f":"LTCG10Per_Benefit_Q52A+LTCG10Per_Benefit_Q55AD","v":0},{"$f":"MIN(AccLTCG.Up16Of3To31Of3,MIN(MAX(0,100000-LTCG10Per_Benefit_Q12A-LTCG10Per_Benefit_Q22A-LTCG10Per_Benefit_Q32A-LTCG10Per_Benefit_Q42A),TI2A--LTCG10Per_Benefit_Q12A--LTCG10Per_Benefit_Q22A--LTCG10Per_Benefit_Q32A--LTCG10Per_Benefit_Q42A))","v":0},{"$f":"MIN(AccLTCG.Up16Of3To31Of3,MIN(MAX(0,100000-LTCG10Per_Benefit_Q15AD-LTCG10Per_Benefit_Q25AD-LTCG10Per_Benefit_Q35AD-LTCG10Per_Benefit_Q45AD),TI5AD-LTCG10Per_Benefit_Q15AD-LTCG10Per_Benefit_Q25AD-LTCG10Per_Benefit_Q35AD-LTCG10Per_Benefit_Q45AD))","v":0}]
[10000,null,{"$f":"IF(GrpsB,0,IF(GrpsB.1,0,IF(AND(AgricultureIncome>=0,AgricultureIncome<=A60),ROUND(VALUE(AgricultureIncome)*0.1,0),0)))","v":0},"GrpsB.Grp1"]
[20000,null,{"$f":"IF(GrpsB,0,IF(GrpsB.1,0,IF(AND(AgricultureIncome>=10001,AgricultureIncome<=A61),(ROUND(VALUE(AgricultureIncome-A60) * 0.2,0))+1000,0)))","v":0},null,null,null,null,null,null,null,null,null,null,null,null,null,null,null,null,null,null,null,null,null,null,null,null,"LTCG 20 %","CG 20% Exemption ",{"$f":"MAX(exmp20Inc-exmp20TaxInc,0)","v":0}]
[20001,null,{"$f":"IF(GrpsB,0,IF(GrpsB.1,0,IF(AND(AgricultureIncome>=A62),(ROUND(VALUE(AgricultureIncome-A61) * 0.3,0))+3000,0)))","v":0},null,null,null,null,null,null,null,null,null,null,null,null,null,null,null,null,null,null,null,null,null,null,null,null,"Qtr","Income given by assessee in CG schedule","Basic Exemption ","Net Fig","Cumulative Income ","Tax Rate will be depend upon the nature of Captial Gain","Total Tax"]
[null,null,null,null,null,null,null,null,null,null,null,null,null,null,null,null,null,null,null,null,null,null,null,null,null,null,null,"On or before 15th June",{"$f":"AccLTCGNP.Upto15Of6+IncD_115A1aiQ1+IncD_115AD1iQ1","v":0},{"$f":"AC63-AE63","v":0},{"$f":"IF(ISERROR(applyExemption(CGExmptn20Per,1,$AC$63:$AC$67)),0,applyExemption(CGExmptn20Per,1,$AC$63:$AC$67))","v":0},{"$f":"AE63","v":0},20,{"$f":"ROUND(AF63*AG63/100,0)","v":0}]
[250000,null,{"$f":"IF(GrpsB,0,IF(GrpsB.2,0,IF(AND(AgricultureIncome>=0,AgricultureIncome<=A64),0,0)))","v":0},"GrpsB.Grp2",null,null,null,null,null,null,null,null,null,null,null,null,null,null,null,null,null,null,null,null,null,null,null,"On or before 15th Sept",{"$f":"AccLTCGNP.Upto15Of9+IncD_115A1aiQ2+IncD_115AD1iQ2","v":0},{"$f":"AC64-AE64","v":0},{"$f":"IF(ISERROR(applyExemption(CGExmptn20Per,2,$AC$63:$AC$67)),0,applyExemption(CGExmptn20Per,2,$AC$63:$AC$67))","v":0},{"$f":"AE64+AF63","v":0},20,{"$f":"ROUND(AF64*AG64/100,0)","v":0}]
[500000,null,{"$f":"IF(GrpsB,0,IF(GrpsB.2,0,IF(AND(AgricultureIncome>=250001,AgricultureIncome<=A65),(ROUND(VALUE(AgricultureIncome-A64) * 0.05,0)),0)))","v":0},null,null,null,null,null,null,null,null,null,null,null,null,null,null,null,null,null,null,null,null,null,null,null,null,"On or before 15th Dec",{"$f":"AccLTCGNP.Up16Of9To15Of12+IncD_115A1aiQ3+IncD_115AD1iQ3","v":0},{"$f":"AC65-AE65","v":0},{"$f":"IF(ISERROR(applyExemption(CGExmptn20Per,3,$AC$63:$AC$67)),0,applyExemption(CGExmptn20Per,3,$AC$63:$AC$67))","v":0},{"$f":"AE65+AF64","v":0},20,{"$f":"ROUND(AF65*AG65/100,0)","v":0}]
[1000000,null,{"$f":"IF(GrpsB,0,IF(GrpsB.2,0,IF(AND(AgricultureIncome>=500001,AgricultureIncome<=A66),(ROUND(VALUE(AgricultureIncome-A65) * 0.2,0))+12500,0)))","v":0},null,null,null,null,null,null,null,null,null,null,null,null,null,null,null,null,null,null,null,null,null,null,null,null,"On or before 15th Mar",{"$f":"AccLTCGNP.Up16Of12To15Of3+IncD_115A1aiQ4+IncD_115AD1iQ4","v":0},{"$f":"AC66-AE66","v":0},{"$f":"IF(ISERROR(applyExemption(CGExmptn20Per,4,$AC$63:$AC$67)),0,applyExemption(CGExmptn20Per,4,$AC$63:$AC$67))","v":0},{"$f":"AE66+AF65","v":0},20,{"$f":"ROUND(AF66*AG66/100,0)","v":0}]
[1000001,null,{"$f":"IF(GrpsB,0,IF(GrpsB.2,0,IF((AgricultureIncome>=A67),(ROUND(VALUE(AgricultureIncome-A66) * 0.3,0))+112500,0)))","v":0},null,null,null,null,null,null,null,null,null,null,null,null,null,null,null,null,null,null,null,null,null,null,null,null,"On or before 31th Mar",{"$f":"AccLTCGNP.Up16Of3To31Of3+IncD_115A1aiQ5+IncD_115AD1iQ5","v":0},{"$f":"AC67-AE67","v":0},{"$f":"IF(ISERROR(applyExemption(CGExmptn20Per,5,$AC$63:$AC$67)),0,applyExemption(CGExmptn20Per,5,$AC$63:$AC$67))","v":0},{"$f":"AE67","v":0},20,{"$f":"ROUND(AF67*AG67/100,0)","v":0}]
[]
[null,null,{"$f":"IF(GrpsB,0,IF(GrpsB.3,0,IF(PDT.MMR,ROUND(VALUE(AgricultureIncome)*0.3,0),0)))","v":0},"GrpsB.Grp3",null,null,null,null,null,null,null,null,null,null,null,null,null,null,null,null,null,null,null,null,null,null,null,"LTCG DTAA"]
[null,null,{"$f":"IF(GrpsB,0,IF(GrpsB.4,IF(GrpsB.3,0,IF(PDT.AOP,IF(Case1,ROUND(VALUE(AgricultureIncome)*0.3,0),0),0)),IF(Case1,ROUND(VALUE(AgricultureIncome)*0.3,0),0)))","v":0},"GrpsB.Grp3/ GrpsB.Grp4.Case1",null,null,null,null,null,null,null,null,null,null,null,null,null,null,null,null,null,null,null,null,null,null,null,"Qtr","Income given by assessee in CG schedule","Basic Exemption ","Net Fig","Cumulative Income ","Tax from  SI","Total Tax"]
[null,null,null,null,null,null,null,null,null,null,null,null,null,null,null,null,null,null,null,null,null,null,null,null,null,null,null,"On or before 15th June",{"$f":"AccLTCGDTAA.Upto15Of6","v":0},null,null,{"$f":"AC71","v":0},{"$f":"SI!J9","v":0},{"$f":"IF(ISERROR(ROUND(AG71*AF71/($AF$75+$AF$74),0)),0,ROUND(AG71*AF71/($AF$75+$AF$74),0))","v":0}]
[250000,null,{"$f":"IF(GrpsB,0,IF(GrpsB.4,IF(GrpsB.3,0,IF(PDT.AOP,IF(Case2,IF(AND(AgricultureIncome>=0,AgricultureIncome<=A72),0,0),0),0)),IF(Case2,IF(AND(AgricultureIncome>=0,AgricultureIncome<=A72),0,0),0)))","v":0},"GrpsB.Grp3/ GrpsB.Grp4.Case2",null,null,null,null,null,null,null,null,null,null,null,null,null,null,null,null,null,null,null,null,null,null,null,"On or before 15th Sept",{"$f":"AccLTCGDTAA.Upto15Of9","v":0},null,null,{"$f":"AC71+AC72","v":0},{"$f":"SI!J9","v":0},{"$f":"IF(ISERROR(ROUND(AG72*AF72/($AF$75+$AF$74),0)),0,ROUND(AG72*AF72/($AF$75+$AF$74),0))","v":0}]
[500000,null,{"$f":"IF(GrpsB,0,IF(GrpsB.4,IF(GrpsB.3,0,IF(PDT.AOP,IF(Case2,IF(AND(AgricultureIncome>=250001,AgricultureIncome<=A73),(ROUND(VALUE(AgricultureIncome-A72) * 0.05,0)),0),0),0)),IF(Case2,IF(AND(AgricultureIncome>=250001,AgricultureIncome<=A73),(ROUND(VALUE(AgricultureIncome-A72) * 0.05,0)),0),0)))","v":0},null,null,null,null,null,null,null,null,null,null,null,null,null,null,null,null,null,null,null,null,null,null,null,null,"On or before 15th Dec",{"$f":"ACCLTCGDTAA.Up16Of9To15Of12","v":0},null,null,{"$f":"AC71+AC72+AC73","v":0},{"$f":"SI!J9","v":0},{"$f":"IF(ISERROR(ROUND(AG73*AF73/($AF$75+$AF$74),0)),0,ROUND(AG73*AF73/($AF$75+$AF$74),0))","v":0}]
[1000000,null,{"$f":"IF(GrpsB,0,IF(GrpsB.4,IF(GrpsB.3,0,IF(PDT.AOP,IF(Case2,IF(AND(AgricultureIncome>=500001,AgricultureIncome<=A74),(ROUND(VALUE(AgricultureIncome-A73) * 0.2,0))+12500,0),0),0)),IF(Case2,IF(AND(AgricultureIncome>=500001,AgricultureIncome<=A74),(ROUND(VALUE(AgricultureIncome-A73) * 0.2,0))+12500,0),0)))","v":0},null,null,null,null,null,null,null,null,null,null,null,null,null,null,null,null,null,null,null,null,null,null,null,null,"On or before 15th Mar",{"$f":"ACCLTCGDTAA.Up16Of12To15Of3","v":0},null,null,{"$f":"AC71+AC72+AC73+AC74","v":0},{"$f":"SI!J9","v":0},{"$f":"IF(ISERROR(ROUND(AG74*AF74/($AF$75+$AF$74),0)),0,ROUND(AG74*AF74/($AF$75+$AF$74),0))","v":0}]
[1000001,null,{"$f":"IF(GrpsB,0,IF(GrpsB.4,IF(GrpsB.3,0,IF(PDT.AOP,IF(Case2,IF((AgricultureIncome>=A75),(ROUND(VALUE(AgricultureIncome-A74) * 0.3,0))+112500,0),0),0)),IF(Case2,IF((AgricultureIncome>=A75),(ROUND(VALUE(AgricultureIncome-A74) * 0.3,0))+112500,0),0)))","v":0},null,null,null,null,null,null,null,null,null,null,null,null,null,null,null,null,null,null,null,null,null,null,null,null,"On or before 31th Mar",{"$f":"ACCLTCGDTAA.Up16Of3To31Of3","v":0},null,null,{"$f":"AC75","v":0},{"$f":"SI!J9","v":0},{"$f":"IF(ISERROR(ROUND(AG75*AF75/($AF$75+$AF$74),0)),0,ROUND(AG75*AF75/($AF$75+$AF$74),0))","v":0}]
[]
[null,null,{"$f":"IF(GrpsB,0,IF(GrpsB.4,IF(GrpsB.3,0,IF(PDT.AOP,IF(Case3,ROUND(VALUE(AgricultureIncome *IF(R2=\"NA\",0,(R2/100)))*0.4,0)+ROUND(VALUE(AgricultureIncome *IF(R2=\"NA\",0,((100-R2)/100)))*0.3,0),0),0)),IF(Case3,ROUND(VALUE(AgricultureIncome *IF(R2=\"NA\",0,(R2/100)))*0.4,0)+ROUND(VALUE(AgricultureIncome *IF(R2=\"NA\",0,((100-R2)/100)))*0.3,0),0)))","v":0},"GrpsB.Grp3/ GrpsB.Grp4.Case3",null,null,null,null,null,null,null,null,null,null,null,null,null,null,null,null,null,null,null,null,null,null,null,"115BB"]
[null,null,null,null,null,null,null,null,null,null,null,null,null,null,null,null,null,null,null,null,null,null,null,null,null,null,null,"Qtr","Income given by assessee in CG schedule","Basic Exemption ","Net Fig","Cumulative Income ","Tax from  SI","Total Tax"]
[null,null,{"$f":"IF(GrpsB,0,IF(GrpsB.4,IF(GrpsB.3,0,IF(PDT.AOP,IF(Case4,ROUND(VALUE(AgricultureIncome)*0.3,0),0),0)),IF(Case4,ROUND(VALUE(AgricultureIncome)*0.3,0),0)))","v":0},"GrpsB.Grp3/ GrpsB.Grp4.Case4",null,null,null,null,null,null,null,null,null,null,null,null,null,null,null,null,null,null,null,null,null,null,null,"On or before 15th June",{"$f":"OS30_Upto15Of6","v":0},null,null,{"$f":"AC79","v":0},30,{"$f":"ROUND(AF79*AG79/100,0)","v":0}]
[null,null,null,null,null,null,null,null,null,null,null,null,null,null,null,null,null,null,null,null,null,null,null,null,null,null,null,"On or before 15th Sept",{"$f":"OS30_Up16Of6To15Of9","v":0},null,null,{"$f":"AC79+AC80","v":0},30,{"$f":"ROUND(AF80*AG80/100,0)","v":0}]
[null,null,{"$f":"IF(GrpsB,0,IF(GrpsB.4,IF(GrpsB.3,0,IF(PDT.AOP,IF(Case5,ROUND(VALUE(AgricultureIncome)*0.4,0),0),0)),IF(Case5,ROUND(VALUE(AgricultureIncome)*0.4,0),0)))","v":0},"GrpsB.Grp3/ GrpsB.Grp4.Case5",null,null,null,null,null,null,null,null,null,null,null,null,null,null,null,null,null,null,null,null,null,null,null,"On or before 15th Dec",{"$f":"OS30_Up16Of9To15Of12","v":0},null,null,{"$f":"AC79+AC80+AC81","v":0},30,{"$f":"ROUND(AF81*AG81/100,0)","v":0}]
[null,null,null,null,null,null,null,null,null,null,null,null,null,null,null,null,null,null,null,null,null,null,null,null,null,null,null,"On or before 15th Mar",{"$f":"OS30_Up16Of12To15Of3","v":0},null,null,{"$f":"AC79+AC80+AC81+AC82","v":0},30,{"$f":"ROUND(AF82*AG82/100,0)","v":0}]
["Group C",null,null,null,null,null,null,null,null,null,null,null,null,null,null,null,null,null,null,null,null,null,null,null,null,null,null,"On or before 31th Mar",{"$f":"OS30_Up16Of3To31Of3","v":0},null,null,{"$f":"AC83","v":0},30,{"$f":"ROUND(AF83*AG83/100,0)","v":0}]
[250000,null,{"$f":"IF(GrpsC,0,IF(GrpsC.1,0,IF(CaseEstateOfDeceased,IF(AND(AgricultureIncome>=0,AgricultureIncome<=A84),0,0),0)))","v":0},"GrpsC.1"]
[500000,null,{"$f":"IF(GrpsC,0,IF(GrpsC.1,0,IF(CaseEstateOfDeceased,IF(AND(AgricultureIncome>=250001,AgricultureIncome<=A85),(ROUND(VALUE(AgricultureIncome-A84) * 0.05,0)),0),0)))","v":0},null,null,null,null,null,null,null,null,null,null,null,null,null,null,null,null,null,null,null,null,null,null,null,null,"115 BBDA"]
[1000000,null,{"$f":"IF(GrpsC,0,IF(GrpsC.1,0,IF(CaseEstateOfDeceased,IF(AND(AgricultureIncome>=500001,AgricultureIncome<=A86),(ROUND(VALUE(AgricultureIncome-A85) * 0.2,0))+12500,0),0)))","v":0},null,null,null,null,null,null,null,null,null,null,null,null,null,null,null,null,null,null,null,null,null,null,null,null,"Qtr","Income given by assessee in CG schedule","Basic Exemption ","Net Fig","Cumulative Income ","Tax from  SI","Total Tax"]
[1000001,null,{"$f":"IF(GrpsC,0,IF(GrpsC.1,0,IF(CaseEstateOfDeceased,IF((AgricultureIncome>=A87),(ROUND(VALUE(AgricultureIncome-A86)*0.3,0))+112500,0),ROUND(VALUE(AgricultureIncome)*0.3,0))))","v":0},null,null,null,null,null,null,null,null,null,null,null,null,null,null,null,null,null,null,null,null,null,null,null,null,"On or before 15th June",0,null,null,{"$f":"AC87","v":0},10,{"$f":"ROUND(AF87*AG87/100,0)","v":0}]
[null,null,null,null,null,null,null,null,null,null,null,null,null,null,null,null,null,null,null,null,null,null,null,null,null,null,null,"On or before 15th Sept",0,null,null,{"$f":"AC87+AC88","v":0},10,{"$f":"ROUND(AF88*AG88/100,0)","v":0}]
[null,null,{"$f":"IF(GrpsC,0,IF(GrpsC.2,0,ROUND(VALUE(AgricultureIncome)*0.3,0)))","v":0},"GrpsC.2",null,null,null,null,null,null,null,null,null,null,null,null,null,null,null,null,null,null,null,null,null,null,null,"On or before 15th Dec",0,null,null,{"$f":"AC87+AC88+AC89","v":0},10,{"$f":"ROUND(AF89*AG89/100,0)","v":0}]
[null,null,null,null,null,null,null,null,null,null,null,null,null,null,null,null,null,null,null,null,null,null,null,null,null,null,null,"On or before 15th Mar",0,null,null,{"$f":"AC87+AC88+AC89+AC90","v":0},10,{"$f":"ROUND(AF90*AG90/100,0)","v":0}]
[250000,null,{"$f":"IF(GrpsC,0,IF(GrpsC.3,0,IF(AND(AgricultureIncome>=0,AgricultureIncome<=A91),0,0)))","v":0},"GrpsC.3",null,null,null,null,null,null,null,null,null,null,null,null,null,null,null,null,null,null,null,null,null,null,null,"On or before 31th Mar",0,null,null,{"$f":"AC91","v":0},10,{"$f":"ROUND(AF91*AG91/100,0)","v":0}]
[500000,null,{"$f":"IF(GrpsC,0,IF(GrpsC.3,0,IF(AND(AgricultureIncome>=250001,AgricultureIncome<=A92),(ROUND(VALUE(AgricultureIncome-A91)*0.05,0)),0)))","v":0}]
[1000000,null,{"$f":"IF(GrpsC,0,IF(GrpsC.3,0,IF(AND(AgricultureIncome>=500001,AgricultureIncome<=A93),(ROUND(VALUE(AgricultureIncome-A92) * 0.2,0))+12500,0)))","v":0},null,null,null,null,null,null,null,null,null,null,null,null,null,null,null,null,null,null,null,null,null,null,null,null,"115 BBF, 115 BBG and 115B"]
[1000001,null,{"$f":"IF(GrpsC,0,IF(GrpsC.3,0,IF((AgricultureIncome>=A94),(ROUND(VALUE(AgricultureIncome-A93) * 0.3,0))+112500,0)))","v":0},null,null,null,null,null,null,null,null,null,null,null,null,null,null,null,null,null,null,null,null,null,null,null,null,"Qtr","Income given by assessee in CG schedule","Basic Exemption ","Net Fig","Cumulative Income ","Tax from  SI","Total Tax"]
[null,null,null,null,null,null,null,null,null,null,null,null,null,null,null,null,null,null,null,null,null,null,null,null,null,null,null,"On or before 15th June",{"$f":"IF(Z16,$W$18,0)","v":0},null,null,{"$f":"AC95","v":0},{"$f":"IF(Z16,$W$19,0)","v":0},{"$f":"AG95","v":0}]
["Rebate On Agricultural Income",null,{"$f":"SUM(C57:C94)","v":0},null,null,null,null,null,null,null,null,null,null,null,null,null,null,null,null,null,null,null,null,null,null,null,null,"On or before 15th Sept",{"$f":"IF(Z17,$W$18,0)","v":0},null,null,{"$f":"AC95+AC96","v":0},{"$f":"IF(Z17,$W$19,0)","v":0},{"$f":"AH95+AG96","v":0}]
[null,null,null,null,null,null,null,null,null,null,null,null,null,null,null,null,null,null,null,null,null,null,null,null,null,null,null,"On or before 15th Dec",{"$f":"IF(Z18,$W$18,0)","v":0},null,null,{"$f":"AC95+AC96+AC97","v":0},{"$f":"IF(Z18,$W$19,0)","v":0},{"$f":"AH96+AG97","v":0}]
[null,null,null,null,null,null,null,null,null,null,null,null,null,null,null,null,null,null,null,null,null,null,null,null,null,null,null,"On or before 15th Mar",{"$f":"IF(Z19,$W$18,0)","v":0},null,null,{"$f":"AC95+AC96+AC97+AC98","v":0},{"$f":"IF(Z19,$W$19,0)","v":0},{"$f":"AH97+AG98","v":0}]
[null,null,null,null,null,null,null,null,null,null,null,null,null,null,null,null,null,null,null,null,null,null,null,null,null,null,null,"On or before 31th Mar",{"$f":"IF(Z20,$W$18,0)","v":0},null,null,{"$f":"AC99","v":0},{"$f":"IF(Z20,$W$19,0)","v":0},{"$f":"AG99","v":0}]
[null,null,">1 Crore",null,null,null,null,null,null,null,null,null,null,null,null,null,null,null,null,null,null,null,null,null,null,null,null,null,null,null,null,null,null,null,null,"Tax on 115BBE",{"$f":"SI_115BBE","v":0},"Surcharge 115BBE",{"$f":"Sheet9.Surcharge_i","v":0},"SurCharge 44AD",{"$f":"IF(Is_44_AD_Applicable,MIN(busipofincl.IncOfCurYrAfterSetOffBFLosses2,Surcharge_44AD),0)","v":0}]
["SURCHARGE CALCULATION PART",null,{"$f":"IF(MID(sheet1.ForeignExchangeFlag,1,1)=\"Y\",0.09,0.185)","v":0.185},"9 & 18.5% CHECK",null,null,">50 Lakh",null,null,null,"> 2 Crore",null,null,null,"> 5 Crore",null,null,null,null,null,null,null,null,null,null,null,null,null,null,null,null,null,null,null,null,"Tax on Other",{"$f":"IF(MAX(0,sheet9.TaxPayableOnTotInc-AO101-AK100)=0,1,sheet9.TaxPayableOnTotInc-AO101-AK100)","v":1576905},"Surcharge Normal",{"$f":"Sheet9.Surcharge_ii","v":0},"Tax on 44 AD",{"$f":"IF(Is_44_AD_Applicable,MAX(0,(MIN(busipofincl.IncOfCurYrAfterSetOffBFLosses2,Income_44_AD)*0.3),0),0)","v":0}]
[null,null,{"$f":"IF(ISNA(MATCH(MID(sheet1.MainStatus,1,1),{\"1\",\"2\",\"3\"},0)),0.15,IF(GrpsB,0.12,IF(GrpsB.1,0.15,0.12)))","v":0.12},"Surcharge Rate(AMT)",null,null,{"$f":"IF(ISNA(MATCH(MID(sheet1.MainStatus,1,1),{\"1\",\"2\",\"3\"},0)),0.1,IF(GrpsB,0,IF(GrpsB.1,0.1,0)))","v":0},"Surcharge Rate(AMT)",null,null,{"$f":"IF(ISNA(MATCH(MID(sheet1.MainStatus,1,1),{\"1\",\"2\",\"3\"},0)),0.25,IF(GrpsB,0.12,IF(GrpsB.1,0.25,0.12)))","v":0.12},"Surcharge Rate(AMT)",null,null,{"$f":"IF(ISNA(MATCH(MID(sheet1.MainStatus,1,1),{\"1\",\"2\",\"3\"},0)),0.37,IF(GrpsB,0.12,IF(GrpsB.1,0.37,0.12)))","v":0.12},"Surcharge Rate(AMT)",null,null,null,null,null,null,null,null,null,null,null,"Calculation of Interest u/s 234C",null,null,null,null,null,null,null,null,null,null,null,"Tax on Other",{"$f":"IF(MAX(0,sheet9.TaxPayableOnTotInc-SI_115BBE-AO101)=0,1,MAX(0,sheet9.TaxPayableOnTotInc-SI_115BBE-AO101))","v":1576905}]
["Surcharge on AMT Income",null,{"$f":"AMT.AdjustedUnderSec115JC","v":5256350},"Total Income",null,null,null,null,null,null,null,null,null,null,null,null,null,null,null,null,null,null,null,null,null,null,null,"Qtr","Tax on Normal Income","Tax on OS 10%","Tax on OS 30%","Tax SI","Tax on STCG 15%","Tax on STCG 30%","Tax on STCG DTAA","Tax on LTCG 10%","Tax on LTCG 20%","Tax on LTCG DTAA","Tax on 115 BBF, 115 BBG and 115BB","Total Tax","Total Income after Rebate, if applicable (u/s87E)","Surchage","Education Cess","Total Tax Liability","Final Fig Post TDS/TCS, Relief,MATC Deduction","Tax Income Breakup Quaterly","12 & 36 % for 1,2 Qtr in Case of Company","Advance Tax Quaterly","Amount on which interest is payable","Net Interest"]
["Tax Payable on deemed total Income under section 115JC ",null,{"$f":"ROUND(sheet9.TaxDeemedTISec115JC,0)","v":0},"Tax",null,null,null,null,null,null,null,null,null,null,null,null,null,null,null,null,null,null,null,null,null,null,null,"On or before 15th June",{"$f":"AO16","v":1576905},{"$f":"AH87","v":0},{"$f":"AH79","v":0},{"$f":"$AD$25","v":0},{"$f":"AH31","v":0},{"$f":"AH39","v":0},{"$f":"AH47+AH113","v":0},{"$f":"AH55","v":0},{"$f":"AH63","v":0},{"$f":"AH71","v":0},{"$f":"AH95","v":0},{"$f":"SUM(AC104:AM104)","v":1576905},{"$f":"MAX(AN104,0)","v":1576905},{"$f":"MAX($AM$101-$AO$100,0)/$AO$102*(MAX(0,AO104-SI_115BBE))+$AM$100","v":0},{"$f":"(AO104+AP104)*0.04","v":63076.200000000004},{"$f":"AO104+AP104+AQ104","v":1639981.2},{"$f":"MAX(AR104-(Tax.TDS+Tax.TCS+sheet9.CreditUS115JD+Sheet9.TotTaxRelief),0)","v":1398981.2},{"$f":"FLOOR(0.15*AS104,100)","v":209800},{"$f":"FLOOR(0.12*AS104,100)","v":167800},{"$f":"IT.Qtr1","v":0},{"$f":"IF(AV104>=AU104,0,MAX(0,FLOOR(MAX(0,AT104-AV104),100)))","v":209800},{"$f":"ROUNDDOWN(AW104,-2) *0.01*3","v":6294},{"$f":"ROUNDDOWN(AW104,-2) *(IT.Q1Rate/100)*3","v":6294}]
[null,null,null,null,null,null,null,null,null,null,null,null,null,null,null,null,null,null,null,null,null,null,null,null,null,null,null,"On or before 15th Sept",{"$f":"AO17","v":1576905},{"$f":"AH88","v":0},{"$f":"AH80","v":0},{"$f":"$AD$25","v":0},{"$f":"AH32","v":0},{"$f":"AH40","v":0},{"$f":"AH48+AH114","v":0},{"$f":"AH56","v":0},{"$f":"AH64","v":0},{"$f":"AH72","v":0},{"$f":"AH96","v":0},{"$f":"SUM(AC105:AM105)","v":1576905},{"$f":"MAX(AN105,0)","v":1576905},{"$f":"MAX($AM$101-$AO$100,0)/$AO$102*(MAX(0,AO105-SI_115BBE))+$AM$100","v":0},{"$f":"(AO105+AP105)*0.04","v":63076.200000000004},{"$f":"AO105+AP105+AQ105","v":1639981.2},{"$f":"MAX(AR105-(Tax.TDS+Tax.TCS+sheet9.CreditUS115JD+Sheet9.TotTaxRelief),0)","v":1398981.2},{"$f":"FLOOR(0.45*AS105,100)","v":629500},{"$f":"FLOOR(0.36*AS105,100)","v":503600},{"$f":"IT.Qtr1+IT.Qtr2","v":0},{"$f":"IF(AV105>=AU105,0,MAX(0,FLOOR(MAX(0,AT105-AV105),100)))","v":629500},{"$f":"ROUNDDOWN(AW105,-2) *0.01*3","v":18885}]
["Surcharge on Such Income",null,{"$f":"IF(C103>10000000,ROUND(C104*SurchargeRate_AMT,0),0)","v":0},null,null,null,"Surcharge on Such Income",null,{"$f":"IF(C103>5000000,ROUND(C104*SurchargeRate_AMT2,0),0)","v":0},null,"Surcharge on Such Income",null,{"$f":"IF(C103>20000000,ROUND(C104*SurchargeRate_AMT3,0),0)","v":0},null,"Surcharge on Such Income",null,{"$f":"IF(C103>50000000,ROUND(C104*SurchargeRate_AMT4,0),0)","v":0},null,null,null,null,null,null,null,null,null,null,"On or before 15th Dec",{"$f":"AO18","v":1576905},{"$f":"AH89","v":0},{"$f":"AH81","v":0},{"$f":"$AD$25","v":0},{"$f":"AH33","v":0},{"$f":"AH41","v":0},{"$f":"AH49+AH115","v":0},{"$f":"AH57","v":0},{"$f":"AH65","v":0},{"$f":"AH73","v":0},{"$f":"AH97","v":0},{"$f":"SUM(AC106:AM106)","v":1576905},{"$f":"MAX(AN106,0)","v":1576905},{"$f":"MAX($AM$101-$AO$100,0)/$AO$102*(MAX(0,AO106-SI_115BBE))+$AM$100","v":0},{"$f":"(AO106+AP106)*0.04","v":63076.200000000004},{"$f":"AO106+AP106+AQ106","v":1639981.2},{"$f":"MAX(AR106-(Tax.TDS+Tax.TCS+sheet9.CreditUS115JD+Sheet9.TotTaxRelief),0)","v":1398981.2},{"$f":"FLOOR(0.75*AS106,100)","v":1049200},null,{"$f":"IT.Qtr1+IT.Qtr2+IT.Qtr3","v":85000},{"$f":"MAX(0,FLOOR(MAX(0,AT106-AV106),100))","v":964200},{"$f":"ROUNDDOWN(AW106,-2) *0.01*3","v":28926}]
["Total1",null,{"$f":"C104+C106","v":0},null,null,null,"Total1",null,{"$f":"C104+I106","v":0},null,"Total1",null,{"$f":"C104+M106","v":0},null,"Total1",null,{"$f":"C104+Q106","v":0},null,null,null,null,null,null,null,null,null,null,"On or before 15th Mar",{"$f":"AO19","v":1576905},{"$f":"AH90","v":0},{"$f":"AH82","v":0},{"$f":"$AD$25","v":0},{"$f":"AH34","v":0},{"$f":"AH42","v":0},{"$f":"AH50+AH116","v":0},{"$f":"AH58","v":0},{"$f":"AH66","v":0},{"$f":"AH74","v":0},{"$f":"AH98","v":0},{"$f":"SUM(AC107:AM107)","v":1576905},{"$f":"MAX(AN107,0)","v":1576905},{"$f":"MAX(0,(AM100+AM101)-AP108)","v":0},{"$f":"(AO107+AP107)*0.04","v":63076.200000000004},{"$f":"AO107+AP107+AQ107","v":1639981.2},{"$f":"MAX(AR107-(Tax.TDS+Tax.TCS+sheet9.CreditUS115JD+Sheet9.TotTaxRelief),0)","v":1398981.2},{"$f":"FLOOR(1*AS107,100)","v":1398900},null,{"$f":"IT.Qtr1+IT.Qtr2+IT.Qtr3+IT.Qtr4","v":85000},{"$f":"MAX(0,FLOOR(MAX(0,AT107-AV107),100))","v":1313900},{"$f":"ROUNDDOWN(AW107,-2) *0.01*1","v":13139}]
["Income Exceeding 1 Crore",null,{"$f":"IF(C103>10000000,MAX(C103-10000000,0),0)","v":0},null,null,null,"Income Exceeding 50 lakhs",null,{"$f":"IF(C103>5000000,MAX(C103-5000000,0),0)","v":256350},null,"Income Exceeding 2 Crores",null,{"$f":"IF(C103>20000000,MAX(C103-20000000,0),0)","v":0},null,"Income Exceeding 5 Crores",null,{"$f":"IF(C103>50000000,MAX(C103-50000000,0),0)","v":0},null,null,null,null,null,null,null,null,null,null,"On or before 31th Mar",{"$f":"AO20","v":0},{"$f":"AH91","v":0},{"$f":"AH83","v":0},0,{"$f":"AH35","v":0},{"$f":"AH43","v":0},{"$f":"AH51+AH117","v":0},{"$f":"AH59","v":0},{"$f":"AH67","v":0},{"$f":"AH75","v":0},{"$f":"AH99","v":0},{"$f":"SUM(AC108:AM108)","v":0},{"$f":"MAX(AN108,0)","v":0},{"$f":"MAX($AM$101-$AO$100,0)/$AO$102*(MAX(0,AO108))","v":0},{"$f":"(AO108+AP108)*0.04","v":0},{"$f":"AO108+AP108+AQ108","v":0},{"$f":"MAX(0,AR108-(MAX(0, (Tax.TDS+Tax.TCS+sheet9.CreditUS115JD+Sheet9.TotTaxRelief)-AR107)))","v":0},{"$f":"FLOOR(1*AS108,100)","v":0},null,{"$f":"IT.Qtr5","v":0},{"$f":"MAX(0,FLOOR(MAX(0,AT108-AV108-MAX(0,AV107-AT107)),100))","v":0},{"$f":"ROUNDDOWN(AW108,-2) *0.01*1","v":0}]
["Tax on 1 Crore",null,{"$f":"IF(C103>10000000,ROUND(AMT.BTax_1cr,0),0)","v":0},null,null,null,"Tax on 50 lakhs",null,{"$f":"IF(C103>5000000,ROUND(AMT.BTax_50L,0),0)","v":0},null,"Tax on 2 Crores",null,{"$f":"IF(C103>20000000,ROUND(AMT.BTax_2cr,0),0)","v":0},null,"Tax on 5 Crores",null,{"$f":"IF(C103>50000000,ROUND(AMT.BTax_5cr,0),0)","v":0},null,null,null,null,null,null,null,null,null,null,null,null,null,null,null,null,null,null,null,null,null,null,null,null,null,null,null,null,null,null,null,null,{"$f":"MAX(interest234C_MATC,SUM(AX104:AX108))","v":67244}]
["Total2(Including 10% Surcharge on Tax on 1 crore)",null,{"$f":"C108+C109+(SurchargeRate_AMT2*C109)","v":0},null,null,null,"Total2",null,{"$f":"I108+I109","v":256350},null,"Total2",null,{"$f":"M108+M109+(SurchargeRate_AMT*M109)","v":0},null,"Total2",null,{"$f":"Q108+Q109+(SurchargeRate_AMT3*Q109)","v":0}]
["Marginal Relief",null,{"$f":"IF(C103>10000000,IF((C107-C110)>0,(C107-C110),0),0)","v":0},null,null,null,"Marginal Relief",null,{"$f":"IF(C103>5000000,IF((I107-I110)>0,(I107-I110),0),0)","v":0},null,"Marginal Relief",null,{"$f":"IF(C103>20000000,IF((M107-M110)>0,(M107-M110),0),0)","v":0},null,"Marginal Relief",null,{"$f":"IF(C103>50000000,IF((Q107-Q110)>0,(Q107-Q110),0),0)","v":0},null,null,null,null,null,null,null,null,null,null,"OS DTAA"]
["Surcharge After Marginal Relief",null,{"$f":"IF(C103>10000000,IF(C111<=0,ROUND(C104*SurchargeRate_AMT,0),MAX(C106-C111,0)),0)","v":0},null,null,null,"Surcharge After Marginal Relief",null,{"$f":"IF(C103>5000000,IF(I111<=0,ROUND(C104*SurchargeRate_AMT2,0),MAX(I106-I111,0)),0)","v":0},null,"Surcharge After Marginal Relief",null,{"$f":"IF(C103>20000000,IF(M111<=0,ROUND(C104*SurchargeRate_AMT3,0),MAX(M106-M111,0)),0)","v":0},null,"Surcharge After Marginal Relief",null,{"$f":"IF(C103>50000000,IF(Q111<=0,ROUND(C104*SurchargeRate_AMT4,0),MAX(Q106-Q111,0)),0)","v":0},null,null,null,null,null,null,null,null,null,null,"Qtr","Income given by assessee in CG schedule","Basic Exemption ","Net Fig","Cumulative Income ","Tax from SI","Total Tax"]
[null,null,null,null,null,null,null,null,null,null,null,null,null,null,null,null,null,null,null,null,null,null,null,null,null,null,null,"On or before 15th June",{"$f":"OSDTAA_Upto15Of6","v":0},null,null,{"$f":"AC113","v":0},{"$f":"SI!J7","v":0},{"$f":"IF(ISERROR(ROUND(AG113*AF113/($AF$117+$AF$116),0)),0,ROUND(AG113*AF113/($AF$117+$AF$116),0))","v":0}]
[null,null,null,"Final AMT Surcharge",{"$f":"ROUND(IF(C103>50000000,Q112,IF(C103>20000000,M112,IF(C103>10000000,C112,I112))),0)","v":0},null,null,null,null,null,null,null,null,null,null,null,null,null,null,null,null,null,null,null,null,null,null,"On or before 15th Sept",{"$f":"OSDTAA_Up16Of6To15Of9","v":0},null,null,{"$f":"AC114+AF113","v":0},{"$f":"SI!J7","v":0},{"$f":"IF(ISERROR(ROUND(AG114*AF114/($AF$117+$AF$116),0)),0,ROUND(AG114*AF114/($AF$117+$AF$116),0))","v":0}]
["Normal Surcharge",null,null,null,null,null,null,null,null,null,null,null,null,null,null,null,null,null,null,null,null,null,null,null,null,null,null,"On or before 15th Dec",{"$f":"OSDTAA_Up16Of9To15Of12","v":0},null,null,{"$f":"AC115+AF114","v":0},{"$f":"SI!J7","v":0},0]
["Reference Of Tax Head",null,null,null,null,null,null,null,null,null,null,null,null,null,null,null,null,null,null,null,null,null,null,null,null,null,null,"On or before 15th Mar",{"$f":"OSDTAA_Up16Of12To15Of3","v":0},null,null,{"$f":"AC116+AF115","v":0},{"$f":"SI!J7","v":0},0]
[null,null,null,null,null,null,null,null,null,null,null,null,null,null,null,null,null,null,null,null,null,null,null,null,null,null,null,"On or before 31th Mar",{"$f":"OSDTAA_Up16Of3To31Of3","v":0},null,null,{"$f":"AC117","v":0},{"$f":"SI!J7","v":0},0]
["Total Income",null,{"$f":"Sheet8b.TotalIncome","v":5256350}]
["Tax on Income"]
["Surcharge Interest Rate",null,{"$f":"IF(TotalIncome>10000000,0.15,IF(TotalIncome>5000000,0.1,0))","v":0.1}]
["Normal Income",null,{"$f":"TotalIncome-Sheet8b.IncChargeTaxSplRate111A112","v":5256350}]
[]
[]
["Group A"]
[null,0.3,{"$f":"IF(GrpsA,0,NormalIncome)","v":5256350},null,null,"GrpB"]
[null,null,null,null,null,{"$f":"MAX(IF(NormalIncome>1000000,250000,IF(AND(NormalIncome>0,NormalIncome<=250000),NormalIncome,IF(NormalIncome>250000,250000,0))),0)","v":250000},0,{"$f":"MAX(IF(NormalIncome>20000,10000,IF(AND(NormalIncome>0,NormalIncome<=10000),NormalIncome,IF(NormalIncome>10000,10000,0))),0)","v":10000},0.1]
["Group B",null,null,null,null,{"$f":"MAX(IF(NormalIncome>1000000,250000,IF(AND((NormalIncome-250000)>=250001,(NormalIncome-250000)<=500000),MIN(NormalIncome-F126,250000), IF((NormalIncome-250000)>500000, 250000,NormalIncome-250000))),0)","v":250000},0.05,{"$f":"MAX(IF(NormalIncome>20000,10000,IF(AND(NormalIncome>=10001,NormalIncome<=20000),NormalIncome-H126,0)),0)","v":10000},0.2]
[10000,0.1,{"$f":"IF(GrpsB,0,IF(GrpsB.1,0,MAX(IF(NormalIncome>20000,10000,IF(AND(NormalIncome>0,NormalIncome<=10000),NormalIncome,IF(NormalIncome>10000,10000,0))),0)))","v":0},"GrpsB.Grp1",null,{"$f":"MAX(IF(NormalIncome>1000000,500000,IF(AND(NormalIncome>=500001,NormalIncome<=1000000),MIN(NormalIncome-(F126+F127),500000),0)),0)","v":500000},0.2,{"$f":"MAX(IF(NormalIncome>20000,NormalIncome-(H126+H127),0),0)","v":5236350},0.3]
[20000,0.2,{"$f":"IF(GrpsB,0,IF(GrpsB.1,0,MAX(IF(NormalIncome>20000,10000,IF(AND(NormalIncome>=10001,NormalIncome<=20000),NormalIncome-H126,0)),0)))","v":0},null,null,{"$f":"MAX(IF(NormalIncome>1000000,NormalIncome-(F126+F127+F128),0),0)","v":4256350},0.3]
[20001,0.3,{"$f":"IF(GrpsB,0,IF(GrpsB.1,0,MAX(IF(NormalIncome>20000,NormalIncome-(H126+H127),0),0)))","v":0}]
[]
[250000,0,{"$f":"IF(GrpsB,0,IF(GrpsB.2,0,MAX(IF(NormalIncome>1000000,250000,IF(AND(NormalIncome>0,NormalIncome<=250000),NormalIncome,IF(NormalIncome>250000,250000,0))),0)))","v":0},"GrpsB.Grp2"]
[500000,0.05,{"$f":"IF(GrpsB,0,IF(GrpsB.2,0,MAX(IF(NormalIncome>1000000,250000,IF(AND((NormalIncome-250000)>=250001,(NormalIncome-250000)<=500000),MIN(NormalIncome-F126,250000), IF((NormalIncome-250000)>500000, 250000,NormalIncome-250000))),0)))","v":0}]
[1000000,0.2,{"$f":"IF(GrpsB,0,IF(GrpsB.2,0,MAX(IF(NormalIncome>1000000,500000,IF(AND(NormalIncome>=500001,NormalIncome<=1000000),MIN(NormalIncome-(F126+F127),500000),0)),0)))","v":0}]
[1000001,0.3,{"$f":"IF(GrpsB,0,IF(GrpsB.2,0,MAX(IF(NormalIncome>1000000,NormalIncome-(F126+F127+F128),0),0)))","v":0}]
[]
[null,0.3,{"$f":"IF(GrpsB,0,IF(GrpsB.3,0,IF(PDT.MMR,NormalIncome,0)))","v":0},"GrpsB.Grp3"]
[null,0.3,{"$f":"IF(GrpsB,0,IF(GrpsB.4,IF(GrpsB.3,0,IF(PDT.AOP,IF(Case1,NormalIncome,0),0)),IF(Case1,NormalIncome,0)))","v":0},"GrpsB.Grp3/ GrpsB.Grp4.Case1"]
[]
[250000,0,{"$f":"IF(GrpsB,0,IF(GrpsB.3,IF(GrpsB.4,0,IF(Case2,MAX(IF(NormalIncome>1000000,250000,IF(AND(NormalIncome>0,NormalIncome<=250000),NormalIncome,IF(NormalIncome>250000,250000,0))),0),0)),IF(Case2,MAX(IF(NormalIncome>1000000,250000,IF(AND(NormalIncome>0,NormalIncome<=250000),NormalIncome,IF(NormalIncome>250000,250000,0))),0),0)))","v":0},"GrpsB.Grp3/ GrpsB.Grp4.Case2"]
[500000,0.05,{"$f":"IF(GrpsB,0,IF(GrpsB.3,IF(GrpsB.4,0,IF(Case2,MAX(IF(NormalIncome>1000000,250000,IF(AND((NormalIncome-250000)>=250001,(NormalIncome-250000)<=500000),MIN(NormalIncome-F126,250000), IF((NormalIncome-250000)>500000, 250000,NormalIncome-250000))),0),0)),IF(Case2,MAX(IF(NormalIncome>1000000,250000,IF(AND((NormalIncome-250000)>=250001,(NormalIncome-250000)<=500000),MIN(NormalIncome-F126,250000), IF((NormalIncome-250000)>500000, 250000,NormalIncome-250000))),0),0)))","v":0}]
[1000000,0.2,{"$f":"IF(GrpsB,0,IF(GrpsB.3,IF(GrpsB.4,0,IF(Case2,MAX(IF(NormalIncome>1000000,500000,IF(AND(NormalIncome>=500001,NormalIncome<=1000000),MIN(NormalIncome-(F126+F127),500000),0)),0),0)),IF(Case2,MAX(IF(NormalIncome>1000000,500000,IF(AND(NormalIncome>=500001,NormalIncome<=1000000),MIN(NormalIncome-(F126+F127),500000),0)),0),0)))","v":0}]
[1000001,0.3,{"$f":"IF(GrpsB,0,IF(GrpsB.3,IF(GrpsB.4,0,IF(Case2,MAX(IF(NormalIncome>1000000,NormalIncome-(F126+F127+F128),0),0),0)),IF(Case2,MAX(IF(NormalIncome>1000000,NormalIncome-(F126+F127+F128),0),0),0)))","v":0}]
[]
[null,0.3,{"$f":"IF(GrpsB,0,IF(GrpsB.4,IF(GrpsB.3,0,IF(PDT.AOP,IF(Case3,ROUND(VALUE(NormalIncome*G146),0),0),0)),IF(Case3,ROUND(VALUE(NormalIncome*G146),0),0)))","v":0},"GrpsB.Grp3/ GrpsB.Grp4.Case3",null,{"$f":"PMInfo.PercentageOfShareForeignComp","v":0},{"$f":"MIN(100,F145)/100","v":0},"Foreign"]
[null,0.4,{"$f":"IF(GrpsB,0,IF(GrpsB.4,IF(GrpsB.3,0,IF(PDT.AOP,IF(Case3,ROUND(VALUE(NormalIncome*G145),0),0),0)),IF(Case3,ROUND(VALUE(NormalIncome*G145),0),0)))","v":0},null,null,null,{"$f":"MAX(0,100-F145)/100","v":1},"Domestic"]
[]
[null,0.3,{"$f":"IF(GrpsB,0,IF(GrpsB.4,IF(GrpsB.3,0,IF(PDT.AOP,IF(Case4,ROUND(VALUE(NormalIncome),0),0),0)),IF(Case4,ROUND(VALUE(NormalIncome),0),0)))","v":0},"GrpsB.Grp3/ GrpsB.Grp4.Case4"]
[]
[null,0.4,{"$f":"IF(GrpsB,0,IF(GrpsB.4,IF(GrpsB.3,0,IF(PDT.AOP,IF(Case5,ROUND(VALUE(NormalIncome),0),0),0)),IF(Case5,ROUND(VALUE(NormalIncome),0),0)))","v":0},"GrpsB.Grp3/ GrpsB.Grp4.Case5"]
[]
["Group C"]
[250000,0,{"$f":"IF(GrpsC,0,IF(GrpsC.1,0,IF(CaseEstateOfDeceased,MAX(IF(NormalIncome>1000000,250000,IF(AND(NormalIncome>0,NormalIncome<=250000),NormalIncome,IF(NormalIncome>250000,250000,0))),0),0)))","v":0},"GrpsC.1"]
[500000,0.05,{"$f":"IF(GrpsC,0,IF(GrpsC.1,0,IF(CaseEstateOfDeceased,MAX(IF(NormalIncome>1000000,250000,IF(AND((NormalIncome-250000)>=250001,(NormalIncome-250000)<=500000),MIN(NormalIncome-F126,250000), IF((NormalIncome-250000)>500000, 250000,NormalIncome-250000))),0),0)))","v":0}]
[1000000,0.2,{"$f":"IF(GrpsC,0,IF(GrpsC.1,0,IF(CaseEstateOfDeceased,MAX(IF(NormalIncome>1000000,500000,IF(AND(NormalIncome>=500001,NormalIncome<=1000000),MIN(NormalIncome-(F126+F127),500000),0)),0),0)))","v":0}]
[1000001,0.3,{"$f":"IF(GrpsC,0,IF(GrpsC.1,0,IF(CaseEstateOfDeceased,MAX(IF(NormalIncome>1000000,NormalIncome-(F126+F127+F128),0),0),NormalIncome)))","v":0}]
[]
[null,0.3,{"$f":"IF(GrpsC,0,IF(GrpsC.2,0,NormalIncome))","v":0},"GrpsC.2"]
[]
[250000,0,{"$f":"IF(GrpsC,0,IF(GrpsC.3,0,MAX(IF(NormalIncome>1000000,250000,IF(AND(NormalIncome>0,NormalIncome<=250000),NormalIncome,IF(NormalIncome>250000,250000,0))),0)))","v":0},"GrpsC.3"]
[500000,0.05,{"$f":"IF(GrpsC,0,IF(GrpsC.3,0,MAX(IF(NormalIncome>1000000,250000,IF(AND((NormalIncome-250000)>=250001,(NormalIncome-250000)<=500000),MIN(NormalIncome-F126,250000), IF((NormalIncome-250000)>500000, 250000,NormalIncome-250000))),0)))","v":0}]
[1000000,0.2,{"$f":"IF(GrpsC,0,IF(GrpsC.3,0,MAX(IF(NormalIncome>1000000,500000,IF(AND(NormalIncome>=500001,NormalIncome<=1000000),MIN(NormalIncome-(F126+F127),500000),0)),0)))","v":0}]
[1000001,0.3,{"$f":"IF(GrpsC,0,IF(GrpsC.3,0,MAX(IF(NormalIncome>1000000,NormalIncome-(F126+F127+F128),0),0)))","v":0}]
[]
[null,0.15,{"$f":"SI_111A+SI!I10+SI!I46","v":0},"For Special Surcharge benefit"]
[null,0.1,{"$f":"SI!I12+SI!I16+SI!I27+taxablesi+SI_115EA+SI!I26+SI!I25+SI!I24+SI!I38+SI!I39+SI!I35+SI!I41+SI!I42+SI!I24+SI!I58++SI!I59+SI!I60+SI!I61+SI!I66+SI!I67+SI!I68+SI!I49","v":0}]
[null,0.1,{"$f":"SI!I13+SI!I15+SI!I31+SI!I48","v":0},"For Special Surcharge benefit"]
[null,0.2,{"$f":"SI!I11+SI!I17+SI!I18+SI!I23+SI!I28+SI!I33+SI!I45+SI!I50+SI!I51+SI!I52+SI!I57+SI!I62+SI!I64+SI!I81","v":0},{"$f":"SI!I73+SI!I74","v":0},"For OS Special Surcharge benefit"]
[null,0.3,{"$f":"SI_115BBC+SI!I32+SI!I65","v":0}]
[null,0.3,{"$f":"SI!I30+SI!I47","v":0},"For Special Surcharge benefit"]
[null,0.05,{"$f":"SI!I19+SI!I20+SI!I21+SI!I29+SI!I22+SI!I53+SI!I54+SI!I55+SI!I56+SI!I63","v":0}]
[null,0.125,{"$f":"B115Inc","v":0}]
[null,0.25,0]
[null,0.5,0]
[null,0.6,{"$f":"SI!I36","v":0}]
["Marginal Relief",null,1766134]
["Surcharge",null,0]
[null,null,189229]
[null,null,0]
[]
[]
[]
["BASIC TAX CALCULATION PART [For Surcharge Calc]"]
[]
["Reference Of Tax Head",null,"Tax Head","Value"]
["Point (16) of Part B-TI",null,"Taxable Income",5000000]
[]
["Group A"]
[null,null,{"$f":"IF(GrpsA,0,ROUND(VALUE(TaxableIncome1)*0.3,0))","v":1500000}]
[]
["Group B"]
[10000,null,{"$f":"IF(GrpsB,0,IF(GrpsB.1,0,IF(AND(TaxableIncome1>=0,TaxableIncome1<=A192),ROUND(VALUE(TaxableIncome1)*0.1,0),0)))","v":0},"GrpsB.Grp1"]
[20000,null,{"$f":"IF(GrpsB,0,IF(GrpsB.1,0,IF(AND(TaxableIncome1>=10001,TaxableIncome1<=A193),(ROUND(VALUE(TaxableIncome1-A192) * 0.2,0))+1000,0)))","v":0}]
[20001,null,{"$f":"IF(GrpsB,0,IF(GrpsB.1,0,IF(AND(TaxableIncome1>=A194),(ROUND(VALUE(TaxableIncome1-A193) * 0.3,0))+3000,0)))","v":0}]
[]
[250000,null,{"$f":"IF(GrpsB,0,IF(GrpsB.2,0,IF(AND(TaxableIncome1>=0,TaxableIncome1<=A196),0,0)))","v":0},"GrpsB.Grp2"]
[500000,null,{"$f":"IF(GrpsB,0,IF(GrpsB.2,0,IF(AND(TaxableIncome1>=250001,TaxableIncome1<=A197),(ROUND(VALUE(TaxableIncome1-A196) * 0.05,0)),0)))","v":0}]
[1000000,null,{"$f":"IF(GrpsB,0,IF(GrpsB.2,0,IF(AND(TaxableIncome1>=500001,TaxableIncome1<=A198),(ROUND(VALUE(TaxableIncome1-A197) * 0.2,0))+12500,0)))","v":0}]
[1000001,null,{"$f":"IF(GrpsB,0,IF(GrpsB.2,0,IF((TaxableIncome1>=A199),(ROUND(VALUE(TaxableIncome1-A198) * 0.3,0))+112500,0)))","v":0}]
[]
[null,null,{"$f":"IF(GrpsB,0,IF(GrpsB.3,0,IF(PDT.MMR,ROUND(VALUE(TaxableIncome1)*0.3,0),0)))","v":0},"GrpsB.Grp3"]
[null,null,{"$f":"IF(GrpsB,0,IF(GrpsB.4,IF(GrpsB.3,0,IF(PDT.AOP,IF(Case1,ROUND(VALUE(TaxableIncome1)*0.3,0),0),0)),IF(Case1,ROUND(VALUE(TaxableIncome1)*0.3,0),0)))","v":0},"GrpsB.Grp3/ GrpsB.Grp4.Case1"]
[]
[250000,null,{"$f":"IF(GrpsB,0,IF(GrpsB.4,IF(GrpsB.3,0,IF(PDT.AOP,IF(Case2,IF(AND(TaxableIncome1>=0,TaxableIncome1<=A204),0,0),0),0)),IF(Case2,IF(AND(TaxableIncome1>=0,TaxableIncome1<=A204),0,0),0)))","v":0},"GrpsB.Grp3/ GrpsB.Grp4.Case2"]
[500000,null,{"$f":"IF(GrpsB,0,IF(GrpsB.4,IF(GrpsB.3,0,IF(PDT.AOP,IF(Case2,IF(AND(TaxableIncome1>=250001,TaxableIncome1<=A205),(ROUND(VALUE(TaxableIncome1-A204) * 0.05,0)),0),0),0)),IF(Case2,IF(AND(TaxableIncome1>=250001,TaxableIncome1<=A205),(ROUND(VALUE(TaxableIncome1-A204) * 0.05,0)),0),0)))","v":0}]
[1000000,null,{"$f":"IF(GrpsB,0,IF(GrpsB.4,IF(GrpsB.3,0,IF(PDT.AOP,IF(Case2,IF(AND(TaxableIncome1>=500001,TaxableIncome1<=A206),(ROUND(VALUE(TaxableIncome1-A205) * 0.2,0))+12500,0),0),0)),IF(Case2,IF(AND(TaxableIncome1>=500001,TaxableIncome1<=A206),(ROUND(VALUE(TaxableIncome1-A205) * 0.2,0))+12500,0),0)))","v":0}]
[1000001,null,{"$f":"IF(GrpsB,0,IF(GrpsB.4,IF(GrpsB.3,0,IF(PDT.AOP,IF(Case2,IF((TaxableIncome1>=A207),(ROUND(VALUE(TaxableIncome1-A206) * 0.3,0))+112500,0),0),0)),IF(Case2,IF((TaxableIncome1>=A207),(ROUND(VALUE(TaxableIncome1-A206) * 0.3,0))+112500,0),0)))","v":0}]
[null,null,null,null,null,null,null,{"$f":"MIN(TaxableIncome1-H209)","v":5000000},"Foreign"]
[null,null,{"$f":"IF(GrpsB,0,IF(GrpsB.4,IF(GrpsB.3,0,IF(PDT.AOP,IF(Case3,ROUND(H208*0.4,0)+ROUND(H209*0.3,0),0),0)),IF(Case3,ROUND(H208*0.4,0)+ROUND(H209*0.3,0),0)))","v":0},"GrpsB.Grp3/ GrpsB.Grp4.Case3",null,null,null,{"$f":"VALUE(MIN(10000000,GrpsB.Grp4.Case3.Income1))","v":0},"Domestic"]
[]
[null,null,{"$f":"IF(GrpsB,0,IF(GrpsB.4,IF(GrpsB.3,0,IF(PDT.AOP,IF(Case4,ROUND(VALUE(TaxableIncome1)*0.3,0),0),0)),IF(Case4,ROUND(VALUE(TaxableIncome1)*0.3,0),0)))","v":0},"GrpsB.Grp3/ GrpsB.Grp4.Case4"]
[]
[null,null,{"$f":"IF(GrpsB,0,IF(GrpsB.4,IF(GrpsB.3,0,IF(PDT.AOP,IF(Case5,ROUND(VALUE(TaxableIncome1)*0.4,0),0),0)),IF(Case5,ROUND(VALUE(TaxableIncome1)*0.4,0),0)))","v":0},"GrpsB.Grp3/ GrpsB.Grp4.Case5"]
[]
["Group C"]
[250000,null,{"$f":"IF(GrpsC,0,IF(GrpsC.1,0,IF(CaseEstateOfDeceased,IF(AND(TaxableIncome1>=0,TaxableIncome1<=A216),0,0),0)))","v":0},"GrpsC.1"]
[500000,null,{"$f":"IF(GrpsC,0,IF(GrpsC.1,0,IF(CaseEstateOfDeceased,IF(AND(TaxableIncome1>=250001,TaxableIncome1<=A217),(ROUND(VALUE(TaxableIncome1-A216) * 0.05,0)),0),0)))","v":0}]
[1000000,null,{"$f":"IF(GrpsC,0,IF(GrpsC.1,0,IF(CaseEstateOfDeceased,IF(AND(TaxableIncome1>=500001,TaxableIncome1<=A218),(ROUND(VALUE(TaxableIncome1-A217) * 0.2,0))+12500,0),0)))","v":0}]
[1000001,null,{"$f":"IF(GrpsC,0,IF(GrpsC.1,0,IF(CaseEstateOfDeceased,IF((TaxableIncome1>=A219),(ROUND(VALUE(TaxableIncome1-A218)*0.3,0))+112500,0),ROUND(VALUE(TaxableIncome1)*0.3,0))))","v":0}]
[]
[null,null,{"$f":"IF(GrpsC,0,IF(GrpsC.2,0,ROUND(VALUE(TaxableIncome1)*0.3,0)))","v":0},"GrpsC.2"]
[]
[250000,null,{"$f":"IF(GrpsC,0,IF(GrpsC.3,0,IF(AND(TaxableIncome1>=0,TaxableIncome1<=A223),0,0)))","v":0},"GrpsC.3"]
[500000,null,{"$f":"IF(GrpsC,0,IF(GrpsC.3,0,IF(AND(TaxableIncome1>=250001,TaxableIncome1<=A224),(ROUND(VALUE(TaxableIncome1-A223) * 0.05,0)),0)))","v":0}]
[1000000,null,{"$f":"IF(GrpsC,0,IF(GrpsC.3,0,IF(AND(TaxableIncome1>=500001,TaxableIncome1<=A225),(ROUND(VALUE(TaxableIncome1-A224) * 0.2,0))+12500,0)))","v":0}]
[1000001,null,{"$f":"IF(GrpsC,0,IF(GrpsC.3,0,IF((TaxableIncome1>=A226),(ROUND(VALUE(TaxableIncome1-A225) * 0.3,0))+112500,0)))","v":0}]
[]
["Tax on Taxable Income",null,{"$f":"SUM(C189:C226)","v":1500000}]

{"sheet":"Tax","index":11,"n_rows":192,"n_cols":60,"rows_kept":192,"cut":false,"hidden":true,"merged":[[48,11,50,11]]}
["BASIC TAX CALCULATION PART",null,null,null,"GrpA.PDT","Group A","Group B","Group C","Group D","Surcharge Rate",null,"Is any member of the AOP/BOI a foreign company","If Yes, mention the percentage of share of the foreign company in the AOP/BOI","Whether total income of any member of the AOP/BOI (excluding his share from such association or body) exceeds the\nmaximum amount which is not chargeable to tax in the case of that member?","Particulars of persons who were partners/ members in the firm/AOP/BOI or settlor/trustee/beneficiary in the trust on 31st day of March, 2014","Basic Exemption",{"$f":"IF(ISERROR(getExemption(MID(sheet1.SubStatus, 1, 1))),0,getExemption(MID(sheet1.SubStatus, 1, 1)))","v":0},"Interest 234C in Case MATC Higher than Normal Tax"]
[null,null,"Working",null,{"$f":"AND(ISNA(MATCH(MID(sheet1.SubStatus,1,1),{\"7\"},0))=FALSE)","v":false},{"$f":"ISNA(MATCH(MID(sheet1.SubStatus,1,1),{\"7\",\"8\"},0))","v":true},{"$f":"ISNA(MATCH(MID(sheet1.SubStatus,1,1),{\"6\"},0))","v":true},{"$f":"ISNA(MATCH(MID(sheet1.SubStatus,1,1),{\"1\",\"2\",\"5\"},0))","v":false},{"$f":"ISNA(MATCH(MID(sheet1.SubStatus,1,1),{\"3\",\"4\"},0))","v":true},{"$f":"IF(ISNA(MATCH(MID(sheet1.SubStatus,1,1),{\"1\",\"2\",\"3\",\"4\",\"5\"},0)),0.15,0.12)","v":0.12},null,{"$f":"UPPER(IF(OR(PMInfo.PartnerForeignCompFlg=\"(Select)\",PMInfo.PartnerForeignCompFlg=\"\"),\"NA\",PMInfo.PartnerForeignCompFlg))","v":"NO"},{"$f":"IF(L2=\"YES\",PMInfo.PercentageOfShareForeignComp,\"NA\")","v":"NA"},{"$f":"IF(L2=\"YES\",\"NA\",UPPER(IF(PMInfo.TotIncFrmMemberOfAop=\"Y\",PMInfo.TotIncFrmMemberOfAop,\"NA\")))","v":"NA"},{"$f":"IF(SUM(PMInfo.SharePercentage)>=99.9,TRUE,FALSE)","v":true},"Net Tax",{"$f":"IF(Is_44_AD_Applicable,TaxPayableOnTotInc_1,sheet9.TaxPayableOnTotInc)","v":1576905},"Qtr","Income given by assessee in CG schedule","Basic Exemption [2lkh]","Net Fig","Cumulative tax to be paid","Tax paid","12 & 36 % for 1,2 Qtr","Cumulative Tax paid","Amount on which interst is payable","Net tax"]
["Reference Of Tax Head",null,"Tax Head","Value",null,null,null,null,null,null,null,null,null,null,null,"Net Surcharge",{"$f":"IF(Is_44_AD_Applicable,Surcharge_44AD,Sheet9.SurchargeOnTaxPayable)","v":0},"On or before 15th June",{"$f":"IF(Higher_MATC,MAX(TotalTax_DI-(Tax.TDS+Tax.TCS+sheet9.CreditUS115JD+Sheet9.TotTaxRelief),0),0)","v":0},null,null,{"$f":"FLOOR(S3*0.15,100)","v":0},{"$f":"IT.Qtr1","v":0},{"$f":"FLOOR(0.12*S3,100)","v":0},{"$f":"W3","v":0},{"$f":"IF(Y3>=X3,0,MAX(0,FLOOR(MAX(0,V3-Y3),100)))","v":0},{"$f":"Z3*0.01*3","v":0}]
["Point (16) of Part B-TI",null,"Taxable Income",{"$f":"Sheet8b.AggregateIncome","v":5256350},null,null,null,null,null,null,null,null,null,null,null,"TotalTax_DI",{"$f":"sheet9.TotalTax_DI","v":0},"On or before 15th Sept",{"$f":"IF(Higher_MATC,MAX(TotalTax_DI-(Tax.TDS+Tax.TCS+sheet9.CreditUS115JD+Sheet9.TotTaxRelief),0),0)","v":0},null,null,{"$f":"FLOOR(S4*0.45,100)","v":0},{"$f":"IT.Qtr2","v":0},{"$f":"FLOOR(0.36*S4,100)","v":0},{"$f":"W4+Y3","v":0},{"$f":"IF(Y4>=X4,0,MAX(0,FLOOR(MAX(0,V4-Y4),100)))","v":0},{"$f":"Z4*0.01*3","v":0}]
[null,null,null,null,null,"Q1","Q2","Q3","Q4_1","Q4_2",null,null,null,null,null,null,null,"On or before 15th Dec",{"$f":"IF(Higher_MATC,MAX(TotalTax_DI-(Tax.TDS+Tax.TCS+sheet9.CreditUS115JD+Sheet9.TotTaxRelief),0),0)","v":0},null,null,{"$f":"FLOOR(S5*0.75,100)","v":0},{"$f":"IT.Qtr3","v":85000},null,{"$f":"W5+Y4","v":85000},{"$f":"MAX(V5-Y5,0)","v":0},{"$f":"Z5*0.01*3","v":0}]
["Group A",null,null,null,null,{"$f":"UPPER(IF(OR(PAG2.Sec160_1=\"(Select)\",PAG2.Sec160_1=\"\"),\"NA\",PAG2.Sec160_1))","v":"NA"},{"$f":"UPPER(IF(OR(PAG2.Sec160_2=\"(Select)\",PAG2.Sec160_2=\"\"),\"NA\",PAG2.Sec160_2))","v":"NA"},{"$f":"UPPER(IF(OR(PAG2.Sec160_3=\"(Select)\",PAG2.Sec160_3=\"\"),\"NA\",PAG2.Sec160_3))","v":"NA"},{"$f":"UPPER(IF(OR(PAG2.Sec160_4_1=\"(Select)\",PAG2.Sec160_4_1=\"\"),\"NA\",PAG2.Sec160_4_1))","v":"NA"},{"$f":"UPPER(IF(OR(PAG2.Sec160_4_2=\"(Select)\",PAG2.Sec160_4_2=\"\"),\"NA\",PAG2.Sec160_4_2))","v":"NA"},null,null,null,null,null,null,null,"On or before 15th Mar",{"$f":"IF(Higher_MATC,MAX(TotalTax_DI-(Tax.TDS+Tax.TCS+sheet9.CreditUS115JD+Sheet9.TotTaxRelief),0),0)","v":0},null,null,{"$f":"FLOOR(S6*1,100)","v":0},{"$f":"IT.Qtr4","v":0},null,{"$f":"W6+Y5","v":85000},{"$f":"MAX(V6-Y6,0)","v":0},{"$f":"Z6*0.01*1","v":0}]
[250000,null,{"$f":"IF(GrpA,0,IF(GrpA.PDT,0,IF(AND(TaxableIncome>=0,TaxableIncome<=A7),0,0)))","v":0},null,{"$f":"IF(PDT.Q1=\"Y\",IF(PDT.Q2=\"Y\",IF(PDT.Q3=\"Y\",TRUE, FALSE),FALSE),FALSE)","v":false},null,null,null,null,null,null,null,null,"INTEREST PAYABLE CALCULATION PART","Working",null,null,"On or before 31th Mar",0,null,null,{"$f":"FLOOR(S7*1,100)","v":0},{"$f":"IT.Qtr5","v":0},null,{"$f":"W7","v":0},{"$f":"MAX(V7-Y7,0)","v":0},{"$f":"Z7*0.01*1","v":0}]
[500000,null,{"$f":"IF(GrpA,0,IF(GrpA.PDT,0,IF(AND(TaxableIncome>=250001,TaxableIncome<=A8),(ROUND(VALUE(TaxableIncome-A7) * 0.1,0)),0)))","v":0},null,{"$f":"IF(PDT.Q1=\"Y\",IF(PDT.Q2=\"Y\",IF(PDT.Q3=\"N\",TRUE, FALSE),FALSE),FALSE)","v":false},null,null,null,"Q4_3","Q4_4",null,null,null,"Date of filing","01/04/2015"]
[1000000,null,{"$f":"IF(GrpA,0,IF(GrpA.PDT,0,IF(AND(TaxableIncome>=500001,TaxableIncome<=A9),(ROUND(VALUE(TaxableIncome-A8) * 0.2,0))+25000,0)))","v":0},null,{"$f":"IF(PDT.Q1=\"Y\",IF(PDT.Q2=\"N\",IF(PDT.Q3=\"NA\",TRUE, FALSE),FALSE),FALSE)","v":false},{"$f":"IF(OR(PDT.C1=TRUE,PDT.C4=TRUE,PDT.C6=TRUE),TRUE,FALSE)","v":false},null,null,{"$f":"UPPER(IF(OR(PAG2.Sec160_4_3=\"(Select)\",PAG2.Sec160_4_3=\"\"),\"NA\",PAG2.Sec160_4_3))","v":"NA"},{"$f":"UPPER(IF(OR(PAG2.Sec160_4_4=\"(Select)\",PAG2.Sec160_4_4=\"\"),\"NA\",PAG2.Sec160_4_4))","v":"NA"},null,null,null,"Date Of  interest calculation",{"$f":"CONCATENATE(YEAR(TODAY()),\"-\",IF(MONTH(TODAY())<10,\"0\",\"\"),MONTH(TODAY()),\"-\",IF(DAY(TODAY())<10,\"0\",\"\"),DAY(TODAY()))","v":"2023-03-02"},null,null,null,null,null,null,null,null,null,null,null,{"$f":"ROUND(SUM(AA3:AA8),0)","v":0}]
[1000001,null,{"$f":"IF(GrpA,0,IF(GrpA.PDT,0,IF((TaxableIncome>=A10),(ROUND(VALUE(TaxableIncome-A9) * 0.3,0))+125000,0)))","v":0},null,{"$f":"IF(PDT.Q1=\"N\",IF(PDT.Q2=\"Y\",IF(PDT.Q3=\"Y\",TRUE, FALSE),FALSE),FALSE)","v":false},{"$f":"IF(OR(PDT.C2=TRUE,PDT.C3=TRUE,PDT.C5=TRUE,PDT.C7=TRUE),TRUE,FALSE)","v":false},null,null,null,null,null,null,null,"Due date for filing of returns",null,null,null,{"$f":"sheet9.TotalTax_DI>Sheet9.GrossTaxLiability","v":false},"MATC Tax higher than Gross Tax"]
[null,null,null,null,{"$f":"IF(PDT.Q1=\"N\",IF(PDT.Q2=\"Y\",IF(PDT.Q3=\"N\",TRUE, FALSE),FALSE),FALSE)","v":false},null,null,null,null,null,null,null,null,"Date of filing 234A"]
["GrpA.PDT",null,{"$f":"IF(GrpA,0,IF(GrpA.PDT,IF(PDT.MMR,ROUND(VALUE(TaxableIncome)*0.3,0),0),0))","v":0},null,{"$f":"IF(PDT.Q1=\"N\",IF(PDT.Q2=\"N\",IF(PDT.Q3=\"NA\",IF(Q4_Case1=TRUE,TRUE,FALSE),FALSE),FALSE))","v":false},null,null,"Q4_Case1","Q4_Case2",null,null,null,null,"Date of filing 234B",null,null,null,null,null,null,null,null,null,null,null,null,null,null,null,"Q5 Calculation",null,"STEP 1",null,null,null,"STEP 2"]
["Group C",null,null,null,{"$f":"IF(PDT.Q1=\"N\",IF(PDT.Q2=\"N\",IF(PDT.Q3=\"NA\",IF(Q4_Case2=TRUE,TRUE,FALSE),FALSE),FALSE))","v":false},null,null,{"$f":"IF(PDT.Q41=\"N\",IF(PDT.Q42=\"N\",IF(PDT.Q43=\"N\",IF(PDT.Q44=\"N\",FALSE,TRUE),TRUE),TRUE), TRUE)","v":true},{"$f":"IF(PDT.Q41=\"N\",IF(PDT.Q42=\"N\",IF(PDT.Q43=\"N\",IF(PDT.Q44=\"N\",TRUE,FALSE),FALSE),FALSE), FALSE)","v":false},null,null,null,null,"Date of filing 234C",null,null,null,null,null,null,null,null,null,"AggriIncome",null,null,null,null,null,null,null,null,"AR Income (Qtr1 to Qtr4)",{"$f":"SUM(U16:U20,NormalIncome_MinusBE)","v":1814000},null,null,"AR Income (Qtr1 to Qtr3)",{"$f":"SUM(U16:U19,NormalIncome_MinusBE)","v":1814000}]
[null,null,{"$f":"IF(GrpC,0,ROUND(VALUE(TaxableIncome)*0.3,0))","v":1576905},null,null,{"$f":"IF(GrpA,FALSE,IF(GrpA.PDT,IF((PDT.C3=TRUE),TRUE,FALSE),FALSE))","v":false},null,null,null,null,null,null,null,null,null,null,null,"NORMAL INCOME+ CG AR Income","Balanced Basic Exemption",{"$f":"IF(Normal_Income_234C+X14>BasicExemption,0, MAX(0,BasicExemption-MIN(Normal_Income_234C+X14,BasicExemption)))","v":0},null,"Normal Income Excluding BE",{"$f":"MAX(IF(Normal_Income_234C+X14>BasicExemption,(Normal_Income_234C+X14-BasicExemption),Normal_Income_234C+X14-MIN(Normal_Income_234C+X14,BasicExemption))-IF(Is_44_AD_Applicable,Income_44_AD,0),0)","v":1814000},{"$f":" IF(sheet9.RebateOnAgriInc>0,Sheet8b.NetAgricultureIncomeOrOtherIncomeForRate,0)","v":0},null,null,null,null,null,null,null,null,"Tax",{"$f":"IF(ISERROR(CalculateTax(AH13+BasicExemption)),0,CalculateTax(AH13+BasicExemption))","v":544200},null,null,"Tax",{"$f":"IF(ISERROR(CalculateTax(AL13+BasicExemption)),0,CalculateTax(AL13+BasicExemption))","v":544200}]
["Group D",null,null,null,null,null,null,null,null,null,null,null,null,null,null,null,null,"Due date Qtr","Income Break AR","B.E","Final Fig","Cumulative Income ","Normal Income","Total Income For TaX","Tax","Tax on tot Income - Agri_Rebate","Surcharge","EC","ToTal Tax",null,null,null,"Surcharge",{"$f":"IF(Is_44_AD_Applicable,ROUND((NET_Surcharge*Step1Tax)/NET_TAX,0),IF(MarginalRelief>0,ROUND((NET_Surcharge*Step1Tax)/NET_TAX,0),IF((TotalIncome>10000000),ROUND(Step1Tax*SurchargeInterestRate,0),0)))","v":0},null,null,"Surcharge",{"$f":"IF(Is_44_AD_Applicable,ROUND((NET_Surcharge*Step2Tax)/NET_TAX,0),IF(MarginalRelief>0,ROUND((NET_Surcharge*Step2Tax)/NET_TAX,0),IF((TotalIncome>10000000),ROUND(Step2Tax*SurchargeInterestRate,0),0)))","v":0}]
[10000,null,{"$f":"IF(GrpD,0,IF(AND(TaxableIncome>=0,TaxableIncome<=A16),ROUND(VALUE(TaxableIncome)*0.1,0),0))","v":0},null,null,null,null,null,null,null,null,null,null,"Interest u/s 234A",1359600,null,null,"On or before 15th June",{"$f":"AccSTCGOTH.Upto15Of6","v":0},{"$f":"S16-U16","v":0},{"$f":"IF(ISERROR(applyExemption(Consumed_BE,1,$S$16:$S$20)),0,applyExemption(Consumed_BE,1,$S$16:$S$20))","v":0},{"$f":"U16","v":0},{"$f":"NormalIncome_MinusBE","v":1814000},{"$f":"V16+W16","v":1814000},{"$f":"MAX(IF(ISERROR(CalculateTax(X16+BasicExemption)),0,CalculateTax(X16+BasicExemption)),0)","v":544200},{"$f":"MAX(Y16-sheet9.RebateOnAgriInc,0)","v":544200},{"$f":"IF(Is_44_AD_Applicable,ROUND((NET_Surcharge*Y16)/NET_TAX,0),IF(MarginalRelief>0,ROUND((NET_Surcharge*Y16)/NET_TAX,0),IF((TotalIncome>10000000),ROUND(Y16*SurchargeInterestRate,0),0)))","v":0},{"$f":"ROUND((Y16+AA16)*0.03,0)","v":16326},{"$f":"MAX(Y16+AA16+AB16,0)","v":560526},null,null,null,"EC",{"$f":"ROUND((AH14+AH15)*0.03,0)","v":16326},null,null,"EC",{"$f":"ROUND((AL14+AL15)*0.03,0)","v":16326}]
[20000,null,{"$f":"IF(GrpD,0,IF(AND(TaxableIncome>=10001,TaxableIncome<=A17),(ROUND(VALUE(TaxableIncome-A16) * 0.2,0))+1000,0))","v":0},null,null,null,null,null,null,null,null,null,null,"Interest u/s 234B",3399000,null,null,"On or before 15th Sept",{"$f":"AccSTCGOTH.Upto15Of9","v":0},{"$f":"S17-U17","v":0},{"$f":"IF(ISERROR(applyExemption(Consumed_BE,2,$S$16:$S$20)),0,applyExemption(Consumed_BE,2,$S$16:$S$20))","v":0},{"$f":"U17+V16","v":0},{"$f":"NormalIncome_MinusBE","v":1814000},{"$f":"V17+W17","v":1814000},{"$f":"MAX(IF(ISERROR(CalculateTax(X17+BasicExemption)),0,CalculateTax(X17+BasicExemption)),0)","v":544200},{"$f":"MAX(Y17-sheet9.RebateOnAgriInc,0)","v":544200},{"$f":"IF(Is_44_AD_Applicable,ROUND((NET_Surcharge*Y17)/NET_TAX,0),IF(MarginalRelief>0,ROUND((NET_Surcharge*Y17)/NET_TAX,0),IF((TotalIncome>10000000),ROUND(Y17*SurchargeInterestRate,0),0)))","v":0},{"$f":"ROUND((Y17+AA17)*0.03,0)","v":16326},{"$f":"MAX(Y17+AA17+AB17,0)","v":560526},null,null,null,"Total Tax",{"$f":"Step1Tax+AH15+AH16","v":6868146},null,null,"Total Tax",{"$f":"Step2Tax+AL15+AL16","v":6868146}]
[20001,null,{"$f":"IF(GrpD,0,IF(AND(TaxableIncome>=A18),(ROUND(VALUE(TaxableIncome-A17) * 0.3,0))+3000,0))","v":0},null,null,null,null,null,null,null,null,null,null,"Interest u/s 234C",1257630,null,null,"On or before 15th Dec",{"$f":"AccSTCGOTH.Up16Of9To15Of12","v":0},{"$f":"S18-U18","v":0},{"$f":"IF(ISERROR(applyExemption(Consumed_BE,3,$S$16:$S$20)),0,applyExemption(Consumed_BE,3,$S$16:$S$20))","v":0},{"$f":"U18+V17","v":0},{"$f":"NormalIncome_MinusBE","v":1814000},{"$f":"V18+W18","v":1814000},{"$f":"MAX(IF(ISERROR(CalculateTax(X18+BasicExemption)),0,CalculateTax(X18+BasicExemption)),0)","v":544200},{"$f":"MAX(Y18-sheet9.RebateOnAgriInc,0)","v":544200},{"$f":"IF(Is_44_AD_Applicable,ROUND((NET_Surcharge*Y18)/NET_TAX,0),IF(MarginalRelief>0,ROUND((NET_Surcharge*Y18)/NET_TAX,0),IF((TotalIncome>10000000),ROUND(Y18*SurchargeInterestRate,0),0)))","v":0},{"$f":"ROUND((Y18+AA18)*0.03,0)","v":16326},{"$f":"MAX(Y18+AA18+AB18,0)","v":560526}]
["Group B",null,null,{"$f":"L2","v":"NO"},{"$f":"M2","v":"NA"},{"$f":"N2","v":"NA"},{"$f":"O2","v":true},null,null,null,null,null,null,"Normal Income",null,null,null,"On or before 15th Mar",{"$f":"AccSTCGOTH.Up16Of12To15Of3+ IF(Is_44_AD_Applicable,Income_44_AD,0)","v":0},{"$f":"S19-U19","v":0},{"$f":"IF(ISERROR(applyExemption(Consumed_BE,4,$S$16:$S$20)),0,applyExemption(Consumed_BE,4,$S$16:$S$20))","v":0},{"$f":"U19+V18","v":0},{"$f":"NormalIncome_MinusBE","v":1814000},{"$f":"V19+W19","v":1814000},{"$f":"MAX(IF(ISERROR(CalculateTax(X19+BasicExemption)),0,CalculateTax(X19+BasicExemption)),0)","v":544200},{"$f":"MAX(Y19-sheet9.RebateOnAgriInc,0)","v":544200},{"$f":"IF(Is_44_AD_Applicable,ROUND((NET_Surcharge*Y19)/NET_TAX,0),IF(MarginalRelief>0,ROUND((NET_Surcharge*Y19)/NET_TAX,0),IF((TotalIncome>10000000),ROUND(Y19*SurchargeInterestRate,0),0)))","v":0},{"$f":"ROUND((Y19+AA19)*0.03,0)","v":16326},{"$f":"MAX(Y19+AA19+AB19,0)","v":560526}]
[null,null,null,null,null,null,null,null,null,null,null,null,null,"TDS",{"$f":"Sheet9.TDS","v":241000},null,null,"On or before 31th Mar",{"$f":"AccSTCGOTH.Up16Of3To31Of3","v":0},{"$f":"S20-U20","v":0},{"$f":"IF(ISERROR(applyExemption(Consumed_BE,5,$S$16:$S$20)),0,applyExemption(Consumed_BE,5,$S$16:$S$20))","v":0},{"$f":"U20","v":0},0,0,{"$f":"MAX(Step1Tax-Step2Tax,0)","v":0},{"$f":"MAX(Y20-MAX(0,sheet9.RebateOnAgriInc-Y19),0)","v":0},0,0,{"$f":"MAX(Y20+AA20+AB20,0)","v":0}]
["Case1",null,{"$f":"IF(GrpB,IF(GrpA,0,IF(GrpA.PDT,IF(PDT.AOP,IF(Case1,ROUND(VALUE(TaxableIncome)*0.3,0),0),0),0)),IF(Case1,ROUND(VALUE(TaxableIncome)*0.3,0),0))","v":0},null,{"$f":"IF(GrpB,IF(GrpA,FALSE,IF(GrpA.PDT,IF(PDT.AOP,IF(L2=\"NO\",IF(M2=\"NA\",IF(N2=\"Y\",IF(O2=TRUE,TRUE,TRUE)))),FALSE),FALSE)),IF(L2=\"NO\",IF(M2=\"NA\",IF(N2=\"Y\",IF(O2=TRUE,TRUE,TRUE)))))","v":false},null,null,null,null,null,null,null,null,"TCS",{"$f":"Sheet9.TCS","v":0}]
["Case2",null,null,null,null,null,null,null,null,null,null,null,null,"Assessed Tax",0]
[250000,null,{"$f":"IF(GrpB,IF(GrpA,0,IF(GrpA.PDT,IF(PDT.AOP,IF(Case2,IF(AND(TaxableIncome>=0,TaxableIncome<=A23),0,0),0),0),0)),IF(Case2,IF(AND(TaxableIncome>=0,TaxableIncome<=A23),0,0),0))","v":0},null,{"$f":"IF(GrpB,IF(GrpA,FALSE,IF(GrpA.PDT,IF(PDT.AOP,IF(L2=\"NO\",IF(M2=\"NA\",IF(N2=\"NA\",IF(O2=TRUE,TRUE,FALSE)))),FALSE),FALSE)),IF(L2=\"NO\",IF(M2=\"NA\",IF(N2=\"NA\",IF(O2=TRUE,TRUE,FALSE)))))","v":false},null,null,null,null,null,null,null,null,"Total Income Segregation Bucket","TOTAL INCOME",{"$f":"Sheet8b.TotalIncome","v":5256350},null,"SPECIAL RATE TAX"]
[500000,null,{"$f":"IF(GrpB,IF(GrpA,0,IF(GrpA.PDT,IF(PDT.AOP,IF(Case2,IF(AND(TaxableIncome>=250001,TaxableIncome<=A24),(ROUND(VALUE(TaxableIncome-A23) * 0.1,0)),0),0),0),0)),IF(Case2,IF(AND(TaxableIncome>=250001,TaxableIncome<=A24),(ROUND(VALUE(TaxableIncome-A23) * 0.1,0)),0),0))","v":0},null,null,null,null,null,null,null,null,null,null,1,"Normal Income",{"$f":"MAX(Sheet8b.TotalIncome-(P25+P26+P27+P28),0)","v":5256350},"Income from SI","Tax From SI","Surcharge","EC","TOTAL TAX"]
[1000000,null,{"$f":"IF(GrpB,IF(GrpA,0,IF(GrpA.PDT,IF(PDT.AOP,IF(Case2,IF(AND(TaxableIncome>=500001,TaxableIncome<=A25),(ROUND(VALUE(TaxableIncome-A24) * 0.2,0))+25000,0),0),0),0)),IF(Case2,IF(AND(TaxableIncome>=500001,TaxableIncome<=A25),(ROUND(VALUE(TaxableIncome-A24) * 0.2,0))+25000,0),0))","v":0},null,null,null,null,null,null,null,null,null,null,2,"CG income",0,{"$f":"SI!I6+SI!I17+SI!I18+SI!I19+SI!I20+SI!I21+SI!I22+SI!I23+SI!I24+SI!I25+SI!I26+SI!I27+SI!I28+SI!I29+SI!I32+SI!I33+SI_115BBC+SI!I36+SI_115EA","v":0},{"$f":"SI.TotSplRateIncTax-(SI!J10+SI!J14+SI!J11+SI!J12+SI!J16+SI!J27+SI!J30+SI!J31+SI!J44+SI!J35+SI!J32)","v":0},{"$f":"IF(Is_44_AD_Applicable,ROUND((NET_Surcharge*R25)/NET_TAX,0),IF(MarginalRelief>0,ROUND((NET_Surcharge*R25)/NET_TAX,0),IF((TotalIncome>10000000),ROUND(R25*SurchargeInterestRate,0),0)))","v":0},{"$f":"ROUND((R25+S25)*0.03,0)","v":0},{"$f":"MAX(R25+S25+T25,0)","v":0}]
[1000001,null,{"$f":"IF(GrpB,IF(GrpA,0,IF(GrpA.PDT,IF(PDT.AOP,IF(Case2,IF((TaxableIncome>=A26),(ROUND(VALUE(TaxableIncome-A25) * 0.3,0))+125000,0),0),0),0)),IF(Case2,IF((TaxableIncome>=A26),(ROUND(VALUE(TaxableIncome-A25) * 0.3,0))+125000,0),0))","v":0},null,null,null,null,null,null,null,null,null,null,3,"Winning from lottery",0]
["Case3",null,null,null,{"$f":"IF(GrpB,IF(GrpA,FALSE,IF(GrpA.PDT,IF(PDT.AOP,IF(L2=\"YES\",IF(M2>0,IF(N2=\"NA\",IF(O2=TRUE,TRUE,FALSE)))),FALSE),FALSE)),IF(L2=\"YES\",IF(M2>0,IF(N2=\"NA\",IF(O2=TRUE,TRUE,FALSE)))))","v":false},null,null,null,null,null,null,null,null,4,"OS Special rate",0]
[null,null,{"$f":"IF(GrpB,IF(GrpA,0,IF(GrpA.PDT,IF(PDT.AOP,IF(Case3,ROUND(VALUE(TaxableIncome *IF(M2=\"NA\",0,(M2/100)))*0.4,0)+ROUND(VALUE(TaxableIncome *IF(M2=\"NA\",0,((100-M2)/100)))*0.3,0),0),0),0)),IF(Case3,ROUND(VALUE(TaxableIncome *IF(M2=\"NA\",0,(M2/100)))*0.4,0)+ROUND(VALUE(TaxableIncome *IF(M2=\"NA\",0,((100-M2)/100)))*0.3,0),0))","v":0},null,null,null,null,null,null,null,null,null,null,6,"CG AR Income",0]
[null,null,null,null,null,null,null,null,null,null,null,null,null,"44AD Calculaion","Working",null,null,"CG INCOME"]
["Case4",null,null,null,null,null,null,null,null,null,null,null,null,"IS FIRM","scvia.TotPartCchapterVIA_Calc ",{"$f":"scvia.TotPartCchapterVIA_Calc","v":0},null,"STCG 15 %","CG 15% Exemption ",{"$f":"MAX(exmp15Inc-exmp15TaxInc,0)","v":0},null,null,null,null,null,null,null,null,null,null,"STCG 30 %",null,null,null,null,null,null,null,null,null,null,"LTCG 10 %","CG 10% Exemption ",{"$f":"MAX(exmp10Inc-exmp10TaxInc,0)","v":0},null,null,null,null,null,null,null,"LTCG 20 %","CG 20% Exemption ",{"$f":"MAX(exmp20Inc-exmp20TaxInc,0)","v":0}]
[null,null,{"$f":"IF(GrpB,IF(GrpA,0,IF(GrpA.PDT,IF(PDT.AOP,IF(Case4,ROUND(VALUE(TaxableIncome)*0.3,0),0),0),0)),IF(Case4,ROUND(VALUE(TaxableIncome)*0.3,0),0))","v":0},null,{"$f":"IF(GrpB,IF(GrpA,FALSE,IF(GrpA.PDT,IF(PDT.AOP,IF(L2=\"NO\",IF(M2=\"NA\",IF(N2=\"NA\",IF(O2=FALSE,TRUE,FALSE)))),FALSE),FALSE)),IF(L2=\"NO\",IF(M2=\"NA\",IF(N2=\"NA\",IF(O2=FALSE,TRUE,FALSE)))))","v":false},null,null,null,null,null,null,null,null,{"$f":"MID(sheet1.SubStatus,1,1)=\"1\"","v":true},"SEZA10.TotalDedUs10Sub",0,null,"Qtr","Income given by assessee in CG schedule","Basic Exemption ","Net Fig","Cumulative Income ","Tax Rate will be depend upon the nature of Captial Gain","Total Tax","Surcharge","EC","Total Tax","Qtr","Income given by assessee in CG schedule","Basic Exemption ",null,"Net Fig","Cumulative Income ","Tax Rate will be depend upon the nature of Captial Gain","Total Tax","Surcharge","EC","Total Tax","Qtr","Income given by assessee in CG schedule","Basic Exemption ","Net Fig","Cumulative Income ","Tax Rate will be depend upon the nature of Captial Gain","Total Tax","Surcharge","EC","Total Tax","Qtr","Income given by assessee in CG schedule","Basic Exemption ","Net Fig","Cumulative Income ","Tax Rate will be depend upon the nature of Captial Gain","Total Tax","Surcharge","EC","Total Tax"]
[null,null,null,null,null,null,null,null,null,null,null,null,null,"Normal Income Minus 44 AD Income","AA10.TotalDedUs10Sub",{"$f":"AA10.TotalDedUs10Sub","v":0},null,"On or before 15th June",{"$f":"AccSTCG.Upto15Of6","v":0},{"$f":"S32-U32","v":0},{"$f":"IF(ISERROR(applyExemption(CGExmptn15Per,1,$S$32:$S$36)),0,applyExemption(CGExmptn15Per,1,$S$32:$S$36))","v":0},{"$f":"U32","v":0},15,{"$f":"ROUND(V32*W32/100,0)","v":0},{"$f":"IF(Is_44_AD_Applicable,ROUND((NET_Surcharge*X32)/NET_TAX,0),IF(MarginalRelief>0,ROUND((NET_Surcharge*X32)/NET_TAX,0),IF((TotalIncome>10000000),ROUND(X32*SurchargeInterestRate,0),0)))","v":0},{"$f":"ROUND((X32+Y32)*0.03,0)","v":0},{"$f":"X32+Y32+Z32","v":0},"On or before 15th June",{"$f":"AccSTCG30.Upto15Of6","v":0},null,null,null,{"$f":"AC32","v":0},30,{"$f":"ROUND(AG32*AH32/100,0)","v":0},{"$f":"IF(Is_44_AD_Applicable,ROUND((NET_Surcharge*AI32)/NET_TAX,0),IF(MarginalRelief>0,ROUND((NET_Surcharge*AI32)/NET_TAX,0),IF((TotalIncome>10000000),ROUND(AI32*SurchargeInterestRate,0),0)))","v":0},{"$f":"ROUND((AI32+AJ32)*0.03,0)","v":0},{"$f":"AI32+AJ32+AK32","v":0},"On or before 15th June",{"$f":"AccLTCG.Upto15Of6","v":0},{"$f":"AN32-AP32","v":0},{"$f":"IF(ISERROR(applyExemption(CGExmptn10Per,1,$AN$32:$AN$36)),0,applyExemption(CGExmptn10Per,1,$AN$32:$AN$36))","v":0},{"$f":"AP32","v":0},10,{"$f":"ROUND(AQ32*AR32/100,0)","v":0},{"$f":"IF(Is_44_AD_Applicable,ROUND((NET_Surcharge*AS32)/NET_TAX,0),IF(MarginalRelief>0,ROUND((NET_Surcharge*AS32)/NET_TAX,0),IF((TotalIncome>10000000),ROUND(AS32*SurchargeInterestRate,0),0)))","v":0},{"$f":"ROUND((AS32+AT32)*0.03,0)","v":0},{"$f":"AS32+AT32+AU32","v":0},"On or before 15th June",{"$f":"AccLTCGNP.Upto15Of6","v":0},{"$f":"AX32-AZ32","v":0},{"$f":"IF(ISERROR(applyExemption(CGExmptn20Per,1,$AX$32:$AX$36)),0,applyExemption(CGExmptn20Per,1,$AX$32:$AX$36))","v":0},{"$f":"AZ32","v":0},20,{"$f":"ROUND(BA32*BB32/100,0)","v":0},{"$f":"IF(Is_44_AD_Applicable,ROUND((NET_Surcharge*BC32)/NET_TAX,0),IF(MarginalRelief>0,ROUND((NET_Surcharge*BC32)/NET_TAX,0),IF((TotalIncome>10000000),ROUND(BC32*SurchargeInterestRate,0),0)))","v":0},{"$f":"ROUND((BC32+BD32)*0.03,0)","v":0},{"$f":"BC32+BD32+BE32","v":0}]
[null,null,null,null,null,null,null,null,null,null,null,null,null,{"$f":"MAX(0,Sheet8b.TotalIncome-Income_44_AD)","v":5256350},"IS 44 AD Applicable",{"$f":"IF(IS_FIRM, IF(Income_44_AD>0,IF(OR(P30>0,P31>0,P32>0),FALSE,TRUE),FALSE),FALSE)","v":false},null,"On or before 15th Sept",{"$f":"AccSTCG.Upto15Of9","v":0},{"$f":"S33-U33","v":0},{"$f":"IF(ISERROR(applyExemption(CGExmptn15Per,2,$S$32:$S$36)),0,applyExemption(CGExmptn15Per,2,$S$32:$S$36))","v":0},{"$f":"U33+V32","v":0},15,{"$f":"ROUND(V33*W33/100,0)","v":0},{"$f":"IF(Is_44_AD_Applicable,ROUND((NET_Surcharge*X33)/NET_TAX,0),IF(MarginalRelief>0,ROUND((NET_Surcharge*X33)/NET_TAX,0),IF((TotalIncome>10000000),ROUND(X33*SurchargeInterestRate,0),0)))","v":0},{"$f":"ROUND((X33+Y33)*0.03,0)","v":0},{"$f":"X33+Y33+Z33","v":0},"On or before 15th Sept",{"$f":"AccSTCG30.Upto15Of9","v":0},null,null,null,{"$f":"AC33+AG32","v":0},30,{"$f":"ROUND(AG33*AH33/100,0)","v":0},{"$f":"IF(Is_44_AD_Applicable,ROUND((NET_Surcharge*AI33)/NET_TAX,0),IF(MarginalRelief>0,ROUND((NET_Surcharge*AI33)/NET_TAX,0),IF((TotalIncome>10000000),ROUND(AI33*SurchargeInterestRate,0),0)))","v":0},{"$f":"ROUND((AI33+AJ33)*0.03,0)","v":0},{"$f":"AI33+AJ33+AK33","v":0},"On or before 15th Sept",{"$f":"AccLTCG.Upto15Of9","v":0},{"$f":"AN33-AP33","v":0},{"$f":"IF(ISERROR(applyExemption(CGExmptn10Per,2,$AN$32:$AN$36)),0,applyExemption(CGExmptn10Per,2,$AN$32:$AN$36))","v":0},{"$f":"AP33+AQ32","v":0},10,{"$f":"ROUND(AQ33*AR33/100,0)","v":0},{"$f":"IF(Is_44_AD_Applicable,ROUND((NET_Surcharge*AS33)/NET_TAX,0),IF(MarginalRelief>0,ROUND((NET_Surcharge*AS33)/NET_TAX,0),IF((TotalIncome>10000000),ROUND(AS33*SurchargeInterestRate,0),0)))","v":0},{"$f":"ROUND((AS33+AT33)*0.03,0)","v":0},{"$f":"AS33+AT33+AU33","v":0},"On or before 15th Sept",{"$f":"AccLTCGNP.Upto15Of9","v":0},{"$f":"AX33-AZ33","v":0},{"$f":"IF(ISERROR(applyExemption(CGExmptn20Per,2,$AX$32:$AX$36)),0,applyExemption(CGExmptn20Per,2,$AX$32:$AX$36))","v":0},{"$f":"AZ33+BA32","v":0},20,{"$f":"ROUND(BA33*BB33/100,0)","v":0},{"$f":"IF(Is_44_AD_Applicable,ROUND((NET_Surcharge*BC33)/NET_TAX,0),IF(MarginalRelief>0,ROUND((NET_Surcharge*BC33)/NET_TAX,0),IF((TotalIncome>10000000),ROUND(BC33*SurchargeInterestRate,0),0)))","v":0},{"$f":"ROUND((BC33+BD33)*0.03,0)","v":0},{"$f":"BC33+BD33+BE33","v":0}]
["Case5",null,null,null,null,null,null,null,null,null,null,null,null,null,"44 AD Income",{"$f":"IF(sheet11.Section44AD=\"\",0,sheet11.Section44AD) + IF(sheet11.Section44ADA=\"\",0,sheet11.Section44ADA)","v":0},null,"On or before 15th Dec",{"$f":"AccSTCG.Up16Of9To15Of12","v":0},{"$f":"S34-U34","v":0},{"$f":"IF(ISERROR(applyExemption(CGExmptn15Per,3,$S$32:$S$36)),0,applyExemption(CGExmptn15Per,3,$S$32:$S$36))","v":0},{"$f":"U34+V33","v":0},15,{"$f":"ROUND(V34*W34/100,0)","v":0},{"$f":"IF(Is_44_AD_Applicable,ROUND((NET_Surcharge*X34)/NET_TAX,0),IF(MarginalRelief>0,ROUND((NET_Surcharge*X34)/NET_TAX,0),IF((TotalIncome>10000000),ROUND(X34*SurchargeInterestRate,0),0)))","v":0},{"$f":"ROUND((X34+Y34)*0.03,0)","v":0},{"$f":"X34+Y34+Z34","v":0},"On or before 15th Dec",{"$f":"ACCSTCG30.Up16Of9To15Of12","v":0},null,null,null,{"$f":"AC34+AG33","v":0},30,{"$f":"ROUND(AG34*AH34/100,0)","v":0},{"$f":"IF(Is_44_AD_Applicable,ROUND((NET_Surcharge*AI34)/NET_TAX,0),IF(MarginalRelief>0,ROUND((NET_Surcharge*AI34)/NET_TAX,0),IF((TotalIncome>10000000),ROUND(AI34*SurchargeInterestRate,0),0)))","v":0},{"$f":"ROUND((AI34+AJ34)*0.03,0)","v":0},{"$f":"AI34+AJ34+AK34","v":0},"On or before 15th Dec",{"$f":"AccLTCG.Up16Of9To15Of12","v":0},{"$f":"AN34-AP34","v":0},{"$f":"IF(ISERROR(applyExemption(CGExmptn10Per,3,$AN$32:$AN$36)),0,applyExemption(CGExmptn10Per,3,$AN$32:$AN$36))","v":0},{"$f":"AP34+AQ33","v":0},10,{"$f":"ROUND(AQ34*AR34/100,0)","v":0},{"$f":"IF(Is_44_AD_Applicable,ROUND((NET_Surcharge*AS34)/NET_TAX,0),IF(MarginalRelief>0,ROUND((NET_Surcharge*AS34)/NET_TAX,0),IF((TotalIncome>10000000),ROUND(AS34*SurchargeInterestRate,0),0)))","v":0},{"$f":"ROUND((AS34+AT34)*0.03,0)","v":0},{"$f":"AS34+AT34+AU34","v":0},"On or before 15th Dec",{"$f":"AccLTCGNP.Up16Of9To15Of12","v":0},{"$f":"AX34-AZ34","v":0},{"$f":"IF(ISERROR(applyExemption(CGExmptn20Per,3,$AX$32:$AX$36)),0,applyExemption(CGExmptn20Per,3,$AX$32:$AX$36))","v":0},{"$f":"AZ34+BA33","v":0},20,{"$f":"ROUND(BA34*BB34/100,0)","v":0},{"$f":"IF(Is_44_AD_Applicable,ROUND((NET_Surcharge*BC34)/NET_TAX,0),IF(MarginalRelief>0,ROUND((NET_Surcharge*BC34)/NET_TAX,0),IF((TotalIncome>10000000),ROUND(BC34*SurchargeInterestRate,0),0)))","v":0},{"$f":"ROUND((BC34+BD34)*0.03,0)","v":0},{"$f":"BC34+BD34+BE34","v":0}]
[null,null,{"$f":"IF(GrpB,IF(GrpA,0,IF(GrpA.PDT,IF(PDT.AOP,IF(Case5,ROUND(VALUE(TaxableIncome)*0.4,0),0),0),0)),IF(Case5,ROUND(VALUE(TaxableIncome)*0.4,0),0))","v":0},null,{"$f":"IF(GrpB,IF(GrpA,FALSE,IF(GrpA.PDT,IF(PDT.AOP,IF(L2=\"YES\",IF(M2>0,IF(N2=\"NA\",IF(O2=FALSE,TRUE,FALSE)))),FALSE),FALSE)),IF(L2=\"YES\",IF(M2>0,IF(N2=\"NA\",IF(O2=FALSE,TRUE,FALSE)))))","v":false},null,null,null,null,null,null,null,null,null,"Tax at Normal Rate",{"$f":"IF(ISERROR(CalculateTax(Normal_Income_234C+P28)),0,CalculateTax(Normal_Income_234C+P28))","v":544200},null,"On or before 15th Mar",{"$f":"AccSTCG.Up16Of12To15Of3","v":0},{"$f":"S35-U35","v":0},{"$f":"IF(ISERROR(applyExemption(CGExmptn15Per,4,$S$32:$S$36)),0,applyExemption(CGExmptn15Per,4,$S$32:$S$36))","v":0},{"$f":"U35+V34","v":0},15,{"$f":"ROUND(V35*W35/100,0)","v":0},{"$f":"IF(Is_44_AD_Applicable,ROUND((NET_Surcharge*X35)/NET_TAX,0),IF(MarginalRelief>0,ROUND((NET_Surcharge*X35)/NET_TAX,0),IF((TotalIncome>10000000),ROUND(X35*SurchargeInterestRate,0),0)))","v":0},{"$f":"ROUND((X35+Y35)*0.03,0)","v":0},{"$f":"X35+Y35+Z35","v":0},"On or before 15th Mar",{"$f":"ACCSTCG30.Up16Of12To15Of3","v":0},null,null,null,{"$f":"AC35+AG34","v":0},30,{"$f":"ROUND(AG35*AH35/100,0)","v":0},{"$f":"IF(Is_44_AD_Applicable,ROUND((NET_Surcharge*AI35)/NET_TAX,0),IF(MarginalRelief>0,ROUND((NET_Surcharge*AI35)/NET_TAX,0),IF((TotalIncome>10000000),ROUND(AI35*SurchargeInterestRate,0),0)))","v":0},{"$f":"ROUND((AI35+AJ35)*0.03,0)","v":0},{"$f":"AI35+AJ35+AK35","v":0},"On or before 15th Mar",{"$f":"AccLTCG.Up16Of12To15Of3","v":0},{"$f":"AN35-AP35","v":0},{"$f":"IF(ISERROR(applyExemption(CGExmptn10Per,4,$AN$32:$AN$36)),0,applyExemption(CGExmptn10Per,4,$AN$32:$AN$36))","v":0},{"$f":"AP35+AQ34","v":0},10,{"$f":"ROUND(AQ35*AR35/100,0)","v":0},{"$f":"IF(Is_44_AD_Applicable,ROUND((NET_Surcharge*AS35)/NET_TAX,0),IF(MarginalRelief>0,ROUND((NET_Surcharge*AS35)/NET_TAX,0),IF((TotalIncome>10000000),ROUND(AS35*SurchargeInterestRate,0),0)))","v":0},{"$f":"ROUND((AS35+AT35)*0.03,0)","v":0},{"$f":"AS35+AT35+AU35","v":0},"On or before 15th Mar",{"$f":"AccLTCGNP.Up16Of12To15Of3","v":0},{"$f":"AX35-AZ35","v":0},{"$f":"IF(ISERROR(applyExemption(CGExmptn20Per,4,$AX$32:$AX$36)),0,applyExemption(CGExmptn20Per,4,$AX$32:$AX$36))","v":0},{"$f":"AZ35+BA34","v":0},20,{"$f":"ROUND(BA35*BB35/100,0)","v":0},{"$f":"IF(Is_44_AD_Applicable,ROUND((NET_Surcharge*BC35)/NET_TAX,0),IF(MarginalRelief>0,ROUND((NET_Surcharge*BC35)/NET_TAX,0),IF((TotalIncome>10000000),ROUND(BC35*SurchargeInterestRate,0),0)))","v":0},{"$f":"ROUND((BC35+BD35)*0.03,0)","v":0},{"$f":"BC35+BD35+BE35","v":0}]
[null,null,null,null,null,null,null,null,null,null,null,null,null,null,"Tax at special rates (total of (ii) of Schedule-SI)",{"$f":"sheet9.TaxAtSpecialRates","v":0},null,"On or before 31th Mar",{"$f":"AccSTCG.Up16Of3To31Of3","v":0},{"$f":"S36-U36","v":0},{"$f":"IF(ISERROR(applyExemption(CGExmptn15Per,5,$S$32:$S$36)),0,applyExemption(CGExmptn15Per,5,$S$32:$S$36))","v":0},{"$f":"U36","v":0},15,{"$f":"ROUND(V36*W36/100,0)","v":0},{"$f":"IF(Is_44_AD_Applicable,ROUND((NET_Surcharge*X36)/NET_TAX,0),IF(MarginalRelief>0,ROUND((NET_Surcharge*X36)/NET_TAX,0),IF((TotalIncome>10000000),ROUND(X36*SurchargeInterestRate,0),0)))","v":0},{"$f":"ROUND((X36+Y36)*0.03,0)","v":0},{"$f":"X36+Y36+Z36","v":0},"On or before 31th Mar",{"$f":"ACCSTCG30.Up16Of3To31Of3","v":0},null,null,null,{"$f":"AC36","v":0},30,{"$f":"ROUND(AG36*AH36/100,0)","v":0},{"$f":"IF(Is_44_AD_Applicable,ROUND((NET_Surcharge*AI36)/NET_TAX,0),IF(MarginalRelief>0,ROUND((NET_Surcharge*AI36)/NET_TAX,0),IF((TotalIncome>10000000),ROUND(AI36*SurchargeInterestRate,0),0)))","v":0},{"$f":"ROUND((AI36+AJ36)*0.03,0)","v":0},{"$f":"AI36+AJ36+AK36","v":0},"On or before 31th Mar",{"$f":"AccLTCG.Up16Of3To31Of3","v":0},{"$f":"AN36-AP36","v":0},{"$f":"IF(ISERROR(applyExemption(CGExmptn10Per,5,$AN$32:$AN$36)),0,applyExemption(CGExmptn10Per,5,$AN$32:$AN$36))","v":0},{"$f":"AP36","v":0},10,{"$f":"ROUND(AQ36*AR36/100,0)","v":0},{"$f":"IF(Is_44_AD_Applicable,ROUND((NET_Surcharge*AS36)/NET_TAX,0),IF(MarginalRelief>0,ROUND((NET_Surcharge*AS36)/NET_TAX,0),IF((TotalIncome>10000000),ROUND(AS36*SurchargeInterestRate,0),0)))","v":0},{"$f":"ROUND((AS36+AT36)*0.03,0)","v":0},{"$f":"AS36+AT36+AU36","v":0},"On or before 31th Mar",{"$f":"AccLTCGNP.Up16Of3To31Of3","v":0},{"$f":"AX36-AZ36","v":0},{"$f":"IF(ISERROR(applyExemption(CGExmptn20Per,5,$AX$32:$AX$36)),0,applyExemption(CGExmptn20Per,5,$AX$32:$AX$36))","v":0},{"$f":"AZ36","v":0},20,{"$f":"ROUND(BA36*BB36/100,0)","v":0},{"$f":"IF(Is_44_AD_Applicable,ROUND((NET_Surcharge*BC36)/NET_TAX,0),IF(MarginalRelief>0,ROUND((NET_Surcharge*BC36)/NET_TAX,0),IF((TotalIncome>10000000),ROUND(BC36*SurchargeInterestRate,0),0)))","v":0},{"$f":"ROUND((BC36+BD36)*0.03,0)","v":0},{"$f":"BC36+BD36+BE36","v":0}]
["Tax on Taxable Income",null,{"$f":"SUM(C7:C35)","v":1576905},null,null,null,null,null,null,null,null,null,null,null,"Rebate On Agri Income",{"$f":"sheet9.RebateOnAgriInc","v":0}]
[null,null,null,null,null,null,null,null,null,null,null,null,null,null,"Tax Payable on Total Income",{"$f":"P36+P35-P37","v":544200},null,null,null,null,null,null,null,null,null,"Tax on 115BBE",{"$f":"SI_115BBE","v":0},"Surcharge 115BBE",{"$f":"Sheet9.Surcharge_i","v":0},"SurCharge 44AD",{"$f":"IF(Is_44_AD_Applicable,Surcharge_44AD,0)","v":0},null,null,null,null,null,"BBDA 10%",null,"Qtr","Income given by assessee in CG schedule","Basic Exemption ","Net Fig","Cumulative Income ","Tax Rate will be depend upon the nature of Captial Gain","Total Tax","Surcharge","EC","Total Tax","Income from Lottery","Qtr","Income given by assessee in CG schedule","Basic Exemption ",null,"Net Fig","Cumulative Income ","Tax Rate will be depend upon the nature of Captial Gain","Total Tax","Surcharge","EC","Total Tax"]
[null,null,null,null,null,null,null,null,null,null,null,null,null,null,"Surcharge",{"$f":"IF(ISERROR(ROUND(Income_44_AD * (Sheet9.Surcharge_ii/(MAX(1,(Sheet8b.TotalIncome)))),0)),0,ROUND(Income_44_AD * (Sheet9.Surcharge_ii/(MAX(1,(Sheet8b.TotalIncome)))),0))","v":0},null,null,null,null,null,null,null,null,null,"Tax on Other",{"$f":"IF(MAX(0,sheet9.TaxPayableOnTotInc-AE39-AA38)=0,1,sheet9.TaxPayableOnTotInc-AE39-AA38)","v":1576905},"Surcharge Normal",{"$f":"Sheet9.Surcharge_ii","v":0},"Tax on 44 AD",{"$f":"IF(Is_44_AD_Applicable,MAX(0,(Income_44_AD*0.3),0),0)","v":0},null,null,null,null,null,null,null,"On or before 15th June",{"$f":"BBDA.Upto15Of6","v":{"$error":"#NAME?"}},{"$f":"AN39-AP39","v":{"$error":"#NAME?"}},{"$f":"AN39","v":{"$error":"#NAME?"}},{"$f":"AP39","v":{"$error":"#NAME?"}},10,{"$f":"ROUND(AQ39*AR39/100,0)","v":{"$error":"#NAME?"}},{"$f":"IF(Is_44_AD_Applicable,ROUND((NET_Surcharge*AS39)/NET_TAX,0),IF(MarginalRelief>0,ROUND((NET_Surcharge*AS39)/NET_TAX,0),IF((TotalIncome>10000000),ROUND(AS39*SurchargeInterestRate,0),0)))","v":{"$error":"#NAME?"}},{"$f":"ROUND((AS39+AT39)*0.03,0)","v":{"$error":"#NAME?"}},{"$f":"AS39+AT39+AU39","v":{"$error":"#NAME?"}},null,"On or before 15th June",{"$f":"IncomefrmLottery.Upto15Of6","v":{"$error":"#NAME?"}},null,null,null,{"$f":"AY39","v":{"$error":"#NAME?"}},30,{"$f":"ROUND(BC39*BD39/100,0)","v":{"$error":"#NAME?"}},{"$f":"IF(Is_44_AD_Applicable,ROUND((NET_Surcharge*BE39)/NET_TAX,0),IF(MarginalRelief>0,ROUND((NET_Surcharge*BE39)/NET_TAX,0),IF((TotalIncome>10000000),ROUND(BE39*SurchargeInterestRate,0),0)))","v":{"$error":"#NAME?"}},{"$f":"ROUND((BE39+BF39)*0.03,0)","v":{"$error":"#NAME?"}},{"$f":"BE39+BF39+BG39","v":{"$error":"#NAME?"}}]
[null,null,null,null,null,null,null,null,null,null,null,null,null,null,"Education Cess",{"$f":"ROUND(0.03*(P38+P39),0)","v":16326},null,"Calculation of Interest u/s 234C",null,null,null,null,null,null,null,null,null,null,null,"Tax on Other",{"$f":"IF(MAX(0,sheet9.TaxPayableOnTotInc-SI_115BBE-AE39)=0,1,MAX(0,sheet9.TaxPayableOnTotInc-SI_115BBE-AE39))","v":1576905},null,null,null,null,null,null,null,"On or before 15th Sept",{"$f":"BBDA.Upto15Of9","v":{"$error":"#NAME?"}},{"$f":"AN40-AP40","v":{"$error":"#NAME?"}},{"$f":"AN40","v":{"$error":"#NAME?"}},{"$f":"AP40+AQ39","v":{"$error":"#NAME?"}},10,{"$f":"ROUND(AQ40*AR40/100,0)","v":{"$error":"#NAME?"}},{"$f":"IF(Is_44_AD_Applicable,ROUND((NET_Surcharge*AS40)/NET_TAX,0),IF(MarginalRelief>0,ROUND((NET_Surcharge*AS40)/NET_TAX,0),IF((TotalIncome>10000000),ROUND(AS40*SurchargeInterestRate,0),0)))","v":{"$error":"#NAME?"}},{"$f":"ROUND((AS40+AT40)*0.03,0)","v":{"$error":"#NAME?"}},{"$f":"AS40+AT40+AU40","v":{"$error":"#NAME?"}},null,"On or before 15th Sept",{"$f":"IncomefrmLottery.Upto15Of9","v":{"$error":"#NAME?"}},null,null,null,{"$f":"AY40+BC39","v":{"$error":"#NAME?"}},30,{"$f":"ROUND(BC40*BD40/100,0)","v":{"$error":"#NAME?"}},{"$f":"IF(Is_44_AD_Applicable,ROUND((NET_Surcharge*BE40)/NET_TAX,0),IF(MarginalRelief>0,ROUND((NET_Surcharge*BE40)/NET_TAX,0),IF((TotalIncome>10000000),ROUND(BE40*SurchargeInterestRate,0),0)))","v":{"$error":"#NAME?"}},{"$f":"ROUND((BE40+BF40)*0.03,0)","v":{"$error":"#NAME?"}},{"$f":"BE40+BF40+BG40","v":{"$error":"#NAME?"}}]
["REBATE ON AGRICULTURAL INCOME CALCULATION PART",null,"Working",null,null,null,null,null,null,null,null,null,null,null,"Gross Tax Liability",{"$f":"P40+P39+P38","v":560526},"Qtr Breakkdown","Qtr","Tax on Normal Income","Tax SI","Tax on STCG 15%","Tax on STCG 30%","Tax on LTCG 10%","Tax on LTCG 20%","Total Tax","Total Income after Rebate, if applicable (u/s87E)","Surchage","Education Cess","Total Tax Liability","Final Fig Post TDS/TCS, Relief,MATC Deduction","Tax Income Breakup Quaterly","12 & 36 % for 1,2 Qtr in Case of Company","Advance Tax Quaterly","Amount on which interest is payable","Net Interest",null,null,null,"On or before 15th Dec",{"$f":"BBDA.Up16Of9To15Of12","v":{"$error":"#NAME?"}},{"$f":"AN41-AP41","v":{"$error":"#NAME?"}},{"$f":"AN41","v":{"$error":"#NAME?"}},{"$f":"AP41+AQ40","v":{"$error":"#NAME?"}},10,{"$f":"ROUND(AQ41*AR41/100,0)","v":{"$error":"#NAME?"}},{"$f":"IF(Is_44_AD_Applicable,ROUND((NET_Surcharge*AS41)/NET_TAX,0),IF(MarginalRelief>0,ROUND((NET_Surcharge*AS41)/NET_TAX,0),IF((TotalIncome>10000000),ROUND(AS41*SurchargeInterestRate,0),0)))","v":{"$error":"#NAME?"}},{"$f":"ROUND((AS41+AT41)*0.03,0)","v":{"$error":"#NAME?"}},{"$f":"AS41+AT41+AU41","v":{"$error":"#NAME?"}},null,"On or before 15th Dec",{"$f":"IncomefrmLottery.Up16Of9To15Of12","v":{"$error":"#NAME?"}},null,null,null,{"$f":"AY41+BC40","v":{"$error":"#NAME?"}},30,{"$f":"ROUND(BC41*BD41/100,0)","v":{"$error":"#NAME?"}},{"$f":"IF(Is_44_AD_Applicable,ROUND((NET_Surcharge*BE41)/NET_TAX,0),IF(MarginalRelief>0,ROUND((NET_Surcharge*BE41)/NET_TAX,0),IF((TotalIncome>10000000),ROUND(BE41*SurchargeInterestRate,0),0)))","v":{"$error":"#NAME?"}},{"$f":"ROUND((BE41+BF41)*0.03,0)","v":{"$error":"#NAME?"}},{"$f":"BE41+BF41+BG41","v":{"$error":"#NAME?"}}]
["Reference Of Tax Head",null,"Tax Head",null,null,null,null,null,null,null,null,null,null,null,"Gross Tax Payable",{"$f":"MAX(P41,R57)","v":560526},0.15,"On or before 15th June",{"$f":"Z16","v":544200},{"$f":"$R$25","v":0},{"$f":"X32","v":0},{"$f":"AI32+BE39","v":{"$error":"#NAME?"}},{"$f":"AS32+AS39","v":{"$error":"#NAME?"}},{"$f":"BC32","v":0},{"$f":"SUM(S42:X42)","v":{"$error":"#NAME?"}},{"$f":"MAX(Y42,0)","v":{"$error":"#NAME?"}},{"$f":"MAX($AC$39-$AE$38,0)/$AE$40*(MAX(0,Z42-SI_115BBE))+$AC$38","v":{"$error":"#NAME?"}},{"$f":"(Z42+AA42)*0.03","v":{"$error":"#NAME?"}},{"$f":"Z42+AA42+AB42","v":{"$error":"#NAME?"}},{"$f":"MAX(AC42-(Tax.TDS+Tax.TCS+sheet9.CreditUS115JD+Sheet9.TotTaxRelief),0)","v":{"$error":"#NAME?"}},{"$f":"FLOOR(0.15*AD42,100)","v":{"$error":"#NAME?"}},{"$f":"FLOOR(0.12*AD42,100)","v":{"$error":"#NAME?"}},{"$f":"IT.Qtr1","v":0},{"$f":"IF(AG42>=AF42,0,MAX(0,FLOOR(MAX(0,AE42-AG42),100)))","v":{"$error":"#NAME?"}},{"$f":"ROUNDDOWN(AH42,-2) *0.01*3","v":{"$error":"#NAME?"}},null,null,null,"On or before 15th Mar",{"$f":"BBDA.Up16Of12To15Of3","v":{"$error":"#NAME?"}},{"$f":"AN42-AP42","v":{"$error":"#NAME?"}},{"$f":"AN42","v":{"$error":"#NAME?"}},{"$f":"AP42+AQ41","v":{"$error":"#NAME?"}},10,{"$f":"ROUND(AQ42*AR42/100,0)","v":{"$error":"#NAME?"}},{"$f":"IF(Is_44_AD_Applicable,ROUND((NET_Surcharge*AS42)/NET_TAX,0),IF(MarginalRelief>0,ROUND((NET_Surcharge*AS42)/NET_TAX,0),IF((TotalIncome>10000000),ROUND(AS42*SurchargeInterestRate,0),0)))","v":{"$error":"#NAME?"}},{"$f":"ROUND((AS42+AT42)*0.03,0)","v":{"$error":"#NAME?"}},{"$f":"AS42+AT42+AU42","v":{"$error":"#NAME?"}},null,"On or before 15th Mar",{"$f":"IncomefrmLottery.Up16Of12To15Of3","v":{"$error":"#NAME?"}},null,null,null,{"$f":"AY42+BC41","v":{"$error":"#NAME?"}},30,{"$f":"ROUND(BC42*BD42/100,0)","v":{"$error":"#NAME?"}},{"$f":"IF(Is_44_AD_Applicable,ROUND((NET_Surcharge*BE42)/NET_TAX,0),IF(MarginalRelief>0,ROUND((NET_Surcharge*BE42)/NET_TAX,0),IF((TotalIncome>10000000),ROUND(BE42*SurchargeInterestRate,0),0)))","v":{"$error":"#NAME?"}},{"$f":"ROUND((BE42+BF42)*0.03,0)","v":{"$error":"#NAME?"}},{"$f":"BE42+BF42+BG42","v":{"$error":"#NAME?"}}]
["Point 15of Part B-TI",null,"Agriculture Income",{"$f":"IF(Sheet8b.NetAgricultureIncomeOrOtherIncomeForRate>0,IF(GrpA,IF(GrpB,Sheet8b.NetAgricultureIncomeOrOtherIncomeForRate,IF(Case2,(Sheet8b.NetAgricultureIncomeOrOtherIncomeForRate+250000),Sheet8b.NetAgricultureIncomeOrOtherIncomeForRate)),IF(GrpA.PDT, IF(PDT.AOP, IF(Case2,Sheet8b.NetAgricultureIncomeOrOtherIncomeForRate+250000,Sheet8b.NetAgricultureIncomeOrOtherIncomeForRate),Sheet8b.NetAgricultureIncomeOrOtherIncomeForRate),Sheet8b.NetAgricultureIncomeOrOtherIncomeForRate+250000)),0)","v":0},null,null,null,null,null,null,null,null,null,null,"Credit under 115JD",{"$f":"IF(P41<=R57,0,AMTC.TaxSection115JD)","v":0},0.45,"On or before 15th Sept",{"$f":"Z17","v":544200},{"$f":"$R$25","v":0},{"$f":"X33","v":0},{"$f":"AI33+BE40","v":{"$error":"#NAME?"}},{"$f":"AS33+AS40","v":{"$error":"#NAME?"}},{"$f":"BC33","v":0},{"$f":"SUM(S43:X43)","v":{"$error":"#NAME?"}},{"$f":"MAX(Y43,0)","v":{"$error":"#NAME?"}},{"$f":"MAX($AC$39-$AE$38,0)/$AE$40*(MAX(0,Z43-SI_115BBE))+$AC$38","v":{"$error":"#NAME?"}},{"$f":"(Z43+AA43)*0.03","v":{"$error":"#NAME?"}},{"$f":"Z43+AA43+AB43","v":{"$error":"#NAME?"}},{"$f":"MAX(AC43-(Tax.TDS+Tax.TCS+sheet9.CreditUS115JD+Sheet9.TotTaxRelief),0)","v":{"$error":"#NAME?"}},{"$f":"FLOOR(0.45*AD43,100)","v":{"$error":"#NAME?"}},{"$f":"FLOOR(0.36*AD43,100)","v":{"$error":"#NAME?"}},{"$f":"IT.Qtr1+IT.Qtr2","v":0},{"$f":"IF(AG43>=AF43,0,MAX(0,FLOOR(MAX(0,AE43-AG43),100)))","v":{"$error":"#NAME?"}},{"$f":"ROUNDDOWN(AH43,-2) *0.01*3","v":{"$error":"#NAME?"}},null,null,null,"On or before 31th Mar",{"$f":"BBDA.Up16Of3To31Of3","v":{"$error":"#NAME?"}},{"$f":"AN43-AP43","v":{"$error":"#NAME?"}},{"$f":"AN43","v":{"$error":"#NAME?"}},{"$f":"AP43","v":{"$error":"#NAME?"}},10,{"$f":"ROUND(AQ43*AR43/100,0)","v":{"$error":"#NAME?"}},{"$f":"IF(Is_44_AD_Applicable,ROUND((NET_Surcharge*AS43)/NET_TAX,0),IF(MarginalRelief>0,ROUND((NET_Surcharge*AS43)/NET_TAX,0),IF((TotalIncome>10000000),ROUND(AS43*SurchargeInterestRate,0),0)))","v":{"$error":"#NAME?"}},{"$f":"ROUND((AS43+AT43)*0.03,0)","v":{"$error":"#NAME?"}},{"$f":"AS43+AT43+AU43","v":{"$error":"#NAME?"}},null,"On or before 31th Mar",{"$f":"IncomefrmLottery.Up16Of3To31Of3","v":{"$error":"#NAME?"}},null,null,null,{"$f":"AY43","v":{"$error":"#NAME?"}},30,{"$f":"ROUND(BC43*BD43/100,0)","v":{"$error":"#NAME?"}},{"$f":"IF(Is_44_AD_Applicable,ROUND((NET_Surcharge*BE43)/NET_TAX,0),IF(MarginalRelief>0,ROUND((NET_Surcharge*BE43)/NET_TAX,0),IF((TotalIncome>10000000),ROUND(BE43*SurchargeInterestRate,0),0)))","v":{"$error":"#NAME?"}},{"$f":"ROUND((BE43+BF43)*0.03,0)","v":{"$error":"#NAME?"}},{"$f":"BE43+BF43+BG43","v":{"$error":"#NAME?"}}]
[null,null,null,null,null,null,null,null,null,null,null,null,null,null,"Tax Payablle after credit",{"$f":"MAX(0,P42-P43)","v":560526},0.75,"On or before 15th Dec",{"$f":"Z18","v":544200},{"$f":"$R$25","v":0},{"$f":"X34","v":0},{"$f":"AI34+BE41","v":{"$error":"#NAME?"}},{"$f":"AS34+AS41","v":{"$error":"#NAME?"}},{"$f":"BC34","v":0},{"$f":"SUM(S44:X44)","v":{"$error":"#NAME?"}},{"$f":"MAX(Y44,0)","v":{"$error":"#NAME?"}},{"$f":"MAX($AC$39-$AE$38,0)/$AE$40*(MAX(0,Z44-SI_115BBE))+$AC$38","v":{"$error":"#NAME?"}},{"$f":"(Z44+AA44)*0.03","v":{"$error":"#NAME?"}},{"$f":"Z44+AA44+AB44","v":{"$error":"#NAME?"}},{"$f":"MAX(AC44-(Tax.TDS+Tax.TCS+sheet9.CreditUS115JD+Sheet9.TotTaxRelief),0)","v":{"$error":"#NAME?"}},{"$f":"FLOOR(0.75*AD44,100)","v":{"$error":"#NAME?"}},null,{"$f":"IT.Qtr1+IT.Qtr2+IT.Qtr3","v":85000},{"$f":"MAX(0,FLOOR(MAX(0,AE44-AG44),100))","v":{"$error":"#NAME?"}},{"$f":"ROUNDDOWN(AH44,-2) *0.01*3","v":{"$error":"#NAME?"}}]
[null,null,null,null,null,null,null,null,null,null,null,null,null,null,"TAX Relief",{"$f":"Sheet9.TotTaxRelief","v":0},1,"On or before 15th Mar",{"$f":"Z19","v":544200},{"$f":"$R$25","v":0},{"$f":"X35","v":0},{"$f":"AI35+BE42","v":{"$error":"#NAME?"}},{"$f":"AS35+AS42","v":{"$error":"#NAME?"}},{"$f":"BC35","v":0},{"$f":"SUM(S45:X45)","v":{"$error":"#NAME?"}},{"$f":"MAX(Y45,0)","v":{"$error":"#NAME?"}},{"$f":"MAX(0,(AC38+AC39)-AA46)","v":{"$error":"#NAME?"}},{"$f":"(Z45+AA45)*0.03","v":{"$error":"#NAME?"}},{"$f":"Z45+AA45+AB45","v":{"$error":"#NAME?"}},{"$f":"MAX(AC45-(Tax.TDS+Tax.TCS+sheet9.CreditUS115JD+Sheet9.TotTaxRelief),0)","v":{"$error":"#NAME?"}},{"$f":"FLOOR(1*AD45,100)","v":{"$error":"#NAME?"}},null,{"$f":"IT.Qtr1+IT.Qtr2+IT.Qtr3+IT.Qtr4","v":85000},{"$f":"MAX(0,FLOOR(MAX(0,AE45-AG45),100))","v":{"$error":"#NAME?"}},{"$f":"ROUNDDOWN(AH45,-2) *0.01*1","v":{"$error":"#NAME?"}}]
["Group A",null,null,null,null,null,null,null,null,null,null,null,"AMT Calculation for 44AD","Working","Net Tax Liablity",{"$f":"MAX(0,P44-P45)","v":560526},1,"On or before 31th Mar",{"$f":"Z20","v":0},0,{"$f":"X36","v":0},{"$f":"AI36+BE43","v":{"$error":"#NAME?"}},{"$f":"AS36+AS43","v":{"$error":"#NAME?"}},{"$f":"BC36","v":0},{"$f":"SUM(S46:X46)","v":{"$error":"#NAME?"}},{"$f":"MAX(Y46,0)","v":{"$error":"#NAME?"}},{"$f":"MAX($AC$39-$AE$38,0)/$AE$40*(MAX(0,Z46))","v":{"$error":"#NAME?"}},{"$f":"(Z46+AA46)*0.03","v":{"$error":"#NAME?"}},{"$f":"Z46+AA46+AB46","v":{"$error":"#NAME?"}},{"$f":"MAX(0,AC46-(MAX(0, (Tax.TDS+Tax.TCS+sheet9.CreditUS115JD+Sheet9.TotTaxRelief)-AC45)))","v":{"$error":"#NAME?"}},{"$f":"FLOOR(1*AD46,100)","v":{"$error":"#NAME?"}},null,{"$f":"IT.Qtr5","v":0},{"$f":"MAX(0,FLOOR(MAX(0,AE46-AG46-MAX(0,AG45-AE45)),100))","v":{"$error":"#NAME?"}},{"$f":"ROUNDDOWN(AH46,-2) *0.01*1","v":{"$error":"#NAME?"}}]
[250000,null,{"$f":"IF(GrpA,0,IF(GrpA.PDT,0,IF(AND(AgricultureIncome>=0,AgricultureIncome<=A47),0,0)))","v":0},null,null,null,null,null,null,null,null,1,"Total Income as per item 13 of PART-B-TI",null,null,null,null,null,null,null,null,null,null,null,null,null,null,null,null,null,null,null,null,null,{"$f":"MAX(interest234C_MATC,SUM(AI42:AI46))","v":{"$error":"#NAME?"}}]
[500000,null,{"$f":"IF(GrpA,0,IF(GrpA.PDT,0,IF(AND(AgricultureIncome>=250001,AgricultureIncome<=A48),(ROUND(VALUE(AgricultureIncome-A47) * 0.1,0)),0)))","v":0},null,null,null,null,null,null,null,null,2,"Adjustment as per section 115JC(2)",null,null,null,null,{"$f":"MAX(Sheet8b.TotalIncome-P34,0)","v":5256350}]
[1000000,null,{"$f":"IF(GrpA,0,IF(GrpA.PDT,0,IF(AND(AgricultureIncome>=500001,AgricultureIncome<=A49),(ROUND(VALUE(AgricultureIncome-A48) * 0.2,0))+25000,0)))","v":0},null,null,null,null,null,null,null,null,null,"a ","Deduction Claimed under any section included in Chapter VI-A under the heading “C.—Deductions in respect of certain incomes” ","2a",{"$f":"MAX(0,MIN(Sheet8b.GrossTotalIncome-Sheet8b.IncChargeableTaxSplRates-Sheet8b.DeductionsUnder10Aor10AA-Sheet8b.ProfGainSpecifiedBus,scvia.TotPartCchapterVIA_Calc-scvia.Section80P_Calc))","v":0},null,null,null,null,null,null,null,null,"TDS/TCS Value will  not be considered for last Qtr"]
[1000001,null,{"$f":"IF(GrpA,0,IF(GrpA.PDT,0,IF((AgricultureIncome>=A50),(ROUND(VALUE(AgricultureIncome-A49) * 0.3,0))+125000,0)))","v":0},null,null,null,null,null,null,null,null,null,"b ","Deduction Claimed u/s 10AA","2b",{"$f":"MIN(busipofincl.IncOfCurYrAfterSetOffBFLosses2+busipofinclspec.IncOfCurYrAfterSetOffBFLosses2a+busipofinclspecified.IncOfCurYrAfterSetOffBFLosses2b,AA10.TotalDedUs10Sub)","v":0}]
["GrpA.PDT",null,{"$f":"IF(GrpA,0,IF(GrpA.PDT,IF(PDT.MMR,ROUND(VALUE(AgricultureIncome)*0.3,0),0),0))","v":0},null,null,null,null,null,null,null,null,null,"c ","Total Adjustment (2a+ 2b)","2c",{"$f":"P49+P50","v":0}]
["Group C",null,null,null,null,null,null,null,null,null,null,3,"Adjusted Total Income under section 115JC(1) (1+2c)",null,null,null,3]
[null,null,{"$f":"IF(GrpC,0,ROUND(VALUE(AgricultureIncome)*0.3,0))","v":0},null,null,null,null,null,null,null,null,4,"Tax payable under section 115JC [18.5% of (3)] (In the case of Individual, HUF, AOP, BOI, AJP this is applicable if 3 is greater than Rs. 20 lakhs)",null,null,null,4,{"$f":"P51+R48","v":5256350}]
["Group D",null,null,null,null,null,null,null,null,null,null,null,null,null,null,"Surcharge",5,{"$f":"IF(FormulaOfAMT=\"N\",IF(P51<=0,0,IF(R53<=2000000,0,MAX(0,ROUND(0.185*R53,0)))),IF(P51<=0,0,MAX(0,ROUND(0.185*R53,0))))","v":0}]
[10000,null,{"$f":"IF(GrpD,0,IF(AND(AgricultureIncome>=0,AgricultureIncome<=A55),ROUND(VALUE(AgricultureIncome)*0.1,0),0))","v":0},null,null,null,null,null,null,null,null,null,null,null,null,"Education Cess",6,{"$f":"IF(ISERROR(ROUND(((R48*sheet9.deemeds)/Sheet8b.TotalIncome),0)),0,ROUND(((R48*sheet9.deemeds)/Sheet8b.TotalIncome),0))","v":0}]
[20000,null,{"$f":"IF(GrpD,0,IF(AND(AgricultureIncome>=10001,AgricultureIncome<=A56),(ROUND(VALUE(AgricultureIncome-A55) * 0.2,0))+1000,0))","v":0},null,null,null,null,null,null,null,null,null,null,null,null,"Total Tax Deemed",7,{"$f":"ROUND(0.03*(R54+R55),0)","v":0}]
[20001,null,{"$f":"IF(GrpD,0,IF(AND(AgricultureIncome>=A57),(ROUND(VALUE(AgricultureIncome-A56) * 0.3,0))+3000,0))","v":0},null,null,null,null,null,null,null,null,null,null,null,null,null,null,{"$f":"R54+R55+R56","v":0}]
[]
["Group B"]
[]
["Case1",null,{"$f":"IF(GrpB,IF(GrpA,0,IF(GrpA.PDT,IF(PDT.AOP,IF(Case1,ROUND(VALUE(AgricultureIncome)*0.3,0),0),0),0)),IF(Case1,ROUND(VALUE(AgricultureIncome)*0.3,0),0))","v":0}]
["Case2"]
[250000,null,{"$f":"IF(GrpB,IF(GrpA,0,IF(GrpA.PDT,IF(PDT.AOP,IF(Case2,IF(AND(AgricultureIncome>=0,AgricultureIncome<=A63),0,0),0),0),0)),IF(Case2,IF(AND(AgricultureIncome>=0,AgricultureIncome<=A63),0,0),0))","v":0}]
[500000,null,{"$f":"IF(GrpB,IF(GrpA,0,IF(GrpA.PDT,IF(PDT.AOP,IF(Case2,IF(AND(AgricultureIncome>=250001,AgricultureIncome<=A64),(ROUND(VALUE(AgricultureIncome-A63) * 0.1,0)),0),0),0),0)),IF(Case2,IF(AND(AgricultureIncome>=250001,AgricultureIncome<=A64),(ROUND(VALUE(AgricultureIncome-A63) * 0.1,0)),0),0))","v":0}]
[1000000,null,{"$f":"IF(GrpB,IF(GrpA,0,IF(GrpA.PDT,IF(PDT.AOP,IF(Case2,IF(AND(AgricultureIncome>=500001,AgricultureIncome<=A65),(ROUND(VALUE(AgricultureIncome-A64) * 0.2,0))+25000,0),0),0),0)),IF(Case2,IF(AND(AgricultureIncome>=500001,AgricultureIncome<=A65),(ROUND(VALUE(AgricultureIncome-A64) * 0.2,0))+25000,0),0))","v":0},null,null,null,null,null,null,null,null,null,null,null,null,null,null,"SURCHARGE CALCULATION PART For 44 AD"]
[1000001,null,{"$f":"IF(GrpB,IF(GrpA,0,IF(GrpA.PDT,IF(PDT.AOP,IF(Case2,IF((AgricultureIncome>=A66),(ROUND(VALUE(AgricultureIncome-A65) * 0.3,0))+125000,0),0),0),0)),IF(Case2,IF((AgricultureIncome>=A66),(ROUND(VALUE(AgricultureIncome-A65) * 0.3,0))+125000,0),0))","v":0},null,null,null,null,null,null,null,null,null,null,null,null,null,null,"Reference Of Tax Head"]
["Case3",null,null,null,null,null,null,null,null,null,null,null,null,null,null,null,null,"Point 13 of Part B-TI"]
[null,null,{"$f":"IF(GrpB,IF(GrpA,0,IF(GrpA.PDT,IF(PDT.AOP,IF(Case3,ROUND(VALUE(AgricultureIncome *IF(M2=\"NA\",0,(M2/100)))*0.4,0)+ROUND(VALUE(AgricultureIncome *IF(M2=\"NA\",0,((100-M2)/100)))*0.3,0),0),0),0)),IF(Case3,ROUND(VALUE(AgricultureIncome *IF(M2=\"NA\",0,(M2/100)))*0.4,0)+ROUND(VALUE(AgricultureIncome *IF(M2=\"NA\",0,((100-M2)/100)))*0.3,0),0))","v":0},null,null,null,null,null,null,null,null,null,null,null,null,null,null,"Point 2f of Part B-TTI","Not Working"]
[null,null,null,null,null,null,null,null,null,null,null,null,null,null,null,null,null,null,null,"Tax Head","Value"]
["Case4",null,null,null,null,null,null,null,null,null,null,null,null,null,null,null,null,null,null,"Total Income",{"$f":"MAX(Sheet8b.TotalIncome-P34,0)","v":5256350}]
[null,null,{"$f":"IF(GrpB,IF(GrpA,0,IF(GrpA.PDT,IF(PDT.AOP,IF(Case4,ROUND(VALUE(AgricultureIncome)*0.3,0),0),0),0)),IF(Case4,ROUND(VALUE(AgricultureIncome)*0.3,0),0))","v":0},null,null,null,null,null,null,null,null,null,null,null,null,null,null,null,null,"Tax on Income"]
[null,null,null,null,null,null,null,null,null,null,null,null,null,null,null,null,null,null,null,"Surcharge Interest Rate",{"$f":"IF(TotalIncome>10000000,Surcharge_Rate,0)","v":0}]
[null,null,null,null,null,null,null,null,null,null,null,null,null,null,null,null,null,"Group A",null,null,null,null,null,null,null,null,null,null,null,null,"GrpA",null,"GrpD",null,0.1]
["Case5",null,null,null,null,null,null,null,null,null,null,null,null,null,null,null,null,null,null,"Normal Income",{"$f":"TotalIncome1-Sheet8b.IncChargeTaxSplRate111A112","v":5256350},null,null,null,null,null,null,null,null,"K107",{"$f":"MAX(IF(U74>1000000,250000,IF(AND(U74>0,U74<=250000),U74,IF(U74>250000,250000,0))),0)","v":250000},0,{"$f":"MAX(IF(U74>20000,10000,IF(AND(U74>0,U74<=10000),U74,IF(U74>10000,10000,0))),0)","v":10000},null,0.2]
[null,null,{"$f":"IF(GrpB,IF(GrpA,0,IF(GrpA.PDT,IF(PDT.AOP,IF(Case5,ROUND(VALUE(AgricultureIncome)*0.4,0),0),0),0)),IF(Case5,ROUND(VALUE(AgricultureIncome)*0.4,0),0))","v":0},null,null,null,null,null,null,null,null,null,null,null,null,null,null,null,null,null,null,null,null,null,null,null,null,null,null,"K108",{"$f":"MAX(IF(U74>1000000,250000,IF(AND((U74-250000)>=250001,(U74-250000)<=500000),MIN(U74-AE74,250000), IF((U74-250000)>500000, 250000,U74-250000))),0)","v":250000},0.1,{"$f":"MAX(IF(U74>20000,10000,IF(AND(U74>=10001,U74<=20000),U74-AG74,0)),0)","v":10000},null,0.3]
[null,null,null,null,null,null,null,null,null,null,null,null,null,null,null,null,null,null,null,{"$f":"IF(GrpA,0,MAX(IF(NormalIncome1>1000000,250000,IF(AND(NormalIncome1>0,NormalIncome1<=250000),NormalIncome1,IF(NormalIncome1>250000,250000,0))),0))","v":0},0,null,null,null,null,null,null,null,null,"K109",{"$f":"MAX(IF(U74>1000000,500000,IF(AND(U74>=500001,U74<=1000000),MIN(U74-(AE74+AE75),500000),0)),0)","v":500000},0.2,{"$f":"MAX(IF(U74>20000,U74-(AG74+AG75),0),0)","v":5236350}]
[null,null,null,null,null,null,null,null,null,null,null,null,null,null,null,null,null,"Group C",null,{"$f":"IF(GrpA,0,MAX(IF(NormalIncome1>1000000,250000,IF(AND((NormalIncome1-250000)>=250001,(NormalIncome1-250000)<=500000),MIN(NormalIncome1-AE74,250000), IF((NormalIncome1-250000)>500000, 250000,NormalIncome1-250000))),0))","v":0},0.1,null,null,null,null,null,null,null,null,"K110",{"$f":"MAX(IF(U74>1000000,U74-(AE74+AE75+AE76),0),0)","v":4256350},0.3]
["Rebate On Agricultural Income",null,{"$f":"SUM(C47:C75)","v":0},null,null,null,null,null,null,null,null,null,null,null,null,null,null,null,null,{"$f":"IF(GrpA,0,MAX(IF(NormalIncome1>1000000,500000,IF(AND(NormalIncome1>=500001,NormalIncome1<=1000000),MIN(NormalIncome1-(AE74+AE75),500000),0)),0))","v":0},0.2]
[null,null,null,null,null,null,null,null,null,null,null,null,null,null,null,null,null,null,null,{"$f":"IF(GrpA,0,MAX(IF(NormalIncome1>1000000,NormalIncome1-(AE74+AE75+AE76),0),0))","v":0},0.3]
[null,null,null,null,null,null,null,null,null,null,null,null,null,null,null,null,null,"Group D"]
[null,null,null,null,null,null,null,null,null,null,null,null,null,null,null,null,null,null,null,{"$f":"IF(GrpC,0,NormalIncome1)","v":5256350},0.3]
["Surcharge on AMT Income",null,"Working"]
["Tax Payable on deemed total Income under section 115JC ",null,"Total Income",{"$f":"AMT.AdjustedUnderSec115JC","v":5256350},"D83",null,null,null,null,null,null,null,null,null,null,null,null,null,null,{"$f":"IF(GrpD,0,MAX(IF(NormalIncome1>20000,10000,IF(AND(NormalIncome1>0,NormalIncome1<=10000),NormalIncome1,IF(NormalIncome1>10000,10000,0))),0))","v":0},0.1]
[null,null,"Tax",{"$f":"ROUND(sheet9.TaxDeemedTISec115JC,0)","v":0},"D84",null,null,null,null,null,null,null,null,null,null,null,null,"Group B",null,{"$f":"IF(GrpD,0,MAX(IF(NormalIncome1>20000,10000,IF(AND(NormalIncome1>=10001,NormalIncome1<=20000),NormalIncome1-AG74,0)),0))","v":0},0.2]
["Surcharge on Such Income",null,null,{"$f":"IF(D83>10000000,ROUND(D84*Surcharge_Rate,0),0)","v":0},"D85",null,null,null,null,null,null,null,null,null,null,null,null,"Case1",null,{"$f":"IF(GrpD,0,MAX(IF(NormalIncome1>20000,NormalIncome1-(AG74+AG75),0),0))","v":0},0.3]
["Total1",null,null,{"$f":"D84+D85","v":0},"D86",null,null,null,null,null,null,null,null,null,null,null,null,"Case2"]
["Income Exceeding 1 Crores",null,null,{"$f":"IF(D83>10000000,MAX(D83-10000000,0),0)","v":0},"D87"]
["Tax on 1 Crores",null,null,{"$f":"IF(D83>10000000,ROUND(10000000*0.185,0),0)","v":0},"D88",null,null,null,null,null,null,null,null,null,null,null,null,null,null,{"$f":"IF(GrpB,0,IF(Case1,ROUND(VALUE(NormalIncome1),0),0))","v":0},0.3]
["Total2",null,null,{"$f":"D87+D88","v":0},"D89"]
["Marginal Relief",null,null,{"$f":"IF(D83>10000000,IF((D86-D89)>0,(D86-D89),0),0)","v":0},"D90",null,null,null,null,null,null,null,null,null,null,null,null,null,null,{"$f":"IF(GrpA,0,MAX(IF(NormalIncome1>1000000,250000,IF(AND(NormalIncome1>0,NormalIncome1<=250000),NormalIncome1,IF(NormalIncome1>250000,250000,0))),0))","v":0},0]
["Surcharge After Marginal Relief",null,null,{"$f":"IF(D83>10000000,IF(D90<=0,ROUND(D84*Surcharge_Rate,0),MAX(D85-D90,0)),0)","v":0},"D91",null,null,null,null,null,null,null,null,null,null,null,null,"Case3",null,{"$f":"IF(GrpA,0,MAX(IF(NormalIncome1>1000000,250000,IF(AND((NormalIncome1-250000)>=250001,(NormalIncome1-250000)<=500000),MIN(NormalIncome1-AE74,250000), IF((NormalIncome1-250000)>500000, 250000,NormalIncome1-250000))),0))","v":0},0.1]
[null,null,null,null,null,null,null,null,null,null,null,null,null,null,null,null,null,null,null,{"$f":"IF(GrpA,0,MAX(IF(NormalIncome1>1000000,500000,IF(AND(NormalIncome1>=500001,NormalIncome1<=1000000),MIN(NormalIncome1-(AE74+AE75),500000),0)),0))","v":0},0.2]
[null,null,null,null,null,null,null,null,null,null,null,null,null,null,null,null,null,null,null,{"$f":"IF(GrpA,0,MAX(IF(NormalIncome1>1000000,NormalIncome1-(AE74+AE75+AE76),0),0))","v":0},0.3]
[null,null,null,null,null,null,null,null,null,null,null,null,null,null,null,null,null,"Case4"]
[null,null,null,null,null,null,null,null,null,null,null,null,null,null,null,null,null,null,null,{"$f":"IF(GrpB,0,IF(Case3,ROUND(VALUE(NormalIncome1),0)))","v":0},0.4]
[]
[null,null,null,null,null,null,null,null,null,null,null,null,null,null,null,null,null,"Case5"]
[null,null,null,null,null,null,null,null,null,null,null,null,null,null,null,null,null,null,null,{"$f":"IF(GrpB,0,IF(Case4,ROUND(VALUE(NormalIncome1),0),0))","v":0},0.3]
[]
[null,null,"Partial Working",null,null,null,null,null,null,null,null,null,null,null,null,null,null,"111A - STCG on shares where STT paid - 15 % CG & OS"]
["SURCHARGE CALCULATION PART",null,null,null,null,null,null,null,null,null,null,null,null,null,null,null,null,"112 - LTCG on listed securities/ units without indexation -10 % CG  & OS",null,{"$f":"IF(GrpB,0,IF(Case5,ROUND(VALUE(NormalIncome1),0),0))","v":0},0.4]
["Reference Of Tax Head",null,"Tax Head","Value",null,null,null,null,null,null,null,null,null,null,null,null,null,"112 - LTCG on others-20 %   & OS"]
["Point 13 of Part B-TI",null,"Total Income",{"$f":"Sheet8b.TotalIncome","v":5256350},"D103",null,null,null,null,null,null,null,null,null,null,null,null,"30 % ALL CG   & OS",null,{"$f":"SI_111A+SI!I10","v":0},0.15]
["Point 2f of Part B-TTI",null,"Tax on Income",null,"D104",null,null,null,null,null,null,null,null,null,null,null,null,"OS 5%",null,{"$f":"SI!I12+SI!I16+SI!I27+SI!I31+taxablesi+SI_115EA+SI!I26+SI!I25+SI!I24","v":0},0.1]
[null,null,"Surcharge Interest Rate",{"$f":"IF(TotalIncome>10000000,Surcharge_Rate,0)","v":0},null,null,null,null,null,null,null,null,null,null,null,null,null,"OS 12.5%",null,{"$f":"SI!I11+SI!I17+SI!I18+SI!I23+SI!I28+SI!I33","v":0},0.2]
[null,null,null,null,null,null,null,null,null,null,"GrpA",null,"GrpD",null,null,null,null,"OS 25%",null,{"$f":"SI!I30+SI!I36+SI_115BBC","v":0},0.3]
[null,null,"Normal Income",{"$f":"TotalIncome-Sheet8b.IncChargeTaxSplRate111A112","v":5256350},"D107",null,null,null,null,"K107",{"$f":"MAX(IF(D107>1000000,250000,IF(AND(D107>0,D107<=250000),D107,IF(D107>250000,250000,0))),0)","v":250000},0,{"$f":"MAX(IF(D107>20000,10000,IF(AND(D107>0,D107<=10000),D107,IF(D107>10000,10000,0))),0)","v":10000},0.1,null,null,null,"OS 50%",null,{"$f":"SI!I19+SI!I20+SI!I21+SI!I29","v":0},0.05]
[null,null,null,null,null,null,null,null,null,"K108",{"$f":"MAX(IF(D107>1000000,250000,IF(AND((D107-250000)>=250001,(D107-250000)<=500000),MIN(D107-K107,250000), IF((D107-250000)>500000, 250000,D107-250000))),0)","v":250000},0.1,{"$f":"MAX(IF(D107>20000,10000,IF(AND(D107>=10001,D107<=20000),D107-M107,0)),0)","v":10000},0.2,null,null,null,null,null,{"$f":"B115Inc","v":0},0.125]
["Group A",null,{"$f":"IF(GrpA,0,IF(GrpA.PDT,0,MAX(IF(NormalIncome>1000000,250000,IF(AND(NormalIncome>0,NormalIncome<=250000),NormalIncome,IF(NormalIncome>250000,250000,0))),0)))","v":0},0,"D109",null,null,null,null,"K109",{"$f":"MAX(IF(D107>1000000,500000,IF(AND(D107>=500001,D107<=1000000),MIN(D107-(K107+K108),500000),0)),0)","v":500000},0.2,{"$f":"MAX(IF(D107>20000,D107-(M107+M108),0),0)","v":5236350},0.3,null,null,null,"Marginal Relief",null,0,0.25]
[null,null,{"$f":"IF(GrpA,0,IF(GrpA.PDT,0,MAX(IF(NormalIncome>1000000,250000,IF(AND((NormalIncome-250000)>=250001,(NormalIncome-250000)<=500000),MIN(NormalIncome-K107,250000), IF((NormalIncome-250000)>500000, 250000,NormalIncome-250000))),0)))","v":0},0.1,"D110",null,null,null,null,"K110",{"$f":"MAX(IF(D107>1000000,D107-(K107+K108+K109),0),0)","v":4256350},0.3,null,null,null,null,null,"Surcharge",null,{"$f":"SI!#REF!","v":{"$error":"#REF!"}},0.5]
[null,null,{"$f":"IF(GrpA,0,IF(GrpA.PDT,0,MAX(IF(NormalIncome>1000000,500000,IF(AND(NormalIncome>=500001,NormalIncome<=1000000),MIN(NormalIncome-(K107+K108),500000),0)),0)))","v":0},0.2,"D111"]
["GrpA.PDT",null,{"$f":"IF(GrpA,0,IF(GrpA.PDT,IF(PDT.MMR,NormalIncome,0),MAX(IF(NormalIncome>1000000,NormalIncome-(K107+K108+K109),0),0)))","v":0},0.3,"D112",null,null,null,null,null,null,null,null,null,null,null,null,null,null,0]
["Group C",null,null,null,null,null,null,null,null,null,null,null,null,null,null,null,null,null,null,0]
[null,null,{"$f":"IF(GrpC,0,NormalIncome)","v":5256350},0.3,"D114"]
[]
["Group D",null,{"$f":"IF(GrpD,0,MAX(IF(NormalIncome>20000,10000,IF(AND(NormalIncome>0,NormalIncome<=10000),NormalIncome,IF(NormalIncome>10000,10000,0))),0))","v":0},0.1,"D116"]
[null,null,{"$f":"IF(GrpD,0,MAX(IF(NormalIncome>20000,10000,IF(AND(NormalIncome>=10001,NormalIncome<=20000),NormalIncome-M107,0)),0))","v":0},0.2,"D117"]
[null,null,{"$f":"IF(GrpD,0,MAX(IF(NormalIncome>20000,NormalIncome-(M107+M108),0),0))","v":0},0.3,"D118"]
[]
["Group B"]
["Case1",null,{"$f":"IF(GrpB,IF(GrpA,0,IF(GrpA.PDT,IF(PDT.AOP,IF(Case1,ROUND(VALUE(NormalIncome),0),0),0),0)),IF(Case1,ROUND(VALUE(NormalIncome),0),0))","v":0},0.3]
["Case2"]
[null,null,{"$f":"IF(GrpB,IF(GrpA,0,IF(GrpA.PDT,IF(PDT.AOP,E123,0),0)),E123)","v":0},0,{"$f":"IF(Case2,MAX(IF(NormalIncome>1000000,250000,IF(AND(NormalIncome>0,NormalIncome<=250000),NormalIncome,IF(NormalIncome>250000,250000,0))),0),0)","v":0}]
[null,null,{"$f":"IF(GrpB,IF(GrpA,0,IF(GrpA.PDT,IF(PDT.AOP,E124,0),0)),E124)","v":0},0.1,{"$f":"IF(Case2,MAX(IF(NormalIncome>1000000,250000,IF(AND((NormalIncome-250000)>=250001,(NormalIncome-250000)<=500000),MIN(NormalIncome-K107,250000), IF((NormalIncome-250000)>500000, 250000,NormalIncome-250000))),0),0)","v":0}]
[null,null,{"$f":"IF(GrpB,IF(GrpA,0,IF(GrpA.PDT,IF(PDT.AOP,E125,0),0)),E125)","v":0},0.2,{"$f":"IF(Case2,MAX(IF(NormalIncome>1000000,500000,IF(AND(NormalIncome>=500001,NormalIncome<=1000000),MIN(NormalIncome-(K107+K108),500000),0)),0),0)","v":0}]
[null,null,{"$f":"IF(GrpB,IF(GrpA,0,IF(GrpA.PDT,IF(PDT.AOP,E126,0),0)),E126)","v":0},0.3,{"$f":"IF(Case2,MAX(IF(NormalIncome>1000000,NormalIncome-(K107+K108+K109),0),0),0)","v":0}]
["Case3",null,{"$f":"IF(GrpB,IF(GrpA,0,IF(GrpA.PDT,IF(PDT.AOP,IF(Case3,ROUND(VALUE(NormalIncome*H128),0),0),0),0)),IF(Case3,ROUND(VALUE(NormalIncome*H128),0),0))","v":0},0.3,null,null,{"$f":"PMInfo.PercentageOfShareForeignComp","v":0},{"$f":"MIN(100,G127)/100","v":0},"Foreign"]
[null,null,{"$f":"IF(GrpB,IF(GrpA,0,IF(GrpA.PDT,IF(PDT.AOP,IF(Case3,ROUND(VALUE(NormalIncome*H127),0),0),0),0)),IF(Case3,ROUND(VALUE(NormalIncome*H127),0),0))","v":0},0.4,null,null,null,{"$f":"MAX(0,100-G127)/100","v":1},"Domestic"]
[]
["Case4"]
[null,null,{"$f":"IF(GrpB,IF(GrpA,0,IF(GrpA.PDT,IF(PDT.AOP,IF(Case4,ROUND(VALUE(NormalIncome),0),0),0),0)),IF(Case4,ROUND(VALUE(NormalIncome),0),0))","v":0},0.3]
[]
["Case5"]
[null,null,{"$f":"IF(GrpB,IF(GrpA,0,IF(GrpA.PDT,IF(PDT.AOP,IF(Case5,ROUND(VALUE(NormalIncome),0),0),0),0)),IF(Case5,ROUND(VALUE(NormalIncome),0),0))","v":0},0.4]
[]
["111A - STCG on shares where STT paid - 15 % CG & OS",null,{"$f":"SI_111A+SI!I10","v":0},0.15]
["112 - LTCG on listed securities/ units without indexation -10 % CG  & OS",null,{"$f":"SI!I12+SI!I16+SI!I27+SI!I31+taxablesi+SI_115EA+SI!I26+SI!I25+SI!I24+SI!I38+SI!I39","v":0},0.1]
["112 - LTCG on others-20 %   & OS",null,{"$f":"SI!I11+SI!I17+SI!I18+SI!I23+SI!I28+SI!I33","v":0},0.2]
["30 % ALL CG   & OS",null,{"$f":"SI!I30+SI_115BBC","v":0},0.3]
["OS 5%",null,{"$f":"SI!I19+SI!I20+SI!I21+SI!I29+SI!I22","v":0},0.05]
["OS 12.5%",null,{"$f":"B115Inc","v":0},0.125]
["OS 25%",null,0,0.25]
["OS 50%",null,{"$f":"SI!#REF!","v":{"$error":"#REF!"}},0.5]
["OS 60%",null,{"$f":"SI!I36","v":0},0.6]
["Marginal Relief",null,0]
["Surcharge",null,0]
[]
[]
[]
[]
[]
[]
[]
[]
[]
["FOR Surcharge:- Tax Calc",null,"Working"]
[]
["Reference Of Tax Head",null,"Tax Head"]
["Point (16) of Part B-TI",null,"Taxable Income",100000000]
[]
["Group A"]
[250000,null,{"$f":"IF(GrpA,0,IF(GrpA.PDT,0,IF(AND(TaxableIncome1>=0,TaxableIncome1<=A162),0,0)))","v":0}]
[500000,null,{"$f":"IF(GrpA,0,IF(GrpA.PDT,0,IF(AND(TaxableIncome1>=250001,TaxableIncome1<=A163),(ROUND(VALUE(TaxableIncome1-A162) * 0.1,0)),0)))","v":0}]
[1000000,null,{"$f":"IF(GrpA,0,IF(GrpA.PDT,0,IF(AND(TaxableIncome1>=500001,TaxableIncome1<=A164),(ROUND(VALUE(TaxableIncome1-A163) * 0.2,0))+25000,0)))","v":0}]
[1000001,null,{"$f":"IF(GrpA,0,IF(GrpA.PDT,0,IF((TaxableIncome1>=A165),(ROUND(VALUE(TaxableIncome1-A164) * 0.3,0))+125000,0)))","v":0}]
[]
["GrpA.PDT",null,{"$f":"IF(GrpA,0,IF(GrpA.PDT,IF(PDT.MMR,ROUND(VALUE(TaxableIncome1)*0.3,0),0),0))","v":0}]
["Group C"]
[null,null,{"$f":"IF(GrpC,0,ROUND(VALUE(TaxableIncome1)*0.3,0))","v":1500000}]
["Group D"]
[10000,null,{"$f":"IF(GrpD,0,IF(AND(TaxableIncome1>=0,TaxableIncome1<=A171),ROUND(VALUE(TaxableIncome1)*0.1,0),0))","v":0}]
[20000,null,{"$f":"IF(GrpD,0,IF(AND(TaxableIncome1>=10001,TaxableIncome1<=A172),(ROUND(VALUE(TaxableIncome1-A171) * 0.2,0))+1000,0))","v":0}]
[20001,null,{"$f":"IF(GrpD,0,IF(AND(TaxableIncome1>=A173),(ROUND(VALUE(TaxableIncome1-A172) * 0.3,0))+3000,0))","v":0}]
["Group B"]
[]
["Case1",null,{"$f":"IF(GrpB,IF(GrpA,0,IF(GrpA.PDT,IF(PDT.AOP,IF(Case1,ROUND(VALUE(TaxableIncome1)*0.3,0),0),0),0)),IF(Case1,ROUND(VALUE(TaxableIncome1)*0.3,0),0))","v":0}]
["Case2"]
[250000,null,{"$f":"IF(GrpB,IF(GrpA,0,IF(GrpA.PDT,IF(PDT.AOP,IF(Case2,IF(AND(TaxableIncome1>=0,TaxableIncome1<=A178),0,0),0),0),0)),IF(Case2,IF(AND(TaxableIncome1>=0,TaxableIncome1<=A178),0,0),0))","v":0}]
[500000,null,{"$f":"IF(GrpB,IF(GrpA,0,IF(GrpA.PDT,IF(PDT.AOP,IF(Case2,IF(AND(TaxableIncome1>=250001,TaxableIncome1<=A179),(ROUND(VALUE(TaxableIncome1-A178) * 0.1,0)),0),0),0),0)),IF(Case2,IF(AND(TaxableIncome1>=250001,TaxableIncome1<=A179),(ROUND(VALUE(TaxableIncome1-A178) * 0.1,0)),0),0))","v":0}]
[1000000,null,{"$f":"IF(GrpB,IF(GrpA,0,IF(GrpA.PDT,IF(PDT.AOP,IF(Case2,IF(AND(TaxableIncome1>=500001,TaxableIncome1<=A180),(ROUND(VALUE(TaxableIncome1-A179) * 0.2,0))+25000,0),0),0),0)),IF(Case2,IF(AND(TaxableIncome1>=500001,TaxableIncome1<=A180),(ROUND(VALUE(TaxableIncome1-A179) * 0.2,0))+25000,0),0))","v":0}]
[1000001,null,{"$f":"IF(GrpB,IF(GrpA,0,IF(GrpA.PDT,IF(PDT.AOP,IF(Case2,IF((TaxableIncome1>=A181),(ROUND(VALUE(TaxableIncome1-A180) * 0.3,0))+125000,0),0),0),0)),IF(Case2,IF((TaxableIncome1>=A181),(ROUND(VALUE(TaxableIncome1-A180) * 0.3,0))+125000,0),0))","v":0}]
["Case3",null,null,null,null,{"$f":"MIN(TaxableIncome1-F183)","v":5000000}]
[null,null,{"$f":"IF(GrpB,IF(GrpA,0,IF(GrpA.PDT,IF(PDT.AOP,D183,0),0)),D183)","v":0},{"$f":"IF(Case3,ROUND(F182*0.4,0)+ROUND(F183*0.3,0),0)","v":0},null,{"$f":"VALUE(MIN(10000000,GrpB.Case3.Income2))","v":0}]
[]
["Case4"]
[null,null,{"$f":"IF(GrpB,IF(GrpA,0,IF(GrpA.PDT,IF(PDT.AOP,IF(Case4,ROUND(VALUE(TaxableIncome1)*0.3,0),0),0),0)),IF(Case4,ROUND(VALUE(TaxableIncome1)*0.3,0),0))","v":0}]
[]
[]
["Case5"]
[null,null,{"$f":"IF(GrpB,IF(GrpA,0,IF(GrpA.PDT,IF(PDT.AOP,IF(Case5,ROUND(VALUE(TaxableIncome1)*0.4,0),0),0),0)),IF(Case5,ROUND(VALUE(TaxableIncome1)*0.4,0),0))","v":0}]
[]
["Tax on Taxable Income",null,{"$f":"SUM(C162:C190)","v":1500000}]

{"sheet":"QUANTITATIVE_DETAILS","index":12,"n_rows":77,"n_cols":12,"rows_kept":77,"cut":false,"hidden":false,"merged":[[2,3,2,8]]}
[]
[]
[null,null,"Part A – QD","Quantitative details (mandatory if liable for audit under section 44AB)\n(Note: If no entry is made in first row then other rows will not be considered)"]
[null,null,"(a) In the case of a trading concern "]
[null,null,"Item Name","Unit","Opening stock","Purchase during the previous year","Sales during the previous year","Closing stock","Shortage/ excess, if any"]
[null,null,1,2,3,4,7,8,9]
[null,null,"HOUSEHOLD PRODUCTS","107-numbers",4400,86400,79800,11000,0]
[null,null,null,"(Select)"]
[null,null,null,"(Select)"]
[null,null,null,"(Select)"]
[null,null,null,"(Select)"]
[null,null,null,"(Select)"]
[null,null,null,"(Select)"]
[null,null,null,"(Select)"]
[null,null,null,"(Select)"]
[null,null,null,"(Select)"]
[null,null,null,"(Select)"]
[null,null,null,"(Select)"]
[null,null,null,"(Select)"]
[null,null,null,"(Select)"]
[null,null,null,"(Select)"]
[null,null,null,"(Select)"]
[null,null,null,"(Select)"]
[null,null,null,"(Select)"]
[null,null,null,"(Select)"]
[null,null,null,"(Select)"]
[]
[]
[null,null,"(b) In the case of a manufacturing concern - Raw Materials"]
[null,null,"Item Name","Unit","Opening stock","Purchase during the previous year","Consumption during the previous year","Sales during the previous year","Closing stock","Yield Finished Products","Percentage of yield","Shortage/ excess, if any"]
[null,null,1,2,3,4,5,6,7,8,9,10]
[null,null,null,"(Select)"]
[null,null,null,"(Select)"]
[null,null,null,"(Select)"]
[null,null,null,"(Select)"]
[null,null,null,"(Select)"]
[null,null,null,"(Select)"]
[null,null,null,"(Select)"]
[null,null,null,"(Select)"]
[null,null,null,"(Select)"]
[null,null,null,"(Select)"]
[null,null,null,"(Select)"]
[null,null,null,"(Select)"]
[null,null,null,"(Select)"]
[null,null,null,"(Select)"]
[null,null,null,"(Select)"]
[null,null,null,"(Select)"]
[null,null,null,"(Select)"]
[null,null,null,"(Select)"]
[null,null,null,"(Select)"]
[null,null,null,"(Select)"]
[]
[]
[]
[null,null,"(C)  In the case of a manufacturing concern - 7.Finished products/ By-products."]
[null,null,"Item Name","Unit","Opening stock","Purchase during the previous year","Quantity manufactured during the previous year","Sales during the previous year","Closing stock","Shortage/ excess, if any"]
[null,null,1,2,3,4,5,6,7,8]
[null,null,null,"(Select)"]
[null,null,null,"(Select)"]
[null,null,null,"(Select)"]
[null,null,null,"(Select)"]
[null,null,null,"(Select)"]
[null,null,null,"(Select)"]
[null,null,null,"(Select)"]
[null,null,null,"(Select)"]
[null,null,null,"(Select)"]
[null,null,null,"(Select)"]
[null,null,null,"(Select)"]
[null,null,null,"(Select)"]
[null,null,null,"(Select)"]
[null,null,null,"(Select)"]
[null,null,null,"(Select)"]
[null,null,null,"(Select)"]
[null,null,null,"(Select)"]
[null,null,null,"(Select)"]
[null,null,null,"(Select)"]
[null,null,null,"(Select)"]

{"sheet":"HOUSE_PROPERTY","index":13,"n_rows":35,"n_cols":23,"rows_kept":35,"cut":false,"hidden":false,"merged":[[18,4,18,7],[30,3,30,9],[20,4,20,6],[21,4,21,6],[22,4,22,7],[23,4,23,7],[24,4,24,6],[19,4,19,6],[34,2,34,3],[34,4,34,9],[28,4,28,7],[26,4,26,7],[25,4,25,6],[32,4,32,7],[33,4,33,7],[31,3,31,7],[27,4,27,7],[2,16,2,18],[2,12,2,14],[2,2,2,4],[2,5,2,9],[17,4,17,8],[12,4,12,8],[13,4,13,7]]}
[]
[]
[null,null,"Schedule HP",null,null,"Details of Income from House Property (Please refer to instructions)",null,null,null,null,null,null,"HP loss for 2 lakh adjustment",null,null,{"$f":"MAX(HP.TotalIncomeChargeableUnHP,-200000)","v":1279000},"HP loss remaining after adjustment",null,null,{"$f":"MAX(0,(-HP.TotalIncomeChargeableUnHP-200000))","v":0}]
[null,null,null,1,"Address of property","Town/ City","State","Country","PIN Code","Zip Code"]
[null,null,null,null,"25, SECTOR-7, ROHINI","NEW DELHI","09-Delhi","91-INDIA",110075]
[null,null,null,null,"Owner of the Property","Self","Is property co-owned (if “YES” please enter following details)","No","Assessee’s percentage of share in the Property (%)   ",{"$f":"IF(MID(HP.CoOwnedYN1,1,1)=\"Y\",100-SUM(HP.Co.Share1),IF(MID(HP.CoOwnedYN1,1,1)=\"N\",100,0))","v":100},null,null,null,null,null,null,null,null,null,null,26,null,1]
[null,null,null,null,"Sl.No","Name of Other co-owner(s)","PAN of Other co-owner(s)","Aadhaar No. of Other co-owner(s)","Percentage share of other Co-owner(s) in property(%)"]
[null,null,null,null,1,null,null,""]
[null,null,null,null,{"$f":"E8+1","v":2}]
[null,null,null,null,{"$f":"E9+1","v":3},""]
[null,null,null,null,{"$f":"E10+1","v":4}]
[null,null,null,null,{"$f":"E11+1","v":5}]
[null,null,null,1]
[null,null,null,null,"Type of House property?",null,null,null,"Let Out"]
[null,null,null,null,"Sl.No","Name(s) of Tenant(s) (if let out)","PAN of Tenant(s) (if available)","Aadhaar No. of tenant(s)","PAN/TAN of Tenant(s) (if TDS credit is claimed) "]
[null,null,null,null,1,"AMRITANSHU LIMITED","AAACA1247K",null,"DELA12381D"]
[null,null,null,null,{"$f":"E16+1","v":2}]
[null,null,null,1]
[null,null,null,"a","Gross rent received or receivable or letable value  (higher of the two, if let out for whole of the year, lower of the two if let out for part of the year)",null,null,null,"a",2050000]
[null,null,null,"b","The amount of rent which cannot be realized  "]
[null,null,null,"c","Tax paid to local authorities",null,null,50000]
[null,null,null,"d","Total (b + c)",null,null,{"$f":"SUM(H20:H21)","v":50000}]
[null,null,null,"e","Annual value (a – d)",null,null,null,"e",{"$f":"J19-H22","v":2000000}]
[null,null,null,"f","Annual value of the property owned (own percentage share x 1e)",null,null,null,"f",{"$f":"ROUND(J23*J6/100,0)","v":2000000}]
[null,null,null,"g","30% of f ",null,null,{"$f":"MAX(ROUND(0.3*J24,0),0)","v":600000}]
[null,null,null,"h","Interest payable on borrowed capital ",null,null,121000]
[null,null,null,"i","Total (g + h)",null,null,null,"i",{"$f":"SUM(H25:H26)","v":721000}]
[null,null,null,"j","Arrears/Unrealised rent received during the year less 30% ",null,null,null,"j"]
[null,null,null,"k","Income from house property (f – i + j)",null,null,null,"k",{"$f":"J24-J27+J28","v":1279000}]
[]
[]
[null,null,null,"Income under the head “Income from house property”"]
[null,null,null,2,"Pass through income/ loss if any *",null,null,null,2,0]
[null,null,null,{"$f":"D33+1","v":3},"Income under the head “Income from house property” (1k +…...+ 2)  (if negative take the figure to 2i of schedule CYLA) ",null,null,null,3,1279000]
[null,null,"Note :",null,"Furnishing of PAN/Aadhaar No. of tenant is mandatory, if tax is deducted under section 194-IB. \nFurnishing of TAN of tenant is mandatory, if tax is deducted under section 194-I. "]

{"sheet":"BP","index":14,"n_rows":160,"n_cols":14,"rows_kept":160,"cut":false,"hidden":false,"merged":[[94,9,104,10],[67,5,67,6],[69,5,69,6],[85,5,85,6],[64,9,92,10],[98,5,98,6],[64,5,64,6],[68,5,68,6],[84,5,84,6],[70,5,70,6],[93,5,93,8],[97,5,97,6],[86,5,86,6],[48,5,48,8],[47,5,47,8],[59,4,62,4],[46,2,139,2],[3,2,42,2],[107,5,107,8],[120,5,120,8],[96,5,96,6],[94,5,94,6],[55,5,55,6],[56,5,56,6],[58,5,58,8],[45,5,45,8],[2,2,2,4],[2,5,2,10],[28,5,28,6],[15,5,15,6],[62,6,62,8],[3,4,3,8],[4,5,4,8],[6,5,6,6],[7,5,7,8],[29,5,29,6],[36,5,36,8],[5,5,5,6],[39,6,39,8],[59,5,59,6],[54,5,54,6],[57,5,57,8],[150,5,150,8],[135,5,135,8],[131,5,131,8],[134,4,134,8],[130,5,130,8],[132,5,132,8],[133,5,133,8],[139,5,139,8],[137,5,137,8],[146,4,146,8],[136,5,136,8],[145,4,145,6],[142,5,142,8],[138,5,138,8],[147,4,147,8],[148,5,148,8],[149,5,149,8],[63,5,63,8],[71,5,71,6],[128,5,128,8],[119,6,119,8],[105,5,105,8],[104,5,104,6],[65,5,65,6],[66,5,66,6],[103,5,103,6],[95,5,95,6],[92,5,92,6],[129,4,129,8],[121,5,121,8],[106,5,106,8],[151,5,151,8],[156,3,156,6],[159,3,159,7],[157,8,157,9],[153,8,153,9],[154,8,154,9],[155,8,155,9],[156,8,156,9],[159,8,159,9],[153,3,153,6],[157,3,157,6],[155,3,155,6],[158,8,158,9],[158,3,158,7],[154,3,154,6],[152,4,152,8]]}
[]
[]
[null,null,"Schedule BP",null,null,"Computation of income from business or profession"]
[null,null,"INCOME FROM BUSINESS OR PROFESSION","A","From business or profession other than speculative business and specified business"]
[null,null,null,null,1,"Profit before tax as per profit and loss account (item 54, 62ii, 63ii, 64iv and 65iii & 66(iv) of Part A-P&L )",null,null,null,1,{"$f":"SUM(PL.PBT,PL.TotPersumptiveInc44AD,PL.TotPersumptiveInc44ADA,PL.TotalPrsumptvIncUs44E,PL.NetIncomeFrmSpecActivity,PL.TotalNetProfit)","v":2830600}]
[null,null,null,null,"2a","Net profit or loss from speculative business included in 1 (enter –ve sign in case of loss)\n[Sl. No. 66iv of Schedule P&L]",null,"2a",0]
[null,null,null,null,"2b","Net profit or Loss from Specified Business u/s 35AD included in 1 (enter –ve sign in case of loss)",null,"2b"]
[null,null,null,null,3,"Income/ receipts credited to profit and loss account considered under other heads of income/chargeable u/s 115BBF/ chargeable u/s 115BBG"]
[null,null,null,null,null,"a","House Property","3a"]
[null,null,null,null,null,"b","Capital Gains","3b"]
[null,null,null,null,null,"c","Other Sources","3c",{"$f":"sheet10.IncRecCredPLOthHeads4Div+sheet10.IncRecCredPLOthHeads4OthDiv","v":0}]
[null,null,null,null,null,"ci","Dividend Income","3ci"]
[null,null,null,null,null,"cii","Other than Dividend Income","3cii"]
[null,null,null,null,null,"d","u/s 115BBF","3d"]
[null,null,null,null,null,"e","u/s 115BBG","3e",0]
[null,null,null,null,"4a","Profit or loss included in 1, which is referred to in section 44AD/ 44ADA/44AE/44B/44BB/44BBA/44D/44DA/  First Schedule of Income-tax Act  (other than profit from life insurance business referred to in section 115B) ",null,"4a",{"$f":"MAX(0,SUM(H18:H28))","v":0},null,null,null,null,{"$f":"PL.GrsTrnOverOrReceipt+PL.TotPersumptiveInc44AD","v":0}]
[null,null,null,null,null,"Sl. No.","Section","Amount"]
[null,null,null,null,null,1,"44AD",{"$f":"IF(AND(PL.TotPersumptiveInc44AD>0,MID(sheet1.ResidentialStatus1,1,3)=\"RES\",MID(sheet1.SubStatus,1,1)=\"1\",MID(sheet1.MainStatus,1,1)=\"1\"),sheet11.Section44AD,0)","v":0}]
[null,null,null,null,null,{"$f":"F18+1","v":2},"44ADA",{"$f":"IF(AND(PL.TotPersumptiveInc44ADA>0,MID(sheet1.ResidentialStatus1,1,3)=\"RES\",MID(sheet1.SubStatus,1,1)=\"1\",MID(sheet1.MainStatus,1,1)=\"1\"),sheet11.Section44ADA,0)","v":0}]
[null,null,null,null,null,{"$f":"F19+1","v":3},"44AE",{"$f":"sheet11.Section44AE","v":0}]
[null,null,null,null,null,4,"44B",{"$f":"IF(MID(sheet1.ResidentialStatus1,1,3)=\"NRI\",sheet11.Section44B,0)","v":0}]
[null,null,null,null,null,5,"44BB",{"$f":"IF(MID(sheet1.ResidentialStatus1,1,3)=\"NRI\",Sheet11.Section44BB,0)","v":0}]
[null,null,null,null,null,6,"44BBA",{"$f":"IF(MID(sheet1.ResidentialStatus1,1,3)=\"NRI\",sheet11.Section44BBA,0)","v":0}]
[null,null,null,null,null,7,"44BBB"]
[null,null,null,null,null,{"$f":"F23+1","v":7},"44D",{"$f":"0","v":0}]
[null,null,null,null,null,{"$f":"F23+1","v":7},"44DA",{"$f":"IF(MID(sheet1.ResidentialStatus1,1,3)=\"NRI\",sheet12.Section44DA,0)","v":0}]
[null,null,null,null,null,8,"44DB",{"$f":"sheet12.Section44DB","v":0}]
[null,null,null,null,null,{"$f":"F26+1","v":8},"First schedule of income tax Act (other than profit from life insurance business referred to in section 115B) ",null,null,null,null,null,null,{"$f":"IF(AND(PL44AD>0,MID(sheet1.ResidentialStatus1,1,3)=\"RES\",MID(sheet1.SubStatus,1,1)=\"1\",MID(sheet1.MainStatus,1,1)=\"1\"),4,0)","v":0}]
[null,null,null,null,"4b","Profit and gains from life insurance business referred to in section 115B",null,"4b"]
[null,null,null,null,"4c","Profit from activities covered under rule 7, 7A, 7B(1), 7B(1A) and 8",null,"4c",{"$f":"MAX(0,SUM(H32:H36))","v":0}]
[null,null,null,null,null,"Sl. No.","Section","Amount"]
[null,null,null,null,null,"(i)","Profit from activities covered under rule 7",0]
[null,null,null,null,null,"(ii)","Profit from activities covered under rule 7A"]
[null,null,null,null,null,"(iii)","Profit from activities covered under rule 7B(1)"]
[null,null,null,null,null,"(iv)","Profit from activities covered under rule 7B(1A)"]
[null,null,null,null,null,"(v)","Profit from activities covered under rule 8"]
[null,null,null,null,5,"Income credited to Profit and Loss account (included in 1)which is exempt"]
[null,null,null,null,null,"a","share of income from firm(s)","5a",0]
[null,null,null,null,null,"b","Share of income from AOP/ BOI","5b",0]
[null,null,null,null,null,"c","Any other exempt income (specify nature and amount)"]
[null,null,null,null,null,"Sl. No.","Nature",null,"Amount"]
[null,null,null,null,null,1]
[null,null,null,null,null,{"$f":"F42+1","v":2}]
[null,null,null,null,null,{"$f":"F43+1","v":3}]
[null,null,null,null,null,null,"Total","5c",{"$f":"SUM(I42:I44)","v":0}]
[]
[null,null,null,null,null,"d","Total exempt income(5a+5b+5c)","5d",{"$f":"SUM(I38:I44)","v":0}]
[null,null,null,null,6,"Balance (1– 2a – 2b – 3a - 3b – 3c –3d –3e –4a –4b –4c– 5d)",null,null,null,6,{"$f":"K5-I6-I7-I9-I10-I11-I14-I15-I16-I29-I30-I47","v":2830600}]
[null,null,null,null,7,"Expenses debited to profit and loss account considered under other heads of income/related to income chargeable u/s 115BBF / 115BBG"]
[null,null,null,null,null,"a","House Property","7a",0]
[null,null,null,null,null,"b","Capital Gains","7b",0]
[null,null,null,null,null,"c","Other Sources","7c",0]
[null,null,null,null,null,"d","u/s 115BBF","7d"]
[null,null,null,null,null,"e","u/s 115BBG","7e",0]
[null,null,null,null,"8a","Expenses debited to profit and loss account which relate to exempt income",null,"8a",0]
[null,null,null,null,"8b","Expenses debited to profit and loss account  which relate  to exempt income and disallowed u/s 14A (16 of Part A-OI)",null,"8b",{"$f":"MAX(0,sheet7.AmtExpDisallowed)","v":0}]
[null,null,null,null,9," Total (7a + 7b + 7c +7d+7e+ 8a+8b)",null,9,{"$f":"sheet11.ExpDebToPLExemptInc+sheet11.ExpDebToPLOthHeads2+sheet11.ExpDebToPLOthHeads3+sheet11.ExpDebToPLOthHeads4+sheet11.ExpDebToPL115BBF+sheet11.ExpDebToPL115BBG+sheet12.ExpDebToPLExemptIncDisAllwUs14A","v":0}]
[null,null,null,null,10,"Adjusted profit or loss (6+9)",null,null,null,10,{"$f":"sheet11.BalancePLOthThanSpecBus+sheet11.TotExpDebPL","v":2830600}]
[null,null,null,null,11,"Depreciation and Amortization debited to profit and loss account (item 53 of Schedule – P&L & E(vi) of Manufacturing Account)",null,null,null,11,{"$f":"MAX(PL.DepreciationAmort+ManuFactureAcc_DepreciationOfFactoryMachinary,0)","v":1000000}]
[null,null,null,null,12,"Depreciation allowable under Income-tax Act"]
[null,null,null,null,null,"i","Depreciation allowable under section 32(1)(ii) and 32(1)(iia) (column 6 of Schedule-DEP)","12i",{"$f":"IF(DEP_DCG!$J$18>0,DEP_DCG!$J$18,0)","v":1091250}]
[null,null,null,null,null,"ii","Depreciation allowable under section 32(1)(i) (Make your own computation refer Appendix IA of IncomeTax Rules)","12ii"]
[null,null,null,null,null,"iii","Total (12i + 12ii)",null,null,"12iii",{"$f":"SUM(I61:I62)","v":1091250}]
[null,null,null,null,13,"Profit or loss after adjustment for depreciation (10 +11 - 12iii)",null,null,null,13,{"$f":"sheet11.AdjustedPLOthThanSpecBus+sheet11.DepreciationDebPLCosAct-sheet11.TotDeprAllowITAct","v":2739350}]
[null,null,null,null,14,"Amounts debited to the profit and loss account, to the extent disallowable under section 36 (6t of Part A-OI)",null,14,{"$f":"'PART - A OI'!$L$41","v":0}]
[null,null,null,null,15,"Amounts debited to the profit and loss account, to the extent disallowable under section 37 (7j of Part-OI)",null,15,{"$f":"'PART - A OI'!$L$56","v":98000}]
[null,null,null,null,16,"Amounts debited to the profit and loss account, to the extent disallowable under section 40 (8Aj of Part-OI)",null,16,{"$f":"'PART - A OI'!$L$67","v":40000}]
[null,null,null,null,17,"Amounts debited to the profit and loss account, to the extent disallowable under section 40A (9g  of Part A-OI)",null,17,{"$f":"'PART - A OI'!$L$76","v":100000}]
[null,null,null,null,18,"Any amount debited to profit and loss account of the previous year but disallowable under section 43B (11h of Part-OI)",null,18,{"$f":"'PART - A OI'!$L$96","v":800000}]
[null,null,null,null,19,"Interest disallowable under section 23 of the Micro, Small and Medium Enterprises Development Act,2006",null,19,0]
[null,null,null,null,20,"Deemed income under section 41",null,20,0]
[null,null,null,null,21,"Deemed income under section 32AC/32AD/33AB/33ABA/35ABA/35ABB/35AC/40A(3A)/33AC/ 72A/80HHD/80-IA  (21a+21b+21c+21d+21e+21f+21g+21h+21i+21j+21k+21l)",null,21,{"$f":"SUM(I73:I84)","v":0}]
[null,null,null,null,null,"a","32AC","21a",0]
[null,null,null,null,null,"b","32AD","21b",0]
[null,null,null,null,null,"c","33AB","21c",0]
[null,null,null,null,null,"d","33ABA","21d",0]
[null,null,null,null,null,"e","35ABA","21e",0]
[null,null,null,null,null,"f","35ABB","21f",0]
[null,null,null,null,null,"g","35AC","21g",0]
[null,null,null,null,null,"h","40A(3A)","21h",0]
[null,null,null,null,null,"i","33AC","21i",0]
[null,null,null,null,null,"j","72A","21j",0]
[null,null,null,null,null,"k","80HHD","21k",0]
[null,null,null,null,null,"l","80-IA","21l",0]
[null,null,null,null,22,"Deemed income under section 43CA",null,22,0]
[null,null,null,null,23,"Any other item or items of addition under section 28 to 44DB",null,23,0]
[null,null,null,null,24,"Any other income not included in profit and loss account/any other expense not allowable (including income from salary, commission, bonus and interest from firms in which assessee is a partner)",null,24,{"$f":"SUM(I88:I92)","v":0}]
[null,null,null,null,null,"a","Salary","24a",0]
[null,null,null,null,null,"b","Bonus","24b",0]
[null,null,null,null,null,"c","Commission","24c",0]
[null,null,null,null,null,"d","Interest","24d",0]
[null,null,null,null,null,"e","Others","24e",0]
[null,null,null,null,25,"Increase in profit or decrease in loss on account of ICDS adjustments and deviation in method of valuation of stock (Column 3a + 4d of Part A- OI)",null,25,{"$f":"MAX(0,sheet5.ProfDeviatDueAcctMeth+sheet6.EffectOnPL)","v":0}]
[null,null,null,null,26,"Total (14 + 15 +16 +17 +18 +19 + 20 +21 + 22 + 23 + 24 + 25)",null,null,null,26,{"$f":"SUM(I65:I93)-sheet11.DeemIncUs3380HHD80IA-SUM(I88:I92)","v":1038000}]
[null,null,null,null,27,"Deduction allowable under section 32(1)(iii)",null,27,0]
[null,null,null,null,28,"Deduction allowable under section 32AD ",null,28,0]
[null,null,null,null,29,"Amount of deduction under section 35 or 35CCC or 35CCD in excess of the amount debited to profit and loss account (item X(4) of Schedule ESR) (if amount deductible under section 35 or 35CCC or 35CCD is lower than amount debited to P&L account, it will go to item 24)",null,29,{"$f":"ESR!$G$14","v":0}]
[null,null,null,null,30,"Any amount disallowed under section 40 in any preceding previous year but allowable during the previous year(8Bof Part-OI)",null,30,{"$f":"'PART - A OI'!$L$68","v":0}]
[null,null,null,null,31,"Any amount disallowed under section 43B in any preceding previous year but allowable during the previous year(10h   of Part A-OI)",null,31,{"$f":"'PART - A OI'!$L$86","v":0}]
[]
[]
[]
[]
[null,null,null,null,32,"Any other amount allowable as deduction",null,32,0]
[null,null,null,null,33,"Decrease in profit or increase in loss on account of ICDS adjustments and deviation in method of valuation of stock (Column 3b + 4e of Schedule OI)",null,33,{"$f":"MAX(0,sheet5.LossDeviatDueAcctMeth+sheet6.NegEffectOnPL)","v":0}]
[null,null,null,null,34,"Total (27+28+29+30+31+32+33)",null,null,null,34,{"$f":"SUM(I95:I99)+sheet11.AnyOthAmtAllDeduct+sheet11.LossOrProfICDS","v":0}]
[null,null,null,null,35,"Income (13+26-34)",null,null,null,35,{"$f":"sheet11.AdjustPLAfterDeprOthSpecInc+sheet11.TotAfterAddToPLDeprOthSpecInc-sheet11.TotDeductionAmts","v":3777350}]
[null,null,null,null,36,"Profits and gains of business or profession deemed to be under -"]
[null,null,null,null,null,"i","Section 44AD [62(ii) of schedule P&L]","i",{"$f":"PL.TotPersumptiveInc44AD","v":0}]
[null,null,null,null,null,"ii","Section 44ADA [63(ii) of schedule P&L]","ii",{"$f":"PL.TotPersumptiveInc44ADA","v":0}]
[null,null,null,null,null,"iii","Section 44AE [64(v) of schedule P&L]","iii",{"$f":"PL.TotalPrsumptvIncUs44E","v":0}]
[null,null,null,null,null,"iv","Section 44B","iv",0]
[null,null,null,null,null,"v","Section 44BB","v",0]
[null,null,null,null,null,"vi","Section 44BBA","vi",0]
[null,null,null,null,null,"vii","Section 44BBB","vii"]
[null,null,null,null,null,"vii","Section 44D","viii",0]
[null,null,null,null,null,"viii","Section 44DA","ix",0]
[null,null,null,null,null,"x","Section 44DB","x"]
[null,null,null,null,null,"x","First Schedule of Income-tax Act (other than 115B) ","xi"]
[null,null,null,null,null,"xi","Total (36i to 36x)",null,null,"36xi",{"$f":"SUM(I109:I119)","v":0}]
[null,null,null,null,37,"Net profit or loss from business or profession other than speculative and specified business (35 + 36xi)",null,null,null,37,{"$f":"sheet11.PLAftAdjDedBusOthThanSpec+sheet12.TotDeemedProfitBusUs","v":3777350}]
[null,null,null,null,38,"Net Profit or loss from business or profession other than speculative business and specified business after applying rule  7A, 7B  or 8, if applicable (If rule 7A, 7B or 8 is not applicable, enter same figure as in 37) (If loss take the figure to 2i of item E)(38a+ 38b + 38c + 38d + 38e + 38f)",null,null,null,"A38",{"$f":"SUM(I123:I128)","v":3777350}]
[null,null,null,null,null,"a","Chargeable income under Rule 7","a",0]
[null,null,null,null,null,"b","Deemed chargeable Income under Rule 7A","b",0]
[null,null,null,null,null,"c","Deemed chargeable Income under Rule 7B(1)","c",0]
[null,null,null,null,null,"d","Deemed chargeable Income under Rule 7B(1A)","d",0]
[null,null,null,null,null,"e","Deemed chargeable Income under Rule 8","e",0]
[null,null,null,null,null,"f","Income other than Rule 7A, 7B & 8 (Item No. 37)","f",{"$f":"sheet12.NetPLAftAdjBusOthThanSpec","v":3777350}]
[null,null,null,null,39,"Balance of income deemed to be from agriculture, after applying Rule 7, 7A, 7B(1), 7B(1A) and Rule 8 for the purpose of aggregation of income as per Finance Act [4c-(38a+38b+38c+38d+38e)]",null,null,null,39,{"$f":"MAX(0,sheet12.TotalProfitFrmActCvrd-SUM(I123:I127))","v":0}]
[null,null,null,"B","Computation of income from speculative business"]
[null,null,null,null,40,"Net profit or loss from speculative business as per profit or loss account",null,null,null,40,{"$f":"sheet10.NetPLFromSpecBus","v":0}]
[null,null,null,null,41,"Additions in accordance with section 28 to 44DB",null,null,null,41,0]
[null,null,null,null,42,"Deductions in accordance with section 28 to 44DB",null,null,null,42,0]
[null,null,null,null,43,"Income from speculative business (if loss, take the figure to 6xv of schedule CFL) (40+41-42)  ",null,null,null,"B43",{"$f":"sheet12.NetPLFrmSpecBus+sheet12.AdditionUs28to44DA-sheet12.DeductUs28to44DA","v":0}]
[null,null,null,"C","Computation of income from specified business under section 35AD"]
[null,null,null,null,44,"Net profit or loss from specified business as per profit or loss account ",null,null,null,44,{"$f":"sheet10.NetPLFromSpecifiedBus","v":0}]
[null,null,null,null,45,"Additions in accordance with section 28 to 44DB",null,null,null,45,0]
[null,null,null,null,46,"Deductions in accordance with section 28 to 44DB (other than deduction under section,- (i) 35AD, (ii)32 or 35 on which deduction u/s 35AD is claimed) ",null,null,null,46,0]
[null,null,null,null,47,"Profit or loss from specified business (44+45-46)",null,null,null,47,{"$f":"sheet12.NetPLFrmSpecifiedBus+sheet12.AddSec2844DA-sheet12.DedSec2844DA","v":0}]
[null,null,null,null,48,"Deductions in accordance with section 35AD(1)",null,null,null,48]
[null,null,null,null,null,"a","35AD(1)",null,null,"47a"]
[null,null,null,null,null,"b","35AD(1A)",null,null,"47b"]
[null,null,null,null,49,"Income from specified business (47-48)(if loss, take the figure to 7xiv of schedule CFL) ",null,null,null,"C49",{"$f":"sheet12.ProfLossFromSpecifiedBus-sheet12.DeductUs35AD","v":0}]
[null,null,null,null,50,"Relevant clause of sub-section (5) of section 35AD which covers the specified business (to be selected from drop down menu)"]
[null,null,null,null,null,1,"(Select)"]
[]
[null,null,null,"D","Income chargeable under the head ‘Profits and gains’ from business or profession’ (A38+B43+C49)",null,null,null,null,"D",{"$f":"MAX(0,sheet12.AdjustedPLFrmSpecifiedBus)+MAX(0,sheet12.AdjustedPLFrmSpecuBus)+sheet12.NetPLBusOthThanSpec7A7B7C","v":3777350}]
[null,null,null,"E","Computation of income from  life insurance business referred to in section 115B"]
[null,null,null,null,"(i)","Net Profit or loss from life insurance business referred to in section 115B",null,null,null,"(i)",{"$f":"MAX(0,sheet10.PLUs44sChapXIIGOthers)","v":0}]
[null,null,null,null,"(ii)","Additions in accordance with Section 30 to Section 43B ",null,null,null,"(ii)"]
[null,null,null,null,"(iii)","Deductions  in accordance with Section 30 to Section 43B ",null,null,null,"(iii)"]
[null,null,null,null,"(iv)","Income from  life insurance business under section 115B",null,null,null,"(iv)",{"$f":"sheet12.NetPrftorLoss115B+sheet12.AddAccordance43B-sheet12.DedAccordance43B","v":0}]
[null,null,null,"E","Intra head set off of business loss of current year"]
[null,null,null,"Type of Business income",null,null,null,"Income of current year (Fill this column only if figure is zero or positive)","Business loss set off",null,"Business income remaining after set off \n(3) = (1)-(2)"]
[null,null,null,"(i) Loss to be set off (Fill this row only if figure is negative)",null,null,null,null,{"$f":"ABS(MIN(0,sheet12.NetPLBusOthThanSpec7A7B7C))","v":0}]
[null,null,null,"(ii) Income from speculative business",null,null,null,{"$f":"MAX(0,sheet12.AdjustedPLFrmSpecuBus)","v":0},{"$f":"MIN(I155,H156)","v":0},null,{"$f":"H156-I156","v":0}]
[null,null,null,"(iii) Income from specified business",null,null,null,{"$f":"MAX(0,sheet12.AdjustedPLFrmSpecifiedBus)","v":0},{"$f":"MIN(I155-I156,H157)","v":0},null,{"$f":"H157-I157","v":0}]
[null,null,null,"(iv) Profit and gains from life insurance business u/s 115B"]
[null,null,null,"(v) Total loss set off (ii + iii )",null,null,null,null,{"$f":"SUM(I156:J158)","v":0}]
[null,null,null,"(vi) Loss remaining after set off (i – v)",null,null,null,null,{"$f":"I155-I159","v":0}]

{"sheet":"DPM_DOA","index":15,"n_rows":51,"n_cols":17,"rows_kept":51,"cut":false,"hidden":false,"merged":[[2,2,2,3],[3,2,26,2],[28,2,28,3],[28,4,28,11],[29,11,30,11],[29,10,30,10],[4,4,5,4],[4,3,5,3],[2,4,2,8],[3,5,3,8],[31,3,32,3],[29,2,50,2],[29,3,30,3],[29,4,30,4],[29,9,30,9],[29,6,30,8],[29,5,30,5],[31,4,32,4]]}
[]
[]
[null,null,"Schedule DPM",null,"Depreciation on Plant and Machinery (Other than assets on which full capital expenditure is allowable as deduction\nunder any other section) ",null,null,null,null,null,null,null,null,null,null,null,{"$f":"F11+F14-F7-F10-F13","v":-2700000}]
[null,null,"DEPRECIATION ON PLANT AND MACHINERY",1,"Block of assets ","Plant and machinery ",null,null,null,null,null,null,null,null,null,null,{"$f":"G11+G14-G7-G10-G13","v":0}]
[null,null,null,2,"Rate (%) ",15,30,40,45,null,null,null,null,null,null,null,{"$f":"H11+H14-H7-H10-H13","v":-1800000}]
[null,null,null,null,null,"(i) ","(ii) ","(iii) ","(iv) ",null,null,null,null,null,null,null,{"$f":"I11+I14-I7-I10-I13","v":0}]
[null,null,null,3,"Written down value on the first day of previous year ",3240000,null,2160000,null,null,null,null,null,null,null,null,{"$f":"G36+G39-G34-G35-G38","v":0}]
[null,null,null,"3a","Amount as adjusted  on account of opting for taxation  under section 115BAD",null,null,null,null,null,null,null,null,null,null,null,{"$f":"H36+H39-H34-H35-H38","v":0}]
[null,null,null,"3b","Adjusted Written down value on the first day of previous year   (3) + (3a)",{"$f":"DPM15.WDVFirstDay+DPM15.WDVFirstDayBAC","v":3240000},{"$f":"DPM30.WDVFirstDay+DPM30.WDVFirstDayBAC","v":0},{"$f":"DPM40.WDVFirstDay+DPM40.WDVFirstDayBAC","v":2160000},{"$f":"DPM45.WDVFirstDay+DPM45.WDVFirstDayBAC","v":0},null,null,null,null,null,null,null,{"$f":"I36+I39-I34-I35-I38","v":0}]
[null,null,null,4,"Additions for a period of 180 days or more in the previous year ",648000,null,432000,null,null,null,null,null,null,null,null,{"$f":"J36+J39-J34-J35-J38","v":0}]
[null,null,null,5,"Consideration or other realization during the previous year out of  3 or  4 ",1350000,null,900000,null,null,null,null,null,null,null,null,{"$f":"K36+K39-K34-K35-K38","v":0}]
[null,null,null,6,"Amount on which depreciation at full rate to be allowed \n(3 + 4 - 5) (enter 0, if result is negative) ",{"$f":"MAX(0,F7+F10-F11)","v":2538000},{"$f":"MAX(0,G7+G10-G11)","v":0},{"$f":"MAX(0,H7+H10-H11)","v":1692000},{"$f":"MAX(0,I7+I10-I11)","v":0},null,null,null,null,null,null,null,{"$f":"L36+L39-L34-L35-L38","v":0}]
[null,null,null,7,"Additions for a period of less than 180 days in the previous year    ",432000,null,288000]
[null,null,null,8,"Consideration or other realizations during the year out of 7",270000,null,180000]
[null,null,null,9,"Amount on which depreciation at half rate to be allowed (7 - 8) (enter 0, if result in negative) ",{"$f":"MAX(0,F13-F14+MIN(0,F7+F10-F11))","v":162000},{"$f":"MAX(0,G13-G14+MIN(0,G7+G10-G11))","v":0},{"$f":"MAX(0,H13-H14+MIN(0,H7+H10-H11))","v":108000},{"$f":"MAX(0,I13-I14+MIN(0,I7+I10-I11))","v":0}]
[null,null,null,10,"Depreciation on 6 at full rate",{"$f":"ROUND(DPM15.FullRateDeprAmt*DPM15.RATE/100,0)","v":380700},{"$f":"ROUND(DPM30.FullRateDeprAmt*DPM30.RATE/100,0)","v":0},{"$f":"ROUND(DPM40.FullRateDeprAmt*DPM40.RATE/100,0)","v":676800},{"$f":"ROUND(DPM45.FullRateDeprAmt*DPM45.RATE/100,0)","v":0}]
[null,null,null,11,"Depreciation on 9 at half rate ",{"$f":"ROUND(DPM15.HalfRateDeprAmt*DPM15.RATE/200,0)","v":12150},{"$f":"ROUND(DPM30.HalfRateDeprAmt*DPM30.RATE/200,0)","v":0},{"$f":"ROUND(DPM40.HalfRateDeprAmt*DPM40.RATE/200,0)","v":21600},{"$f":"ROUND(DPM45.HalfRateDeprAmt*DPM45.RATE/200,0)","v":0}]
[null,null,null,12,"Additional depreciation, if any, on 4 "]
[null,null,null,13,"Additional depreciation, if any, on 7 "]
[null,null,null,14,"Additional depreciation relating to immediately preceding  year' on asset put to use for less than 180 days "]
[null,null,null,15,"Total depreciation* (10+11+12+13+14)",{"$f":"DPM15.DepreciationAtHalfRate + DPM15.DepreciationAtFullRate + DPM15.AddlnDeprDuringYearAdditions + DPM15.AddlnDeprOnGT180DayAdditions + DPM15.AddlnDeprlessthan180days","v":392850},{"$f":"DPM30.DepreciationAtHalfRate + DPM30.DepreciationAtFullRate + DPM30.AddlnDeprDuringYearAdditions + DPM30.AddlnDeprOnGT180DayAdditions + DPM30.AddlnDeprlessthan180days","v":0},{"$f":"DPM40.DepreciationAtHalfRate + DPM40.DepreciationAtFullRate + DPM40.AddlnDeprDuringYearAdditions + DPM40.AddlnDeprOnGT180DayAdditions + DPM40.AddlnDeprlessthan180days","v":698400},{"$f":"DPM45.DepreciationAtHalfRate + DPM45.DepreciationAtFullRate + DPM45.AddlnDeprDuringYearAdditions + DPM45.AddlnDeprOnGT180DayAdditions + DPM45.AddlnDeprlessthan180days","v":0}]
[null,null,null,16,"Depreciation disallowed under section 38(2) of the I.T. Act (out of column 15)"]
[null,null,null,17,"Net aggregate depreciation (15-16)",{"$f":"MAX(F21-F22,0)","v":392850},{"$f":"MAX(G21-G22,0)","v":0},{"$f":"MAX(H21-H22,0)","v":698400},{"$f":"MAX(I21-I22,0)","v":0}]
[null,null,null,18,"Proportionate aggregate depreciation allowable in the event of succession, amalgamation, demerger etc. (out of column 17) "]
[null,null,null,19,"Expenditure incurred in connection with transfer of asset/ assets "]
[null,null,null,20,"Capital gains/ loss under section 50*   (5 + 8 – 3 – 4 -7 - 19) (enter negative only if block ceases to exist) "]
[null,null,null,21,"Written down value on the last day of previous year* (6+ 9 -15) (enter 0 if result is negative) ",{"$f":"MAX(DPM15.WDVFirstDay+DPM15.AdditionsGrThan180Days -DPM15.RealizationTotalPeriod + DPM15.AdditionsLessThan180Days - DPM15.RealizationPeriodDuringYear - DPM15.TotalDepreciation,0)","v":2307150},{"$f":"MAX(DPM30.WDVFirstDay+DPM30.AdditionsGrThan180Days -DPM30.RealizationTotalPeriod + DPM30.AdditionsLessThan180Days - DPM30.RealizationPeriodDuringYear - DPM30.TotalDepreciation,0)","v":0},{"$f":"MAX(DPM40.WDVFirstDay+DPM40.AdditionsGrThan180Days -DPM40.RealizationTotalPeriod + DPM40.AdditionsLessThan180Days - DPM40.RealizationPeriodDuringYear - DPM40.TotalDepreciation,0)","v":1101600},{"$f":"MAX(DPM45.WDVFirstDay+DPM45.AdditionsGrThan180Days -DPM45.RealizationTotalPeriod + DPM45.AdditionsLessThan180Days - DPM45.RealizationPeriodDuringYear - DPM45.TotalDepreciation,0)","v":0}]
[]
[null,null,"Schedule DOA ",null,"Depreciation on other assets (Other than assets on which full capital expenditure is allowable as deduction) "]
[null,null,"DEPRECIATION ON OTHER ASSETS",1,"Block of assets ","Land","Building (not including land)",null,null,"Furniture and fittings","Intangible Assets","Ships "]
[]
[null,null,null,2,"Rate (%) ","Nil",5,10,40,10,25,20]
[null,null,null,null,null,"(i)","(ii) ","(iii) ","(iv) ","(v) ","(vi) ","(vii) "]
[null,null,null,3,"Written down value on the first day of previous year  "]
[null,null,null,4,"Additions for a period of 180 days or more in the previous year  "]
[null,null,null,5,"Consideration or other realization during the previous year out of  3 or  4  "]
[null,null,null,6,"Amount on which depreciation at full rate to be allowed \n(3 + 4  -5) (enter 0, if result is negative) ",null,{"$f":"MAX(0,G34+G35-G36)","v":0},0,0,0,0,0]
[null,null,null,7,"Additions for a period of less than 180 days in the previous year    "]
[null,null,null,8,"Consideration or other realizations during the year out of 7 "]
[null,null,null,9,"Amount on which depreciation at half rate to be allowed (7-8) (enter 0, if result in negative) ",null,{"$f":"MAX(0,G38-G39+MIN(0,G34+G35-G36))","v":0},0,0,0,0,0]
[null,null,null,10,"Depreciation on 6 at full rate  ",null,{"$f":"ROUND(DAOB5.FullRateDeprAmt*DAOB5.RATE/100,0)","v":0},{"$f":"ROUND(DAOB10.FullRateDeprAmt*DAOB10.RATE/100,0)","v":0},{"$f":"ROUND(DAOB100.FullRateDeprAmt*DAOB100.RATE/100,0)","v":0},{"$f":"ROUND(DAOF10.FullRateDeprAmt*DAOF10.RATE/100,0)","v":0},{"$f":"ROUND(DAOI25.FullRateDeprAmt*DAOI25.RATE/100,0)","v":0},{"$f":"ROUND(DAOS20.FullRateDeprAmt*DAOS20.RATE/100,0)","v":0}]
[null,null,null,11,"Depreciation on 9 at half rate ",null,{"$f":"ROUND(DAOB5.HalfRateDeprAmt*DAOB5.RATE/200,0)","v":0},{"$f":"ROUND(DAOB10.HalfRateDeprAmt*DAOB10.RATE/200,0)","v":0},{"$f":"ROUND(DAOB100.HalfRateDeprAmt*DAOB100.RATE/200,0)","v":0},{"$f":"ROUND(DAOF10.HalfRateDeprAmt*DAOF10.RATE/200,0)","v":0},{"$f":"ROUND(DAOI25.HalfRateDeprAmt*DAOI25.RATE/200,0)","v":0},{"$f":"ROUND(DAOS20.HalfRateDeprAmt*DAOS20.RATE/200,0)","v":0}]
[null,null,null,12,"Additional depreciation, if any, on 4 ",null,0]
[null,null,null,13,"Additional depreciation, if any, on 7 ",null,0]
[null,null,null,12,"Total depreciation (10+11) ",null,{"$f":"DAOB5.DepreciationAtHalfRate + DAOB5.DepreciationAtFullRate + DAOB5.AddlnDeprDuringYearAdditions + DAOB5.AddlnDeprOnGT180DayAdditions","v":0},{"$f":"DAOB10.DepreciationAtHalfRate + DAOB10.DepreciationAtFullRate + DAOB10.AddlnDeprDuringYearAdditions + DAOB10.AddlnDeprOnGT180DayAdditions","v":0},{"$f":"DAOB100.DepreciationAtHalfRate + DAOB100.DepreciationAtFullRate + DAOB100.AddlnDeprDuringYearAdditions + DAOB100.AddlnDeprOnGT180DayAdditions","v":0},{"$f":"DAOF10.DepreciationAtHalfRate + DAOF10.DepreciationAtFullRate + DAOF10.AddlnDeprDuringYearAdditions + DAOF10.AddlnDeprOnGT180DayAdditions","v":0},{"$f":"DAOI25.DepreciationAtHalfRate + DAOI25.DepreciationAtFullRate + DAOI25.AddlnDeprDuringYearAdditions + DAOI25.AddlnDeprOnGT180DayAdditions","v":0},{"$f":"DAOS20.DepreciationAtHalfRate + DAOS20.DepreciationAtFullRate + DAOS20.AddlnDeprDuringYearAdditions + DAOS20.AddlnDeprOnGT180DayAdditions","v":0}]
[null,null,null,13,"Depreciation disallowed under section 38(2) of the I.T. Act (out of column 12)"]
[null,null,null,14,"Net aggregate depreciation (12-13)",null,{"$f":"MAX(G45-G46,0)","v":0},0,0,0,0,0]
[null,null,null,15,"Proportionate aggregate depreciation allowable in the event of succession, amalgamation, demerger etc. (out of column 14)"]
[null,null,null,16,"Expenditure incurred in connection with transfer of asset/ assets "]
[null,null,null,17,"Capital gains/ loss under section 50   (5 + 8 -3-4 -7 -16) (enter negative only if block ceases to exist)"]
[null,null,null,18,"Written down value on the last day of previous year* (6+ 9 -12) (enter 0 if result is negative) ",{"$f":"MAX(DAOB0.WDVFirstDay,0)","v":0},{"$f":"MAX(DAOB5.WDVFirstDay+DAOB5.AdditionsGrThan180Days -DAOB5.RealizationTotalPeriod + DAOB5.AdditionsLessThan180Days - DAOB5.RealizationPeriodDuringYear - DAOB5.TotalDepreciation,0)","v":0},{"$f":"MAX(DAOB10.WDVFirstDay+DAOB10.AdditionsGrThan180Days -DAOB10.RealizationTotalPeriod + DAOB10.AdditionsLessThan180Days - DAOB10.RealizationPeriodDuringYear - DAOB10.TotalDepreciation,0)","v":0},{"$f":"MAX(DAOB100.WDVFirstDay+DAOB100.AdditionsGrThan180Days -DAOB100.RealizationTotalPeriod + DAOB100.AdditionsLessThan180Days - DAOB100.RealizationPeriodDuringYear - DAOB100.TotalDepreciation,0)","v":0},{"$f":"MAX(DAOF10.WDVFirstDay+DAOF10.AdditionsGrThan180Days -DAOF10.RealizationTotalPeriod + DAOF10.AdditionsLessThan180Days - DAOF10.RealizationPeriodDuringYear - DAOF10.TotalDepreciation,0)","v":0},{"$f":"MAX(DAOI25.WDVFirstDay+DAOI25.AdditionsGrThan180Days -DAOI25.RealizationTotalPeriod + DAOI25.AdditionsLessThan180Days - DAOI25.RealizationPeriodDuringYear - DAOI25.TotalDepreciation,0)","v":0},{"$f":"MAX(DAOS20.WDVFirstDay+DAOS20.AdditionsGrThan180Days -DAOS20.RealizationTotalPeriod + DAOS20.AdditionsLessThan180Days - DAOS20.RealizationPeriodDuringYear - DAOS20.TotalDepreciation,0)","v":0}," "]

{"sheet":"DEP_DCG","index":16,"n_rows":35,"n_cols":10,"rows_kept":35,"cut":false,"hidden":false,"merged":[[34,4,34,7],[17,4,17,7],[20,4,20,9],[25,5,25,7],[26,4,26,7],[30,5,30,7],[2,2,2,3],[2,4,2,9],[3,2,17,2],[3,4,3,7],[8,5,8,7],[16,4,16,7],[13,5,13,7],[19,2,19,3],[15,4,15,7],[9,4,9,7],[14,4,14,7],[33,4,33,7],[31,4,31,7],[32,4,32,7],[19,4,19,9]]}
[]
[]
[null,null,"Sch DEP",null,"Summary of depreciation on assets (Other than assets on which full capital expenditure is allowable as deduction under\nany other section) "]
[null,null,"SUMMARY OF DEPRECIATION ON ASSETS",1,"Plant and machinery "]
[null,null,null,null,"a ","Block entitled for depreciation @ 15 per cent ( Schedule DPM -17i or 18i as applicable) ","1a",{"$f":"IF(DPM15.DepreciationAllowed>0,DPM15.DepreciationAllowed,DPM15.NetDepreciation)","v":392850}]
[null,null,null,null,"b ","Block entitled for depreciation @ 30 per cent ( Schedule DPM - 17ii or 18ii as applicable)","1b",{"$f":"IF(DPM30.DepreciationAllowed>0,DPM30.DepreciationAllowed,DPM30.NetDepreciation)","v":0}]
[null,null,null,null,"c ","Block entitled for depreciation @ 40 per cent ( Schedule DPM - 17iii or 18iii as applicable)","1c",{"$f":"IF(DPM40.DepreciationAllowed>0,DPM40.DepreciationAllowed,DPM40.NetDepreciation)","v":698400}]
[null,null,null,null,"d ","Block entitled for depreciation @ 45 per cent ( Schedule DPM – 17iv or 18iv as applicable)","1d",{"$f":"IF(DPM45.DepreciationAllowed>0,DPM45.DepreciationAllowed,DPM45.NetDepreciation)","v":0}]
[null,null,null,null,"e","Total depreciation - plant and machinery (1a+1b+1c+1d) ",null,null,"1e",{"$f":"SUM(H5:H8)","v":1091250}]
[null,null,null,2,"Building (not including land)"]
[null,null,null,null,"a ","Block entitled for depreciation @ 5 per cent (Schedule DOA-  14ii or 15ii as applicable)    ","2a",{"$f":"IF(DAOB5.DepreciationAllowed>0,DAOB5.DepreciationAllowed,DAOB5.NetDepreciation)","v":0}]
[null,null,null,null,"b ","Block entitled for depreciation @ 10 per cent (Schedule DOA-  14iii or 15iii as applicable) ","2b",{"$f":"IF(DAOB10.DepreciationAllowed>0,DAOB10.DepreciationAllowed,DAOB10.NetDepreciation)","v":0}]
[null,null,null,null,"c ","Block entitled for depreciation @ 40 per cent (Schedule DOA- 14iv or 15iv as applicable)","2c",{"$f":"IF(DAOB100.DepreciationAllowed>0,DAOB100.DepreciationAllowed,DAOB100.NetDepreciation)","v":0}]
[null,null,null,null,"d ","Total depreciation on building (2a+2b+2c) ",null,null,"2d",{"$f":"SUM(H11:H13)","v":0}]
[null,null,null,3,"Furniture and fittings (Schedule DOA- 14v or 15v as applicable)",null,null,null,3,{"$f":"IF(DAOF10.DepreciationAllowed>0,DAOF10.DepreciationAllowed,DAOF10.NetDepreciation)","v":0}]
[null,null,null,4,"Intangible assets (Schedule DOA- 14vi or 15vi as applicable)",null,null,null,4,{"$f":"IF(DAOI25.DepreciationAllowed>0,DAOI25.DepreciationAllowed,DAOI25.NetDepreciation)","v":0}]
[null,null,null,5,"Ships (Schedule DOA- 14vii or 15vii as applicable)",null,null,null,5,{"$f":"IF(DAOS20.DepreciationAllowed>0,DAOS20.DepreciationAllowed,DAOS20.NetDepreciation)","v":0}]
[null,null,null,6,"Total depreciation ( 1e+2d+3+4+5) ",null,null,null,6,{"$f":"MAX(0,J9+SUM(J14:J17))","v":1091250}]
[]
[null,null,"Sch DCG",null,"Deemed Capital Gains on sale of depreciable assets"]
[null,null,null,1,"Plant and machinery "]
[null,null,null,null,"a ","Block entitled for depreciation @ 15 per cent (Schedule DPM - 20i)  ","1a",{"$f":"DPM_DOA!$F$26","v":0}]
[null,null,null,null,"b ","Block entitled for depreciation @ 30 per cent (Schedule DPM – 20ii)","1b",{"$f":"DPM_DOA!$G$26","v":0}]
[null,null,null,null,"c ","Block entitled for depreciation @  40 per cent (Schedule DPM - 20iii)","1c",{"$f":"DPM_DOA!$H$26","v":0}]
[null,null,null,null,"d","Block entitled for depreciation @ 45 per cent (Schedule DPM - 20iv)","1d",{"$f":"DPM_DOA!$I$26","v":0}]
[null,null,null,null,"e","Total ( 1a +1b + 1c +1d)",null,null,"1e",{"$f":"SUM(H22:H25)","v":0}]
[null,null,null,2,"Building (not including land)"]
[null,null,null,null,"a ","Block entitled for depreciation @ 5 per cent (Schedule DOA- 17ii) ","2a",{"$f":"DPM_DOA!$G$50","v":0}]
[null,null,null,null,"b ","Block entitled for depreciation @ 10 per cent (Schedule DOA- 17iii)","2b",{"$f":"DPM_DOA!$H$50","v":0}]
[null,null,null,null,"c ","Block entitled for depreciation @ 40 per cent (Schedule DOA- 17iv)","2c",{"$f":"DPM_DOA!$I$50","v":0}]
[null,null,null,null,"d ","Total ( 2a + 2b + 2c) ",null,null,"2d",{"$f":"SUM(H28:H30)","v":0}]
[null,null,null,3,"Furniture and fittings ( Schedule DOA- 17v)",null,null,null,3,{"$f":"DPM_DOA!$J$50","v":0}]
[null,null,null,4,"Intangible assets (Schedule DOA- 17vi)",null,null,null,4,{"$f":"DPM_DOA!$K$50","v":0}]
[null,null,null,5,"Ships (Schedule DOA- 17vii)",null,null,null,5,{"$f":"DPM_DOA!$L$50","v":0}]
[null,null,null,6,"Total ( 1e+2d+3+4+5)",null,null,null,6,{"$f":"SUM(J31:J34)+DCGP.TotPlntMach","v":0}]

{"sheet":"ESR","index":17,"n_rows":15,"n_cols":11,"rows_kept":15,"cut":false,"hidden":false,"merged":[[2,2,2,3],[2,4,2,6],[14,3,14,6]]}
[]
[]
[null,null,"Schedule ESR",null,"Expenditure on scientific Research etc. Deduction under section 35 or 35CCC or 35CCD",null,null,null,null,"CheckRA",{"$f":"IF(SUM(ESR1ii.AmtDebPL,ESR1iia.AmtDebPL,ESR1iii.AmtDebPL,ESR2AA.AmtDebPL,ESR1ii.AmtUs35Allowable,ESR1iia.AmtUs35Allowable,ESR1iii.AmtUs35Allowable,ESR2AA.AmtUs35Allowable)>0,TRUE,FALSE)","v":false}]
[null,null,"Sl. No.","Expenditure of the nature referred to in section (1)","Amount, if any, debited to profit and loss account (2)","Amount of deduction allowable (3)","Amount of deduction in excess of the amount debited to profit and loss account (4) = (3) - (2)"]
[null,null,"i","35(1)(i)",null,null,{"$f":"MAX(0,F5-E5)","v":0}]
[null,null,"ii","35(1)(ii)",null,null,{"$f":"MAX(0,F6-E6)","v":0}]
[null,null,"iii","35(1)(iia)",null,null,0]
[null,null,"iv","35(1)(iii)",null,null,0]
[null,null,"v","35(1)(iv)",null,null,0]
[null,null,"vi","35(2AA)",null,null,0]
[null,null,"vii","35(2AB)",null,null,0]
[null,null,"viii","35CCC",null,null,0]
[null,null,"ix","35CCD",null,null,0]
[null,null,"x","Total",{"$f":"SUM(E5:E13)","v":0},{"$f":"SUM(F5:F13)","v":0},{"$f":"MAX(0,SUM(G5:G13))","v":0}]
[null,null,"Note :","In case any deduction is claimed under sections 35(1)(ii) or 35(1)(iia) or 35(1)(iii) or 35(2AA), please provide the details as per Schedule RA"]

{"sheet":"CG","index":18,"n_rows":342,"n_cols":42,"rows_kept":342,"cut":false,"hidden":false,"merged":[[168,6,168,14],[183,7,183,14],[38,5,38,16],[60,4,61,4],[62,4,77,4],[83,6,83,14],[82,6,82,14],[80,5,82,5],[78,5,78,16],[80,6,80,14],[61,6,61,16],[60,6,60,16],[59,5,59,16],[68,6,68,14],[74,7,74,14],[72,7,72,14],[50,6,50,14],[46,6,46,14],[48,6,48,16],[51,5,55,5],[40,6,40,16],[47,6,47,14],[97,6,97,14],[101,4,101,5],[2,2,2,5],[4,5,4,16],[9,7,9,14],[2,6,2,18],[3,4,3,16],[7,5,9,5],[7,7,7,14],[8,7,8,14],[10,6,10,14],[5,5,5,15],[6,5,6,15],[31,4,31,5],[30,5,30,16],[10,15,10,16],[12,7,12,14],[13,7,13,14],[32,5,32,16],[36,6,36,14],[31,6,31,16],[10,5,15,5],[22,6,22,16],[35,6,35,14],[15,7,15,14],[14,7,14,14],[16,6,16,14],[17,6,17,14],[18,6,18,14],[28,6,28,14],[35,4,37,4],[37,6,37,14],[62,17,76,18],[52,7,52,14],[45,7,45,14],[67,6,67,14],[53,7,53,14],[39,6,39,14],[40,5,45,5],[19,6,19,14],[54,7,54,14],[43,7,43,14],[49,6,49,16],[20,6,20,14],[21,6,21,14],[64,5,66,5],[65,6,65,14],[62,5,62,16],[44,7,44,14],[57,6,57,14],[58,6,58,16],[76,6,76,14],[75,6,75,14],[66,6,66,14],[51,6,51,16],[49,17,57,18],[100,5,100,16],[102,6,103,6],[102,5,103,5],[101,6,101,16],[42,7,42,14],[78,4,98,4],[87,7,87,14],[88,7,88,14],[85,6,85,14],[63,6,63,16],[56,6,56,14],[85,5,90,5],[71,7,71,14],[73,7,73,14],[77,6,77,14],[84,6,84,14],[69,6,69,14],[69,5,74,5],[81,6,81,14],[79,6,79,16],[158,4,158,5],[129,7,129,14],[130,6,130,14],[130,15,130,16],[164,6,164,14],[64,6,64,14],[55,7,55,14],[78,17,97,18],[172,7,172,14],[169,5,174,5],[145,6,145,14],[128,7,128,14],[127,5,129,5],[147,6,147,14],[149,6,149,16],[158,6,158,16],[157,5,157,16],[95,6,95,14],[133,7,133,14],[144,6,144,14],[148,6,148,16],[123,4,123,16],[169,6,169,14],[174,7,174,14],[173,7,173,14],[134,7,134,14],[98,6,98,16],[92,6,92,14],[171,7,171,14],[165,6,165,14],[167,5,167,16],[253,6,253,14],[233,5,233,16],[253,5,255,5],[252,6,252,16],[255,6,255,14],[230,7,230,14],[251,5,251,16],[254,6,254,14],[245,7,245,14],[200,7,200,14],[194,6,194,14],[201,7,201,14],[184,6,184,14],[204,6,204,16],[247,5,247,16],[242,7,242,14],[219,5,219,16],[260,5,263,5],[268,6,268,14],[258,6,258,14],[265,6,265,14],[335,5,335,11],[312,6,312,11],[301,6,301,10],[302,6,302,10],[318,4,318,16],[317,6,317,12],[319,4,321,4],[333,4,333,18],[291,7,291,16],[283,6,283,14],[278,5,278,11],[290,6,290,15],[286,5,286,16],[273,5,274,5],[284,6,284,14],[273,6,274,6],[332,3,332,4],[319,13,319,15],[332,5,332,18],[318,3,331,3],[264,6,264,14],[296,5,296,16],[281,5,281,16],[294,4,294,16],[273,8,274,8],[271,5,271,16],[293,5,293,16],[273,7,274,7],[273,11,274,11],[292,7,292,16],[285,6,285,14],[280,5,280,14],[267,6,267,14],[307,6,307,11],[306,6,306,9],[322,5,322,7],[331,5,331,8],[330,5,330,8],[316,6,316,10],[323,5,326,6],[327,5,329,6],[319,9,319,12],[319,5,321,7],[319,8,320,8],[311,6,311,10],[262,7,262,14],[341,5,341,11],[269,6,269,14],[210,6,210,14],[339,5,339,11],[167,17,174,18],[251,17,268,18],[238,6,238,14],[266,6,266,14],[295,4,295,16],[279,5,279,14],[297,6,297,11],[340,5,340,11],[338,5,338,11],[337,5,337,11],[336,5,336,11],[273,9,273,10],[282,5,282,16],[272,4,272,5],[272,6,272,16],[257,6,257,14],[261,7,261,14],[334,5,334,11],[231,7,231,14],[263,7,263,14],[256,6,256,14],[233,17,245,18],[219,17,231,18],[205,17,217,18],[228,7,228,14],[207,6,207,14],[243,7,243,14],[244,7,244,14],[223,6,223,14],[232,6,232,14],[234,6,234,14],[240,6,240,14],[239,6,239,14],[208,6,208,14],[206,6,206,16],[205,5,205,16],[211,6,211,14],[222,6,222,14],[260,7,260,14],[214,7,214,14],[217,7,217,14],[218,6,218,14],[246,6,246,16],[235,6,235,14],[212,6,212,14],[236,6,236,14],[237,6,237,14],[189,5,189,16],[225,6,225,14],[229,7,229,14],[226,6,226,14],[177,6,177,14],[176,5,176,16],[178,5,183,5],[181,7,181,14],[180,7,180,14],[178,6,178,14],[203,7,203,14],[224,6,224,14],[192,6,192,16],[196,6,196,14],[198,6,198,14],[202,7,202,14],[185,5,185,16],[221,6,221,14],[209,6,209,14],[215,7,215,14],[190,5,190,16],[191,5,191,16],[197,6,197,14],[195,6,195,14],[193,6,193,14],[216,7,216,14],[220,6,220,14],[212,5,217,5],[182,7,182,14],[175,6,175,14],[159,5,159,16],[166,6,166,16],[93,6,93,14],[94,6,94,14],[91,6,91,14],[89,7,89,14],[90,7,90,14],[118,6,118,16],[119,7,119,16],[146,6,146,14],[102,9,102,10],[102,11,103,11],[107,5,107,14],[163,6,163,14],[102,8,103,8],[120,7,120,16],[141,7,141,14],[124,5,124,16],[121,5,121,16],[127,7,127,14],[162,6,162,14],[96,6,96,14],[125,5,125,15],[126,5,126,15],[155,6,155,14],[111,6,111,14],[112,6,112,14],[113,6,113,14],[109,6,109,16],[106,5,106,11],[102,7,103,7],[108,5,108,14],[142,6,142,14],[143,6,143,14],[122,5,122,16],[140,7,140,14],[110,5,110,16],[138,6,138,16]]}
[]
[]
[null,null,"Schedule CG",null,null,null,"Capital Gains"]
[null,null,null,"A","Short-term Capital Gains (STCG) (Sub-items 4 & 5  are not applicable for residents) "]
[null,null,null,null,1,"From sale of land or building or both (fill up details separately for each property)",null,null,null,null,null,null,null,null,null,null,null,null,null,null,null,"TRC Flag",null,null,null,null,null,null,null,null,null,null,null,null,"STCG  BreakUp","Actual Value","STCG DTAA","DTAA Value","LTCG BreakUp","Actual Value","LTCG DTAA","DTAA Value"]
[null,null,null,null,null,"Date of Purchase ",null,null,null,null,null,null,null,null,null,null,""]
[null,null,null,null,null,"Date of Sale",null,null,null,null,null,null,null,null,null,null,""]
[null,null,null,null,null,"a ","i","Full value of consideration received/receivable",null,null,null,null,null,null,null,"ai",null,null,null,null,null,"ResidentialCheck",{"$f":"IF(MID(sheet1.ResidentialStatus1,1,2)=\"RE\",\"RE\",\"NR\")","v":"RE"},null,null,null,null,null,null,null,null,null,null,null,"A1e",{"$f":"STCG_SaleLand_Total","v":0},{"$f":"IF(ResidentialCheck=\"NR\",SUMIFS(STCG.A8_StcgAmt,STCG.A8_CertiStatus,\"=Yes\",STCG.A8_ItemNo,AI8),SUMIF(STCG.A8_ItemNo,AI8,STCG.A8_StcgAmt))","v":0},{"$f":"SUMIF(STCG.A8_ItemNo,AI8,STCG.A8_StcgAmt)","v":0},"B1e",{"$f":"LTCG_SaleLand_Total","v":0},{"$f":"IF(ResidentialCheck=\"NR\",SUMIFS(LTCG.B10_StcgAmt,LTCG.B10_CertiStatus,\"=Yes\",LTCG.B10_ItemNo,AM8),SUMIF(LTCG.B10_ItemNo,AM8,LTCG.B10_StcgAmt))","v":0},{"$f":"SUMIF(LTCG.B10_ItemNo,AM8,LTCG.B10_StcgAmt)","v":0}]
[null,null,null,null,null,null,"ii","Value of property as per stamp valuation authority",null,null,null,null,null,null,null,"aii",null,null,null,null,null,"STCG DTAA Sum",{"$f":"SUM(STCG.A8_StcgAmt)","v":0},null,"LTCG DTAA Sum",{"$f":"SUM(LTCG.B10_StcgAmt)","v":0},null,"F_54D",{"$f":"DEDN.AmtDeducted54D","v":0},"D_54D",{"$f":"STCG.A5ei_ExemptionAmount+LTCG.B7di_ExemptionAmount0+D_54D_Block","v":0},"D_54D_Block",0,null,"A2c",{"$f":"STCG.A20ic_CapgainonAssets","v":0},0,0,"B2e",{"$f":"LTCG.B02e_CapgainonAssets","v":0},0,0]
[null,null,null,null,null,null,"iii","Full value of consideration adopted as per section 50C for the purpose of Capital Gains [in case (aii) does not exceed 1.10 times (ai), take this figure as (ai), or else take (aii)]",null,null,null,null,null,null,null,"aiii",{"$f":"IF(Q9>(1.1*Q8),Q9,Q8)","v":0},null,null,null,null,"Sum of A1e",0,null,"Sum of B1e",0,null,"F_54EC",{"$f":"DEDN.AmtDeductedEC","v":0},"D_54EC",{"$f":"LTCG.B02di_ExemptionAmount+D_54EC_Block","v":0},"D_54EC_Block",0,null,"A3e-111A",{"$f":"STCG.A2ie_CapgainonAssets","v":0},0,0,"B3c",{"$f":"LTCG.B2e_CapgainonAssets","v":0},0,0]
[null,null,null,null,null,"b","Deductions under section 48",null,null,null,null,null,null,null,null,null,null,null,null,null,null,"Sum of aiii",0,null,"Sum of aiii",0,null,"F_54G",{"$f":"DEDN.AmtDeductedG","v":0},"D_54G",{"$f":"STCG.A5eii_ExemptionAmount+LTCG.B7diii_ExemptionAmount+D_54G_Block","v":0},"D_54G_Block",0,null,"A3e-115D",{"$f":"STCG.A2iie_CapgainonAssets","v":0},0,0,"B4c",{"$f":"LTCG.B3e_CapgainonAssets","v":0},0,0]
[null,null,null,null,null,null,"i","Reduction as per clause (iii) of section 48 of the Act, read with rule 8AB of the Rules",null,null,null,null,null,null,null,"bi"]
[null,null,null,null,null,null,"ii","Cost of acquisition without indexation",null,null,null,null,null,null,null,"bii",null,null,null,null,null,"CG_A_Count",1,null,"CG_B_Count",1,null,"F_54GA",{"$f":"DEDN.AmtDeductedGA","v":0},"D_54GA",{"$f":"STCG.A5eiii_ExemptionAmount+LTCG.B7div_ExemptionAmount+D_54GA_Block","v":0},"D_54GA_Block",0,null,"A4a",{"$f":"STCG.A3a_NRItaxSTTPaid","v":0},0,0,"B5c",{"$f":"LTCG.B5f_LTCGonSale","v":0},0,0]
[null,null,null,null,null,null,"iii","Cost of Improvement without indexation",null,null,null,null,null,null,null,"biii",null,null,null,null,null,"CG_A_frmsize",26,null,"CG_B_frmsize",33,null,"F_54EE",0,"D_54EE",0,"D_54EE_Block",0,null,"A4b",{"$f":"STCG.A3b_NRItaxSTTNotPaid","v":0},0,0,"B6c",{"$f":"LTCG.B4d_LTCGOnListedSecurity","v":0},0,0]
[null,null,null,null,null,null,"biv","Expenditure wholly and exclusively in connection with transfer",null,null,null,null,null,null,null,"biv",null,null,null,null,null,null,null,null,null,null,null,null,null,null,null,null,null,null,"A5e",{"$f":"STCG.A4e_CapgainonAssets","v":0},0,0,"B7c-112(1)(c)",{"$f":"LTCG.Bi5e_CapgainonAssets","v":0},0,0]
[null,null,null,null,null,null,"bv","Total (bi + bii + biii+biv)",null,null,null,null,null,null,null,"bv",{"$f":"SUM(Q12:Q15)","v":0},null,null,null,null,null,null,null,null,null,null,null,null,null,null,null,null,null,"A6g",{"$f":"STCG.A5e_CapgainonAssets","v":0},0,0,"B7c-115AB1b",{"$f":"LTCG.Bii3e_CapgainonAssets","v":0},0,0]
[null,null,null,null,null,"c","Balance (aiii – bv)",null,null,null,null,null,null,null,null,"1c",{"$f":"Q10-Q16","v":0},null,null,null,null,null,null,null,null,null,null,null,null,null,null,null,null,null,"A7",{"$f":"STCG.A7_AmtDeemed","v":0},0,0,"B7c-115AC",{"$f":"LTCG.Bii5e_CapgainonAssets","v":0},0,0]
[null,null,null,null,null,"di","Deduction under section 54D(Specify details in item D below)",null,null,null,null,null,null,null,null,"dii",null,null,null,null,null,null,null,null,null,null,null,null,null,null,null,null,null,null,"A8a",{"$f":"STCG_PTI_15Percent","v":0},0,0,"B7c-115AD",{"$f":"LTCG.Biii5e_CapgainonAssets","v":0},0,0]
[null,null,null,null,null,"dii","Deduction under section 54G(Specify details in item D below)",null,null,null,null,null,null,null,null,"diii",null,null,null,null,null,null,null,null,null,null,null,null,null,null,null,null,null,null,"A8b",{"$f":"STCG_PTI_30Percent","v":0},0,0,"B8c",{"$f":"LTCG.B8f_LTCGonSale","v":0},0,0]
[null,null,null,null,null,"dii","Deduction under section 54GA(Specify details in item D below)",null,null,null,null,null,null,null,null,"div",null,null,null,null,null,null,null,null,null,null,null,null,null,null,null,null,null,null,"A8c",{"$f":"STCG_PTI_ApplicableRate","v":0},0,0,"B9e",{"$f":"LTCG.B7e_CapgainonAssets","v":0},0,0]
[null,null,null,null,null,"d","Total Deduction under section 54D/54G/54GA",null,null,null,null,null,null,null,null,"1d",{"$f":"SUM(Q18:Q20)","v":0},null,null,null,null,null,null,null,null,null,null,null,null,null,null,null,null,null,null,null,null,null,"B10",{"$f":"LTCG.B9_AmtDeemed","v":0},0,0]
[null,null,null,null,null,"e ","Short-term Capital Gains on Immovable property (1c - 1d)",null,null,null,null,null,null,null,null,null,null,"A1e",{"$f":"IF(Q17<0,Q17,MAX(0,Q17-Q21))","v":0},null,null,null,null,null,null,null,null,null,null,null,null,null,null,null,null,null,null,null,"B11a1",{"$f":"LTCG_PTI_10Percent_112A","v":0},0,0]
[null,null,null,null,null,"f","In case of transfer of immovable property, please furnish the following details (see note) ",null,null,null,null,null,null,null,null,null,null,null,null,null,null,null,null,null,null,null,null,null,null,null,null,null,null,null,null,null,null,null,"B11a2",{"$f":"LTCG_PTI_10Percent","v":0},0,0]
[null,null,null,null,null,null,"Sl. No.","Name of buyer(s) ","PAN of buyer(s)","Aadhaar No. of buyer(s)","Percentage share ","Amount","Address of property ","State Code","PIN Code","Country","ZipCode ",null,null,null,null,null,null,null,null,null,null,null,null,null,null,null,null,null,null,null,null,null,"B11b",{"$f":"LTCG_PTI_20Percent","v":0},0,0]
[null,null,null,null,null,null,1]
[null,null,null,null,null,null,{"$f":"G25+1","v":2}]
[null,null,null,null,null,null,{"$f":"G26+1","v":3}]
[null,null,null,null,null,null,{"$f":"G27+1","v":4}]
[null,null,null,null,1]
[]
[]
[null,null,null,null,"Note :",null,"Furnishing of PAN/Aadhaar No. is mandatory, if the tax is deduced under section 194-IA or is quoted by buyer in the documents.\nIn case of more than one buyer, please indicate the respective percentage share and amount"]
[null,null,null,null,2,"From Slump sale"]
[null,null,null,null,null,"ai","Fair market value as per Rule 11UAE(2)",null,null,null,null,null,null,null,null,"ai"]
[null,null,null,null,null,"aii","Fair market value as per Rule 11UAE(3)",null,null,null,null,null,null,null,null,"aii"]
[null,null,null,null,null,"aiii","Full value of consideration (higher of ai or aii)",null,null,null,null,null,null,null,null,"aiii",{"$f":"MAX(STCG.A20iia_FullConsideration11UAEii,STCG.A20ia_FullConsideration11UAEi)","v":0}]
[null,null,null,null,null,"b","Net worth of the under taking or division",null,null,null,null,null,null,null,null,"2b"]
[null,null,null,null,null,"c","Short term capital gains from slump sale (2aiii-2b)",null,null,null,null,null,null,null,null,null,null,"A2c",{"$f":"STCG.A20ia_FullConsideration-STCG.A20ib_NetWorthOfDivision","v":0}]
[null,null,null,null,3,"(i) From sale of equity share or unit of equity oriented Mutual Fund (MF) or unit of a business trust  on which STT is paid u/s 111A"]
[null,null,null,null,null,"ia ","Full value of consideration ",null,null,null,null,null,null,null,null,"3ia"]
[null,null,null,null,null,"ib ","Deductions under section 48 "]
[null,null,null,null,null,null,"i ","Reduction as per clause (iii) of section 48 of the Act, read with rule 8AB of the Rules",null,null,null,null,null,null,null,"bi"]
[null,null,null,null,null,null,"ii ","Cost of acquisition without indexation",null,null,null,null,null,null,null,"bii"]
[null,null,null,null,null,null,"iii ","Cost of Improvement without indexation",null,null,null,null,null,null,null,"biii"]
[null,null,null,null,null,null,"iv","Expenditure wholly and exclusively in connection with transfer",null,null,null,null,null,null,null,"biv"]
[null,null,null,null,null,null,"v","Total  ( i + ii + iii+iv) ",null,null,null,null,null,null,null,"bv",{"$f":"SUM(Q42:Q45)","v":0}]
[null,null,null,null,null,"ic ","Balance (3a – 3bv) ",null,null,null,null,null,null,null,null,"3ic",{"$f":"STCG.A2ia_FullConsideration-STCG.A2ibiv_TotalDedn","v":0}]
[null,null,null,null,null,"id ","Loss to be disallowed u/s 94(7) or 94(8) - for example if asset bought/acquired within 3 months prior to record date and dividend/income/bonus units are received, then loss arising out of sale of such asset to be ignored (Enter positive value only)",null,null,null,null,null,null,null,null,"3id"]
[null,null,null,null,null,"ie ","Short-term capital gain on equity share or equity oriented MF (STT paid) u/s 111A [for others]  (3ic +3id)",null,null,null,null,null,null,null,null,null,null,"A3ie",{"$f":"STCG.A2ic_BalanceCG+STCG.A2id_LossSec94of7Or94of8","v":0}]
[null,null,null,null,null,"ii"," From sale of equity share or unit of equity oriented Mutual Fund (MF) on which STT is paid u/s 115AD(1)(b)(ii) [for Foreign Institutional Investors]"]
[null,null,null,null,null,"iia ","Full value of consideration ",null,null,null,null,null,null,null,null,"3iia"]
[null,null,null,null,null,"iib ","Deductions under section 48 "]
[null,null,null,null,null,null,"i ","Cost of acquisition without indexation",null,null,null,null,null,null,null,"bi"]
[null,null,null,null,null,null,"ii ","Cost of Improvement without indexation",null,null,null,null,null,null,null,"bii"]
[null,null,null,null,null,null,"iii ","Expenditure wholly and exclusively in connection with transfer",null,null,null,null,null,null,null,"biii"]
[null,null,null,null,null,null,"iv ","Total  ( i + ii + iii) ",null,null,null,null,null,null,null,"biv",{"$f":"SUM(Q53:Q55)","v":0}]
[null,null,null,null,null,"iic ","Balance (3a – 3biv) ",null,null,null,null,null,null,null,null,"3iic",{"$f":"STCG.A2iia_FullConsideration-STCG.A2iibiv_TotalDedn","v":0}]
[null,null,null,null,null,"iid ","Loss to be disallowed u/s 94(7) or 94(8)- for example if asset bought/acquired within 3 months prior to record date and dividend/income/bonus units are received, then loss arising out of sale of such asset to be ignored (Enter positive value only)",null,null,null,null,null,null,null,null,"3iid"]
[null,null,null,null,null,"iie ","Short-term capital gain on equity share or equity oriented MF (STT paid) (3c +3d)",null,null,null,null,null,null,null,null,null,null,"A3iie",{"$f":"STCG.A2iic_BalanceCG+STCG.A2iid_LossSec94of7Or94of8","v":0}]
[null,null,null,null,4,"For NON-RESIDENT, not being an FII- from sale of shares or debentures of an Indian company (to be computed with foreign exchange adjustment under first proviso to section 48)"]
[null,null,null,null,null,"a","STCG on transactions on which securities transaction tax (STT) is paid",null,null,null,null,null,null,null,null,null,null,"A4a"]
[null,null,null,null,null,"b","STCG on transactions on which securities transaction tax (STT) is not paid",null,null,null,null,null,null,null,null,null,null,"A4b"]
[null,null,null,null,5,"For NON-RESIDENT- from sale of securities (other than those at A3) by an FII as per section 115AD"]
[null,null,null,null,null,"i","In case securities sold include shares of a company other than quoted shares, enter the following details "]
[null,null,null,null,null,null,"a) Full value of consideration received/receivable in respect of unquoted shares",null,null,null,null,null,null,null,null,"ia"]
[null,null,null,null,null,null,"b) Fair market value of unquoted shares determined in the prescribed manner",null,null,null,null,null,null,null,null,"ib"]
[null,null,null,null,null,null,"c) Full value of consideration in respect of unquoted shares adopted as per section 50CA for the purpose of Capital Gains (higher of a or b)",null,null,null,null,null,null,null,null,"ic",{"$f":"MAX(Q65,Q66)","v":0}]
[null,null,null,null,null,"ii","Full value of consideration in respect of securities other than unquoted shares",null,null,null,null,null,null,null,null,"ii"]
[null,null,null,null,null,"iii","Total (ic + ii)",null,null,null,null,null,null,null,null,"aiii",{"$f":"SUM(Q67,Q68)","v":0}]
[null,null,null,null,null,"b","Deductions under section 48"]
[null,null,null,null,null,null,"bi","Reduction as per clause (iii) of section 48 of the Act, read with rule 8AB of the Rules",null,null,null,null,null,null,null,"bi"]
[null,null,null,null,null,null,"bii","Cost of acquisition without indexation",null,null,null,null,null,null,null,"bii"]
[null,null,null,null,null,null,"biii","Cost of improvement without indexation",null,null,null,null,null,null,null,"biii"]
[null,null,null,null,null,null,"biv","Expenditure wholly and exclusively in connection with transfer",null,null,null,null,null,null,null,"biv"]
[null,null,null,null,null,null,"bv","Total (i + ii + iii + iv)",null,null,null,null,null,null,null,"bv",{"$f":"SUM(Q71:Q74)","v":0}]
[null,null,null,null,null,"c","Balance (5aiii – bv)",null,null,null,null,null,null,null,null,"5c",{"$f":"STCG.A4a_FullConsideration-STCG.A4biv_TotalDedn","v":0}]
[null,null,null,null,null,"d","Loss to be disallowed u/s 94(7) or 94(8)- for example if security bought/acquired within 3 months prior to record date and dividend/income/bonus units are received, then loss arising out of sale of such security to be ignored (Enter positive value only)",null,null,null,null,null,null,null,null,"5d"]
[null,null,null,null,null,"e ","Short-term capital gain on securities by an FII (other than those at A3) (5c +5d)",null,null,null,null,null,null,null,null,null,null,"A5e",{"$f":"STCG.A4c_BalanceCG+STCG.A4d_LossSec94of7Or94of8","v":0}]
[null,null,null,null,6,"From sale of assets other than at A1 or A2 or A3 or A4 or A5 above"]
[null,null,null,null,null,"i","In case assets sold include shares of a company other than quoted shares, enter the following details"]
[null,null,null,null,null,null,"a) Full value of consideration received/receivable in respect of unquoted shares",null,null,null,null,null,null,null,null,"ia"]
[null,null,null,null,null,null,"b) Fair market value of unquoted shares determined in the prescribed manner",null,null,null,null,null,null,null,null,"ib"]
[null,null,null,null,null,null,"c) Full value of consideration in respect of unquoted shares adopted as per section 50CA for the purpose of Capital Gains (higher of a or b)",null,null,null,null,null,null,null,null,"ic",{"$f":"MAX(Q81,Q82)","v":0}]
[null,null,null,null,null,"ii","Full value of consideration in respect of assets other than unquoted shares",null,null,null,null,null,null,null,null,"ii"]
[null,null,null,null,null,"iii","Total (ic + ii)",null,null,null,null,null,null,null,null,"aiii",{"$f":"SUM(Q83,Q84)","v":0}]
[null,null,null,null,null,"b","Deductions under section 48"]
[null,null,null,null,null,null,"bi","Reduction as per clause (iii) of section 48 of the Act, read with rule 8AB of the Rules",null,null,null,null,null,null,null,"bi"]
[null,null,null,null,null,null,"bii","Cost of acquisition without indexation",null,null,null,null,null,null,null,"bii"]
[null,null,null,null,null,null,"biii","Cost of Improvement without indexation",null,null,null,null,null,null,null,"biii"]
[null,null,null,null,null,null,"biv","Expenditure wholly and exclusively in connection with transfer",null,null,null,null,null,null,null,"biv"]
[null,null,null,null,null,null,"bv","Total (i + ii + iii + iv)",null,null,null,null,null,null,null,"bv",{"$f":"SUM(Q87:Q90)","v":0}]
[null,null,null,null,null,"c","Balance (6aiii – bv)",null,null,null,null,null,null,null,null,"6c",{"$f":"STCG.A5a_FullConsideration-STCG.A5biv_TotalDedn","v":0}]
[null,null,null,null,null,"d","In case of asset (security/unit) loss to be disallowed u/s 94(7) or 94(8)- for example if asset bought/acquired within 3 months prior to record date and dividend/income/bonus units are received, then loss arising out of sale of such asset to be ignored (Enter positive value only)",null,null,null,null,null,null,null,null,"6d"]
[null,null,null,null,null,"e","Deemed short term capital gains on depreciable assets (6 of schedule- DCG)",null,null,null,null,null,null,null,null,"e",{"$f":"DCG.TotalDepreciation","v":0}]
[null,null,null,null,null,"fi","Deduction under section 54D (Specify details in item D below)",null,null,null,null,null,null,null,null,"fi"]
[null,null,null,null,null,"fii","Deduction under section 54G (Specify details in item D below)",null,null,null,null,null,null,null,null,"fii"]
[null,null,null,null,null,"fiii","Deduction under section 54GA (Specify details in item D below)",null,null,null,null,null,null,null,null,"fiii"]
[null,null,null,null,null,"f","Deduction under section 54D/54G/54GA",null,null,null,null,null,null,null,null,"6f",{"$f":"SUM(Q95:Q97)","v":0}]
[null,null,null,null,null,"g"," STCG on assets other than at A1 or A2 or A3 or A4 or A5 above (6c + 6d + 6e - 6f)",null,null,null,null,null,null,null,null,null,null,"A6g",{"$f":"IF(STCG.A5c_BalanceCG+STCG.A5d_LossSec94of7Or94of8+STCG.A8_DeemedStcgOnAssets<0,STCG.A5c_BalanceCG+STCG.A5d_LossSec94of7Or94of8+STCG.A8_DeemedStcgOnAssets,MAX(0,STCG.A5c_BalanceCG+STCG.A5d_LossSec94of7Or94of8+STCG.A8_DeemedStcgOnAssets-STCG.A5e_ExemptionGrandTotal))","v":0}]
[null,null,null,null,7,"Amount deemed to be short-term capital gains"]
[null,null,null,null,"a","Whether any amount of unutilized capital gain on asset transferred during the previous years shown below was deposited in the Capital Gains Accounts Scheme within due date for that year? If yes, then provide the details below",null,null,null,null,null,null,null,null,null,null,null,"A7a","(Select)"]
[null,null,null,null,"Note :",null,"In case , any amount is utilized out of capital gain account , please fill sl no \"C\" of schedule DI "]
[null,null,null,null,null,null,"Sl. No.","Previous year in which asset transferred","Section under which deduction claimed in that year\n \n","New asset acquired/constructed",null,"Amount not used for new asset or remained unutilized in Capital gains account (X)"]
[null,null,null,null,null,null,null,null,null,"Year in which asset acquired/constructed","Amount utilised out of Capital Gains account "]
[null,null,null,null,null,"i",1]
[null,null,null,null,null,null,3]
[]
[null,null,null,null,"b","Amount deemed to be short term capital gains u/s 54D/54G/54GA, other than at 'a‘",null,null,null,null,null,null,null,null,null,"7b"]
[null,null,null,null,"c","Amount deemed to be short term capital gains as per Section 45(4) read with Section 9B of the Act",null,null,null,null,null,null,null,null,null,"7c"]
[null,null,null,null,null,"iii","Amount deemed to be short term capital gains (aXi + b + c)",null,null,null,null,null,null,null,null,null,null,"A7",{"$f":"SUM(STCG.A7_AmtNotUsed_1,STCG.A7_AmtNotUsed_2+STCG.7b.AmountDeemedOtherthan_a+AmtDeemedStcg45iv)","v":0}]
[null,null,null,null,8,"Pass Through Income/ loss in the nature of Short Term Capital Gain, (Fill up schedule PTI) (A8a + A8b + A8c)",null,null,null,null,null,null,null,null,null,null,null,"A8",{"$f":"SUM(Q112:Q114)","v":0}]
[null,null,null,null,null,"a","Pass Through Income/ Loss in the nature of Short Term Capital Gain, chargeable @ 15% ",null,null,null,null,null,null,null,null,"8a"]
[null,null,null,null,null,"b","Pass Through Income/ Loss in the nature of Short Term Capital Gain, chargeable @ 30% ",null,null,null,null,null,null,null,null,"8b"]
[null,null,null,null,null,"c","Pass Through Income/ Loss in the nature of Short Term Capital Gain, chargeable at applicable rates ",null,null,null,null,null,null,null,null,"8c"]
[null,null,null,null,9,"Amount of  STCG included in A1-A8 but not chargeable to tax or chargeable at special rates in India as per DTAA"]
[null,null,null,null,null,null,"Sl. No.","Amount of income \n(2)","Item No. A1 to A8 above in which included \n(3)","Country name, code \n(4)","Article of DTAA \n(5)","Rate as per Treaty \n(enter NIL, if not chargeable)\n(6)","Whether Tax Residency Certificate obtained? (7)","Section of I.T. Act (8)","Rate as per I.T. Act \n(9)","Applicable rate [lower of (6) or (9)] \n(10)"]
[null,null,null,null,null,null,1,null,"(Select)","(Select)","",null,null,null,null,{"$f":"IF(ResidentialCheck=\"NR\",IF(MID(M117,1,1)=\"Y\",MIN(L117,O117),\"\"),MIN(L117,O117))","v":0}]
[null,null,null,null,null,null,{"$f":"G117+1","v":2},null,"(Select)","(Select)","","",null,null,null,{"$f":"IF(ResidentialCheck=\"NR\",IF(MID(M118,1,1)=\"Y\",MIN(L118,O118),\"\"),MIN(L118,O118))","v":0}]
[]
[null,null,null,null,null,null,"9a","Total amount of STCG not chargeable to tax in India as per DTAA",null,null,null,null,null,null,null,null,null,"A9a",{"$f":"IF(MID(sheet1.ResidentialStatus1,1,3)=\"NRI\",SUM(SUMIFS(STCG.A8_StcgAmt,STCG.A8_CertiStatus,\"Yes\",STCG.A8_Rate_Applicable,{\"\",\"0\"})),SUM(SUMIFS(STCG.A8_StcgAmt,STCG.A8_Rate_Applicable,{\"\",\"0\"})))","v":0}]
[null,null,null,null,null,null,"9b","Total amount of STCG chargeable to tax at special rates in India as per DTAA",null,null,null,null,null,null,null,null,null,"A9b",{"$f":"IF(MID(sheet1.ResidentialStatus1,1,3)=\"NRI\",SUMIFS(STCG.A8_StcgAmt,STCG.A8_CertiStatus,\"Yes\",STCG.A8_Rate_Applicable,\"<>\"\"\",STCG.A8_Rate_Applicable,\"<>0\"),SUM(SUMIFS(STCG.A8_StcgAmt,STCG.A8_Rate_Applicable,\"<>\"\"\",STCG.A8_Rate_Applicable,\"<>0\")))","v":0}]
[null,null,null,null,9,"Deemed short term capital gains on depreciable assets (6 of schedule- DCG)"]
[null,null,null,null,10,"Total Short-term Capital Gain (A1e+ A2c+ A3e+ A4a+ A4b+ A5e+ A6g+A7 + A8  – A9a)",null,null,null,null,null,null,null,null,null,null,null,"A10",{"$f":"STCG_SaleLand_Total+STCG.A20ic_CapgainonAssets+STCG.A2ie_CapgainonAssets+STCG.A2iie_CapgainonAssets+STCG.A3a_NRItaxSTTPaid+STCG.A3b_NRItaxSTTNotPaid+STCG.A4e_CapgainonAssets+STCG.A5e_CapgainonAssets+STCG.A7_AmtDeemed+STCG_PTI_Total-STCG.A8a_StcgDTAA","v":0}]
[null,null,null,"B","Long-term capital gain (LTCG) (Items 6, 7 & 8 are not applicable for residents)"]
[null,null,null,null,1,"From sale of land or building or both (fill up details separately for each property)"]
[null,null,null,null,null,"Date of Purchase "]
[null,null,null,null,null,"Date of Sale",null,null,null,null,null,null,null,null,null,null,""]
[null,null,null,null,null,"a","i","Full value of consideration received/receivable",null,null,null,null,null,null,null,"ai"]
[null,null,null,null,null,null,"ii","Value of property as per stamp valuation authority",null,null,null,null,null,null,null,"aii"]
[null,null,null,null,null,null,"iii","Full value of consideration adopted as per section 50C for the purpose of Capital Gains [in case (aii) does not exceed 1.10 times (ai), take this figure as (ai), or else take (aii)]",null,null,null,null,null,null,null,"aiii",{"$f":"IF(Q129>(1.1*Q128),Q129,Q128)","v":0}]
[null,null,null,null,null,"b","Deductions under section 48"]
[null,null,null,null,null,null,"bi","Reduction as per clause (iii) of section 48 of the Act, read with rule 8AB of the Rules",null,null,null,null,null,null,null,"bi"]
[null,null,null,null,null,null,"bii","Cost of acquisition",null,null,null,null,null,null,null,"bii"]
[null,null,null,null,null,null,"biia","Cost of acquisition with indexation",null,null,null,null,null,null,null,"biia",{"$f":"IF(OR(LEN(Q126)<>10,LEN(Q127)<>10),0,ROUND(Q133*VLOOKUP(VALUE(IF(Q127=\"\",2001,IF(VALUE(MID(Q127,4,2))>3,VALUE(MID(Q127,7,4)),VALUE(MID(Q127,7,4))-1))),CostInflationtbl,2)/VLOOKUP(MAX(2001,VALUE(IF(Q126=\"\",2001,IF(VALUE(MID(Q126,4,2))>3,VALUE(MID(Q126,7,4)),VALUE(MID(Q126,7,4))-1)))),CostInflationtbl,2),0))","v":0}]
[null,null,null,null,null,null,"biib","Total Cost of Improvement with indexation",null,null,null,null,null,null,null,"biib",{"$f":"SUM(LTCG_SaleLand_ImproveCost1)","v":0}]
[null,null,null,null,null,null,"SrNo","Cost of improvement","Year of Improvement","Cost of Improvement with indexation"]
[null,null,null,null,null,null,1,null,null,{"$f":"ROUND(IF(H137=\"\",0,H137*VLOOKUP(VALUE(IF($Q$127=\"\",2001,IF(VALUE(MID($Q$127,4,2))>3,VALUE(MID($Q$127,7,4)),VALUE(MID($Q$127,7,4))-1))),CostInflationtbl,2)/VLOOKUP(MAX(2001,VALUE(IF(_xlfn.CONCAT(\"01/04/\",MID(I137,1,4))=\"\",2001,VALUE(MID(_xlfn.CONCAT(\"01/04/\",MID(I137,1,4)),7,4))))),CostInflationtbl,2)),0)","v":0}]
[null,null,null,null,null,null,{"$f":"G137+1","v":2},null,null,{"$f":"ROUND(IF(H138=\"\",0,H138*VLOOKUP(VALUE(IF($Q$127=\"\",2001,IF(VALUE(MID($Q$127,4,2))>3,VALUE(MID($Q$127,7,4)),VALUE(MID($Q$127,7,4))-1))),CostInflationtbl,2)/VLOOKUP(MAX(2001,VALUE(IF(_xlfn.CONCAT(\"01/04/\",MID(I138,1,4))=\"\",2001,VALUE(MID(_xlfn.CONCAT(\"01/04/\",MID(I138,1,4)),7,4))))),CostInflationtbl,2)),0)","v":0}]
[null,null,null,null,1]
[]
[null,null,null,null,null,null,"iii","Expenditure wholly and exclusively in connection with transfer",null,null,null,null,null,null,null,"biii"]
[null,null,null,null,null,null,"biv","Total (bi + biia + biib + biii)",null,null,null,null,null,null,null,"biv",{"$f":"Q132+Q134+Q135+Q141","v":0}]
[null,null,null,null,null,"c","Balance (aiii – biv)",null,null,null,null,null,null,null,null,"1c",{"$f":"Q130-Q142","v":0}]
[null,null,null,null,null,"di","Deduction under section 54D (Specify details in item D below)",null,null,null,null,null,null,null,null,"di"]
[null,null,null,null,null,"dii","Deduction under section 54EC (Specify details in item D below)",null,null,null,null,null,null,null,null,"dii"]
[null,null,null,null,null,"diii","Deduction under section 54G (Specify details in item D below)",null,null,null,null,null,null,null,null,"diii"]
[null,null,null,null,null,"div","Deduction under section 54GA (Specify details in item D below)",null,null,null,null,null,null,null,null,"div"]
[null,null,null,null,null,"d","Total Deduction under section 54D/54EC/54G/54GA  (Specify details in item D below) ",null,null,null,null,null,null,null,null,"1d",{"$f":"SUM(Q144:Q147)","v":0}]
[null,null,null,null,null,"e ","Long-term Capital Gains on Immovable property (1c - 1d)",null,null,null,null,null,null,null,null,null,null,"B1e",{"$f":"IF(Q143<0,Q143,MAX(0,Q143-Q148))","v":0}]
[null,null,null,null,null,"f","In case of transfer of immovable property, please furnish the following details (see note) "]
[null,null,null,null,null,null,"Sl. No.","Name of buyer(s) ","PAN of buyer(s)","Aadhaar No. of buyer(s)","Percentage share ","Amount","Address of property ","State Code","PIN Code","Country","ZipCode "]
[null,null,null,null,null,null,1,null,null,null,null,null,null,"(Select)",null,"(Select)"]
[null,null,null,null,null,null,{"$f":"G152+1","v":2},null,null,null,null,null,null,"(Select)",null,"(select)"]
[null,null,null,null,null,null,{"$f":"G153+1","v":3},null,null,null,null,null,null,"(Select)",null,"(select)"]
[null,null,null,null,null,null,{"$f":"G154+1","v":4},null,null,null,null,null,null,"(Select)",null,"(select)"]
[null,null,null,null,1]
[]
[]
[null,null,null,null,"Note :",null,"Furnishing of PAN/Aadhaar No. is mandatory, if the tax is deduced under section 194-IA or is quoted by buyer in the documents.\nIn case of more than one buyer, please indicate the respective percentage share and amount"]
[null,null,null,null,2,"From Slump sale"]
[null,null,null,null,null,"ai","Fair market value as per Rule 11UAE(2)",null,null,null,null,null,null,null,null,"2ai",0]
[null,null,null,null,null,"aii","Fair market value as per Rule 11UAE(3)",null,null,null,null,null,null,null,null,"2aii",0]
[null,null,null,null,null,"aiii","Full value of consideration   (higher of ai or aii)",null,null,null,null,null,null,null,null,"2aiii",{"$f":"MAX(LTCG.B02a_FullConsiderationUAEi,LTCG.B02a_FullConsiderationUAEii)","v":0}]
[null,null,null,null,null,"b","Net worth of the under taking or division",null,null,null,null,null,null,null,null,"2b",0]
[null,null,null,null,null,"c","Balance (2aiii - 2b)",null,null,null,null,null,null,null,null,"2c",{"$f":"LTCG.B02a_FullConsideration-LTCG.B02b_NetWorthOfDivision","v":0}]
[null,null,null,null,null,"d","Deduction u/s 54EC (Specify details in item D below)",null,null,null,null,null,null,null,null,"di",0]
[null,null,null,null,null,"e","Long term capital gains from slump sale (2c-2d)",null,null,null,null,null,null,null,null,null,null,"B2e",{"$f":"IF(LTCG.B02c_SlumpBalance<0,LTCG.B02c_SlumpBalance,MAX(0,LTCG.B02c_SlumpBalance-LTCG.B02di_ExemptionAmount))","v":0}]
[null,null,null,null,3,"From sale of bonds or debenture (other than capital indexed bonds issued by Government)"]
[null,null,null,null,null,"a","Full value of consideration",null,null,null,null,null,null,null,null,"3a",0]
[null,null,null,null,null,"b","Deductions under section 48"]
[null,null,null,null,null,null,"bi","Reduction as per clause (iii) of section 48 of the Act, read with rule 8AB of the Rules",null,null,null,null,null,null,null,"bi",0]
[null,null,null,null,null,null,"bii","Cost of acquisition without indexation",null,null,null,null,null,null,null,"bii",0]
[null,null,null,null,null,null,"biii","Cost of improvement without indexation",null,null,null,null,null,null,null,"biii",0]
[null,null,null,null,null,null,"biv","Expenditure wholly and exclusively in connection with transfer",null,null,null,null,null,null,null,"biv",0]
[null,null,null,null,null,null,"bv","Total (bi + bii +biii+biv)",null,null,null,null,null,null,null,"v",{"$f":"SUM(Q171:Q174)","v":0}]
[null,null,null,null,null,"c","LTCG on bonds or debenture (3a – biv)",null,null,null,null,null,null,null,null,null,null,"B3c",{"$f":"IF(LTCG.B2a_FullConsideration<0,LTCG.B2a_FullConsideration,LTCG.B2a_FullConsideration-LTCG.B2biv_TotalDedn)","v":0}]
[null,null,null,null,4,"From sale of listed securities (other than a unit) or zero coupon bonds where proviso under section 112(1) is applicable "]
[null,null,null,null,null,"a","Full value of consideration",null,null,null,null,null,null,null,null,"4ia",0]
[null,null,null,null,null,"b","Deductions under section 48"]
[null,null,null,null,null,null,"4i","Reduction as per clause (iii) of section 48 of the Act, read with rule 8AB of the Rules",null,null,null,null,null,null,null,"bi",0]
[null,null,null,null,null,null,"4ii","Cost of acquisition without indexation",null,null,null,null,null,null,null,"bii",0]
[null,null,null,null,null,null,"4iii","Cost of improvement without indexation",null,null,null,null,null,null,null,"biii",0]
[null,null,null,null,null,null,"4iv","Expenditure wholly and exclusively in connection with transfer",null,null,null,null,null,null,null,"biv",0]
[null,null,null,null,null,null,"4v","Total (bi + bii + biii + biv)",null,null,null,null,null,null,null,"bv",{"$f":"SUM(Q180:Q183)","v":0}]
[null,null,null,null,null,"c","Long-term Capital Gains on assets at B4 above (4a – bv)",null,null,null,null,null,null,null,null,null,null,"B4c",{"$f":"IF(LTCG.B3a_FullConsideration<0,LTCG.B3a_FullConsideration,LTCG.B3a_FullConsideration-LTCG.B3biv_TotalDedn)","v":0}]
[null,null,null,null,5,"From sale of equity share in a company or unit of equity oriented fund or unit of a business trust on which STT is paid under section 112A "]
[null,null,null,null,null,"a","Long-term Capital on sale of capital assets at B5 above  (column 14 of Schedule 112A).",null,null,null,null,null,null,null,null,null,{"$f":"ROUND(Total_Balance_112A,0)","v":0}]
[null,null,null,null,null,"b","Reduction as per clause (iii) of section 48 of the Act, read with rule 8AB of the Rules"]
[null,null,null,null,null,"c","Long-term Capital Gains on sale of capital assets at B5 (a)",null,null,null,null,null,null,null,null,null,null,"B5a",{"$f":"ROUND(LTCG.B5f_LTCGonSalebeforereduction-LTCG.B5f_LTCGonSalereduction,0)","v":0}]
[null,null,null,null,6,"For NON-RESIDENTS- from sale of shares or debenture of Indian company (to be computed with foreign exchange adjustment under first proviso to section 48)"]
[null,null,null,null,null,"LTCG computed without indexation benefit",null,null,null,null,null,null,null,null,null,null,null,"B6"]
[null,null,null,null,7,"For NON-RESIDENTS- from sale of unlisted securities or shares of a company not being a company in which the public are substantially interested as per sec. 112(1)(c)"]
[null,null,null,null,null,"ai","In case securities sold include shares of a company other than quoted shares, enter the following details "]
[null,null,null,null,null,null,"a) Full value of consideration received/receivable in respect of unquoted shares",null,null,null,null,null,null,null,null,"ia"]
[null,null,null,null,null,null,"b) Fair market value of unquoted shares determined in the prescribed manner",null,null,null,null,null,null,null,null,"ib"]
[null,null,null,null,null,null,"c) Full value of consideration in respect of unquoted shares adopted as per section 50CA for the purpose of Capital Gains (higher of a or b)",null,null,null,null,null,null,null,null,"ic",{"$f":"MAX(Q194,Q195)","v":0}]
[null,null,null,null,null,"ii","Full value of consideration in respect of assets other than unquoted shares",null,null,null,null,null,null,null,null,"ii"]
[null,null,null,null,null,"iii","Total (ic + ii)",null,null,null,null,null,null,null,null,"aiii",{"$f":"SUM(Q196,Q197)","v":0}]
[null,null,null,null,null,"b","Deductions under section 48"]
[null,null,null,null,null,null,"bi","Reduction as per clause (iii) of section 48 of the Act, read with rule 8AB of the Rules ",null,null,null,null,null,null,null,"bi"]
[null,null,null,null,null,null,"bii","Cost of acquisition without indexation",null,null,null,null,null,null,null,"bii"]
[null,null,null,null,null,null,"biii","Cost of improvement without indexation",null,null,null,null,null,null,null,"biii"]
[null,null,null,null,null,null,"biv","Expenditure wholly and exclusively in connection with transfer",null,null,null,null,null,null,null,"biv"]
[null,null,null,null,null,null,"bv","Total (bi + bii + biii + biv)",null,null,null,null,null,null,null,"bv",{"$f":"SUM(Q200:Q203)","v":0}]
[null,null,null,null,null,"c","Long-term Capital Gains on assets at 7 above in case of NON-RESIDENT (7aiii –7bv)",null,null,null,null,null,null,null,null,null,null,"Bi7c",{"$f":"IF(LTCG.Bi5a_FullConsideration<0,LTCG.Bi5a_FullConsideration,LTCG.Bi5a_FullConsideration-LTCG.Bi5biv_TotalDedn)","v":0}]
[null,null,null,null,null,"For NON-RESIDENTS- from units referred in sec. 115AB"]
[null,null,null,null,null,"ai","In case assets sold include shares of a company other than quoted shares, enter the following details"]
[null,null,null,null,null,null,"a) Full value of consideration received/receivable in respect of unquoted shares",null,null,null,null,null,null,null,null,"ia"]
[null,null,null,null,null,null,"b) Fair market value of unquoted shares determined in the prescribed manner",null,null,null,null,null,null,null,null,"ib"]
[null,null,null,null,null,null,"c) Full value of consideration in respect of unquoted shares adopted as per section 50CA for the purpose of Capital Gains (higher of a or b)",null,null,null,null,null,null,null,null,"ic",{"$f":"MAX(Q208,Q209)","v":0}]
[null,null,null,null,null,"ii","Full value of consideration in respect of assets other than unquoted shares",null,null,null,null,null,null,null,null,"ii"]
[null,null,null,null,null,"iii","Total (ic + ii)",null,null,null,null,null,null,null,null,"aiii",{"$f":"SUM(Q210,Q211)","v":0}]
[null,null,null,null,null,"b","Deductions under section 48"]
[null,null,null,null,null,null,"i","Reduction as per clause (iii) of section 48 of the Act, read with rule 8AB of the Rules ",null,null,null,null,null,null,null,"bi"]
[null,null,null,null,null,null,"ii","Cost of acquisition without indexation",null,null,null,null,null,null,null,"bii"]
[null,null,null,null,null,null,"iii","Cost of improvement without indexation",null,null,null,null,null,null,null,"biii"]
[null,null,null,null,null,null,"iv","Expenditure wholly and exclusively in connection with transfer",null,null,null,null,null,null,null,"biv"]
[null,null,null,null,null,null,"v","Total (bi + bii + biii + biv)",null,null,null,null,null,null,null,"iibv",{"$f":"SUM(Q214:Q217)","v":0}]
[null,null,null,null,null,"c","Long-term Capital Gains on assets at 7 above in case of NON-RESIDENT (7aiii –7bv)",null,null,null,null,null,null,null,null,null,null,"Bii7c",{"$f":"IF(LTCG.Bii3a_FullConsideration<0,LTCG.Bii3a_FullConsideration,LTCG.Bii3a_FullConsideration-LTCG.Bii3biv_TotalDedn)","v":0}]
[null,null,null,null,null,"For NON-RESIDENTS- from sale of  bonds or GDR as referred in sec. 115AC"]
[null,null,null,null,null,"ai","In case securities sold include shares of a company other than quoted shares, enter the following details "]
[null,null,null,null,null,null,"a) Full value of consideration received/receivable in respect of unquoted shares",null,null,null,null,null,null,null,null,"ia"]
[null,null,null,null,null,null,"b) Fair market value of unquoted shares determined in the prescribed manner",null,null,null,null,null,null,null,null,"ib"]
[null,null,null,null,null,null,"c) Full value of consideration in respect of unquoted shares adopted as per section 50CA for the purpose of Capital Gains (higher of a or b)",null,null,null,null,null,null,null,null,"ic",{"$f":"MAX(Q222,Q223)","v":0}]
[null,null,null,null,null,"ii","Full value of consideration in respect of assets other than unquoted shares",null,null,null,null,null,null,null,null,"ii"]
[null,null,null,null,null,"iii","Total (ic + ii)",null,null,null,null,null,null,null,null,"aiii",{"$f":"SUM(Q224,Q225)","v":0}]
[null,null,null,null,null,"b","Deductions under section 48"]
[null,null,null,null,null,null,"i","Reduction as per clause (iii) of section 48 of the Act, read with rule 8AB of the Rules ",null,null,null,null,null,null,null,"bi"]
[null,null,null,null,null,null,"ii","Cost of acquisition without indexation",null,null,null,null,null,null,null,"bii"]
[null,null,null,null,null,null,"iii","Cost of improvement without indexation",null,null,null,null,null,null,null,"biii"]
[null,null,null,null,null,null,"iv","Expenditure wholly and exclusively in connection with transfer",null,null,null,null,null,null,null,"biv"]
[null,null,null,null,null,null,"v","Total (bi + bii + biii + biv)",null,null,null,null,null,null,null,"iiibv",{"$f":"SUM(Q228:Q231)","v":0}]
[null,null,null,null,null,"c","Long-term Capital Gains on assets at 6 above in case of NON-RESIDENT  (7aiii –7bv)",null,null,null,null,null,null,null,null,null,null,"Biii7c",{"$f":"IF(LTCG.Bii5a_FullConsideration<0,LTCG.Bii5a_FullConsideration,LTCG.Bii5a_FullConsideration-LTCG.Bii5biv_TotalDedn)","v":0}]
[null,null,null,null,null,"For NON-RESIDENTS- from sale of securities by FII as referred to in sec. 115AD"]
[null,null,null,null,null,"ai","In case securities sold include shares of a company other than quoted shares, enter the following details "]
[null,null,null,null,null,null,"a) Full value of consideration received/receivable in respect of unquoted shares",null,null,null,null,null,null,null,null,"ia"]
[null,null,null,null,null,null,"b) Fair market value of unquoted shares determined in the prescribed manner",null,null,null,null,null,null,null,null,"ib"]
[null,null,null,null,null,null,"c) Full value of consideration in respect of unquoted shares adopted as per section 50CA for the purpose of Capital Gains (higher of a or b)",null,null,null,null,null,null,null,null,"ic",{"$f":"MAX(Q236,Q237)","v":0}]
[null,null,null,null,null,"ii","Full value of consideration in respect of assets other than unquoted shares",null,null,null,null,null,null,null,null,"ii"]
[null,null,null,null,null,"iii","Total (ic + ii)",null,null,null,null,null,null,null,null,"aiii",{"$f":"SUM(Q238,Q239)","v":0}]
[null,null,null,null,null,"b","Deductions under section 48"]
[null,null,null,null,null,null,"i","Reduction as per clause (iii) of section 48 of the Act, read with rule 8AB of the Rules ",null,null,null,null,null,null,null,"bi"]
[null,null,null,null,null,null,"ii","Cost of acquisition without indexation",null,null,null,null,null,null,null,"bii"]
[null,null,null,null,null,null,"iii","Cost of improvement without indexation",null,null,null,null,null,null,null,"biii"]
[null,null,null,null,null,null,"iv","Expenditure wholly and exclusively in connection with transfer",null,null,null,null,null,null,null,"biv"]
[null,null,null,null,null,null,"v","Total (bi + bii + biii + biv)",null,null,null,null,null,null,null,"bv",{"$f":"SUM(Q242:Q245)","v":0}]
[null,null,null,null,null,"c","Long-term Capital Gains on assets at 7 above in case of NON-RESIDENT (7aiii –7biv)",null,null,null,null,null,null,null,null,null,null,"Biv7c",{"$f":"IF(LTCG.Biii5a_FullConsideration<0,LTCG.Biii5a_FullConsideration,LTCG.Biii5a_FullConsideration-LTCG.Biii5biv_TotalDedn)","v":0}]
[null,null,null,null,8,"For NON-RESIDENTS - From sale of equity share in a company or unit of equity oriented fund or unit of a business trust on which STT is paid under section 112A"]
[null,null,null,null,null,"a","Long-term Capital Gains on sale of capital assets at B8 above  (column 14 of Schedule 115AD(1)(b)(iii)-Proviso)",null,null,null,null,null,null,null,null,"8a",{"$f":"ROUND(Total_Balance_115AD,0)","v":0}]
[null,null,null,null,null,"b","Reduction as per clause (iii) of section 48 of the Act, read with rule 8AB of the Rules",null,null,null,null,null,null,null,null,"8b"]
[null,null,null,null,null,"c","Long-term Capital Gains on sale of capital assets at B8 (a-b)",null,null,null,null,null,null,null,null,null,null,"B8c",{"$f":"ROUND(LTCG.B8f_LTCGonSalereduction-LTCG.B8f_LTCGonSalebeforereduct,0)","v":0}]
[null,null,null,null,9,"From sale of assets where B1 to B8 above are not applicable"]
[null,null,null,null,null,"ai","In case assets sold include shares of a company other than quoted shares, enter the following details"]
[null,null,null,null,null,null,"a) Full value of consideration received/receivable in respect of unquoted shares",null,null,null,null,null,null,null,null,"ia"]
[null,null,null,null,null,null,"b) Fair market value of unquoted shares determined in the prescribed manner",null,null,null,null,null,null,null,null,"ib"]
[null,null,null,null,null,null,"c) Full value of consideration in respect of unquoted shares adopted as per section 50CA for the purpose of Capital Gains (higher of a or b)",null,null,null,null,null,null,null,null,"ic",{"$f":"MAX(Q254,Q255)","v":0}]
[null,null,null,null,null,"ii","Full value of consideration in respect of assets other than unquoted shares",null,null,null,null,null,null,null,null,"ii"]
[null,null,null,null,null,"iii","Total (ic + ii)",null,null,null,null,null,null,null,null,"aiii",{"$f":"SUM(Q256,Q257)","v":0}]
[null,null,null,null,null,"b","Deductions under section 48"]
[null,null,null,null,null,null,"i","Reduction as per clause (iii) of section 48 of the Act, read with rule 8AB of the Rules ",null,null,null,null,null,null,null,"bi"]
[null,null,null,null,null,null,"ii","Cost of acquisition with indexation",null,null,null,null,null,null,null,"bii"]
[null,null,null,null,null,null,"iii","Cost of improvement with indexation",null,null,null,null,null,null,null,"biii"]
[null,null,null,null,null,null,"iv","Expenditure wholly and exclusively in connection with transfer",null,null,null,null,null,null,null,"biv"]
[null,null,null,null,null,null,"v","Total (bi + bii + biii + biv)",null,null,null,null,null,null,null,"bv",{"$f":"SUM(Q260:Q263)","v":0}]
[null,null,null,null,null,"c","Balance (9aiii – bv)",null,null,null,null,null,null,null,null,"9c",{"$f":"LTCG.B7a_FullConsideration-LTCG.B7biv_TotalDedn","v":0}]
[null,null,null,null,null,"di","Deduction under sections 54D (Specify details in item D below)",null,null,null,null,null,null,null,null,"di"]
[null,null,null,null,null,"dii","Deduction under sections 54G (Specify details in item D below)",null,null,null,null,null,null,null,null,"diii"]
[null,null,null,null,null,"diii","Deduction under sections 54GA (Specify details in item D below)",null,null,null,null,null,null,null,null,"div"]
[null,null,null,null,null,"d","Deduction under sections 54D/54G/54GA (Specify details in item D below)",null,null,null,null,null,null,null,null,"9d",{"$f":"SUM(Q266:Q268)","v":0}]
[null,null,null,null,null,"e ","Long-term Capital Gains on assets at B9 above (9c-9d)",null,null,null,null,null,null,null,null,null,null,"B9e",{"$f":"IF(LTCG.B7c_BalanceCG<0,LTCG.B7c_BalanceCG,MAX(0,LTCG.B7c_BalanceCG-LTCG.B7d_ExemptionGrandTotal))","v":0}]
[null,null,null,null,10,"Amount deemed to be long-term capital gains"]
[null,null,null,null,"a","Whether any amount of unutilized capital gain on asset transferred during the previous years shown below was deposited in the Capital Gains Accounts Scheme within due date for that year? If yes, then provide the details below",null,null,null,null,null,null,null,null,null,null,null,null,"(Select)"]
[null,null,null,null,"Note :",null,"In case , any amount is utilized out of capital gain account , please fill sl no \"C\" of schedule DI"]
[null,null,null,null,null,null,"Sl. No.","Previous year in which asset transferred","Section under which deduction claimed in that year\n \n","New asset acquired/constructed",null,"Amount not used for new asset or remained unutilized in Capital gains account (X)"]
[null,null,null,null,null,null,null,null,null,"Year in which asset acquired/constructed","Amount utilised out of Capital Gains account "]
[null,null,null,null,null,null,1]
[null,null,null,null,null,null,2]
[null,null,null,null,null,"ii",4,"2012-13","54B"]
[]
[null,null,null,null,"b","Amount deemed to be long-term capital gains, other than at ‘a’",null,null,null,null,null,null,null,null,null,"10b"]
[null,null,null,null,"c","Amount deemed to be long term capital gains as per Section 45(4) read with Section 9B of the Act",null,null,null,null,null,null,null,null,null,"10c"]
[null,null,null,null,null,"Total amount deemed to be long-term capital gains (aXi  + b + c))",null,null,null,null,null,null,null,null,null,null,null,"B10",{"$f":"SUM(LTCG.B9_AmtNotUsed_1,LTCG.B9_AmtNotUsed_2+LTCG.B8.AmountDeemedOtherThan_a+AmtDeemedLtcg45iv)","v":0}]
[null,null,null,null,11,"Pass Through Income/Loss in the nature of Long Term Capital Gain,(Fill up schedule PTI)  (B11a1+B11a2 + B11b)",null,null,null,null,null,null,null,null,null,null,null,"B11",{"$f":"SUM(Q284:Q286)","v":0}]
[null,null,null,null,null,"a1","Pass Through Income/ Loss in the nature of Long Term Capital Gain, chargeable @ 10% u/s 112A",null,null,null,null,null,null,null,null,"11a1"]
[null,null,null,null,null,"a2","Pass Through Income/ Loss in the nature of Long Term Capital Gain, chargeable @ 10% under section other than u/s 112A",null,null,null,null,null,null,null,null,"11a2"]
[null,null,null,null,null,"b","Pass Through Income in the nature of Long Term Capital Gain, chargeable @ 20% ",null,null,null,null,null,null,null,null,"11b"]
[null,null,null,null,12,"Amount of LTCG included in B1- B11 but not chargeable to tax or chargeable at special rates in India as per DTAA (to be taken to schedule SI)"]
[null,null,null,null,null,null,"Sl. No.","Amount of income \n(2)","Item No. B1 to B11 above in which included \n(3)","Country name, code \n(4)","Article of DTAA \n(5)","Rate as per Treaty \n(enter NIL, if not chargeable)\n(6)","Whether Tax Residency Certificate obtained? \n(7)","Section of I.T. Act \n(8)","Rate as per I.T. Act \n(9)","Applicable rate [lower of (6) or (9)] \n(10)"]
[null,null,null,null,null,null,1,null,"(Select)","(Select)","",null,null,"",null,{"$f":"IF(ResidentialCheck=\"NR\",IF(MID(M289,1,1)=\"Y\",MIN(L289,O289),\"\"),MIN(L289,O289))","v":0}]
[null,null,null,null,null,null,{"$f":"G289+1","v":2},null,"(Select)","(Select)","","",null,"",null,{"$f":"IF(ResidentialCheck=\"NR\",IF(MID(M290,1,1)=\"Y\",MIN(L290,O290),\"\"),MIN(L290,O290))","v":0}]
[]
[null,null,null,null,null,null,"12a","Total amount of LTCG not chargeable to tax in India as per DTAA",null,null,null,null,null,null,null,null,null,"B12a",{"$f":"IF(MID(sheet1.ResidentialStatus1,1,3)=\"NRI\",SUM(SUMIFS(LTCG.B10_StcgAmt,LTCG.B10_CertiStatus,\"Yes\",LTCG.B10_ApplicableRate,{\"\",\"0\"})),SUM(SUMIFS(LTCG.B10_StcgAmt,LTCG.B10_ApplicableRate,{\"\",\"0\"})))","v":0}]
[null,null,null,null,null,null,"12b","Total amount of LTCG chargeable to tax at special rates in India as per DTAA",null,null,null,null,null,null,null,null,null,"B12b",{"$f":"IF(MID(sheet1.ResidentialStatus1,1,3)=\"NRI\",SUMIFS(LTCG.B10_StcgAmt,LTCG.B10_CertiStatus,\"Yes\",LTCG.B10_ApplicableRate,\"<>\"\"\",LTCG.B10_ApplicableRate,\"<>0\"),SUM(SUMIFS(LTCG.B10_StcgAmt,LTCG.B10_ApplicableRate,\"<>\"\"\",LTCG.B10_ApplicableRate,\"<>0\")))","v":0}]
[null,null,null,null,13,"Total long term capital gain B1e + B2c + B3c + B4c + B5c + B6 + B7c + B8c + B9e + B10+B11-B12a (Take B13 as Nil , if loss)",null,null,null,null,null,null,null,null,null,null,null,"B13",{"$f":"LTCG_SaleLand_Total+LTCG.B02e_CapgainonAssets+LTCG.B2e_CapgainonAssets+LTCG.B3e_CapgainonAssets+LTCG.B5f_LTCGonSale+LTCG.B4d_LTCGOnListedSecurity+LTCG.Bi5e_CapgainonAssets+LTCG.Bii3e_CapgainonAssets+LTCG.Bii5e_CapgainonAssets+LTCG.Biii5e_CapgainonAssets+LTCG.B8f_LTCGonSale+LTCG.B7e_CapgainonAssets+LTCG.B9_AmtDeemed+LTCG_PTI_Total-LTCG.B10a_ltcgDTAA","v":0}]
[null,null,null,"C","Income chargeable under the head “CAPITAL GAINS”  (A10 + B13)  (take B13 as nil, if loss)",null,null,null,null,null,null,null,null,null,null,null,null,"C",{"$f":"STCG.A7_TotalSTCG+MAX(0,LTCG.B9_TotalLTCG)","v":0}]
[null,null,null,"D","Information about deduction claimed"]
[null,null,null,null,1,"In case of deduction u/s 54D/ 54EC/ 54G/ 54GA give following details"]
[null,null,null,null,null,"a","Deduction claimed u/s 54D"]
[null,null,null,null,null,null,"Sl. No.","Date of acquisition of original asset","Cost of purchase/ construction of new land or building for industrial undertaking","Date of purchase of new land or building ","Amount deposited in Capital Gains Accounts Scheme before due date","Amount of deduction claimed"]
[null,null,null,null,null,null,1]
[null,null,null,null,null,null,{"$f":"G300+1","v":2},""]
[null,null,null,null,null,null,"Total",null,null,null,null,{"$f":"SUM(Deduction.54D.AmountClaimed)","v":0}]
[null,null,null,null,null,"b","Deduction claimed u/s 54EC"]
[null,null,null,null,null,null,"Sl. No","Date of transfer of original asset","Amount invested in specified/notified bonds \n(not exceeding fifty lakh rupees)","Date of investment","Amount of deduction claimed"]
[null,null,null,null,null,null,1]
[null,null,null,null,null,null,{"$f":"G305+1","v":2}]
[null,null,null,null,null,null,"Total",null,null,null,{"$f":"SUM(Deduction.54EC.AmountClaimed)","v":0}]
[null,null,null,null,null,"c","Deduction claimed u/s 54G"]
[null,null,null,null,null,null,"Sl. No.","Date of transfer of original asset from urban area ","Cost and expenses incurred for purchase or construction of new asset ","Date of purchase/construction of new asset in an area other than urban area ","Amount deposited in Capital Gains Accounts Scheme before due date","Amount of deduction claimed"]
[null,null,null,null,null,null,1]
[null,null,null,null,null,null,{"$f":"G310+1","v":2}]
[null,null,null,null,null,null,"Total",null,null,null,null,{"$f":"SUM(Deduction.54G.AmountClaimed)","v":0}]
[null,null,null,null,null,"d","Deduction claimed u/s 54GA"]
[null,null,null,null,null,null,"Sl. No.","Date of transfer of original asset from urban area ","Cost and expenses incurred for purchase or construction of new asset ","Date of purchase/construction of new asset in SEZ  ","Amount deposited in Capital Gains Accounts Scheme before due date","Amount of deduction claimed"]
[null,null,null,null,null,null,1]
[null,null,null,null,null,null,{"$f":"G315+1","v":2}]
[null,null,null,null,null,null,"Total",null,null,null,null,{"$f":"SUM(Deduction.54GA.AmountClaimed)","v":0}]
[null,null,null,null,null,"e","Total deduction claimed (1a + 1b + 1c + 1d)",null,null,null,null,null,null,"1e",{"$f":"SUM(DEDN.AmtDeducted54D,DEDN.AmtDeductedEC,DEDN.AmtDeductedG,DEDN.AmtDeductedGA)","v":0}]
[null,null,null,"E"," Set-off of current year capital losses with current year capital gains (excluding amounts included in A9a & B12a which is chargeable under DTAA) "]
[null,null,null,null,"SI. No.","Type of Capital Gain",null,null,"Gain of current year (Fill this column only if computed figure is positive)","Short term capital loss set off",null,null,null,"Long term capital loss set off",null,null,"Current year’s capital gains remaining after set off"]
[null,null,null,null,null,null,null,null,null,0.15,0.3,"Applicable rate","DTAA rates",0.1,0.2,"DTAA rates"]
[null,null,null,null,null,null,null,null,1,2,3,4,5,6,7,8,"9=1-2-3-4-5-6-7-8"]
[null,null,null,null,"i","Loss to be set off (Fill this row if computed figure is negative) ",null,null,null,{"$f":"ABS(MIN(0,STCG.A2iie_CapgainonAssets+STCG.A2ie_CapgainonAssets+STCG.A3a_NRItaxSTTPaid+STCG_PTI_15Percent-STCG.DTAAA3ie-STCG.DTAAA3iie-STCG.DTAAA4a-STCG.DTAAA8a))","v":0},{"$f":"ABS(MIN(0,STCG.A4e_CapgainonAssets+STCG_PTI_30Percent-STCG.DTAAA5e-STCG.DTAAA8b))","v":0},{"$f":"ABS(MIN(0,STCG.A20ic_CapgainonAssets+STCG_SaleLand_Total+STCG.A3b_NRItaxSTTNotPaid+STCG.A5e_CapgainonAssets+STCG.A7_AmtDeemed+STCG_PTI_ApplicableRate-STCG.DTAAA1e-STCG.DTAAA2c-STCG.DTAAA4b-STCG.DTAAA6g-STCG.DTAAA7-STCG.DTAAA8c))","v":0},{"$f":"ABS(MIN(0,STCG.A8b_StcgDTAA))","v":0},{"$f":"ABS(MIN(0,LTCG.B3e_CapgainonAssets+LTCG.Bii3e_CapgainonAssets+LTCG.Bi5e_CapgainonAssets+LTCG.Bii5e_CapgainonAssets+LTCG.Biii5e_CapgainonAssets+LTCG.B5f_LTCGonSale+LTCG.B8f_LTCGonSale+LTCG_PTI_10Percent+LTCG_PTI_10Percent_112A-LTCG.DTAAB4e-LTCG.DTAABii7e-LTCG.DTAABiii7e-LTCG.DTAABi7e-LTCG.DTAABiv7e-LTCG.DTAAB5f-LTCG.DTAAB8f-LTCG.DTAAB11a1-LTCG.DTAAB11a2))","v":0},{"$f":"ABS(MIN(0,LTCG.B02e_CapgainonAssets+LTCG_SaleLand_Total+LTCG.B4d_LTCGOnListedSecurity+LTCG.B2e_CapgainonAssets+LTCG.B7e_CapgainonAssets+LTCG.B9_AmtDeemed+LTCG_PTI_20Percent-LTCG.DTAAB1e-LTCG.DTAAB2e-LTCG.DTAAB3e-LTCG.DTAAB6c-LTCG.DTAAB9e-LTCG.DTAAB10-LTCG.DTAAB11b))","v":0},{"$f":"ABS(MIN(0,LTCG.B10b_ltcgDTAA))","v":0}]
[null,null,null,null,"ii","Short term capital gain",null,0.15,{"$f":"MAX(0,STCG.A2iie_CapgainonAssets+STCG.A2ie_CapgainonAssets+STCG.A3a_NRItaxSTTPaid+STCG_PTI_15Percent-STCG.DTAAA3ie-STCG.DTAAA3iie-STCG.DTAAA4a-STCG.DTAAA8a)","v":0},null,{"$f":"MIN(STCG_LosstoSetOff30Percent-STCG_SetOff30_AppRate-LTCG_SetOff30_20Percent,STCG_GainOfCurrentYear15Percent-0)","v":0},{"$f":"MIN(STCG_LosstoSetOffAppRate-STCG_SetOffApp_30Percent-LTCG_SetOffApp_20Percent,STCG_GainOfCurrentYear15Percent-STCG_SetOff30_15Percent)","v":0},{"$f":"MIN(STCG_LosstoSetOffDTAA-STCG_SetOffSTCGDTAA_30Percent-STCG_SetOffSTCGDTAA_AppRate-LTCG_SetOffSTCGDTAA_20Percent,STCG_GainOfCurrentYear15Percent-STCG_SetOff30_15Percent-STCG_SetOffApp_15Percent)","v":0},null,null,null,{"$f":"MAX(0,I324-SUM(J324:P324))","v":0}]
[null,null,null,null,"iii",null,null,0.3,{"$f":"MAX(0,STCG.A4e_CapgainonAssets+STCG_PTI_30Percent-STCG.DTAAA5e-STCG.DTAAA8b)","v":0},{"$f":"MIN(STCG_LosstoSetOff15Percent,STCG_GainOfCurrentYear30Percent-STCG_SetOffApp_30Percent)","v":0},null,{"$f":"MIN(STCG_LosstoSetOffAppRate,STCG_GainOfCurrentYear30Percent)","v":0},{"$f":"MIN(STCG_LosstoSetOffDTAA,STCG_GainOfCurrentYear30Percent-STCG_SetOff15_30Percent-STCG_SetOffApp_30Percent)","v":0},null,null,null,0]
[null,null,null,null,"iv",null,null,"Applicable rate",{"$f":"MAX(0,STCG.A20ic_CapgainonAssets+STCG_SaleLand_Total+STCG.A3b_NRItaxSTTNotPaid+STCG.A5e_CapgainonAssets+STCG.A7_AmtDeemed+STCG_PTI_ApplicableRate-STCG.DTAAA1e-STCG.DTAAA2c-STCG.DTAAA4b-STCG.DTAAA6g-STCG.DTAAA7-STCG.DTAAA8c)","v":0},{"$f":"MIN(STCG_LosstoSetOff15Percent-STCG_SetOff15_30Percent,STCG_GainOfCurrentYearAppRate-STCG_SetOff30_AppRate)","v":0},{"$f":"MIN(STCG_LosstoSetOff30Percent,STCG_GainOfCurrentYearAppRate)","v":0},null,{"$f":"MIN(STCG_LosstoSetOffDTAA-STCG_SetOffSTCGDTAA_30Percent,STCG_GainOfCurrentYearAppRate-STCG_SetOff15_AppRate-STCG_SetOff30_AppRate)","v":0},null,null,null,0]
[null,null,null,null,"v",null,null,"DTAA rates",{"$f":"MAX(0,STCG.A8b_StcgDTAA)","v":0},{"$f":"MIN(STCG_LosstoSetOff15Percent-STCG_SetOff15_30Percent-STCG_SetOff15_AppRate-LTCG_SetOff15_20Percent-LTCG_SetOff15_10Percent,STCG_GainOfCurrentYearDTAARate-STCG_SetOff30_DTAARate-STCG_SetOffApp_DTAARate)","v":0},{"$f":"MIN(STCG_GainOfCurrentYearDTAARate,STCG_LosstoSetOff30Percent-STCG_SetOff30_15Percent-STCG_SetOff30_AppRate-LTCG_SetOff30_10Percent-LTCG_SetOff30_20Percent)","v":0},{"$f":"MIN(STCG_LosstoSetOffAppRate-STCG_SetOffApp_15Percent-STCG_SetOffApp_30Percent-LTCG_SetOffApp_10Percent-LTCG_SetOffApp_20Percent,STCG_GainOfCurrentYearDTAARate-STCG_SetOff30_DTAARate)","v":0},null,null,null,null,0]
[null,null,null,null,"vi","Long term capital gain",null,0.1,{"$f":"MAX(0,LTCG.B3e_CapgainonAssets+LTCG.Bii3e_CapgainonAssets+LTCG.Bi5e_CapgainonAssets+LTCG.Bii5e_CapgainonAssets+LTCG.Biii5e_CapgainonAssets+LTCG.B5f_LTCGonSale+LTCG.B8f_LTCGonSale+LTCG_PTI_10Percent+LTCG_PTI_10Percent_112A-LTCG.DTAAB4e-LTCG.DTAABii7e-LTCG.DTAABiii7e-LTCG.DTAABi7e-LTCG.DTAABiv7e-LTCG.DTAAB5f-LTCG.DTAAB8f-LTCG.DTAAB11a1-LTCG.DTAAB11a2)","v":0},{"$f":"MIN(STCG_LosstoSetOff15Percent-STCG_SetOff15_30Percent-STCG_SetOff15_AppRate-LTCG_SetOff15_20Percent,LTCG_GainOfCurrentYear10Percent-LTCG_SetOff30_10Percent-LTCG_SetOffApp_10Percent-LTCG_SetOff20_10Percent)","v":0},{"$f":"MIN(STCG_LosstoSetOff30Percent-STCG_SetOff30_AppRate-LTCG_SetOff30_20Percent-STCG_SetOff30_15Percent,LTCG_GainOfCurrentYear10Percent)","v":0},{"$f":"MIN(STCG_LosstoSetOffAppRate-STCG_SetOffApp_30Percent-LTCG_SetOffApp_20Percent-STCG_SetOffApp_15Percent,LTCG_GainOfCurrentYear10Percent-LTCG_SetOff30_10Percent)","v":0},{"$f":"MIN(STCG_LosstoSetOffDTAA-STCG_SetOffSTCGDTAA_15Percent-STCG_SetOffSTCGDTAA_30Percent-STCG_SetOffSTCGDTAA_AppRate-LTCG_SetOffSTCGDTAA_20Percent,LTCG_GainOfCurrentYear10Percent-LTCG_SetOff15_10Percent-LTCG_SetOff30_10Percent-LTCG_SetOffApp_10Percent-LTCG_SetOff20_10Percent)","v":0},null,{"$f":"MIN(LTCG_LosstoSetOff20Percent,LTCG_GainOfCurrentYear10Percent-LTCG_SetOff30_10Percent-LTCG_SetOffApp_10Percent)","v":0},{"$f":"MIN(LTCG_LosstoSetOffDTAA-LTCG_SetOffLTCGDTAA_20Percent,LTCG_GainOfCurrentYear10Percent-LTCG_SetOff15_10Percent-LTCG_SetOff30_10Percent-LTCG_SetOffApp_10Percent-LTCG_SetOffSTCGDTAA_10Percent-LTCG_SetOff20_10Percent)","v":0},0]
[null,null,null,null,"vii",null,null,0.2,{"$f":"MAX(0,LTCG.B02e_CapgainonAssets+LTCG_SaleLand_Total+LTCG.B4d_LTCGOnListedSecurity+LTCG.B2e_CapgainonAssets+LTCG.B7e_CapgainonAssets+LTCG.B9_AmtDeemed+LTCG_PTI_20Percent-LTCG.DTAAB1e-LTCG.DTAAB2e-LTCG.DTAAB3e-LTCG.DTAAB6c-LTCG.DTAAB9e-LTCG.DTAAB10-LTCG.DTAAB11b)","v":0},{"$f":"MIN(STCG_LosstoSetOff15Percent-STCG_SetOff15_30Percent-STCG_SetOff15_AppRate,LTCG_GainOfCurrentYear20Percent-LTCG_SetOffApp_20Percent-LTCG_SetOff30_20Percent)","v":0},{"$f":"MIN(STCG_LosstoSetOff30Percent-STCG_SetOff30_AppRate,LTCG_GainOfCurrentYear20Percent)","v":0},{"$f":"MIN(STCG_LosstoSetOffAppRate-STCG_SetOffApp_30Percent,LTCG_GainOfCurrentYear20Percent-LTCG_SetOff30_20Percent)","v":0},{"$f":"MIN(STCG_LosstoSetOffDTAA-STCG_SetOffSTCGDTAA_30Percent-STCG_SetOffSTCGDTAA_AppRate,LTCG_GainOfCurrentYear20Percent-LTCG_SetOff30_20Percent-LTCG_SetOffApp_20Percent-LTCG_SetOff10_20Percent-LTCG_SetOff15_20Percent)","v":0},{"$f":"MIN(LTCG_LosstoSetOff10Percent,LTCG_GainOfCurrentYear20Percent-LTCG_SetOffApp_20Percent-LTCG_SetOff30_20Percent-LTCG_SetOff15_20Percent)","v":0},null,{"$f":"MIN(LTCG_LosstoSetOffDTAA,LTCG_GainOfCurrentYear20Percent-LTCG_SetOff15_20Percent-LTCG_SetOff30_20Percent-LTCG_SetOffApp_20Percent-LTCG_SetOffSTCGDTAA_20Percent-LTCG_SetOff10_20Percent)","v":0},0]
[null,null,null,null,"viii",null,null,"DTAA rates",{"$f":"MAX(0,LTCG.B10b_ltcgDTAA)","v":0},{"$f":"MIN(STCG_LosstoSetOff15Percent-STCG_SetOff15_30Percent-STCG_SetOff15_AppRate-STCG_SetOff15_DTAARate-LTCG_SetOff15_10Percent-LTCG_SetOff15_20Percent,LTCG_GainOfCurrentYearDTAARate-LTCG_SetOff30_DTAARate-LTCG_SetOffApp_DTAARate-LTCG_SetOff20_DTAARate)","v":0},{"$f":"MIN(STCG_LosstoSetOff30Percent-STCG_SetOff30_AppRate-LTCG_SetOff30_20Percent-STCG_SetOff30_15Percent-LTCG_SetOff30_10Percent-STCG_SetOff30_DTAARate,LTCG_GainOfCurrentYearDTAARate)","v":0},{"$f":"MIN(STCG_LosstoSetOffAppRate-STCG_SetOffApp_30Percent-LTCG_SetOffApp_20Percent-STCG_SetOffApp_15Percent-LTCG_SetOffApp_10Percent-STCG_SetOffApp_DTAARate,LTCG_GainOfCurrentYearDTAARate-LTCG_SetOff30_DTAARate)","v":0},{"$f":"MIN(STCG_LosstoSetOffDTAA-STCG_SetOffSTCGDTAA_15Percent-STCG_SetOffSTCGDTAA_30Percent-STCG_SetOffSTCGDTAA_AppRate-LTCG_SetOffSTCGDTAA_10Percent-LTCG_SetOffSTCGDTAA_20Percent,LTCG_GainOfCurrentYearDTAARate-LTCG_SetOff15_DTAARate-LTCG_SetOff30_DTAARate-LTCG_SetOffApp_DTAARate-LTCG_SetOff10_DTAARate-LTCG_SetOff20_DTAARate)","v":0},{"$f":"MIN(LTCG_LosstoSetOff10Percent-LTCG_SetOff10_20Percent,LTCG_GainOfCurrentYearDTAARate-LTCG_SetOff30_DTAARate-LTCG_SetOffApp_DTAARate-LTCG_SetOff20_DTAARate-LTCG_SetOff15_DTAARate)","v":0},{"$f":"MIN(LTCG_LosstoSetOff20Percent-LTCG_SetOff20_10Percent,LTCG_GainOfCurrentYearDTAARate-LTCG_SetOff30_DTAARate-LTCG_SetOffApp_DTAARate)","v":0},null,0]
[null,null,null,null,"ix","Total loss set off  (ii + iii + iv + v + vi+vii+viii)",null,null,null,{"$f":"SUM(J324:J330)","v":0},0,0,0,0,0,0]
[null,null,null,null,"x","Loss remaining after set off  (i – ix) ",null,null,null,{"$f":"MAX(0,J323-J331)","v":0},{"$f":"MAX(0,K323-K331)","v":0},0,0,0,0,0]
[null,null,null,"Note :",null,"The figures of STCG in this table (A1e* etc.) are the amounts of STCG computed in respective column (A1- A8) as reduced by the amount of STCG not chargeable to tax or chargeable at special rates as per DTAA, which is included therein, if any.  \nThe figures of LTCG in this table (B1e* etc.) are the amounts of LTCG computed in respective column (B1- B11) as reduced by the amount of LTCG not chargeable to tax or chargeable at special rates as per DTAA, which is included therein, if any. "]
[null,null,null,"F","Information about accrual/receipt of capital gain"]
[null,null,null,null,null,"Type of Capital gain / Date",null,null,null,null,null,null,"Upto 15/6\n(i)","16/6 to 15/9\n(ii)","16/9 to 15/12\n(iii)","16/12 to 15/3\n(iv)","16/3 to 31/3\n(v)"]
[null,null,null,null,1,"Short-term capital gains taxable at the rate of 15% Enter value from item 5v of schedule BFLA, if any. ",null,null,null,null,null,null,0,0,0,0,0]
[null,null,null,null,2,"Short-term capital gains taxable at the rate of 30% Enter value from item 5vi of schedule BFLA, if any. ",null,null,null,null,null,null,0,0,0,0,0]
[null,null,null,null,3,"Short-term capital gains taxable at applicable rates Enter value from item 5vii of schedule BFLA, if any. ",null,null,null,null,null,null,0,0,0,0,0]
[null,null,null,null,4,"Short-term capital gains taxable at DTAA rates  Enter value from item 5viii of schedule BFLA, if any.",null,null,null,null,null,null,0,0,0,0,0]
[null,null,null,null,5,"Long- term capital gains taxable at the rate of 10%  Enter value from item 5ix of schedule BFLA, if any. ",null,null,null,null,null,null,0,0,0,0,0]
[null,null,null,null,6,"Long- term capital gains taxable at the rate of 20%  Enter value from item 5x of schedule BFLA, if any. ",null,null,null,null,null,null,0,0,0,0,0]
[null,null,null,null,7,"Long- term capital gains taxable at the rate DTAA rates Enter value from item 5xi of schedule BFLA, if any. ",null,null,null,null,null,null,0,0,0,0,0]

{"sheet":"Schedule 112A","index":19,"n_rows":11,"n_cols":21,"rows_kept":11,"cut":false,"hidden":false,"merged":[[2,2,2,3],[10,3,10,8],[11,2,11,17],[2,4,2,17]]}
[]
[]
[null,null,"Tool-112A",null,"From sale of equity share in a company or unit of equity oriented fund or unit of a business trust on which STT is paid under section 112A"]
[null,null,null,"Sl. No.","Share/Unit Acquired","ISIN Code","Name of the Share/Unit","No. of Shares/Units","Sale-price per Share/Unit","Full Value of Consideration\nIf shares/units are acquired on or before 31st January, 2018 (Total Sale Value) (4*5) or  If  shares/units are acquired after 31st January, 2018 - Please enter Full Value of Consideration ","Cost of acquisition without indexation Higher of 8 & 9 ","Cost of acquisition","If the long term capital asset was acquired before 01.02.201 8, Lower of 6 & 11","Fair Market Value per share/unit as on 31st January,2018","Total Fair Market Value as on 31st January, 2018 of capital asset as per section 55(2)(ac)- (4*10)","Expenditure wholly and exclusively in connection with transfer ","Total deductions  (7+12) ","Balance (6-13) Item 5 of LTCG Schedule of ITR5"]
[null,null,null,"(Col 1)","(Col 1a)","(Col 2)","(Col 3)","(Col 4)","(Col 5)","(Col 6)","(Col 7)","(Col 8)","(Col 9)","(Col 10)","(Col 11)","(Col 12)","(Col 13)","(Col 14)"]
[null,null,null,1,"(Select)",null,null,null,null,{"$f":"ROUND(MAX(0,ROUND(H6,4)*ROUND(I6,4)),0)","v":0},{"$f":"ROUND(MAX(0,ROUND(L6,4),ROUND(M6,0)),0)","v":0},null,{"$f":"ROUND(MAX(0,MIN(ROUND(O6,0),ROUND(J6,0))),0)","v":0},null,{"$f":"ROUND(MAX(0,ROUND(H6,4)*ROUND(N6,4)),0)","v":0},null,{"$f":"ROUND(MAX(0,SUM(ROUND(K6,0),ROUND(P6,4))),0)","v":0},{"$f":"ROUND(ROUND(J6,0)-ROUND(Q6,0),0)","v":0},null,null,{"$f":"IF(ISERROR(VLOOKUP(F6,ISINListTable,2,FALSE)),\"\",VLOOKUP(F6,ISINListTable,2,FALSE))","v":""}]
[null,null,null,{"$f":"D6+1","v":2},"(Select)",null,null,null,null,{"$f":"ROUND(MAX(0,ROUND(H7,4)*ROUND(I7,4)),0)","v":0},{"$f":"ROUND(MAX(0,ROUND(L7,4),ROUND(M7,0)),0)","v":0},null,{"$f":"ROUND(MAX(0,MIN(ROUND(O7,0),ROUND(J7,0))),0)","v":0},null,{"$f":"ROUND(MAX(0,ROUND(H7,4)*ROUND(N7,4)),0)","v":0},null,{"$f":"ROUND(MAX(0,SUM(ROUND(K7,0),ROUND(P7,4))),0)","v":0},{"$f":"ROUND(ROUND(J7,0)-ROUND(Q7,0),0)","v":0},null,null,""]
[null,null,null,{"$f":"D7+1","v":3},"(Select)",null,null,null,null,0,0,null,0,null,0,null,0,0,null,null,""]
[null,null,null,{"$f":"D8+1","v":4},"(Select)",null,null,null,null,0,0,null,0,null,0,null,0,0,null,null,""]
[]
[null,null,null,null,null,null,null,null,null,{"$f":"SUM(TotalSaleValue_112A)","v":0},{"$f":"SUM(COAwithoutIndex_112A)","v":0},{"$f":"SUM(COAwithIndex_112A)","v":0},{"$f":"SUM(LTCGAssetAcquired_112A)","v":0},null,{"$f":"SUM(TotalFairMarketValue_112A)","v":0},{"$f":"SUM(ExpenditureWholly_112A)","v":0},{"$f":"SUM(TotalDeductions_112A)","v":0},{"$f":"SUM(Balance_112A)","v":0}]

{"sheet":"Instructions","index":20,"n_rows":12,"n_cols":4,"rows_kept":12,"cut":false,"hidden":true,"merged":[[7,3,7,11],[8,3,8,11],[9,3,9,11],[10,3,10,11],[11,3,11,11],[2,2,2,11],[3,3,3,11],[4,3,4,11],[5,3,5,11],[6,3,6,11]]}
[]
[]
[null,null,"Instructions to import CSV file"]
[null,null,"i","First Column values  should be ISIN Code "]
[null,null,"ii","Second Column values should be No. of Shares/Units"]
[null,null,"iii","Third Column values should be Sale-price per Share/Unit"]
[null,null,"iv","Fourth Column values should  be Cost of acquisition "]
[null,null,"v","Fifth Column values should be Fair Market Value per share/unit as on 31st January,2018"]
[null,null,"vi","Sixth Column values should be Expenditure wholly and exclusively in connection with transfer"]
[null,null,"vii","Only one Sheet is allowed in CSV Format"]
[null,null,"viii","CSV file name Should be Same as Schedule Name :  Schedule 112A or  Schedule 115AD(1)(iii) proviso"]
[null,null,"ix","Then Click on Import from  .CSV file button to import CSV file"]

{"sheet":"Schedule 115AD(1)(iii)(p)","index":21,"n_rows":11,"n_cols":21,"rows_kept":11,"cut":false,"hidden":false,"merged":[[2,2,2,3],[10,3,10,8],[11,2,11,17],[2,4,2,17]]}
[]
[]
[null,null,"Tool-115AD(1)(iii)(p)",null,"For NON-RESIDENTS - From sale of equity share in a company or unit of equity oriented fund or unit of a business trust on which STT is paid under section 112A"]
[null,null,null,"Sl. No.","Share/Unit Acquired","ISIN Code","Name of the Share/Unit","No. of Shares/Units","Sale-price per Share/Unit","Full Value of Consideration\nIf shares/units are acquired on or before 31st January, 2018 (Total Sale Value) (4*5) or  If  shares/units are acquired after 31st January, 2018 - Please enter Full Value of Consideration ","Cost of acquisition without indexation Higher of 8 & 9","Cost of acquisition","If the long term capital asset was acquired before 01.02.2018 , Lower of 6 & 11","Fair Market Value per share/unit as on 31st January,2018","Total Fair Market Value of capital asset as per section 55(2)(ac)- (4*10)","Expenditure wholly and exclusively in connection with transfer","Total deductions (7+12)","Balance (6-13) Item 8 of LTCG Schedule of ITR5"]
[null,null,null,"(Col 1)","(Col 1a)","(Col 2)","(Col 3)","(Col 4)","(Col 5)","(Col 6)","(Col 7)","(Col 8)","(Col 9)","(Col 10)","(Col 11)","(Col 12)","(Col 13)","(Col 14)"]
[null,null,null,1,null,null,null,null,null,null,{"$f":"ROUND(MAX(0,ROUND(L6,4),ROUND(M6,0)),0)","v":0},null,{"$f":"ROUND(MAX(0,MIN(ROUND(O6,0),ROUND(J6,0))),0)","v":0},null,{"$f":"ROUND(MAX(0,ROUND(H6,4)*ROUND(N6,4)),0)","v":0},null,{"$f":"ROUND(MAX(0,SUM(ROUND(K6,0),ROUND(P6,4))),0)","v":0},{"$f":"ROUND(ROUND(J6,0)-ROUND(Q6,0),0)","v":0},null,null,{"$f":"IF(ISERROR(VLOOKUP(F6,ISINListTable,2,FALSE)),\"\",VLOOKUP(F6,ISINListTable,2,FALSE))","v":""}]
[null,null,null,{"$f":"D6+1","v":2},null,null,null,null,null,null,{"$f":"ROUND(MAX(0,ROUND(L7,4),ROUND(M7,0)),0)","v":0},null,{"$f":"ROUND(MAX(0,MIN(ROUND(O7,0),ROUND(J7,0))),0)","v":0},null,{"$f":"ROUND(MAX(0,ROUND(H7,4)*ROUND(N7,4)),0)","v":0},null,{"$f":"ROUND(MAX(0,SUM(ROUND(K7,0),ROUND(P7,4))),0)","v":0},{"$f":"ROUND(ROUND(J7,0)-ROUND(Q7,0),0)","v":0},null,null,""]
[null,null,null,{"$f":"D7+1","v":3},null,null,null,null,null,null,0,null,0,null,0,null,0,0,null,null,""]
[null,null,null,{"$f":"D8+1","v":4},null,null,null,null,null,null,0,null,0,null,0,null,0,0,null,null,""]
[]
[null,null,null,null,null,null,null,null,null,{"$f":"SUM(TotalSaleValue_115AD)","v":0},{"$f":"SUM(COAwithoutIndex_115AD)","v":0},{"$f":"SUM(COAwithIndex_115AD)","v":0},{"$f":"SUM(LTCGAssetAcquired_115AD)","v":0},null,{"$f":"SUM(TotalFairMarketValue_115AD)","v":0},{"$f":"SUM(ExpenditureWholly_115AD)","v":0},{"$f":"SUM(TotalDeductions_115AD)","v":0},{"$f":"SUM(Balance_115AD)","v":0}]

{"sheet":"HelpCSV","index":22,"n_rows":30,"n_cols":3,"rows_kept":30,"cut":false,"hidden":true,"merged":[[7,1,7,12],[0,1,0,12],[1,1,1,12],[2,2,2,12],[3,2,3,12],[4,2,4,12],[21,2,21,12],[8,2,8,12],[9,2,9,12],[10,2,10,12],[11,2,11,12],[12,2,12,12],[15,1,15,12],[16,2,16,12],[17,2,17,12],[18,2,18,12],[19,2,19,12],[20,2,20,12],[28,2,28,12],[29,2,29,12],[22,2,22,12],[23,2,23,12],[24,2,24,12],[25,2,25,12],[26,2,26,12],[27,2,27,12]]}
[null,"Instructions for filling Schedule 112A/115AD(1)(b)(iii)(P)"]
[null,"Option 1 – Fill Data directly in utility"]
[null,1,"Enter all the required details. To add rows select \"Add\" and update the details. To delete rows select the row which is to be deleted and then click on \"Delete\"."]
[null,2,"Click on \"Save\" to go back to schedule 112A/115AD(1)(b)(iii)(P)."]
[null,"Note:","This option is useful when there are limited number of entries in this schedule . "]
[]
[]
[null,"Option 2 – Upload through CSV"]
[null,1,"Download the template through the link."]
[null,2,"Click on the template; provide a file name to save the CSV."]
[null,3,"Update the data as per the headings provided in the CSV template (Refer instructions below to fill the csv file)."]
[null,4,"Save the date and upload the CSV file in the utility."]
[null,5,"Maintaining data consistency is important to avoid errors upon upload."]
[]
[]
[null,"Instructions to fill csv file:"]
[null,1,"For the first column, referring to column 1a of schedule 112A in the return, ‘Share/Unit acquired’, enter the value ‘BE’ if the share/unit was acquired on or before 31st January 2018. If share/unit was acquired after 31st January 2018, enter value ‘AE’."]
[null,2,"For column 2 ‘ISIN Code’, enter alphanumeric value and first two characters should start with ‘IN’. In case security/Share does not have ISIN Code, enter \"INNOTAVAILAB\".\nIf in 1a, ‘AE’ is entered, enter ‘INNOTREQUIRD’."]
[null,3,"For column 3 ‘Name of the Share/Unit’, input should contain only alphanumeric values without any special characters. If in 1a, ‘AE’ entered, enter ‘CONSOLIDATED’."]
[null,4,"Column 4 ‘No. of Shares/Units field’ should be numeric, non- negative and decimals are allowed upto 4 digits. If in 1a, ‘AE’ is entered, leave this field as blank."]
[null,5,"Column 5 ‘Sale-price per Share/Unit’ should be numeric, non- negative and decimals are allowed upto 4 digits. If in 1a, ‘AE’ is entered, leave this field as blank."]
[null,6,"Column 6 ‘Full Value of Consideration (Total Sale Value)’ should be equal to the value at sl. No. 4 multiplied by sl. No. 5 (4*5) if ‘BE’ is entered in 1a. Value should be rounded off to the nearest unit.\nIf in 1a ‘AE’ is entered, enter full value of consideration."]
[null,7,"Column 7 ‘Cost of acquisition without indexation’, entered value should be higher of value mentioned in Column 8 [‘Cost of acquisition’] and Column 9 [“If the long-term capital asset was acquired before 01.02.2018, lower of 11 & 6”].  "]
[null,8,"Column 8 ‘Cost of acquisition’ field should be numeric, non- negative and decimals are allowed upto 4 digits."]
[null,9,"Column 9 ‘If the long-term capital asset was acquired before 01.02.2018, (i.e., if entry in col 1 is “BE”) lower of 11 & 6’ [field should be lower of value mentioned in column 11‘Total Fair Market Value of capital asset as per section 55(2) (ac)’ and in column 6 ‘Full Value Consideration’]."]
[null,10,"Column 10 ‘Fair Market Value per share/unit as on 31st January,2018’ should be numeric, non- negative and decimals are allowed upto 4 digits. If in 1a, ‘AE’ is entered, leave this field as blank."]
[null,11,"Column 11 ‘Total Fair Market Value of capital asset as per section 55(2) (ac)’ field should be equal to value at column 4 ‘No. of Shares/Units’ multiply by Column 10 ‘Fair Market Value per share/unit as on 31st January,2018’. Value should be rounded off to the nearest unit."]
[null,12,"Column 12 ‘Expenditure wholly and exclusively in connection with transfer’ field should be numeric, non- negative and decimals are allowed upto 4 digits."]
[null,13,"Column 13 ‘Total deductions (7+12)’ field should be sum of value at column 7 ‘Cost of acquisition without indexation’ and column 12 ‘Expenditure wholly and exclusively in connection with transfer’. Value should be rounded off to the nearest unit."]
[null,14,"Column 14 ‘Balance (6-13)’ field should be equal to value at column 6 ‘Full Value Consideration’ minus value at column 13 ‘Total deductions (7+12)’. Value should be rounded off to the nearest unit."]

{"sheet":"OS","index":23,"n_rows":83,"n_cols":48,"rows_kept":83,"cut":false,"hidden":false,"merged":[[5,5,5,11],[6,5,6,11],[55,5,55,11],[58,5,58,11],[23,6,23,10],[37,6,37,11],[33,5,33,11],[36,6,36,11],[35,6,35,11],[34,5,34,11],[32,5,32,11],[30,5,30,11],[31,5,31,11],[19,5,19,11],[22,6,22,10],[20,5,20,11],[71,4,71,13],[69,5,69,11],[68,5,68,11],[73,4,74,4],[73,5,74,8],[72,4,72,13],[70,5,70,13],[82,5,82,8],[76,5,76,8],[75,5,75,8],[77,5,77,8],[78,5,78,8],[79,5,79,8],[80,5,80,8],[81,5,81,8],[4,5,4,11],[9,5,9,11],[13,5,13,11],[66,3,70,3],[38,6,38,11],[42,6,42,11],[39,5,39,13],[41,6,41,11],[45,5,45,13],[43,6,43,11],[40,5,40,11],[44,6,44,11],[18,5,18,11],[29,5,29,11],[28,5,28,11],[63,4,63,13],[46,5,46,11],[53,4,53,15],[52,4,52,13],[54,5,54,11],[61,4,61,13],[60,5,60,11],[59,5,59,11],[56,5,56,11],[66,5,66,11],[57,5,57,13],[65,4,65,13],[64,4,64,13],[62,4,62,13],[67,5,67,11],[0,36,0,43],[11,25,11,32],[11,36,11,43],[17,5,17,11],[11,5,11,11],[14,5,14,11],[10,5,10,11],[3,4,3,13],[2,5,2,15],[0,25,0,32],[16,5,16,11],[2,2,2,4],[7,5,7,11],[12,5,12,11],[15,5,15,11],[8,5,8,11],[21,6,21,10],[27,5,27,11],[26,5,26,11],[24,5,24,11],[25,4,25,13]]}
[null,null,null,null,null,null,null,null,null,null,null,null,null,null,null,null,null,null,null,null,null,null,null,null,null,"Source",null,null,null,null,null,null,null,null,null,null,"DTAA"]
[null,null,null,null,null,null,null,null,null,null,null,null,null,null,null,null,null,null,null,null,null,null,null,null,null,"5A1ai",{"$f":"SUMIF(OS_Section_Code,Z2,os.SourceAmount)","v":0},"5Ea",{"$f":"SUMIF(OS_Section_Code,AB2,os.SourceAmount)","v":0},"5AD1i",{"$f":"SUMIF(OS_Section_Code,AD2,os.SourceAmount)","v":0},"5AB1a",{"$f":"SUMIF(OS_Section_Code,AF2,os.SourceAmount)","v":0},"56i",{"$f":"MAX(0,os.DividendGross)","v":0},null,"5A1ai",{"$f":"IF(Residentialstatuscheck=\"NRI\",SUMIFS(os.Amount_income,os.TRC,\"=Yes\",DTAA_Section_Code,AK2),SUMIF(DTAA_Section_Code,AK2,os.Amount_income))","v":0},"5Ea",{"$f":"IF(Residentialstatuscheck=\"NRI\",SUMIFS(os.Amount_income,os.TRC,\"=Yes\",DTAA_Section_Code,AM2),SUMIF(DTAA_Section_Code,AM2,os.Amount_income))","v":0},"5AD1i",{"$f":"IF(Residentialstatuscheck=\"NRI\",SUMIFS(os.Amount_income,os.TRC,\"=Yes\",DTAA_Section_Code,AO2),SUMIF(DTAA_Section_Code,AO2,os.Amount_income))","v":0},"5AB1a",{"$f":"IF(Residentialstatuscheck=\"NRI\",SUMIFS(os.Amount_income,os.TRC,\"=Yes\",DTAA_Section_Code,AQ2),SUMIF(DTAA_Section_Code,AQ2,os.Amount_income))","v":0},"56i",{"$f":"IF(Residentialstatuscheck=\"NRI\",SUMIFS(os.Amount_income,os.TRC,\"=Yes\",DTAA_Section_Code,AS2),SUMIF(DTAA_Section_Code,AS2,os.Amount_income))","v":0},"5AD1IBd",{"$f":"IF(Residentialstatuscheck=\"NRI\",SUMIFS(os.Amount_income,os.TRC,\"=Yes\",DTAA_Section_Code,AU2),SUMIF(DTAA_Section_Code,AU2,os.Amount_income))","v":0}]
[null,null,"Schedule OS",null,null,"Income  from Other Sources",null,null,null,null,null,null,null,null,null,null,null,null,null,{"$f":"IF(MID(sheet1.ResidentialStatus1,1,3)=\"RES\",\"RES\",\"NRI\")","v":"RES"},null,null,null,null,null,"5A1aii",0,"5A1bA",0,"5AD1iP",{"$f":"SUMIF(OS_Section_Code,AD3,os.SourceAmount)","v":0},"1",0,56,{"$f":"os.InterestGross","v":410000},null,"5A1aii",0,"5A1bA",0,"5AD1iP",0,"5BB",0,56,{"$f":"IF(Residentialstatuscheck=\"NRI\",SUMIFS(os.Amount_income,os.TRC,\"=Yes\",DTAA_Section_Code,AS3),SUMIF(DTAA_Section_Code,AS3,os.Amount_income))","v":0},"5AD1IB",{"$f":"IF(Residentialstatuscheck=\"NRI\",SUMIFS(os.Amount_income,os.TRC,\"=Yes\",DTAA_Section_Code,AU3),SUMIF(DTAA_Section_Code,AU3,os.Amount_income))","v":0}]
[null,null,null,1,"Gross Income chargeable to tax at normal applicable rates  (1a+ 1b+ 1c+ 1d + 1e)",null,null,null,null,null,null,null,null,null,1,{"$f":"SUM(N5,N8,N14,N15,N21)","v":535000},null,null,null,{"$f":"SUM(J77:N77)","v":0},null,null,null,null,null,"5A1aiia",0,"5ACA1a",0,"5BBA",{"$f":"SUMIF(OS_Section_Code,AD4,os.SourceAmount)","v":0},"5BB",{"$f":"MAX(0,os.WinLottRacePuzz)","v":0},"562iii",{"$f":"MAX(0,os.RentFromMachPlantBldgs)","v":0},null,"5A1aiia",0,"5ACA1a",0,"5BBA",0,"5B",0,"562iii",{"$f":"IF(Residentialstatuscheck=\"NRI\",SUMIFS(os.Amount_income,os.TRC,\"=Yes\",DTAA_Section_Code,AS4),SUMIF(DTAA_Section_Code,AS4,os.Amount_income))","v":0},"5AC1b",{"$f":"IF(Residentialstatuscheck=\"NRI\",SUMIFS(os.Amount_income,os.TRC,\"=Yes\",DTAA_Section_Code,AU4),SUMIF(DTAA_Section_Code,AU4,os.Amount_income))","v":0}]
[null,null,null,null,"a","Dividends Gross",null,null,null,null,null,null,"1a",{"$f":"os.DividendGrossai+os.DividendGrossaii","v":0},null,null,null,null,null,{"$f":"SUM(J76:N76)+SUM(J83:N83)","v":0},null,null,null,null,null,"5A1aiiaa",0,"5AC1a",0,"5BBC",{"$f":"SUMIF(OS_Section_Code,AD5,os.SourceAmount)","v":0},"5B",0,"562x",{"$f":"os.Tot562x","v":125000},null,"5A1aiiaa",0,"5AC1a",0,"5BBC",0,"5BBDA",0,"562x",{"$f":"IF(Residentialstatuscheck=\"NRI\",SUMIFS(os.Amount_income,os.TRC,\"=Yes\",DTAA_Section_Code,AS5),SUMIF(DTAA_Section_Code,AS5,os.Amount_income))","v":0}]
[null,null,null,null,"ai","Dividend income [other than (ii)]",null,null,null,null,null,null,"1ai",{"$f":"OS10_Upto15Of6+OS10_Up16Of6To15Of9+OS10_Up16Of9To15Of12+OS10_Up16Of12To15Of3+OS10_Up16Of3To31Of3+DivDTAA+IF(os.amountinterestexpenditure=\"\",os.expenditureClaimed1,os.amountinterestexpenditure1)","v":0}]
[null,null,null,null,"aii","Dividend income u/s 2(22)(e)",null,null,null,null,null,null,"1aii",0,null,null,null,null,null,null,null,null,null,null,null,null,null,null,null,null,null,null,null,null,null,null,null,null,null,null,null,null,null,null,"5A1aiiaaP",{"$f":"IF(Residentialstatuscheck=\"NRI\",SUMIFS(os.Amount_income,os.TRC,\"=Yes\",DTAA_Section_Code,AS7),SUMIF(DTAA_Section_Code,AS7,os.Amount_income))","v":0}]
[null,null,null,null,"b","Interest, Gross (bi + bii + biii + biv + bv)",null,null,null,null,null,null,"1b",{"$f":"SUM(N9:N13)","v":410000},null,null,null,null,null,null,null,null,null,null,null,"5A1aiiab",0,"5ACA1a",0,"5BBD",{"$f":"SUMIF(OS_Section_Code,AD8,os.SourceAmount)","v":0},"5BBDA",0,"5A1aiiaaP",{"$f":"SUMIF(OS_Section_Code,AH8,os.SourceAmount)","v":0},null,"5A1aiiab",0,"5ACA1a",0,"5BBD",0,"5BBF",0,"5A1aiiaci",{"$f":"IF(Residentialstatuscheck=\"NRI\",SUMIFS(os.Amount_income,os.TRC,\"=Yes\",DTAA_Section_Code,AS8),SUMIF(DTAA_Section_Code,AS8,os.Amount_income))","v":0}]
[null,null,null,null,null,"i) From Savings bank",null,null,null,null,null,null,"bi",null,null,null,null,null,null,null,null,null,null,null,null,"5A1aiii",0,"5A1aiiac",0,"5BBE",{"$f":"os.IncChrgblUs115BBE","v":0},"5BBF",0,"5A1aiiaci",0,null,"5A1aiii",0,"5A1aiiac",0,"5BBE",0,"5BBG",0,"5AD1iDiv",{"$f":"IF(Residentialstatuscheck=\"NRI\",SUMIFS(os.Amount_income,os.TRC,\"=Yes\",DTAA_Section_Code,AS9),SUMIF(DTAA_Section_Code,AS9,os.Amount_income))","v":0}]
[null,null,null,null,null,"ii) From Deposits (Bank/ Post Office/ Co-operative Society) ",null,null,null,null,null,null,"bii",410000,null,null,null,null,null,null,null,null,null,null,null,null,null,null,null,null,null,"5BBG",0,"5AD1iDiv",0]
[null,null,null,null,null,"iii) From Income Tax refund",null,null,null,null,null,null,"biii",null,null,null,null,null,null,null,null,null,null,null,null,null,null,null,null,null,null,null,null,"5AD1IBd",0]
[null,null,null,null,null,"iv) In the nature of  Pass through income/ loss",null,null,null,null,null,null,"biv",null,null,null,null,null,null,null,null,null,null,null,null,"PTI_ Source",null,null,null,null,null,null,null,"5AD1IB",0,null,"PTI_ DTAA"]
[null,null,null,null,null,"v) From others",null,null,null,null,null,null,"bv",null,null,null,null,null,null,null,null,null,null,null,null,"PTI_5A1ai",{"$f":"SUMIF(PTI_Section_Code,Z13,os.PTIAmount)","v":0},"PTI_5A1aiii",{"$f":"SUMIF(PTI_Section_Code,AB13,os.PTIAmount)","v":0},"PTI_5AD1iP",{"$f":"SUMIF(PTI_Section_Code,AD13,os.PTIAmount)","v":0},"PTI_5BBDA",{"$f":"SUMIF(PTI_Section_Code,AF13,os.PTIAmount)","v":0},"5AC1b",0,null,"PTI_5A1ai",{"$f":"IF(Residentialstatuscheck=\"NRI\",SUMIFS(os.Amount_income,os.TRC,\"=Yes\",DTAA_Section_Code,AK13),SUMIF(DTAA_Section_Code,AK13,os.Amount_income))","v":0},"PTI_5A1aiii",{"$f":"IF(Residentialstatuscheck=\"NRI\",SUMIFS(os.Amount_income,os.TRC,\"=Yes\",DTAA_Section_Code,AM13),SUMIF(DTAA_Section_Code,AM13,os.Amount_income))","v":0},"PTI_5AD1iP",{"$f":"IF(Residentialstatuscheck=\"NRI\",SUMIFS(os.Amount_income,os.TRC,\"=Yes\",DTAA_Section_Code,AO13),SUMIF(DTAA_Section_Code,AO13,os.Amount_income))","v":0},"PTI_5BBDA",{"$f":"IF(Residentialstatuscheck=\"NRI\",SUMIFS(os.Amount_income,os.TRC,\"=Yes\",DTAA_Section_Code,AQ13),SUMIF(DTAA_Section_Code,AQ13,os.Amount_income))","v":0}]
[null,null,null,null,"c","Rental income from machinery, plants, buildings, etc., Gross ",null,null,null,null,null,null,"1c",null,null,null,null,null,null,null,null,null,null,null,null,"PTI_5A1aii",0,"PTI_5A1bA",0,"PTI_5BBA",0,"PTI_5BBF",0,null,null,null,"PTI_5A1aii",0,"PTI_5A1bA",0,"PTI_5BBA",0,"PTI_5BBF",0]
[null,null,null,null,"d","Income of the nature referred to in section 56(2)(x) which is chargeable to tax (di + dii + diii + div + dv) ",null,null,null,null,null,null,"1d",{"$f":"SUM(N16:N20)","v":125000},null,null,null,null,null,null,null,null,null,null,null,"PTI_5A1aiia",0,null,null,"PTI_5BBC",0,"PTI_5Ea",0,null,null,null,"PTI_5A1aiia",0,"PTI_5AC1b",0,"PTI_5BBC",0,"PTI_5Ea",0]
[null,null,null,null,null,"i) Aggregate value of sum of money received without consideration ",null,null,null,null,null,null,"di",125000,null,null,null,null,null,null,null,null,null,null,null,"PTI_5A1aiiaa",0,"PTI_5AB1a",0,"PTI_5BBG",0,"PTI_5ACA1a",0,null,null,null,"PTI_5A1aiiaa",0,"PTI_5AB1a",0,"PTI_5BBG",0,"PTI_5ACA1a",0]
[null,null,null,null,null,"ii) In case immovable property is received without consideration, stamp duty value of property ",null,null,null,null,null,null,"dii",null,null,null,null,null,null,null,null,null,null,null,null,"PTI_5A1aiiab",0,"PTI_5AC1a",0,"PTI_5BB",0,"PTI_5A1aiiaaP",0,null,null,null,"PTI_5A1aiiab",0,"PTI_5AC1a",0,"PTI_5BB",0,"PTI_5A1aiiaaP",0]
[null,null,null,null,null,"iii) In case immovable property is received for inadequate consideration, stamp duty value of property in excess of such consideration",null,null,null,null,null,null,"diii",null,null,null,null,null,null,null,null,null,null,null,null,"PTI_5A1aiiac",0,"PTI_5AD1i",0,"PTI_5BBE",0,"PTI_5A1aiiaci",0,null,null,null,"PTI_5A1aiiac",0,"PTI_5AD1i",0,"PTI_5BBE",0,"PTI_5A1aiiaci",0]
[null,null,null,null,null,"iv) In case any other property is received without consideration, fair market value of  property",null,null,null,null,null,null,"div",null,null,null,null,null,null,null,null,null,null,null,null,null,null,null,null,"PTI_5AC1b",{"$f":"SUMIF(PTI_Section_Code,AD19,os.PTIAmount)","v":0},"PTI_5AD1iDiv",0,null,null,null,null,null,null,null,"PTI_5AC1b",{"$f":"IF(Residentialstatuscheck=\"NRI\",SUMIFS(os.Amount_income,os.TRC,\"=Yes\",DTAA_Section_Code,AO19),SUMIF(DTAA_Section_Code,AO19,os.Amount_income))","v":0},"PTI_5AD1iDiv",0]
[null,null,null,null,null,"v) In case any other property is received for inadequate consideration, Fair market value of property  in excess of such consideration.",null,null,null,null,null,null,"dv",null,null,null,null,null,null,null,null,null,null,null,null,null,null,null,null,null,null,"PTI_5AD1IBd",0,null,null,null,null,null,null,null,null,null,"PTI_5AD1IBd",0]
[null,null,null,null,"e","Any other income (please specify nature)",null,null,null,null,null,null,"1e",{"$f":"SUM(os.AnyotherAmount)","v":0},null,null,null,null,null,null,null,{"$f":"OS10_Upto15Of6+OS10_Up16Of6To15Of9+OS10_Up16Of9To15Of12+OS10_Up16Of12To15Of3+OS10_Up16Of3To31Of3+OSDTAA_Upto15Of6+OSDTAA_Up16Of6To15Of9+OSDTAA_Up16Of9To15Of12+OSDTAA_Up16Of12To15Of3+OSDTAA_Up16Of3To31Of3+IF(os.amountinterestexpenditure=\"\",os.expenditureClaimed,os.amountinterestexpenditure)","v":0},null,null,null,null,null,null,null,null,null,"PTI_5AD1IB",0,null,null,null,null,null,null,null,null,null,"PTI_5AD1IB",0]
[null,null,null,null,null,"Sl. No.","Nature",null,null,null,null,"Amount",null,null,null,null,null,null,null,null,null,{"$f":"IF(os.amountinterestexpenditure=\"\",os.expenditureClaimed,os.amountinterestexpenditure)","v":0}]
[null,null,null,null,null,1]
[null,null,null,null,null,{"$f":"F23+1","v":2}]
[]
[null,null,null,2,"Income chargeable at special rates  (2a+ 2b+ 2c+ 2d + 2e related to sl.no.1)",null,null,null,null,null,null,null,null,null,2,{"$f":"MAX(0,SUM(N27,N28,N35,N41,DTAA_56I_OS,DTAA_56_OS,DTAA_562iii_OS,DTAA_562x_OS))","v":0}]
[null,null,null,null,"a","Income by way of winnings from lotteries, crossword puzzles etc. chargeable u/s 115BB ",null,null,null,null,null,null,"2a"]
[null,null,null,null,"b","Income chargeable u/s 115BBE (bi + bii + biii + biv+ bv + bvi)",null,null,null,null,null,null,"2b",{"$f":"SUM(N29:N34)","v":0}]
[null,null,null,null,null,"i) Cash credits u/s 68",null,null,null,null,null,null,"bi"]
[null,null,null,null,null,"ii) Unexplained investments u/s 69",null,null,null,null,null,null,"bii"]
[null,null,null,null,null,"iii) Unexplained money etc. u/s 69A",null,null,null,null,null,null,"biii"]
[null,null,null,null,null,"iv) Undisclosed investments etc. u/s 69B",null,null,null,null,null,null,"biv"]
[null,null,null,null,null,"v) Unexplained expenditure etc. u/s 69C",null,null,null,null,null,null,"bv"]
[null,null,null,null,null,"vi) Amount borrowed or repaid on hundi u/s 69D",null,null,null,null,null,null,"bvi"]
[null,null,null,null,"c","Any other income chargeable at special rate (total of ci to cxxiii)",null,null,null,null,null,null,"2c",{"$f":"SUM(os.SourceAmount)","v":0}]
[null,null,null,null,null,"Sl. No.","Nature",null,null,null,null,null,"Amount",null,null,null,null,null,"OS Section Code"]
[null,null,null,null,null,{"$f":"1","v":1},"(Select)",null,null,null,null,null,null,null,null,null,null,null,{"$f":"MID(G37,1,SEARCH(\"-\",G37)-1)","v":{"$error":"#VALUE!"}},{"$f":"VLOOKUP(S37,OS_LOOKUP,2,FALSE)","v":{"$error":"#VALUE!"}}]
[null,null,null,null,null,{"$f":"F37+1","v":2},"(Select)",null,null,null,null,null,null,null,null,null,null,null,{"$error":"#VALUE!"},{"$f":"VLOOKUP(S38,OS_LOOKUP,2,FALSE)","v":{"$error":"#VALUE!"}}]
[null,null,null,null,null,3,"(Select)",null,null,null,null,null,null,null,null,null,null,null,{"$error":"#VALUE!"},{"$error":"#VALUE!"}]
[]
[null,null,null,null,"d","Pass through income in the nature of income from other sources chargeable at special rates",null,null,null,null,null,null,"2d",{"$f":"SUM(os.PTIAmount)","v":0}]
[null,null,null,null,null,"Sl. No.","Nature",null,null,null,null,null,"Amount",null,null,null,null,null,"PTI Section Code"]
[null,null,null,null,null,{"$f":"1","v":1},"(Select)",null,null,null,null,null,null,null,null,null,null,null,{"$f":"MID(G43,1,SEARCH(\"-\",G43)-1)","v":{"$error":"#VALUE!"}},{"$f":"VLOOKUP(S43,PTI_OS_LOOKUP,2,FALSE)","v":{"$error":"#VALUE!"}}]
[null,null,null,null,null,{"$f":"F43+1","v":2},"(Select)",null,null,null,null,null,null,null,null,null,null,null,{"$error":"#VALUE!"},{"$error":"#VALUE!"}]
[null,null,null,null,null,{"$f":"F44+1","v":3},"(Select)",null,null,null,null,null,null,null,null,null,null,null,{"$error":"#VALUE!"},{"$error":"#VALUE!"}]
[" "]
[null,null,null,null,"e","Amount included in 1 and 2 above, which is chargeable at special rates in India as per DTAA (total of column (2) of table below)",null,null,null,null,null,null,"2e",{"$f":"IF(Residentialstatuscheck=\"NRI\",SUMIF(os.TRC,\"Yes\",os.Amount_income),SUM(os.Amount_income))","v":0}]
[null,null,null,null,"Sl. No\n(Col 1)","Amount of income\n(Col 2)","Item No.1&2 in which included\n(Col 3)","Country name, code\n(Col 4)","Article of DTAA\n(Col 5)","Rate as per Treaty\n(enter NIL, if not chargeable)\n(Col 6)","Whether TRC obtained?\n(Col 7)","Section of I.T. Act\n(Col 8)","Rate as per I.T. Act\n(Col 9)","Applicable rate [lower of (6) or (9)]\n(Col 10)",null,null,null,null,null,{"$f":"os.expenditureClaimed-MIN(os.expenditureClaimed,os.DividendGrossaii)","v":0},{"$f":"IF(os.amountinterestexpenditure=\"\",0,os.amountinterestexpenditure-MIN(os.amountinterestexpenditure,os.DividendGrossaii))","v":0}]
[null,null,null,null,1,null,null,null,null,null,null,"(Select)",null,{"$f":"IF(Residentialstatuscheck=\"NRI\",IF(MID(K49,1,1)=\"Y\",MIN(J49,M49),\"\"),MIN(J49,M49))","v":0},null,null,null,null,{"$f":"MID(L49,1,SEARCH(\"-\",L49)-1)","v":{"$error":"#VALUE!"}},{"$f":"VLOOKUP(S49,OS_DTAA_LOOKUP,2,FALSE)","v":{"$error":"#VALUE!"}}]
[null,null,null,null,{"$f":"E49+1","v":2},null,null,null,null,null,null,"(Select)",null,{"$f":"IF(Residentialstatuscheck=\"NRI\",IF(MID(K50,1,1)=\"Y\",MIN(J50,M50),\"\"),MIN(J50,M50))","v":0},null,null,null,null,{"$f":"MID(L50,1,SEARCH(\"-\",L50)-1)","v":{"$error":"#VALUE!"}},{"$f":"VLOOKUP(S50,OS_DTAA_LOOKUP,2,FALSE)","v":{"$error":"#VALUE!"}}]
[null,null,null,null,{"$f":"E50+1","v":3},null,null,null,null,null,null,"(Select)",null,{"$f":"IF(Residentialstatuscheck=\"NRI\",IF(MID(K51,1,1)=\"Y\",MIN(J51,M51),\"\"),MIN(J51,M51))","v":0},null,null,null,null,{"$f":"MID(L51,1,SEARCH(\"-\",L51)-1)","v":{"$error":"#VALUE!"}},{"$f":"VLOOKUP(S51,OS_DTAA_LOOKUP,2,FALSE)","v":{"$error":"#VALUE!"}}]
[null,null,null,null,{"$f":"E51+1","v":4},null,null,null,null,null,null,"(Select)",null,{"$f":"IF(Residentialstatuscheck=\"NRI\",IF(MID(K52,1,1)=\"Y\",MIN(J52,M52),\"\"),MIN(J52,M52))","v":0},null,null,null,null,{"$f":"MID(L52,1,SEARCH(\"-\",L52)-1)","v":{"$error":"#VALUE!"}},{"$f":"VLOOKUP(S52,OS_DTAA_LOOKUP,2,FALSE)","v":{"$error":"#VALUE!"}}]
[]
[null,null,null,3,"Deductions under section 57:  (other than those relating to income chargeable at special rate under 2a, 2b ,2c, 2d & 2e)"]
[null,null,null,null,"a","Expenses / Deductions other than \"C\"",null,null,null,null,null,null,"3a"]
[null,null,null,null,"a(ii)","Deduction u/s 57 (iia) (in case of family pension only)",null,null,null,null,null,null,"3aii"]
[null,null,null,null,"b ","Depreciation (available only if income offered in 1c of \"schedule OS\")",null,null,null,null,null,null,"3b"]
[null,null,null,null,"c","Interest expenditure on dividend u/s 57(1 ) (available only if income offered in 1a)"]
[null,null,null,null,null,"Interest expenditure on dividend entered value"]
[null,null,null,null,null,"Eligible amount of interest expenditure-computed value",null,null,null,null,null,null,"3c",0]
[null,null,null,null,"d","Total  ",null,null,null,null,null,null,"3d",{"$f":"os.Depreciation+os.Expenses+os.amountinterestexpenditure","v":0}]
[null,null,null,4,"Amounts not deductible u/s 58",null,null,null,null,null,null,null,null,null,4]
[null,null,null,5,"Profits chargeable to tax u/s 59",null,null,null,null,null,null,null,null,null,5]
[null,null,null,6,"Net Income from other sources chargeable at normal applicable rates 1(after reducing income related to DTAA portion)-3+4+5 (If negative take the figure to 4i of schedule CYLA)",null,null,null,null,null,null,null,null,null,6,{"$f":"os.GrossIncChrgblTaxAtAppRate-os.TotDeductions+MAX(0,os.Amountus58)+os.Profitus59-DTAA_56_OS-DTAA_56I_OS-DTAA_562iii_OS-DTAA_562x_OS","v":535000}]
[null,null,null,7,"Income from other sources (other than from owning and maintaining race horses)  (2 + 6) (enter 6 as nil, if negative)",null,null,null,null,null,null,null,null,null,7,{"$f":"MAX(0,os.BalanceNoRaceHorse)+os.IncChargeableSpecialRates","v":535000}]
[null,null,null,8,"Income from the activity of owning race horses "]
[null,null,null,null,"a ","Receipts ",null,null,null,null,null,null,"8a"]
[null,null,null,null,"b ","Deductions under section 57 in relation to receipts at 8a only",null,null,null,null,null,null,"8b"]
[null,null,null,null,"c","Amounts not deductible u/s 58",null,null,null,null,null,null,"8c"]
[null,null,null,null,"d","Profits chargeable to tax u/s 59",null,null,null,null,null,null,"8d"]
[null,null,null,null,"e","Balance (8a - 8b + 8c + 8d). (if negative take the figure to 11xv of Schedule CFL)",null,null,null,null,null,null,null,null,"8e",{"$f":"os.Receipts-os.DeductSec57+os.Amountus58_2+os.Profitus59_2","v":0}]
[null,null,null,9,"Income under the head “Income from other sources” (7+ 8e) (take 8e as nil if negative) ",null,null,null,null,null,null,null,null,null,9,{"$f":"os.TotOthSrcNoRaceHorse+MAX(0,os.BalanceOwnRaceHorse)","v":535000},null,null,null,4]
[null,null,null,10,"Information about accrual/receipt of income from Other Sources",null,null,null,null,null,null,null,null,null,null,null,null,null,null,5256350]
[null,null,null,null,"Sl. No.","Other Source Income",null,null,null,"Upto 15/6","From 16/6 to 15/9","From 16/9 to 15/12","From 16/12 to 15/3","From 16/3 to 31/3",null,null,null,null,null,535000,null,null,{"$f":"IF(Residentialstatuscheck=\"NRI\",SUMIFS(os.Amount_income,os.TRC,\"=Yes\",os.SectionAct,\"5AD1IBd-Income (being dividend) received by a specified fund in respect of securities (other than units referred to in section 115AB) - chargeable u/s 115AD(1)(i)\"),SUMIF(os.SectionAct,\"5AD1IBd-Income (being dividend) received by a specified fund in respect of securities (other than units referred to in section 115AB) - chargeable u/s 115AD(1)(i)\",os.Amount_income))","v":0},{"$f":"IF(Residentialstatuscheck=\"NRI\",SUMIFS(os.Amount_income,os.TRC,\"=Yes\",os.SectionAct,\"PTI_5AD1IBd-PTI- Income (being dividend) received by a specified fund in respect of securities (other than units referred to in section 115AB) - chargeable u/s 115AD(1)(i)\"),SUMIF(os.SectionAct,\"PTI_5AD1IBd-PTI- Income (being dividend) received by a specified fund in respect of securities (other than units referred to in section 115AB) - chargeable u/s 115AD(1)(i)\",os.Amount_income))","v":0},{"$f":"DTAA_5AD1i10P+DTAA_5AD1i10PPTI","v":0}]
[null,null,null,null,null,null,null,null,null,"     (i)"," (ii)","  (iii)","  (iv)","    (v)",null,null,null,null,null,{"$f":"IF(os.InterestGross_d<0,0,SUMIF(os.Nature_income,\"1b\",os.Amount_income))","v":0},{"$f":"SUMIF(os.Nature_income,\"2a\",os.Amount_income)","v":0},null,{"$f":"IF(Residentialstatuscheck=\"NRI\",SUMIFS(os.Amount_income,os.TRC,\"=Yes\",os.SectionAct,\"115AC(1)(a)-Income by way of Interest from bonds purchased in foreign currency  in case of a non-resident\"),SUMIF(os.SectionAct,\"115AC(1)(a)-Income by way of Interest from bonds purchased in foreign currency  in case of a non-resident\",os.Amount_income))","v":0},{"$f":"IF(Residentialstatuscheck=\"NRI\",SUMIFS(os.Amount_income,os.TRC,\"=Yes\",os.SectionAct,\"PTI_115AC(1)(a)-Income by way of Interest from bonds purchased in foreign currency  in case of a non-resident\"),SUMIF(os.SectionAct,\"PTI_115AC(1)(a)-Income by way of Interest from bonds purchased in foreign currency  in case of a non-resident\",os.Amount_income))","v":0},{"$f":"SUMIF(os.SectionAct,\"5AC1b-115AC1b - Income by way of Dividend from bonds or GDRs purchased in foreign currency by non-residents - chargeable u/s 115AC\",os.Amount_income)","v":0},{"$f":"SUMIF(os.SectionAct,\"PTI_5AC1b-PTI -Income by way of Dividend from bonds or GDR purchased in foreign currency  in case of a non-resident\",os.Amount_income)","v":0},{"$f":"DTAA_5AC1a+DTAA_5AC1aPTI+DTAA_5AC1b+DTAA_5AC1bPTI","v":0}]
[null,null,null,null,1,"Dividend Income ",null,null,null,0,0,0,0,0,null,null,null,null,null,{"$f":"SUMIF(os.Nature_income,\"1c\",os.Amount_income)","v":0},{"$f":"SUMIF(os.Nature_income,\"2c\",os.Amount_income)","v":0}]
[null,null,null,null,1,"Income by way of winnings from lotteries, crossword puzzles, races, games, gambling, betting etc. referred to in section 2(24)(ix) ",null,null,null,null,null,null,null,null,null,null,null,null,{"$f":"SUM(J77:N77)","v":0},{"$f":"SUMIF(os.Nature_income,\"1d\",os.Amount_income)","v":0},{"$f":"SUMIF(os.Nature_income,\"2d\",os.Amount_income)","v":0},null,{"$f":"IF(Residentialstatuscheck=\"NRI\",SUMIFS(os.Amount_income,os.TRC,\"=Yes\",os.SectionAct,\"115A(1)(a)(i)-Dividends in the case of non-residents\"),SUMIF(os.SectionAct,\"115A(1)(a)(i)-Dividends in the case of non-residents\",os.Amount_income))","v":0},{"$f":"IF(Residentialstatuscheck=\"NRI\",SUMIFS(os.Amount_income,os.TRC,\"=Yes\",os.SectionAct,\"PTI_115A(1)(a)(i)-Dividends in the case of non-residents\"),SUMIF(os.SectionAct,\"PTI_115A(1)(a)(i)-Dividends in the case of non-residents\",os.Amount_income))","v":0},{"$f":"DTAA_5A1ai+DTAA_5A1aiPTI","v":0}]
[null,null,null,null,2,"Dividend Income referred in Sl. No 1a(i)",null,null,null,0,0,0,0,0,null,null,null,null,null,null,null,null,{"$f":"IF(Residentialstatuscheck=\"NRI\",SUMIFS(os.Amount_income,os.TRC,\"=Yes\",os.SectionAct,\"5AD1iDiv-Income (being dividend) received by an FII in respect of securities (other than units referred to in section 115AB) - chargeable u/s 115AD(1)(i)\"),SUMIF(os.SectionAct,\"5AD1iDiv-Income (being dividend) received by an FII in respect of securities (other than units referred to in section 115AB) - chargeable u/s 115AD(1)(i)\",os.Amount_income))","v":0},{"$f":"IF(Residentialstatuscheck=\"NRI\",SUMIFS(os.Amount_income,os.TRC,\"=Yes\",os.SectionAct,\"PTI_5AD1iDiv-PTI-Income (being dividend) received by an FII in respect of securities (other than units referred to in section 115AB) - chargeable u/s 115AD(1)(i)\"),SUMIF(os.SectionAct,\"PTI_5AD1iDiv-PTI-Income (being dividend) received by an FII in respect of securities (other than units referred to in section 115AB) - chargeable u/s 115AD(1)(i)\",os.Amount_income))","v":0},{"$f":"DTAA_5AD1i+DTAA_5AD1iPTI","v":0}]
[null,null,null,null,3,"Dividend Income u/s 115A(1)(a)(i)  @ 20% ( Including PTI Income)",null,null,null,null,null,null,null,null,null,null,null,null,{"$f":"SUM(J79:N79)","v":0}]
[null,null,null,null,4,"Dividend Income u/s 115AC @ 10% (Including PTI Income) ",null,null,null,null,null,null,null,null,null,null,null,null,0]
[null,null,null,null,5," Dividend Income (other than units referred to in section 115AB) received by a  FII u/s 115AD(1)(i) @ 20% (Including PTI Income) ",null,null,null,null,null,null,null,null,null,null,null,null,0]
[null,null,null,null,6,"Dividend  Income (other than units referred to in section 115AB) received by a specified fund  u/s 115AD(1)(i) @ 10%  (Including PTI Income)",null,null,null,null,null,null,null,null,null,null,null,null,0]
[null,null,null,null,7,"Dividend income taxable at DTAA rates",null,null,null,0,0,0,0,0,null,null,null,null,{"$f":"SUMIF(os.Nature_income,\"1ai\",os.Amount_income)","v":0},{"$f":"SUM(J83:N83)","v":0},{"$f":"OS10_Upto15Of6+OS10_Up16Of6To15Of9+OS10_Up16Of9To15Of12+OS10_Up16Of12To15Of3+OS10_Up16Of3To31Of3","v":0}]

{"sheet":"CYLA-BFLA","index":24,"n_rows":46,"n_cols":17,"rows_kept":46,"cut":false,"hidden":false,"merged":[[2,2,2,3],[2,4,2,9],[25,2,25,3],[25,4,25,9],[23,4,23,5],[3,2,23,2],[26,2,45,2],[26,3,27,3],[26,4,27,4],[44,4,44,5],[45,4,45,8]]}
[]
[]
[null,null,"Schedule CYLA",null,"Details of Income after set-off of current years losses"]
[null,null,"CURRENT YEAR LOSS ADJUSTMENT","Sl.No.","Head/ Source of Income","Income of current year (Fill this column only if income is zero or positive) ","House property loss of the current year set off ","Business Loss\n(other than speculation loss or specified business loss) of the current year set off","Other sources loss (other than loss from race horses and amount chargeable to special rate of tax) of the current year set off\n","Current year’s Income remaining after set off"]
[null,null,null,null,null,1,2,3,4,"5=1-2-3-4"]
[null,null,null,null,null,null,"Total loss\n(3 of Schedule – HP)","Total loss\n(2v of item E of Schedule BP)","Total loss\n(6 of Schedule-OS)"]
[null,null,null,"i","Loss to be set off(Fill this row only, if computed figure is negative)",null,{"$f":"ABS(MIN(HP.TotalIncomeChargeableUnHP,0))","v":0},{"$f":"ABS(sheet12.LossRemainSetOffOnBus)","v":0},{"$f":"ABS(MIN(os.BalanceNoRaceHorse+MAX(0,0),0))","v":0}]
[null,null,null,"ii","House property",{"$f":"MAX(HP.TotalIncomeChargeableUnHP,0)","v":1279000},null,{"$f":"MIN(hp.IncOfCurYrUnderThatHead2-hp.OthSrcLossNoRaceHorseSetoff2,cyla.TotBusLoss)","v":0},{"$f":"MIN(hp.IncOfCurYrUnderThatHead2,cyla.TotOthSrcLossNoRaceHorse-rh.OthSrcLossNoRaceHorseSetoff4-os.OthSrcLossNoRaceHorseSetoffDTAA)","v":0},{"$f":"MAX(0,hp.IncOfCurYrUnderThatHead2-SUM(G8:I8))","v":1279000},null,null,null,"Loss that can be adjusted",{"$f":"ABS(MIN(HP.Adjustableloss,0))","v":0}]
[null,null,null,"iii","Business  (excluding income from life insurance business u/s 115B, speculation income and income  from specified business)",{"$f":"MAX(sheet12.NetPLBusOthThanSpec7A7B7C,0)","v":3777350},{"$f":"MIN(BusinessIncome_Limit,busprof.IncOfCurYrUnderThatHead-busprof.OthSrcLossNoRaceHorseSetoff,cyla.TotHPlossCurYr)","v":0},null,{"$f":"MIN(busprof.IncOfCurYrUnderThatHead,cyla.TotOthSrcLossNoRaceHorse-hp.OthSrcLossNoRaceHorseSetoff2-rh.OthSrcLossNoRaceHorseSetoff4-os.OthSrcLossNoRaceHorseSetoffDTAA)","v":0},{"$f":"MAX(0,busprof.IncOfCurYrUnderThatHead-SUM(G9:I9))","v":3777350},null,null,null,"BusinessIncome_Limit",{"$f":"cyla.TotHPlossCurYr1","v":0}]
[null,null,null,"iv","Income  from life insurance business u/s 115B",null,null,null,null,null,null,null,null,"SpeculativeIncome_Limit",{"$f":"BusinessIncome_Limit-busprof.HPlossCurYrSetoff","v":0}]
[null,null,null,"v","Speculative Income",{"$f":"MAX(MAX(0,sheet12.AdjustedPLFrmSpecuBus)-MAX(0,(ABS(MIN(sheet12.NetPLBusOthThanSpec7A7B7C,0))-MAX(sheet12.NetPLBusOthThanSpec7A7B7C,0)-(0))),0)","v":0},{"$f":"MIN(SpeculativeIncome_Limit,busprofspec.IncOfCurYrUnderThatHead0a-busprofspec.OthSrcLossNoRaceHorseSetoff0a,cyla.TotHPlossCurYr-busprof.HPlossCurYrSetoff)","v":0},null,{"$f":"MIN(busprofspec.IncOfCurYrUnderThatHead0a,cyla.TotOthSrcLossNoRaceHorse-hp.OthSrcLossNoRaceHorseSetoff2-busprof.OthSrcLossNoRaceHorseSetoff-rh.OthSrcLossNoRaceHorseSetoff4-os.OthSrcLossNoRaceHorseSetoffDTAA)","v":0},{"$f":"MAX(0,busprofspec.IncOfCurYrUnderThatHead0a-SUM(G11:I11))","v":0},null,null,null,"SpecifiedIncome_Limit",{"$f":"SpeculativeIncome_Limit-busprofspec.HPlossCurYrSetoff0a","v":0}]
[null,null,null,"vi","Specified Business Income u/s 35 AD",{"$f":"MAX(MAX(0,sheet12.AdjustedPLFrmSpecifiedBus)-MAX(0,(ABS(MIN(sheet12.NetPLBusOthThanSpec7A7B7C,0))-MAX(sheet12.NetPLBusOthThanSpec7A7B7C,0)-(MAX(0,sheet12.AdjustedPLFrmSpecuBus)-busprofspec.IncOfCurYrUnderThatHead0a))),0)","v":0},{"$f":"MIN(SpecifiedIncome_Limit,busprofspecified.IncOfCurYrUnderThatHead0b-busprofspecified.OthSrcLossNoRaceHorseSetoff0b,cyla.TotHPlossCurYr-busprof.HPlossCurYrSetoff-busprofspec.HPlossCurYrSetoff0a)","v":0},null,{"$f":"MIN(busprofspecified.IncOfCurYrUnderThatHead0b,cyla.TotOthSrcLossNoRaceHorse-hp.OthSrcLossNoRaceHorseSetoff2-busprof.OthSrcLossNoRaceHorseSetoff-busprofspec.OthSrcLossNoRaceHorseSetoff0a-rh.OthSrcLossNoRaceHorseSetoff4-os.OthSrcLossNoRaceHorseSetoffDTAA)","v":0},{"$f":"MAX(0,busprofspecified.IncOfCurYrUnderThatHead0b-SUM(G12:I12))","v":0},null,null,null,"Ins115BIncome_Limit",{"$f":"SpecifiedIncome_Limit-busprof0b.HPlossCurYrSetoff0b","v":0}]
[null,null,null,"vii","Short-term capital gain taxable @ 15%",{"$f":"STCG_CurrentYrGain15Percent","v":0},{"$f":"MIN(Stcg15PercentIncome_Limit,stcg.IncOfCurYrUnderThatHead1-stcg.OthSrcLossNoRaceHorseSetoff1,cyla.TotHPlossCurYr-stcg.HPlossCurYrSetoff1a-stcg.HPlossCurYrSetoff1b-busprof.HPlossCurYrSetoff-bp.HPlossCurYrSetoff115B-busprofspec.HPlossCurYrSetoff0a-busprof0b.HPlossCurYrSetoff0b-ltcg.HPlossCurYrSetoff2a-othSecinclnlhrs.HPlossCurYrSetoff3-rh.HPlossCurYrSetoff4-os.HPlossCurYrSetoffDTAA)","v":0},{"$f":"MIN(stcg.IncOfCurYrUnderThatHead1-stcg.HPlossCurYrSetoff1-stcg.OthSrcLossNoRaceHorseSetoff1,cyla.TotBusLoss-stcg.BusLossSetoff1a-stcg.BusLossSetoff1b-hp.BusLossSetoff2-ltcg.BusLossSetoff2a-othSecinclnlhrs.BusLossSetoff3-rh.BusLossSetoff4-os.BusLossSetoffDTAA)","v":0},{"$f":"MIN(stcg.IncOfCurYrUnderThatHead1,cyla.TotOthSrcLossNoRaceHorse-hp.OthSrcLossNoRaceHorseSetoff2-busprof.OthSrcLossNoRaceHorseSetoff-bp.OthSrcLossNoRaceHorseSetoff115B-busprofspec.OthSrcLossNoRaceHorseSetoff0a-busprofspecified.OthSrcLossNoRaceHorseSetoff0b-stcg.OthSrcLossNoRaceHorseSetoff1a-stcg.OthSrcLossNoRaceHorseSetoff1b-ltcg.OthSrcLossNoRaceHorseSetoff2a-rh.OthSrcLossNoRaceHorseSetoff4-os.OthSrcLossNoRaceHorseSetoffDTAA)","v":0},{"$f":"MAX(0,stcg.IncOfCurYrUnderThatHead1-SUM(G13:I13))","v":0},null,null,null,"OsNormalIncome_Limit",{"$f":"Ins115BIncome_Limit-bp.HPlossCurYrSetoff115B","v":0}]
[null,null,null,"viii","Short-term capital gain taxable @ 30%",{"$f":"STCG_CurrentYrGain30Percent","v":0},{"$f":"MIN(Stcg30PercentIncome_Limit,stcg.IncOfCurYrUnderThatHead1a-stcg.OthSrcLossNoRaceHorseSetoff1a,cyla.TotHPlossCurYr-busprof.HPlossCurYrSetoff-bp.HPlossCurYrSetoff115B-busprofspec.HPlossCurYrSetoff0a-busprof0b.HPlossCurYrSetoff0b-othSecinclnlhrs.HPlossCurYrSetoff3-rh.HPlossCurYrSetoff4-os.HPlossCurYrSetoffDTAA)","v":0},{"$f":"MIN(stcg.IncOfCurYrUnderThatHead1a-stcg.HPlossCurYrSetoff1a-stcg.OthSrcLossNoRaceHorseSetoff1a,cyla.TotBusLoss-hp.BusLossSetoff2-othSecinclnlhrs.BusLossSetoff3-rh.BusLossSetoff4-os.BusLossSetoffDTAA)","v":0},{"$f":"MIN(stcg.IncOfCurYrUnderThatHead1a,cyla.TotOthSrcLossNoRaceHorse-hp.OthSrcLossNoRaceHorseSetoff2-busprof.OthSrcLossNoRaceHorseSetoff-bp.OthSrcLossNoRaceHorseSetoff115B-busprofspec.OthSrcLossNoRaceHorseSetoff0a-busprofspecified.OthSrcLossNoRaceHorseSetoff0b-rh.OthSrcLossNoRaceHorseSetoff4-os.OthSrcLossNoRaceHorseSetoffDTAA)","v":0},{"$f":"MAX(0,stcg.IncOfCurYrUnderThatHead1a-SUM(G14:I14))","v":0},null,null,null,"OsHorseRaceIncome_Limit",{"$f":"OsNormalIncome_Limit-othSecinclnlhrs.HPlossCurYrSetoff3","v":0}]
[null,null,null,"ix","Short-term capital gain taxable @ applicable rates",{"$f":"STCG_CurrentYrGainAppRate","v":0},{"$f":"MIN(StcgAppRateIncome_Limit,stcg.IncOfCurYrUnderThatHead1b-stcg.OthSrcLossNoRaceHorseSetoff1b,cyla.TotHPlossCurYr-busprof.HPlossCurYrSetoff-bp.HPlossCurYrSetoff115B-busprofspec.HPlossCurYrSetoff0a-busprof0b.HPlossCurYrSetoff0b-stcg.HPlossCurYrSetoff1a-othSecinclnlhrs.HPlossCurYrSetoff3-rh.HPlossCurYrSetoff4-os.HPlossCurYrSetoffDTAA)","v":0},{"$f":"MIN(stcg.IncOfCurYrUnderThatHead1b-stcg.HPlossCurYrSetoff1b-stcg.OthSrcLossNoRaceHorseSetoff1b,cyla.TotBusLoss-hp.BusLossSetoff2-stcg.BusLossSetoff1a-othSecinclnlhrs.BusLossSetoff3-rh.BusLossSetoff4-os.BusLossSetoffDTAA)","v":0},{"$f":"MIN(stcg.IncOfCurYrUnderThatHead1b,cyla.TotOthSrcLossNoRaceHorse-hp.OthSrcLossNoRaceHorseSetoff2-busprof.OthSrcLossNoRaceHorseSetoff-bp.OthSrcLossNoRaceHorseSetoff115B-busprofspec.OthSrcLossNoRaceHorseSetoff0a-busprofspecified.OthSrcLossNoRaceHorseSetoff0b-stcg.OthSrcLossNoRaceHorseSetoff1a-rh.OthSrcLossNoRaceHorseSetoff4-os.OthSrcLossNoRaceHorseSetoffDTAA)","v":0},{"$f":"MAX(0,stcg.IncOfCurYrUnderThatHead1b-SUM(G15:I15))","v":0},null,null,null,"OsDTAAIncome_Limit",{"$f":"OsHorseRaceIncome_Limit-rh.HPlossCurYrSetoff4","v":0}]
[null,null,null,"x","Short-term capital gain taxable at special rates in India as per DTAA ",{"$f":"STCG_CurrentYrGainDTAARate","v":0},{"$f":"MIN(STCGDTAAIncome_Limit,stcg.IncOfCurYrUnderThatHeadDTAA-stcg.OthSrcLossNoRaceHorseSetoffDTAA,cyla.TotHPlossCurYr-ltcg.HPlossCurYrSetoff2-ltcg.HPlossCurYrSetoff2a-busprof.HPlossCurYrSetoff-bp.HPlossCurYrSetoff115B-busprofspec.HPlossCurYrSetoff0a-busprof0b.HPlossCurYrSetoff0b-stcg.HPlossCurYrSetoff1-stcg.HPlossCurYrSetoff1a-stcg.HPlossCurYrSetoff1b-othSecinclnlhrs.HPlossCurYrSetoff3-rh.HPlossCurYrSetoff4-os.HPlossCurYrSetoffDTAA)","v":0},{"$f":"MIN(stcg.IncOfCurYrUnderThatHeadDTAA-stcg.HPlossCurYrSetoffDTAA-stcg.OthSrcLossNoRaceHorseSetoffDTAA,cyla.TotBusLoss-ltcg.BusLossSetoff2-ltcg.BusLossSetoff2a-othSecinclnlhrs.BusLossSetoff3-rh.BusLossSetoff4-os.BusLossSetoffDTAA-hp.BusLossSetoff2-stcg.BusLossSetoff1-stcg.BusLossSetoff1a-stcg.BusLossSetoff1b)","v":0},{"$f":"MIN(stcg.IncOfCurYrUnderThatHeadDTAA,cyla.TotOthSrcLossNoRaceHorse-hp.OthSrcLossNoRaceHorseSetoff2-busprof.OthSrcLossNoRaceHorseSetoff-bp.OthSrcLossNoRaceHorseSetoff115B-busprofspec.OthSrcLossNoRaceHorseSetoff0a-busprofspecified.OthSrcLossNoRaceHorseSetoff0b-stcg.OthSrcLossNoRaceHorseSetoff1-stcg.OthSrcLossNoRaceHorseSetoff1a-stcg.OthSrcLossNoRaceHorseSetoff1b-ltcg.OthSrcLossNoRaceHorseSetoff2-ltcg.OthSrcLossNoRaceHorseSetoff2a-rh.OthSrcLossNoRaceHorseSetoff4-os.OthSrcLossNoRaceHorseSetoffDTAA)","v":0},{"$f":"MAX(0,stcg.IncOfCurYrUnderThatHeadDTAA-SUM(G16:I16))","v":0},null,null,null,"Stcg30PercentIncome_Limit",{"$f":"OsDTAAIncome_Limit-os.HPlossCurYrSetoffDTAA","v":0}]
[null,null,null,"xi","Long term capital gain taxable @ 10%",{"$f":"LTCG_CurrentYrGain10Percent","v":0},{"$f":"MIN(Ltcg10PercentIncome_Limit,ltcg.IncOfCurYrUnderThatHead2-ltcg.OthSrcLossNoRaceHorseSetoff2,cyla.TotHPlossCurYr-ltcg.HPlossCurYrSetoff2a-busprof.HPlossCurYrSetoff-bp.HPlossCurYrSetoff115B-busprofspec.HPlossCurYrSetoff0a-busprof0b.HPlossCurYrSetoff0b-stcg.HPlossCurYrSetoff1-stcg.HPlossCurYrSetoff1a-stcg.HPlossCurYrSetoff1b-othSecinclnlhrs.HPlossCurYrSetoff3-rh.HPlossCurYrSetoff4-os.HPlossCurYrSetoffDTAA)","v":0},{"$f":"MIN(ltcg.IncOfCurYrUnderThatHead2-ltcg.HPlossCurYrSetoff2-ltcg.OthSrcLossNoRaceHorseSetoff2,cyla.TotBusLoss-ltcg.BusLossSetoff2a-othSecinclnlhrs.BusLossSetoff3-rh.BusLossSetoff4-os.BusLossSetoffDTAA-hp.BusLossSetoff2-stcg.BusLossSetoff1-stcg.BusLossSetoff1a-stcg.BusLossSetoff1b)","v":0},{"$f":"MIN(ltcg.IncOfCurYrUnderThatHead2,cyla.TotOthSrcLossNoRaceHorse-hp.OthSrcLossNoRaceHorseSetoff2-busprof.OthSrcLossNoRaceHorseSetoff-bp.OthSrcLossNoRaceHorseSetoff115B-busprofspec.OthSrcLossNoRaceHorseSetoff0a-busprofspecified.OthSrcLossNoRaceHorseSetoff0b-stcg.OthSrcLossNoRaceHorseSetoff1-stcg.OthSrcLossNoRaceHorseSetoff1a-stcg.OthSrcLossNoRaceHorseSetoff1b-ltcg.OthSrcLossNoRaceHorseSetoff2a-rh.OthSrcLossNoRaceHorseSetoff4-os.OthSrcLossNoRaceHorseSetoffDTAA)","v":0},{"$f":"MAX(0,ltcg.IncOfCurYrUnderThatHead2-SUM(G17:I17))","v":0},null,null,null,"StcgAppRateIncome_Limit",{"$f":"Stcg30PercentIncome_Limit-stcg.HPlossCurYrSetoff1a","v":0}]
[null,null,null,"xii","Long term capital gain taxable @ 20%",{"$f":"LTCG_CurrentYrGain20Percent","v":0},{"$f":"MIN(Ltcg20PercentIncome_Limit,ltcg.IncOfCurYrUnderThatHead2a-ltcg.OthSrcLossNoRaceHorseSetoff2a,cyla.TotHPlossCurYr-busprof.HPlossCurYrSetoff-bp.HPlossCurYrSetoff115B-busprofspec.HPlossCurYrSetoff0a-busprof0b.HPlossCurYrSetoff0b-stcg.HPlossCurYrSetoff1a-stcg.HPlossCurYrSetoff1b-rh.HPlossCurYrSetoff4-othSecinclnlhrs.HPlossCurYrSetoff3-os.HPlossCurYrSetoffDTAA)","v":0},{"$f":"MIN(ltcg.IncOfCurYrUnderThatHead2a-ltcg.HPlossCurYrSetoff2a-ltcg.OthSrcLossNoRaceHorseSetoff2a,cyla.TotBusLoss-hp.BusLossSetoff2-stcg.BusLossSetoff1a-stcg.BusLossSetoff1b-othSecinclnlhrs.BusLossSetoff3-rh.BusLossSetoff4-os.BusLossSetoffDTAA)","v":0},{"$f":"MIN(ltcg.IncOfCurYrUnderThatHead2a,cyla.TotOthSrcLossNoRaceHorse-hp.OthSrcLossNoRaceHorseSetoff2-busprof.OthSrcLossNoRaceHorseSetoff-bp.OthSrcLossNoRaceHorseSetoff115B-busprofspec.OthSrcLossNoRaceHorseSetoff0a-busprofspecified.OthSrcLossNoRaceHorseSetoff0b-stcg.OthSrcLossNoRaceHorseSetoff1a-stcg.OthSrcLossNoRaceHorseSetoff1b-rh.OthSrcLossNoRaceHorseSetoff4-os.OthSrcLossNoRaceHorseSetoffDTAA)","v":0},{"$f":"MAX(0,ltcg.IncOfCurYrUnderThatHead2a-SUM(G18:I18))","v":0},null,null,null,"Ltcg20PercentIncome_Limit",{"$f":"StcgAppRateIncome_Limit-stcg.HPlossCurYrSetoff1b","v":0}]
[null,null,null,"xiii","Long term capital gains taxable at special rates in India as per DTAA ",{"$f":"LTCG_CurrentYrGainDTAARate","v":0},{"$f":"MIN(LTCGDTAAIncome_Limit,ltcg.IncOfCurYrUnderThatHeadDTAA-ltcg.OthSrcLossNoRaceHorseSetoffDTAA,cyla.TotHPlossCurYr-othSecinclnlhrs.HPlossCurYrSetoff3-rh.HPlossCurYrSetoff4-os.HPlossCurYrSetoffDTAA-busprof.HPlossCurYrSetoff-bp.HPlossCurYrSetoff115B-busprofspec.HPlossCurYrSetoff0a-busprof0b.HPlossCurYrSetoff0b-stcg.HPlossCurYrSetoff1-stcg.HPlossCurYrSetoff1a-stcg.HPlossCurYrSetoff1b-stcg.HPlossCurYrSetoffDTAA-ltcg.HPlossCurYrSetoff2-ltcg.HPlossCurYrSetoff2a)","v":0},{"$f":"MIN(ltcg.IncOfCurYrUnderThatHeadDTAA-ltcg.HPlossCurYrSetoffDTAA-ltcg.OthSrcLossNoRaceHorseSetoffDTAA,cyla.TotBusLoss-othSecinclnlhrs.BusLossSetoff3-rh.BusLossSetoff4-os.BusLossSetoffDTAA-hp.BusLossSetoff2-stcg.BusLossSetoff1-stcg.BusLossSetoff1a-stcg.BusLossSetoff1b-stcg.BusLossSetoffDTAA-ltcg.BusLossSetoff2-ltcg.BusLossSetoff2a)","v":0},{"$f":"MIN(ltcg.IncOfCurYrUnderThatHeadDTAA,cyla.TotOthSrcLossNoRaceHorse-hp.OthSrcLossNoRaceHorseSetoff2-busprof.OthSrcLossNoRaceHorseSetoff-bp.OthSrcLossNoRaceHorseSetoff115B-busprofspec.OthSrcLossNoRaceHorseSetoff0a-busprofspecified.OthSrcLossNoRaceHorseSetoff0b-stcg.OthSrcLossNoRaceHorseSetoff1-stcg.OthSrcLossNoRaceHorseSetoff1a-stcg.OthSrcLossNoRaceHorseSetoff1b-stcg.OthSrcLossNoRaceHorseSetoffDTAA-ltcg.OthSrcLossNoRaceHorseSetoff2-ltcg.OthSrcLossNoRaceHorseSetoff2a-rh.OthSrcLossNoRaceHorseSetoff4-os.OthSrcLossNoRaceHorseSetoffDTAA)","v":0},{"$f":"MAX(0,ltcg.IncOfCurYrUnderThatHeadDTAA-SUM(G19:I19))","v":0},null,null,null,"Stcg15PercentIncome_Limit",{"$f":"Ltcg20PercentIncome_Limit-ltcg.HPlossCurYrSetoff2a","v":0}]
[null,null,null,"xiv","Net income from other sources chargeable at normal applicable rates  ",{"$f":"MAX(os.BalanceNoRaceHorse+MAX(0,0),0)","v":535000},{"$f":"MIN(OsNormalIncome_Limit,othSecinclnlhrs.IncOfCurYrUnderThatHead3,cyla.TotHPlossCurYr-busprof.HPlossCurYrSetoff-bp.HPlossCurYrSetoff115B-busprofspec.HPlossCurYrSetoff0a-busprof0b.HPlossCurYrSetoff0b)","v":0},{"$f":"MIN(othSecinclnlhrs.IncOfCurYrUnderThatHead3-othSecinclnlhrs.HPlossCurYrSetoff3,cyla.TotBusLoss-hp.BusLossSetoff2)","v":0},null,{"$f":"MAX(0,othSecinclnlhrs.IncOfCurYrUnderThatHead3-SUM(G20:I20))","v":535000},null,null,null,"Ltcg10PercentIncome_Limit",{"$f":"Stcg15PercentIncome_Limit-stcg.HPlossCurYrSetoff1","v":0}]
[null,null,null,"xv","Profit from the activity of  owning and maintaining race horses ",{"$f":"MAX(0+MAX(os.BalanceOwnRaceHorse,0),0)","v":0},{"$f":"MIN(OsHorseRaceIncome_Limit,rh.IncOfCurYrUnderThatHead4-rh.OthSrcLossNoRaceHorseSetoff4,cyla.TotHPlossCurYr-busprof.HPlossCurYrSetoff-bp.HPlossCurYrSetoff115B-busprofspec.HPlossCurYrSetoff0a-busprof0b.HPlossCurYrSetoff0b-othSecinclnlhrs.HPlossCurYrSetoff3)","v":0},{"$f":"MIN(rh.IncOfCurYrUnderThatHead4-rh.HPlossCurYrSetoff4-rh.OthSrcLossNoRaceHorseSetoff4,cyla.TotBusLoss-hp.BusLossSetoff2-othSecinclnlhrs.BusLossSetoff3)","v":0},{"$f":"MIN(cyla.TotOthSrcLossNoRaceHorse,rh.IncOfCurYrUnderThatHead4)","v":0},{"$f":"MAX(0,rh.IncOfCurYrUnderThatHead4-SUM(G21:I21))","v":0},null,null,null,"STCGDTAAIncome_Limit",{"$f":"Ltcg10PercentIncome_Limit-ltcg.HPlossCurYrSetoff2","v":0}]
[null,null,null,"xvi","Income from other sources taxable at special rates in India as per DTAA",{"$f":"MAX(0,os.DTAA_Amt+MAX(0,0))","v":0},{"$f":"MIN(OsDTAAIncome_Limit,os.IncOfCurYrUnderThatHeadDTAA-os.OthSrcLossNoRaceHorseSetoffDTAA,cyla.TotHPlossCurYr-busprof.HPlossCurYrSetoff-bp.HPlossCurYrSetoff115B-busprofspec.HPlossCurYrSetoff0a-busprof0b.HPlossCurYrSetoff0b-othSecinclnlhrs.HPlossCurYrSetoff3-rh.HPlossCurYrSetoff4)","v":0},{"$f":"MIN(os.IncOfCurYrUnderThatHeadDTAA-os.HPlossCurYrSetoffDTAA-os.OthSrcLossNoRaceHorseSetoffDTAA,cyla.TotBusLoss-hp.BusLossSetoff2-othSecinclnlhrs.BusLossSetoff3-rh.BusLossSetoff4)","v":0},{"$f":"MIN(os.IncOfCurYrUnderThatHeadDTAA,cyla.TotOthSrcLossNoRaceHorse-rh.OthSrcLossNoRaceHorseSetoff4)","v":0},{"$f":"MAX(0,os.IncOfCurYrUnderThatHeadDTAA-SUM(G22:I22))","v":0},null,null,null,"LTCGDTAAIncome_Limit",{"$f":"STCGDTAAIncome_Limit-stcg.HPlossCurYrSetoffDTAA","v":0}]
[null,null,null,"xvii","Total loss set off (ii + iii + iv + v + vi + vii + viii + ix + x + xi + xii + xiii + xiv+xv+xvi)",{"$f":"SUM(F8:F22)","v":5591350},{"$f":"SUM(G8:G22)","v":0},{"$f":"SUM(H8:H22)","v":0},{"$f":"SUM(I8:I22)","v":0}]
[null,null,null,"xviii","Loss remaining after set-off (i - xvii)",null,{"$f":"IF(sheet16.TotHPlossCurYrSetoff<200000,MAX(0,((cyla.TotHPlossCurYr1-sheet16.TotHPlossCurYrSetoff)+(HP.lossRemainined_afteradjustment))),HP.lossRemainined_afteradjustment)","v":0},{"$f":"MAX(0,cyla.TotBusLoss-sheet16.TotBusLossSetoff)","v":0},{"$f":"MAX(0,cyla.TotOthSrcLossNoRaceHorse-sheet16.TotOthSrcLossNoRaceHorseSetoff)","v":0}]
[]
[null,null,"Schedule BFLA",null,"Details of Income after Set off of Brought Forward Losses of earlier years"]
[null,null,"BROUGHT FORWARD LOSS ADJUSTMENT","Sl. No.","Head/ Source of Income","Income after set off, if any, of current year’s losses as per  5 of Schedule CYLA) ","Brought forward loss set off ","Brought forward depreciation set off ","Brought forward allowance under section 35(4) set off ","Current year’s income remaining after set off "]
[null,null,null,null,null,1,2,3,4,5]
[]
[null,null,null,"i","House property",{"$f":"hp.IncOfCurYrAfterSetOff2","v":1279000},{"$f":"MIN(totofbfloss.HPLossCF8,hp.IncOfCurYrUndHeadFromCYLA1)","v":0},{"$f":"MIN(hp.IncOfCurYrUndHeadFromCYLA1-hp.BFlossPrevYrUndSameHeadSetoff1,UD.TotSetoff-busipofincl.BFUnabsorbedDeprSetoff2-bp.BFUnabsorbedDepr115B-busipofinclspec.BFUnabsorbedDeprSetoff2a-busipofinclspecified.BFUnabsorbedDeprSetoff2b)","v":0},{"$f":"MIN(hp.IncOfCurYrUndHeadFromCYLA1-hp.BFlossPrevYrUndSameHeadSetoff1-hp.BFUnabsorbedDeprSetoff1,UD2.TotSetoff-busipofincl.BFAllUs35Cl4Setoff2-bp.BFAllUs35Cl4115B-busipofinclspec.BFAllUs35Cl4Setoff2a-busipofinclspecified.BFAllUs35Cl4Setoff2b)","v":0},{"$f":"MAX(hp.IncOfCurYrUndHeadFromCYLA1-SUM(G30:I30),0)","v":1279000},null,null,null,"Individual Field Set off","Remaining Loss After Setoff","Income Remaining after Set off"]
[null,null,null,"ii","Business (excluding income from life insurance business u/s 115B, speculation income and income from specified business)",{"$f":"busprof.IncOfCurYrAfterSetOff","v":3777350},{"$f":"MIN(busipofincl.IncOfCurYrUndHeadFromCYLA2,totofbfloss.BusLossOthThanSpecLossCF8)","v":0},{"$f":"MIN(busipofincl.IncOfCurYrUndHeadFromCYLA2-busipofincl.BFlossPrevYrUndSameHeadSetoff2,UD.TotSetoff)","v":0},{"$f":"MIN(busipofincl.IncOfCurYrUndHeadFromCYLA2-busipofincl.BFlossPrevYrUndSameHeadSetoff2-busipofincl.BFUnabsorbedDeprSetoff2,UD2.TotSetoff)","v":0},{"$f":"MAX(busipofincl.IncOfCurYrUndHeadFromCYLA2-SUM(G31:I31),0)","v":3777350},null,null,"Business Income",{"$f":"MIN(busipofincl.IncOfCurYrUndHeadFromCYLA2,totofbfloss.BusLossOthThanSpecLossCF8)","v":0},{"$f":"totofbfloss.BusLossOthThanSpecLossCF8","v":0},{"$f":"MAX(0,busipofincl.IncOfCurYrUndHeadFromCYLA2-totofbfloss.BusLossOthThanSpecLossCF8)","v":3777350}]
[null,null,null,"iii","Income  from life insurance business u/s 115B",null,null,null,null,null,null,null,"Speculative Income",{"$f":"MIN(busipofinclspec.IncOfCurYrUndHeadFromCYLA2a,totofbfloss.LossFrmSpecBusCF8)","v":0},{"$f":"LossRemaing_Business-busipofincl.BFlossPrevYrUndSameHeadSetoff2","v":0},{"$f":"MAX(0,busipofinclspec.IncOfCurYrUndHeadFromCYLA2a-totofbfloss.LossFrmSpecBusCF8)","v":0}]
[null,null,null,"iv","Speculative Income",{"$f":"busprofspec.IncOfCurYrAfterSetOff0a","v":0},{"$f":"MAX(0,SpeculativeIncome_Setoff+MIN(LossRemaing_SpeculativeIncome,SpeculativeIncomeRemain_ForSetoff))","v":0},{"$f":"MIN(busipofinclspec.IncOfCurYrUndHeadFromCYLA2a-busipofinclspec.BFlossPrevYrUndSameHeadSetoff2a,UD.TotSetoff-busipofincl.BFUnabsorbedDeprSetoff2)","v":0},{"$f":"MIN(busipofinclspec.IncOfCurYrUndHeadFromCYLA2a-busipofinclspec.BFlossPrevYrUndSameHeadSetoff2a-busipofinclspec.BFUnabsorbedDeprSetoff2a,UD2.TotSetoff-busipofincl.BFAllUs35Cl4Setoff2)","v":0},{"$f":"MAX(busipofinclspec.IncOfCurYrUndHeadFromCYLA2a-SUM(G33:I33),0)","v":0},null,null,"Specified Income",{"$f":"MIN(busipofinclspecified.IncOfCurYrUndHeadFromCYLA2b,totofbfloss.LossFrmSpecifiedBusCF8)","v":0},{"$f":"MAX(0,LossRemaing_SpeculativeIncome-SpeculativeIncomeRemain_ForSetoff)","v":0},{"$f":"MAX(0,busipofinclspecified.IncOfCurYrUndHeadFromCYLA2b-totofbfloss.LossFrmSpecifiedBusCF8)","v":0}]
[null,null,null,"v","Specified Business Income",{"$f":"busprofspecified.IncOfCurYrAfterSetOff0b","v":0},{"$f":"MAX(0,SpecifiedIncome_Setoff+MIN(LossRemaing_SpecifiedIncome,SpecifiedIncomeRemain_ForSetoff))","v":0},{"$f":"MIN(busipofinclspecified.IncOfCurYrUndHeadFromCYLA2b-busipofinclspecified.BFlossPrevYrUndSameHeadSetoff2b,UD.TotSetoff-busipofincl.BFUnabsorbedDeprSetoff2-busipofinclspec.BFUnabsorbedDeprSetoff2a)","v":0},{"$f":"MIN(busipofinclspecified.IncOfCurYrUndHeadFromCYLA2b-busipofinclspecified.BFlossPrevYrUndSameHeadSetoff2b-busipofinclspecified.BFUnabsorbedDeprSetoff2b,UD2.TotSetoff-busipofincl.BFAllUs35Cl4Setoff2-busipofinclspec.BFAllUs35Cl4Setoff2a)","v":0},{"$f":"MAX(busipofinclspecified.IncOfCurYrUndHeadFromCYLA2b-SUM(G34:I34),0)","v":0},null,null,"115b Income",{"$f":"MIN(bp.IncOfCurYrUndHeadFrom115B,totofbfloss.LossFrm115bIncmCF8)","v":0},{"$f":"MAX(0,LossRemaing_SpecifiedIncome-SpecifiedIncomeRemain_ForSetoff)","v":0},{"$f":"MAX(0,bp.IncOfCurYrUndHeadFrom115B-totofbfloss.LossFrm115bIncmCF8)","v":0}]
[null,null,null,"vi","Short-term capital gain taxable @ 15%",{"$f":"stcg.IncOfCurYrAfterSetOff1","v":0},{"$f":"MIN(stcg.IncOfCurYrUndHeadFromCYLA3,totofbfloss.STCGLossCF8-stcg.BFlossPrevYrUndSameHeadSetoff3a-stcg.BFlossPrevYrUndSameHeadSetoff3b-Q39)","v":0},{"$f":"MIN(stcg.IncOfCurYrUndHeadFromCYLA3-stcg.BFlossPrevYrUndSameHeadSetoff3,UD.TotSetoff-stcg.BFUnabsorbedDeprSetoff3a-stcg.BFUnabsorbedDeprSetoff3b-ltcg.BFUnabsorbedDeprSetoff4a-othsrcincl.BFUnabsorbedDeprSetoff5-rh.BFUnabsorbedDeprSetoff6-os.BFUnabsorbedDeprDTAA-hp.BFUnabsorbedDeprSetoff1-busipofincl.BFUnabsorbedDeprSetoff2-bp.BFUnabsorbedDepr115B-busipofinclspec.BFUnabsorbedDeprSetoff2a-busipofinclspecified.BFUnabsorbedDeprSetoff2b)","v":0},{"$f":"MIN(stcg.IncOfCurYrUndHeadFromCYLA3-stcg.BFlossPrevYrUndSameHeadSetoff3-stcg.BFUnabsorbedDeprSetoff3,UD2.TotSetoff-stcg.BFAllUs35Cl4Setoff3a-stcg.BFAllUs35Cl4Setoff3b-ltcg.BFAllUs35Cl4Setoff4a-othsrcincl.BFAllUs35Cl4Setoff5-rh.BFAllUs35Cl4Setoff6-os.BFAllUs35Cl4DTAA-hp.BFAllUs35Cl4Setoff1-busipofincl.BFAllUs35Cl4Setoff2-bp.BFAllUs35Cl4115B-busipofinclspec.BFAllUs35Cl4Setoff2a-busipofinclspecified.BFAllUs35Cl4Setoff2b)","v":0},{"$f":"MAX(stcg.IncOfCurYrUndHeadFromCYLA3-SUM(G35:I35),0)","v":0},null,null,null,null,{"$f":"MAX(0,LossRemaing_115B-Income115BRemain_ForSetoff)","v":0}]
[null,null,null,"vii","Short-term capital gain taxable @ 30%",{"$f":"stcg.IncOfCurYrAfterSetOff1a","v":0},{"$f":"MIN(stcg.IncOfCurYrUndHeadFromCYLA3a,totofbfloss.STCGLossCF8)","v":0},{"$f":"MIN(stcg.IncOfCurYrUndHeadFromCYLA3a-stcg.BFlossPrevYrUndSameHeadSetoff3a,UD.TotSetoff-hp.BFUnabsorbedDeprSetoff1-busipofincl.BFUnabsorbedDeprSetoff2-bp.BFUnabsorbedDepr115B-busipofinclspec.BFUnabsorbedDeprSetoff2a-busipofinclspecified.BFUnabsorbedDeprSetoff2b-othsrcincl.BFUnabsorbedDeprSetoff5-rh.BFUnabsorbedDeprSetoff6-os.BFUnabsorbedDeprDTAA)","v":0},{"$f":"MIN(stcg.IncOfCurYrUndHeadFromCYLA3a-stcg.BFlossPrevYrUndSameHeadSetoff3a-stcg.BFUnabsorbedDeprSetoff3a,UD2.TotSetoff-othsrcincl.BFAllUs35Cl4Setoff5-rh.BFAllUs35Cl4Setoff6-os.BFAllUs35Cl4DTAA-hp.BFAllUs35Cl4Setoff1-busipofincl.BFAllUs35Cl4Setoff2-bp.BFAllUs35Cl4115B-busipofinclspec.BFAllUs35Cl4Setoff2a-busipofinclspecified.BFAllUs35Cl4Setoff2b)","v":0},{"$f":"MAX(stcg.IncOfCurYrUndHeadFromCYLA3a-SUM(G36:I36),0)","v":0}]
[null,null,null,"viii","Short-term capital gain taxable @ applicable rates",{"$f":"stcg.IncOfCurYrAfterSetOff1b","v":0},{"$f":"MIN(stcg.IncOfCurYrUndHeadFromCYLA3b,totofbfloss.STCGLossCF8-stcg.BFlossPrevYrUndSameHeadSetoff3a)","v":0},{"$f":"MIN(stcg.IncOfCurYrUndHeadFromCYLA3b-stcg.BFlossPrevYrUndSameHeadSetoff3b,UD.TotSetoff-hp.BFUnabsorbedDeprSetoff1-busipofincl.BFUnabsorbedDeprSetoff2-bp.BFUnabsorbedDepr115B-busipofinclspec.BFUnabsorbedDeprSetoff2a-busipofinclspecified.BFUnabsorbedDeprSetoff2b-stcg.BFUnabsorbedDeprSetoff3a-othsrcincl.BFUnabsorbedDeprSetoff5-rh.BFUnabsorbedDeprSetoff6-os.BFUnabsorbedDeprDTAA)","v":0},{"$f":"MIN(stcg.IncOfCurYrUndHeadFromCYLA3b-stcg.BFlossPrevYrUndSameHeadSetoff3b-stcg.BFUnabsorbedDeprSetoff3b,UD2.TotSetoff-hp.BFAllUs35Cl4Setoff1-busipofincl.BFAllUs35Cl4Setoff2-bp.BFAllUs35Cl4115B-busipofinclspec.BFAllUs35Cl4Setoff2a-busipofinclspecified.BFAllUs35Cl4Setoff2b-stcg.BFAllUs35Cl4Setoff3a-othsrcincl.BFAllUs35Cl4Setoff5-rh.BFAllUs35Cl4Setoff6-os.BFAllUs35Cl4DTAA)","v":0},{"$f":"MAX(stcg.IncOfCurYrUndHeadFromCYLA3b-SUM(G37:I37),0)","v":0},null,null,null,"Individual Field Set off","Remaining Loss After Setoff","Income Remaining after Set off","STCG Loss Set Off"]
[null,null,null,"ix","Short-term capital gain taxable at special rates in India as per DTAA ",{"$f":"stcg.IncOfCurYrAfterSetOffDTAA","v":0},{"$f":"MIN(stcg.IncOfCurYrUndHeadFromDTAA,totofbfloss.STCGLossCF8-stcg.BFlossPrevYrUndSameHeadSetoff3-stcg.BFlossPrevYrUndSameHeadSetoff3a-stcg.BFlossPrevYrUndSameHeadSetoff3b-Q39-Q41)","v":0},{"$f":"MIN(stcg.IncOfCurYrUndHeadFromDTAA-stcg.BFlossPrevYrUndSameHeadDTAA,UD.TotSetoff-ltcg.BFUnabsorbedDeprSetoff4-ltcg.BFUnabsorbedDeprSetoff4a-othsrcincl.BFUnabsorbedDeprSetoff5-rh.BFUnabsorbedDeprSetoff6-os.BFUnabsorbedDeprDTAA-hp.BFUnabsorbedDeprSetoff1-busipofincl.BFUnabsorbedDeprSetoff2-bp.BFUnabsorbedDepr115B-busipofinclspec.BFUnabsorbedDeprSetoff2a-busipofinclspecified.BFUnabsorbedDeprSetoff2b-stcg.BFUnabsorbedDeprSetoff3-stcg.BFUnabsorbedDeprSetoff3a-stcg.BFUnabsorbedDeprSetoff3b)","v":0},{"$f":"MIN(stcg.IncOfCurYrUndHeadFromDTAA-stcg.BFlossPrevYrUndSameHeadDTAA-stcg.BFUnabsorbedDeprDTAA,UD2.TotSetoff-ltcg.BFAllUs35Cl4Setoff4-ltcg.BFAllUs35Cl4Setoff4a-othsrcincl.BFAllUs35Cl4Setoff5-rh.BFAllUs35Cl4Setoff6-os.BFAllUs35Cl4DTAA-hp.BFAllUs35Cl4Setoff1-busipofincl.BFAllUs35Cl4Setoff2-bp.BFAllUs35Cl4115B-busipofinclspec.BFAllUs35Cl4Setoff2a-busipofinclspecified.BFAllUs35Cl4Setoff2b-stcg.BFAllUs35Cl4Setoff3-stcg.BFAllUs35Cl4Setoff3a-stcg.BFAllUs35Cl4Setoff3b)","v":0},{"$f":"MAX(stcg.IncOfCurYrUndHeadFromDTAA-SUM(G38:I38),0)","v":0},null,null,"STCG CFL Loss",null,{"$f":"MAX(0,totofbfloss.STCGLossCF8-SUM('CYLA-BFLA'!G36:G37))","v":0}]
[null,null,null,"x","Long term capital gain taxable @ 10%",{"$f":"ltcg.IncOfCurYrAfterSetOff2","v":0},{"$f":"MAX(0,N41+MIN(O40,P41))","v":0},{"$f":"MIN(ltcg.IncOfCurYrUndHeadFromCYLA4-ltcg.BFlossPrevYrUndSameHeadSetoff4,UD.TotSetoff-ltcg.BFUnabsorbedDeprSetoff4a-othsrcincl.BFUnabsorbedDeprSetoff5-rh.BFUnabsorbedDeprSetoff6-os.BFUnabsorbedDeprDTAA-hp.BFUnabsorbedDeprSetoff1-busipofincl.BFUnabsorbedDeprSetoff2-bp.BFUnabsorbedDepr115B-busipofinclspec.BFUnabsorbedDeprSetoff2a-busipofinclspecified.BFUnabsorbedDeprSetoff2b-stcg.BFUnabsorbedDeprSetoff3-stcg.BFUnabsorbedDeprSetoff3a-stcg.BFUnabsorbedDeprSetoff3b)","v":0},{"$f":"MIN(ltcg.IncOfCurYrUndHeadFromCYLA4-ltcg.BFlossPrevYrUndSameHeadSetoff4-ltcg.BFUnabsorbedDeprSetoff4,UD2.TotSetoff-ltcg.BFAllUs35Cl4Setoff4a-othsrcincl.BFAllUs35Cl4Setoff5-rh.BFAllUs35Cl4Setoff6-os.BFAllUs35Cl4DTAA-hp.BFAllUs35Cl4Setoff1-busipofincl.BFAllUs35Cl4Setoff2-bp.BFAllUs35Cl4115B-busipofinclspec.BFAllUs35Cl4Setoff2a-busipofinclspecified.BFAllUs35Cl4Setoff2b-stcg.BFAllUs35Cl4Setoff3-stcg.BFAllUs35Cl4Setoff3a-stcg.BFAllUs35Cl4Setoff3b)","v":0},{"$f":"MAX(ltcg.IncOfCurYrUndHeadFromCYLA4-SUM(G39:I39),0)","v":0},null,null,"LTCG 20",{"$f":"MIN(ltcg.IncOfCurYrUndHeadFromCYLA4a,totofbfloss.LTCGLossCF8)","v":0},{"$f":"MAX(0,O38-P39)","v":0},{"$f":"MAX(0,ltcg.IncOfCurYrUndHeadFromCYLA4a-N39)","v":0},{"$f":"MIN(STCGLoss_Remaining,LTCG20IncomeRemain_ForSetoff)","v":0}]
[null,null,null,"xi","Long term capital gain taxable @ 20%",{"$f":"ltcg.IncOfCurYrAfterSetOff2a","v":0},{"$f":"MAX(0,N39+MIN(O38,P39))","v":0},{"$f":"MIN(ltcg.IncOfCurYrUndHeadFromCYLA4a-ltcg.BFlossPrevYrUndSameHeadSetoff4a,UD.TotSetoff-hp.BFUnabsorbedDeprSetoff1-busipofincl.BFUnabsorbedDeprSetoff2-bp.BFUnabsorbedDepr115B-busipofinclspec.BFUnabsorbedDeprSetoff2a-busipofinclspecified.BFUnabsorbedDeprSetoff2b-stcg.BFUnabsorbedDeprSetoff3a-stcg.BFUnabsorbedDeprSetoff3b-othsrcincl.BFUnabsorbedDeprSetoff5-rh.BFUnabsorbedDeprSetoff6-os.BFUnabsorbedDeprDTAA)","v":0},{"$f":"MIN(ltcg.IncOfCurYrUndHeadFromCYLA4a-ltcg.BFlossPrevYrUndSameHeadSetoff4a-ltcg.BFUnabsorbedDeprSetoff4a,UD2.TotSetoff-othsrcincl.BFAllUs35Cl4Setoff5-rh.BFAllUs35Cl4Setoff6-os.BFAllUs35Cl4DTAA-hp.BFAllUs35Cl4Setoff1-busipofincl.BFAllUs35Cl4Setoff2-bp.BFAllUs35Cl4115B-busipofinclspec.BFAllUs35Cl4Setoff2a-busipofinclspecified.BFAllUs35Cl4Setoff2b-stcg.BFAllUs35Cl4Setoff3a-stcg.BFAllUs35Cl4Setoff3b)","v":0},{"$f":"MAX(ltcg.IncOfCurYrUndHeadFromCYLA4a-SUM(G40:I40),0)","v":0},null,null,"STCG 15",0,{"$f":"MAX(0,LossRemaing_LTCG10-P40)","v":0},{"$f":"MAX(0,stcg.IncOfCurYrUndHeadFromCYLA3-N40)","v":0},{"$f":"MIN(LossRemaing_LTCG10,P40)","v":0}]
[null,null,null,"xii","Long term capital gains taxable at special rates in India as per DTAA ",{"$f":"ltcg.IncOfCurYrAfterSetOffDTAA","v":0},{"$f":"MAX(0,N43+MIN(O42,P43))","v":0},{"$f":"MIN(ltcg.IncOfCurYrUndHeadFromDTAA-ltcg.BFlossPrevYrUndSameHeadDTAA,UD.TotSetoff-othsrcincl.BFUnabsorbedDeprSetoff5-rh.BFUnabsorbedDeprSetoff6-os.BFUnabsorbedDeprDTAA-hp.BFUnabsorbedDeprSetoff1-busipofincl.BFUnabsorbedDeprSetoff2-bp.BFUnabsorbedDepr115B-busipofinclspec.BFUnabsorbedDeprSetoff2a-busipofinclspecified.BFUnabsorbedDeprSetoff2b-stcg.BFUnabsorbedDeprSetoff3-stcg.BFUnabsorbedDeprSetoff3a-stcg.BFUnabsorbedDeprSetoff3b-stcg.BFUnabsorbedDeprDTAA-ltcg.BFUnabsorbedDeprSetoff4-ltcg.BFUnabsorbedDeprSetoff4a)","v":0},{"$f":"MIN(ltcg.IncOfCurYrUndHeadFromDTAA-ltcg.BFlossPrevYrUndSameHeadDTAA-ltcg.BFUnabsorbedDeprDTAA,UD2.TotSetoff-othsrcincl.BFAllUs35Cl4Setoff5-rh.BFAllUs35Cl4Setoff6-os.BFAllUs35Cl4DTAA-hp.BFAllUs35Cl4Setoff1-busipofincl.BFAllUs35Cl4Setoff2-bp.BFAllUs35Cl4115B-busipofinclspec.BFAllUs35Cl4Setoff2a-busipofinclspecified.BFAllUs35Cl4Setoff2b-stcg.BFAllUs35Cl4Setoff3-stcg.BFAllUs35Cl4Setoff3a-stcg.BFAllUs35Cl4Setoff3b-stcg.BFAllUs35Cl4DTAA-ltcg.BFAllUs35Cl4Setoff4-ltcg.BFAllUs35Cl4Setoff4a)","v":0},{"$f":"MAX(ltcg.IncOfCurYrUndHeadFromDTAA-SUM(G41:I41),0)","v":0},null,null,"LTCG 10",{"$f":"MAX(0,MIN(ltcg.IncOfCurYrUndHeadFromCYLA4,totofbfloss.LTCGLossCF8-ltcg.BFlossPrevYrUndSameHeadSetoff4a))","v":0},{"$f":"MAX(0,O40-P41)","v":0},{"$f":"MAX(0,ltcg.IncOfCurYrUndHeadFromCYLA4-N41)","v":0},{"$f":"MIN(O40,LTCG10IncomeRemain_ForSetoff)","v":0}]
[null,null,null,"xiii","Net income from other sources chargeable at normal applicable rates ",{"$f":"othSecinclnlhrs.IncOfCurYrAfterSetOff3","v":535000},null,{"$f":"MIN(othsrcincl.IncOfCurYrUndHeadFromCYLA5,UD.TotSetoff-hp.BFUnabsorbedDeprSetoff1-busipofincl.BFUnabsorbedDeprSetoff2-bp.BFUnabsorbedDepr115B-busipofinclspec.BFUnabsorbedDeprSetoff2a-busipofinclspecified.BFUnabsorbedDeprSetoff2b)","v":0},{"$f":"MIN(othsrcincl.IncOfCurYrUndHeadFromCYLA5-othsrcincl.BFUnabsorbedDeprSetoff5,UD2.TotSetoff-hp.BFAllUs35Cl4Setoff1-busipofincl.BFAllUs35Cl4Setoff2-bp.BFAllUs35Cl4115B-busipofinclspec.BFAllUs35Cl4Setoff2a-busipofinclspecified.BFAllUs35Cl4Setoff2b)","v":0},{"$f":"MAX(othsrcincl.IncOfCurYrUndHeadFromCYLA5-SUM(G42:I42),0)","v":535000},null,null,"STCG DTAA",0,{"$f":"MAX(0,LossRemaing_LTCGDTAA-P42)","v":0},{"$f":"MAX(0,stcg.IncOfCurYrUndHeadFromDTAA-N42)","v":0},{"$f":"MIN(LossRemaing_LTCGDTAA,P42)","v":0}]
[null,null,null,"xiv","Profit from the activity of  owning and maintaining race horses ",{"$f":"rh.IncOfCurYrAfterSetOff4","v":0},{"$f":"MIN(rh.IncOfCurYrUndHeadFromCYLA6,totofbfloss.OthSrcLossRaceHorseCF8)","v":0},{"$f":"MIN(rh.IncOfCurYrUndHeadFromCYLA6-rh.BFlossPrevYrUndSameHeadSetoff6,UD.TotSetoff-hp.BFUnabsorbedDeprSetoff1-busipofincl.BFUnabsorbedDeprSetoff2-bp.BFUnabsorbedDepr115B-busipofinclspec.BFUnabsorbedDeprSetoff2a-busipofinclspecified.BFUnabsorbedDeprSetoff2b-othsrcincl.BFUnabsorbedDeprSetoff5)","v":0},{"$f":"MIN(rh.IncOfCurYrUndHeadFromCYLA6-rh.BFlossPrevYrUndSameHeadSetoff6-rh.BFUnabsorbedDeprSetoff6,UD2.TotSetoff-hp.BFAllUs35Cl4Setoff1-busipofincl.BFAllUs35Cl4Setoff2-bp.BFAllUs35Cl4115B-busipofinclspec.BFAllUs35Cl4Setoff2a-busipofinclspecified.BFAllUs35Cl4Setoff2b-othsrcincl.BFAllUs35Cl4Setoff5)","v":0},{"$f":"MAX(rh.IncOfCurYrUndHeadFromCYLA6-SUM(G43:I43),0)","v":0},null,null,"LTCG DTAA",{"$f":"MAX(0,MIN(ltcg.IncOfCurYrUndHeadFromDTAA,totofbfloss.LTCGLossCF8-ltcg.BFlossPrevYrUndSameHeadSetoff4-ltcg.BFlossPrevYrUndSameHeadSetoff4a))","v":0},{"$f":"MAX(0,O42-P43)","v":0},{"$f":"MAX(0,ltcg.IncOfCurYrUndHeadFromDTAA-N43)","v":0},{"$f":"MIN(O42,LTCGDTAAIncomeRemain_ForSetoff)","v":0}]
[null,null,null,"xv","Income from other sources income taxable at special rates in India as per DTAA ",{"$f":"os.IncOfCurYrAfterSetOffDTAA","v":0},null,{"$f":"MIN(os.IncOfCurYrUndHeadFromDTAA,UD.TotSetoff-hp.BFUnabsorbedDeprSetoff1-busipofincl.BFUnabsorbedDeprSetoff2-bp.BFUnabsorbedDepr115B-busipofinclspec.BFUnabsorbedDeprSetoff2a-busipofinclspecified.BFUnabsorbedDeprSetoff2b-othsrcincl.BFUnabsorbedDeprSetoff5-rh.BFUnabsorbedDeprSetoff6)","v":0},{"$f":"MIN(os.IncOfCurYrUndHeadFromDTAA-os.BFUnabsorbedDeprDTAA,UD2.TotSetoff-hp.BFAllUs35Cl4Setoff1-busipofincl.BFAllUs35Cl4Setoff2-bp.BFAllUs35Cl4115B-busipofinclspec.BFAllUs35Cl4Setoff2a-busipofinclspecified.BFAllUs35Cl4Setoff2b-othsrcincl.BFAllUs35Cl4Setoff5-rh.BFAllUs35Cl4Setoff6)","v":0},{"$f":"MAX(os.IncOfCurYrUndHeadFromDTAA-SUM(G44:I44),0)","v":0}]
[null,null,null,"xvi","Total of brought forward loss set off (2i+2ii + 2iii + 2iv + 2v + 2vi + 2vii +2viii + 2ix + 2x + 2xii+2xiii)",null,{"$f":"SUM(G30:G43)","v":0},{"$f":"SUM(H30:H44)","v":0},{"$f":"SUM(I30:I44)","v":0}]
[null,null,null,"xvii","Current year’s income remaining after set off  Total of (5i + 5ii + 5iii + 5iv+ 5v + 5vi + 5vii + 5viii + 5ix + 5x + 5xi +5xii +5xiii+ 5xiv + 5xv) ",null,null,null,null,{"$f":"SUM(J30:J44)","v":5591350}]

{"sheet":"CFL","index":25,"n_rows":27,"n_cols":27,"rows_kept":27,"cut":false,"hidden":false,"merged":[[3,22,4,22],[3,14,4,14],[3,2,26,2],[2,2,2,4],[2,5,2,22],[3,3,4,3],[3,4,4,4],[3,5,4,5],[3,12,4,12],[3,13,4,13],[3,9,3,11],[3,15,4,17],[3,6,4,8],[3,18,4,21]]}
[]
[]
[null,null,"Schedule CFL",null,null,"Details of Losses to be carried forward to future Years"]
[null,null,"CARRY FORWARD OF LOSS","Sl.\nNo.","Assessment Year","Date of\nFiling\n(dd/mm/yyyy)","House\nproperty loss",null,null,"Loss from business other than loss from speculative business and specified business",null,null,"Loss from speculative business","Loss from Specified business","Loss from Life insurance business u/s 115B","Short-term\ncapital loss",null,null,"Long-term\nCapital loss",null,null,null,"Loss\nfrom owning\nand maintaining race horses"]
[null,null,null,null,null,null,null,null,null,"Brought forward business  loss ","Amount as adjusted  on account of opting for taxation  under section 115BAD","Brought forward Business  loss available for set off during the year "]
[null,null,null,1,2,3,4,"4b","4c","5a","5b","5c",6,7,8,9,"9b","9c",10,null,"10b","10c",11]
[null,null,null,"i","2010-11",null,null,null,null,null,null,null,null,null,null,null,null,null,null,null,null,null,null,null,null,null,{"$f":"SUM(G7:W7)","v":0}]
[null,null,null,"ii","2011-12",null,null,null,null,null,null,null,null,null,null,null,null,null,null,null,null,null,null,null,null,null,0]
[null,null,null,"iii","2012-13",null,null,null,{"$f":"MAX(0,G9+H9)","v":0},null,null,null,null,null,null,null,null,{"$f":"MAX(0,P9+Q9)","v":0},null,null,null,null,null,null,null,null,0]
[null,null,null,"iv","2013-14",null,null,null,{"$f":"MAX(0,G10+H10)","v":0},null,null,null,null,null,null,null,null,{"$f":"MAX(0,P10+Q10)","v":0},null,null,null,{"$f":"MAX(0,S10+U10)","v":0},null,null,null,null,0]
[null,null,null,"v","2014-15",null,null,null,0,null,null,{"$f":"MAX(0,J11-K11)","v":0},null,null,null,null,null,0,null,null,null,0,null,null,null,null,0]
[null,null,null,"vi","2015-16",null,null,null,0,null,null,0,null,null,null,null,null,0,null,null,null,0,null,null,null,null,0]
[null,null,null,"vii","2016-17",null,null,null,0,null,null,0,null,null,null,null,null,0,null,null,null,0,null,null,null,null,0]
[null,null,null,"viii","2017-18",null,null,null,0,null,null,0,null,null,null,null,null,0,null,null,null,0,null,null,null,null,0]
[null,null,null,"ix","2018-19",null,null,null,0,null,null,0,null,null,null,null,null,0,null,null,null,0,null,null,null,null,0]
[null,null,null,"x","2019-20",null,null,null,0,null,null,0,null,null,null,null,null,0,null,null,null,0,null,null,null,null,0]
[null,null,null,"xi","2020-21",null,null,null,0,null,null,0,null,null,null,null,null,0,null,null,null,0,null,null,null,null,0]
[null,null,null,"xii","2021-22",null,null,null,0,null,null,0,null,null,null,null,null,0,null,null,null,0,null,null,null,null,0]
[null,null,null,"xiii","Total of earlier year losses b/f",null,{"$f":"SUM(G9:G18)","v":0},null,null,null,null,{"$f":"SUM(L10:L18)","v":0},{"$f":"SUM(M14:M18)","v":0},{"$f":"SUM(N7:N18)","v":0},{"$f":"SUM(O9:O18)","v":0},{"$f":"SUM(P10:P18)","v":0},null,null,{"$f":"SUM(S10:S18)","v":0},null,null,null,{"$f":"SUM(W14:W18)","v":0}]
[null,null,null,"xiv","Loss distributed among the unit holder \n(Applicable for Investment Fund only)"]
[null,null,null,"xiii","Balance available of Total of earlier year b/f \n(xi-xii)",null,0,null,{"$f":"MAX(0,I19-I20)","v":0},null,null,0,0,0,0,0,null,{"$f":"MAX(0,R19-R20)","v":0},0,null,null,{"$f":"MAX(0,V19-V20)","v":0},0]
[null,null,null,"xiv","Adjustment of above losses in Schedule BFLA",null,{"$f":"hp.BFlossPrevYrUndSameHeadSetoff1","v":0},null,null,null,null,{"$f":"totofbfloss.BusLossOthThanSpecLossCF8-LossRemaing_BP","v":0},{"$f":"SpeculativeIncome_Setoff","v":0},{"$f":"SpecifiedIncome_Setoff","v":0},{"$f":"Income115B_Setoff","v":0},{"$f":"totofbfloss.STCGLossCF8-LossRemaing_STCG","v":0},null,null,{"$f":"LTCG20_Setoff+LTCG10_Setoff+LTCGDTAA_Setoff","v":0},null,null,null,{"$f":"rh.BFlossPrevYrUndSameHeadSetoff6","v":0}]
[null,null,null,"xv","2022-23(Current year losses to be carried forward)",null,{"$f":"sheet16.BalHPlossCurYrAftSetoff","v":0},null,null,null,null,{"$f":"sheet16.BalBusLossAftSetoff","v":0},{"$f":"ABS(MIN(sheet12.AdjustedPLFrmSpecuBus,0))","v":0},{"$f":"ABS(MIN(sheet12.AdjustedPLFrmSpecifiedBus,0))","v":0},{"$f":"ABS(MIN(sheet12.IncmLifeInsur115B,0))","v":0},{"$f":"STCG_LossRemaining_15Percent+STCG_LossRemaining_30Percent+STCG_LossRemaining_AppRate+STCG_LossRemaining_DTAA","v":0},null,null,{"$f":"LTCG_LossRemaining_10Percent+LTCG_LossRemaining_20Percent+LTCG_LossRemaining_DTAA","v":0},null,null,null,{"$f":"ABS(MIN(os.BalanceOwnRaceHorse,0))","v":0}]
[null,null,null,"xvi","Current year loss distributed among the unit-holder (Applicable for Investment fund only)"]
[null,null,null,"xvii","Current year losses to be carried forward (xv-xvi)",null,{"$f":"CYLossHPBeforedistributed-CYLossHPdistributed","v":0},null,null,null,null,{"$f":"CYLossOthThanBeforedistributed-CYLossBusOthThandistributed","v":0},{"$f":"CYLossSpecBeforedistributed-CYLossSpecBusdistributed","v":0},{"$f":"CYLossSpecifiedBeforedistributed-CYLossSpecifiedBusdistributed","v":0},{"$f":"CYLoss115BBeforedistributed-CYLoss115Bdistributed","v":0},{"$f":"CYLossSTCGBeforedistributed-CYLossSTCGdistributed","v":0},null,null,{"$f":"CYLossLTCGBeforedistributed-CYLossLTCGdistributed","v":0},null,null,null,{"$f":"CYLossOthSrcBeforedistributed-CYLossOthSrcdistributed","v":0}]
[null,null,null,"xviii","Total loss Carried Forward to future\nyears",null,{"$f":"MAX(0,G19-G22-MAX(0,G11-G22))+G25","v":0},null,null,null,null,{"$f":"MAX(0,L19-L22-MAX(0,L11-L22))+L25","v":0},{"$f":"MAX(0,M19-M22-MAX(0,M15-M22))+M25","v":0},{"$f":"MAX(0,N19-N22+N25)","v":0},{"$f":"MAX(0,O19-O22-MAX(0,O11-O22))+O25","v":0},{"$f":"MAX(0,P19-P22-MAX(0,P11-P22))+P25","v":0},null,null,{"$f":"MAX(0,S19-S22-MAX(0,S11-S22))+S25","v":0},null,null,null,{"$f":"MAX(0,W19-W22-MAX(0,W15-W22))+W25","v":0}]
[null,null,null,null,"Current year loss distributed among the unit-holder (Applicable for Investment fund only)"]

{"sheet":"Unabsorbed Depreciation","index":26,"n_rows":21,"n_cols":15,"rows_kept":21,"cut":false,"hidden":false,"merged":[[2,2,2,4],[4,4,4,7],[4,8,4,10],[21,3,22,8]]}
[]
[]
[null,null,"Schedule UD",null,null,null,"Unabsorbed depreciation and allowance under section 35(4)"]
[]
[null,null,null,null,"Depreciation",null,null,null,"Allowance under section 35(4)"]
[null,null,"Sl. No.  (1)","Assessment Year (2)","Amount of brought forward unabsorbed depreciation\n (3)","Amount as adjusted  on account of opting for taxation under section 115BAD \n(3a)","Amount of depreciation set-off against the current year income\n(4)","Balance Carried forward to the next year \n(5)","Amount of brought forward unabsorbed allowance\n (6)","Amount of allowance  set-off against the current year income\n(7)","Balance Carried forward to the next year \n(8)"]
[null,null,1,"2022-23",null,null,null,null,null,null,null,null,null,null,{"$f":"IF(bacValue=1,1,0)","v":0}]
[null,null,{"$f":"C7+1","v":2},null,null,null,null,{"$f":"MAX((E8-F8-G8),0)","v":0},null,null,{"$f":"MAX((I8-J8),0)","v":0}]
[null,null,{"$f":"C8+1","v":3},null,null,null,null,{"$f":"MAX((E9-F9-G9),0)","v":0},null,null,{"$f":"MAX((I9-J9),0)","v":0}]
[null,null,4,null,null,null,null,0,null,null,0]
[null,null,5,null,null,null,null,0,null,null,0]
[null,null,6,null,null,null,null,0,null,null,0]
[null,null,7,null,null,null,null,0,null,null,0]
[null,null,8,null,null,null,null,0,null,null,0]
[null,null,9,null,null,null,null,{"$f":"MAX((E15-F15-G15),0)","v":0},null,null,{"$f":"MAX((I15-J15),0)","v":0}]
[null,null,10,null,null,null,null,{"$f":"MAX((E16-F16-G16),0)","v":0},null,null,{"$f":"MAX((I16-J16),0)","v":0}]
[null,null,11,null,null,null,null,{"$f":"MAX((E17-F17-G17),0)","v":0},null,null,{"$f":"MAX((I17-J17),0)","v":0}]
[null,null,12,null,null,null,null,{"$f":"MAX((E18-F18-G18),0)","v":0},null,null,{"$f":"MAX((I18-J18),0)","v":0}]
[]
[]
[null,null,null,"Total",{"$f":"SUM(UD.BF)","v":0},{"$f":"SUM(UD.Amtadjopttax115BAD)","v":0},{"$f":"SUM(UD.Setoff)","v":0},{"$f":"SUM(UD.Balance)+UDCY.Balance","v":0},{"$f":"SUM(UD2.BF)","v":0},{"$f":"SUM(UD2.Setoff)","v":0},{"$f":"SUM(UD2.Balance)+UDCY2.Balance","v":0}]

{"sheet":"Schedule ICDS","index":27,"n_rows":17,"n_cols":9,"rows_kept":17,"cut":false,"hidden":false,"merged":[[12,3,12,4],[16,3,16,4],[2,2,2,3],[2,4,2,5],[3,3,3,4],[4,3,4,4],[5,3,5,4],[6,3,6,4],[13,3,13,4],[14,3,14,4],[15,3,15,4],[7,3,7,4],[8,3,8,4],[9,3,9,4],[10,3,10,4],[11,3,11,4]]}
[]
[]
[null,null,"Schedule ICDS",null,"Effect of Income Computation Disclosure Standards on profit"]
[null,null,"Sl. No.","ICDS",null,"Amount (+) or (-)",null,null,{"$f":"IF(OR(ICDS.AccPolicies<>\"\",ICDS.ValuationInv<>\"\",ICDS.ConsContracts<>\"\",ICDS.RevenueRecog<>\"\",ICDS.TangibleFixAssests<>\"\",ICDS.ChngRates<>\"\",ICDS.Govgrants<>\"\",ICDS.Securities<>\"\",ICDS.BorrowingCosts<>\"\",ICDS.ProvLiability<>\"\"),TRUE,FALSE)","v":false}]
[null,null,"(i)","(ii)",null,"(iii)"]
[null,null,"I","Accounting Policies"]
[null,null,"II","Valuation of Inventories (other than the effect of change in method of valuation u/s 145A, if the same is separately reported at col. 4d or 4e of Part A-OI)"]
[null,null,"III","Construction Contracts"]
[null,null,"IV","Revenue Recognition"]
[null,null,"V","Tangible Fixed Assets"]
[null,null,"VI","Changes in Foreign Exchange Rates"]
[null,null,"VII","Government Grants"]
[null,null,"VIII","Securities (other than the effect of change in method of valuation u/s 145A, if the same is separately reported at col. 4d or 4e of Part A-OI)"]
[null,null,"IX","Borrowing Costs"]
[null,null,"X","Provisions, Contingent Liabilities and Contingent Assets"]
[null,null,"XI (a)","Total effect of ICDS adjustments on profit  (I+II+III+IV+V+VI+VII+VIII+IX+X) (if positive)",null,{"$f":"MAX(SUM($F6:$F15),0)","v":0}]
[null,null,"XI (b)","Total effect of ICDS adjustments on profit  (I+II+III+IV+V+VI+VII+VIII+IX+X) (if negative)",null,{"$f":"(MIN(SUM($F6:$F15),0)*-1)","v":0}]

{"sheet":"10AA","index":28,"n_rows":11,"n_cols":12,"rows_kept":11,"cut":false,"hidden":false,"merged":[[9,2,9,9],[3,2,4,2],[2,5,2,9],[2,2,2,4],[4,5,4,6],[8,2,8,3],[8,4,8,9]]}
[]
[]
[null,null,"Schedule 10AA",null,null,"Deduction under section 10AA\n(Note: If no entry is made in first row then other rows will not be considered)"]
[null,null,null,1,"Deductions in respect of units located in Special Economic Zone"]
[null,null,null,null,null,"Undertaking",null,"Assessment year in which unit begins to manufacture/produce/ provide services","Amount of deduction"]
[null,null,null,null,null,"Undertaking No.1",{"$f":"G5+1","v":1},"(Select)"]
[null,null,null,null,null,"Undertaking No.2",{"$f":"G6+1","v":2},"(Select)"]
[null,null,null,null,null,"Total Deductions under Section 10AA",null,null,null,{"$f":"IF(bacValue=1,0,SUM(AA10.DedFromUndertaking))","v":0}]
[null,null,"Note :",null,"In case deduction is claimed u/s 10AA, please fill sl no \"B\" of schedule DI"]
[]
[null,null,null,null,null,null,null,null,null,null,null,{"$f":"IF(bacValue=1,0,1)","v":1}]

{"sheet":"80G","index":29,"n_rows":53,"n_cols":26,"rows_kept":53,"cut":false,"hidden":false,"merged":[[40,10,40,12],[16,13,17,13],[4,13,5,13],[16,7,17,7],[16,8,17,8],[40,13,41,13],[28,13,29,13],[28,10,28,12],[16,10,16,12],[40,8,41,8],[2,2,2,4],[11,4,11,9],[23,4,23,9],[28,9,29,9],[40,3,41,3],[2,5,2,13],[4,4,5,4],[12,4,13,6],[16,5,17,5],[16,6,17,6],[4,6,5,6],[16,9,17,9],[4,10,4,12],[4,7,5,7],[4,5,5,5],[16,3,17,3],[52,2,54,13],[4,3,5,3],[47,4,47,9],[4,9,5,9],[16,4,17,4],[40,9,41,9],[28,3,29,3],[28,4,29,4],[4,8,5,8],[28,8,29,8],[36,4,37,6],[40,4,41,4],[28,5,29,5],[28,6,29,6],[28,7,29,7],[35,4,35,9],[48,4,49,6],[24,4,25,6],[40,5,41,5],[40,6,41,6],[40,7,41,7]]}
[]
[]
[null,null,"Schedule 80G",null,null,"Details of donations entitled for deduction under section 80G (Please read NOTE below)",null,null,null,null,null,null,null,null,null,null,null,"C_Eligible",{"$f":"SUM(PerYES10080G.EligibleAmt)","v":0},"D_Eligible",{"$f":"SUM(Per5080G.EligibleAmt)","v":0},"QualifyingAmount80G",{"$f":"ROUND(0.1*MAX(0,(Total_Income-(SUM(scvia.Section80GGA_Calc,scvia.Section80GGC_Calc)+SUM('VI-A'!K10:K20)))),0)","v":547135},{"$f":"QualifyingAmount80G","v":547135},"CDE_EligibleAmount",{"$f":"MAX(0,ROUND((CD_EligibleAmount-C_Eligible)/2,0))","v":273568}]
[null,null,"A","Donations entitled for 100% deduction without qualifying limit "]
[null,null,null,null,"Name of donee","Address","City or Town or District","State Code","PinCode","PAN of Donee","Amount of donation",null,null,"Eligible Amount of Donation",null,null,null,null,{"$f":"hp.IncOfCurYrAfterSetOffBFLosses1+busipofincl.IncOfCurYrAfterSetOffBFLosses2+busipofinclspec.IncOfCurYrAfterSetOffBFLosses2a+rh.IncOfCurYrAfterSetOffBFLosses6+othsrcincl.IncOfCurYrAfterSetOffBFLosses5+stcg.IncOfCurYrAfterSetOffBFLosses3b+busipofinclspecified.IncOfCurYrAfterSetOffBFLosses2b+SI!H34+SI!H45","v":5591350}]
[null,null,null,null,null,null,null,null,null,null,"Donation in Cash","Donation in other mode","Total Donation"]
[null,null,null,1,"PRIME MINISTER NATIONAL RELIEF FUND","SOUTH BLOCK","NEW DELHI","09-DELHI","110010","AAATP4637Q",0,215000,{"$f":"SUM(K7:L7)","v":215000},{"$f":"MIN(VALUE(SUM(IF(K7>2000,0,K7),L7)),Total_Income)","v":215000}]
[null,null,null,{"$f":"D7+1","v":2},"","","","(Select)","","",null,null,{"$f":"SUM(K8:L8)","v":0},{"$f":"MIN(VALUE(SUM(IF(K8>2000,0,K8),L8)),Total_Income)","v":0}]
[null,null,null,{"$f":"D8+1","v":3},null,null,null,"(Select)",null,null,null,null,{"$f":"SUM(K9:L9)","v":0},{"$f":"MIN(VALUE(SUM(IF(K9>2000,0,K9),L9)),Total_Income)","v":0}]
[null,null,null,{"$f":"D9+1","v":4},null,null,null,"(Select)",null,null,null,null,{"$f":"SUM(K10:L10)","v":0},{"$f":"MIN(VALUE(SUM(IF(K10>2000,0,K10),L10)),Total_Income)","v":0}]
[]
[null,null,null,null,"Total  A",null,null,null,null,null,{"$f":"SUM(Per10080G.DonationAmt)","v":0},{"$f":"SUM(Per10080G.DonationAmtOther)","v":215000},{"$f":"SUM(Per10080G.DonationAmtTotal)","v":215000},{"$f":"MIN(SUM(Per10080G.EligibleAmt),Total_Income)","v":215000}]
[]
[]
[]
[null,null,"B","Donations entitled for 50% deduction without qualifying limit"]
[null,null,null,null,"Name of donee","Address","City or Town or District","State Code","PinCode","PAN of Donee","Amount of donation",null,null,"Eligible Amount of Donation"]
[null,null,null,null,null,null,null,null,null,null,"Donation in Cash","Donation in other mode","Total Donation"]
[null,null,null,1,null,null,null,"(Select)",null,null,null,null,{"$f":"SUM(K19:L19)","v":0},{"$f":"ROUND(MIN(VALUE(SUM(IF(K19>2000,0,K19),L19))/2,Total_Income),0)","v":0}]
[null,null,null,{"$f":"D19+1","v":2},null,null,null,"(Select)",null,"",null,null,{"$f":"SUM(K20:L20)","v":0},{"$f":"ROUND(MIN(VALUE(SUM(IF(K20>2000,0,K20),L20))/2,Total_Income),0)","v":0}]
[null,null,null,{"$f":"D20+1","v":3},null,null,null,"(Select)",null,"",null,null,{"$f":"SUM(K21:L21)","v":0},{"$f":"ROUND(MIN(VALUE(SUM(IF(K21>2000,0,K21),L21))/2,Total_Income),0)","v":0}]
[null,null,null,{"$f":"D21+1","v":4},null,null,null,"(Select)",null,null,null,null,{"$f":"SUM(K22:L22)","v":0},{"$f":"ROUND(MIN(VALUE(SUM(IF(K22>2000,0,K22),L22))/2,Total_Income),0)","v":0}]
[]
[null,null,null,null,"Total  B :",null,null,null,null,null,{"$f":"SUM(PerNO5080G.DonationAmt)","v":0},{"$f":"SUM(PerNO5080G.DonationAmtOther)","v":0},{"$f":"SUM(PerNO5080G.DonationAmtTotal)","v":0},{"$f":"ROUND(MIN(SUM(PerNO5080G.EligibleAmt),Total_Income),0)","v":0}]
[]
[]
[]
[null,null,"C","Donations entitled for 100% deduction subject to qualifying limit"]
[null,null,null,null,"Name of donee","Address","City Or Town Or District","State Code","PinCode","PAN of Donee","Amount of donation",null,null,"Eligible Amount of Donation"]
[null,null,null,null,null,null,null,null,null,null,"Donation in Cash","Donation in other mode","Total Donation"]
[null,null,null,1,null,null,null,"(Select)",null,null,null,null,{"$f":"SUM(K31:L31)","v":0},{"$f":"ROUND(MIN(MIN(VALUE(SUM(IF(K31>2000,0,K31),L31)),Total_Income),QualifyingAmount80G),0)","v":0}]
[null,null,null,{"$f":"D31+1","v":2},null,null,null,"(Select)",null,null,null,null,{"$f":"SUM(K32:L32)","v":0},{"$f":"ROUND(MIN(MIN(VALUE(SUM(IF(K32>2000,0,K32),L32)),Total_Income),QualifyingAmount80G),0)","v":0}]
[null,null,null,{"$f":"D32+1","v":3},null,null,null,"(Select)",null,null,null,null,{"$f":"SUM(K33:L33)","v":0},{"$f":"ROUND(MIN(MIN(VALUE(SUM(IF(K33>2000,0,K33),L33)),Total_Income),QualifyingAmount80G),0)","v":0}]
[null,null,null,{"$f":"D33+1","v":4},null,null,null,"(Select)",null,null,null,null,{"$f":"SUM(K34:L34)","v":0},{"$f":"ROUND(MIN(MIN(VALUE(SUM(IF(K34>2000,0,K34),L34)),Total_Income),QualifyingAmount80G),0)","v":0}]
[]
[null,null,null,null,"Total  C : ",null,null,null,null,null,{"$f":"SUM(PerYES10080G.DonationAmt)","v":0},{"$f":"SUM(PerYES10080G.DonationAmtOther)","v":0},{"$f":"SUM(PerYES10080G.DonationAmtTotal)","v":0},{"$f":"ROUND(MIN(C_Eligible,CD_EligibleAmount),0)","v":0}]
[]
[]
[]
[null,null,"D","Donations entitled for 50% deduction subject to qualifying limit"]
[null,null,null,null,"Name of donee","Address","City Or Town Or District","State Code","PinCode","PAN of Donee","Amount of donation",null,null,"Eligible Amount of Donation"]
[null,null,null,null,null,null,null,null,null,null,"Donation in Cash","Donation in other mode","Total Donation"]
[null,null,null,1,null,null,null,"(Select)",null,null,null,null,{"$f":"SUM(K43:L43)","v":0},{"$f":"ROUND(MIN(Total_Income,MIN(CDE_EligibleAmount,VALUE(SUM(IF(K43>2000,0,K43),L43)/2))),0)","v":0}]
[null,null,null,{"$f":"D43+1","v":2},null,null,null,"(Select)",null,null,null,null,{"$f":"SUM(K44:L44)","v":0},{"$f":"ROUND(MIN(Total_Income,MIN(CDE_EligibleAmount,VALUE(SUM(IF(K44>2000,0,K44),L44)/2))),0)","v":0}]
[null,null,null,{"$f":"D44+1","v":3},null,null,null,"(Select)",null,null,null,null,{"$f":"SUM(K45:L45)","v":0},{"$f":"ROUND(MIN(Total_Income,MIN(CDE_EligibleAmount,VALUE(SUM(IF(K45>2000,0,K45),L45)/2))),0)","v":0}]
[null,null,null,{"$f":"D45+1","v":4},null,null,null,"(Select)",null,null,null,null,{"$f":"SUM(K46:L46)","v":0},{"$f":"ROUND(MIN(Total_Income,MIN(CDE_EligibleAmount,VALUE(SUM(IF(K46>2000,0,K46),L46)/2))),0)","v":0}]
[]
[null,null,null,null,"Total  D",null,null,null,null,null,{"$f":"SUM(Per5080G.DonationAmt)","v":0},{"$f":"SUM(Per5080G.DonationAmtOther)","v":0},{"$f":"SUM(Per5080G.DonationAmtTotal)","v":0},{"$f":"ROUND(MIN(Total_Income,MIN(CDE_EligibleAmount,VALUE(SUM(Per5080G.EligibleAmt)))),0)","v":0}]
[]
[]
[]
[null,null,"E","Total Donations (A + B + C + D)",null,null,null,null,null,null,{"$f":"ROUND(Per5080G.TotDon100Percent+PerYES10080G.TotDon100Percent+PerNO5080G.TotDon100Percent+Per10080G.TotDon100Percent,0)","v":0},{"$f":"ROUND(Per5080G.TotOtherDon100Percent+PerYES10080G.TotOtherDon100Percent+PerNO5080G.TotOtherDon100Percent+Per10080G.TotOtherDon100Percent,0)","v":215000},{"$f":"IF(MID(sheet1.ReturnFileSec,1,2)=\"12\",0,IF(bacValue=1,0,ROUND(Per5080G.TotBothDon100Percent+PerYES10080G.TotBothDon100Percent+PerNO5080G.TotBothDon100Percent+Per10080G.TotBothDon100Percent,0)))","v":215000},{"$f":"IF(MID(sheet1.ReturnFileSec,1,2)=\"12\",0,IF(bacValue=1,0,MIN(Total_Income,ROUND(Per5080G.TotElig100Percent+PerYES10080G.TotElig100Percent+PerNO5080G.TotElig100Percent+Per10080G.TotElig100Percent,0))))","v":215000}]
[null,null,"Note : In case of Donee is Government and PAN is not available then use  \"GGGGG0000G\" as PAN."]

{"sheet":"80GGA","index":30,"n_rows":11,"n_cols":19,"rows_kept":11,"cut":false,"hidden":false,"merged":[[2,2,2,3],[2,4,2,15],[3,3,4,3],[3,4,4,4],[3,10,4,10],[3,12,3,14],[3,15,4,15],[10,3,10,10],[11,2,11,15],[3,5,4,5],[3,6,4,6],[3,7,4,7],[3,8,4,8],[3,9,4,9],[3,11,4,11]]}
[]
[]
[null,null,"Schedule 80GGA",null,"Details of donations for scientific research or rural development"]
[null,null,null,"Sl. No.","Relevant Clause under which deduction is claimed","Name of Donee","Address","City or Town or District","State Code","Pincode","PAN of donee","Date of Donation","Amount of Donation",null,null,"Eligible Amount of Donation"]
[null,null,null,null,null,null,null,null,null,null,null,null,"Donation in cash","Donation in other mode","Total Donation"]
[null,null,null,1,"(Select)",null,null,null,"(Select)",null,null,null,null,null,{"$f":"MAX(SUM(M6,N6),0)","v":0},{"$f":"MIN(SUM(IF(M6>S6,0,M6),N6),Total_Income)","v":0},null,null,{"$f":"IF(M6=0,0,2000)","v":0}]
[null,null,null,{"$f":"D6+1","v":2},"(Select)",null,null,null,"(Select)",null,null,"",null,null,{"$f":"MAX(SUM(M7,N7),0)","v":0},{"$f":"MIN(SUM(IF(M7>S7,0,M7),N7),Total_Income)","v":0},null,null,{"$f":"IF(M7=0,0,2000)","v":0}]
[null,null,null,{"$f":"D7+1","v":3},"(Select)",null,null,null,"(Select)",null,null,null,null,null,{"$f":"MAX(SUM(M8,N8),0)","v":0},{"$f":"MIN(SUM(IF(M8>S8,0,M8),N8),Total_Income)","v":0},null,null,0]
[null,null,null,{"$f":"D8+1","v":4},"(Select)",null,null,null,"(Select)",null,null,null,null,null,{"$f":"MAX(SUM(M9,N9),0)","v":0},{"$f":"MIN(SUM(IF(M9>S9,0,M9),N9),Total_Income)","v":0},null,null,0]
[]
[null,null,null,"Total Donations",null,null,null,null,null,null,null,null,{"$f":"SUM(Donation_cash_80GGA)","v":0},{"$f":"SUM(Donation_other_80GGA)","v":0},{"$f":"IF(MID(sheet1.ReturnFileSec,1,2)=\"12\",0,IF(bacValue=1,0,SUM(Donation_total_80GGA)))","v":0},{"$f":"IF(MID(sheet1.ReturnFileSec,1,2)=\"12\",0,IF(bacValue=1,0,IF(Sheet8b.TotProfBusGain>0,0,MIN(SUM(Donation_Eligible_80GGA),Total_Income))))","v":0}]

{"sheet":"RA","index":31,"n_rows":13,"n_cols":14,"rows_kept":13,"cut":false,"hidden":false,"merged":[[12,2,12,13],[3,9,4,9],[3,10,3,13],[10,3,10,9],[11,2,11,13],[2,2,2,3],[2,4,2,13],[3,3,4,3],[3,4,4,4],[3,5,4,5],[3,6,4,6],[3,7,4,7],[3,8,4,8]]}
[]
[]
[null,null,"Schedule RA",null,"Details of donations to research associations etc. [deduction under sections 35(1)(ii) or 35(1)(iia) or 35(1)(iii) or 35(2AA)] "]
[null,null,null,"Sl.No","Name of Donee","Address","City or Town or District","State Code","Pincode","PAN of donee","Amount of donation"]
[null,null,null,null,null,null,null,null,null,null,"Donation in cash","Donation in other mode","Total Donation","Eligible Amount of Donation"]
[null,null,null,1,null,null,null,null,null,null,null,null,{"$f":"MAX(SUM(K6,L6),0)","v":0}]
[null,null,null,{"$f":"D6+1","v":2},null,null,null,null,null,null,null,null,{"$f":"MAX(SUM(K7,L7),0)","v":0}]
[null,null,null,{"$f":"D7+1","v":3},null,null,null,null,null,null,null,null,{"$f":"MAX(SUM(K8,L8),0)","v":0}]
[null,null,null,{"$f":"D8+1","v":4},null,null,null,null,null,null,null,null,{"$f":"MAX(SUM(K9,L9),0)","v":0}]
[]
[null,null,null,"Total Donation",null,null,null,null,null,null,{"$f":"SUM(Donation_cash_RA)","v":0},{"$f":"SUM(Donation_other_RA)","v":0},{"$f":"SUM(Donation_total_RA)","v":0},{"$f":"SUM(Donation_Eligible_RA)","v":0}]
[]
[null,null,"Note-In case any deduction is claimed under sections 35(1)(ii) or 35(1)(iia) or 35(1)(iii) or 35(2AA) at COLUMN 3 in Schedule ESR then at least one row is mandatory in Schedule RA otherwise whole schedule should be greyed off."]

{"sheet":"80","index":32,"n_rows":123,"n_cols":8,"rows_kept":123,"cut":false,"hidden":false,"merged":[[91,4,91,7],[79,4,79,7],[80,5,80,6],[81,5,81,6],[83,4,83,7],[84,5,84,6],[85,5,85,6],[87,4,87,7],[88,5,88,6],[89,5,89,6],[122,3,122,6],[112,5,112,7],[116,5,116,7],[120,4,120,6],[92,5,92,7],[108,5,108,7],[96,5,96,7],[100,5,100,7],[104,5,104,7],[66,5,66,6],[68,4,68,7],[74,5,74,6],[75,3,75,6],[77,2,77,4],[70,5,70,6],[72,4,72,7],[77,5,77,7],[73,5,73,6],[69,5,69,6],[40,4,40,7],[41,5,41,6],[34,5,34,6],[37,5,37,6],[36,4,36,7],[38,5,38,6],[49,5,49,6],[50,5,50,6],[60,4,60,7],[61,5,61,6],[62,5,62,6],[65,5,65,6],[53,5,53,6],[33,5,33,6],[29,5,29,6],[21,4,21,7],[54,5,54,6],[56,4,56,7],[57,5,57,6],[46,5,46,6],[48,4,48,7],[44,4,44,7],[42,5,42,6],[45,5,45,6],[58,5,58,6],[64,4,64,7],[52,4,52,7],[3,2,3,4],[3,5,3,7],[13,4,13,7],[14,5,14,6],[15,5,15,6],[5,4,5,7],[6,5,6,6],[7,5,7,6],[11,5,11,6],[10,5,10,6],[9,4,9,7],[30,5,30,6],[32,4,32,7],[17,4,17,7],[22,5,22,6],[23,5,23,6],[26,2,26,4],[26,5,26,7],[28,4,28,7],[18,5,18,6],[19,5,19,6]]}
[]
[]
[null,null,"(Note: If no entry is made in first row then other rows will not be considered)"]
[null,null,"Schedule 80-IA",null,null,"Deductions under section 80-IA"]
[]
[null,null,null,"a","Deduction in respect of profits of an enterprise referred to in section 80-IA(4)(i) [Infrastructure facility]"]
[null,null,null,null,1,{"$f":"CONCATENATE(\"Undertaking \",E7)","v":"Undertaking 1"}]
[null,null,null,null,{"$f":"E7+1","v":2},{"$f":"CONCATENATE(\"Undertaking \",E8)","v":"Undertaking 2"}]
[]
[null,null,null,"b","Deduction in respect of profits of an undertaking referred to in section 80-IA(4)(ii) [Telecommunication services]"]
[null,null,null,null,1,{"$f":"CONCATENATE(\"Undertaking \",E11)","v":"Undertaking 1"}]
[null,null,null,null,{"$f":"E11+1","v":2},{"$f":"CONCATENATE(\"Undertaking \",E12)","v":"Undertaking 2"}]
[]
[null,null,null,"c","Deduction in respect of profits of an undertaking referred to in section 80-IA(4)(iii) [Industrial park and SEZs]"]
[null,null,null,null,1,{"$f":"CONCATENATE(\"Undertaking \",E15)","v":"Undertaking 1"}]
[null,null,null,null,{"$f":"E15+1","v":2},{"$f":"CONCATENATE(\"Undertaking \",E16)","v":"Undertaking 2"}]
[]
[null,null,null,"b","Deduction in respect of profits of an undertaking referred to in section 80-IA(4)(iv) [Power]"]
[null,null,null,null,1,{"$f":"CONCATENATE(\"Undertaking \",E19)","v":"Undertaking 1"}]
[null,null,null,null,{"$f":"E19+1","v":2},{"$f":"CONCATENATE(\"Undertaking \",E20)","v":"Undertaking 2"}]
[]
[null,null,null,"e","Deduction in respect of profits of an undertaking referred to in section 80-IA(4)(v) [Revival of power generating plant] and deduction in respect of profits of an undertaking referred to in section 80-IA(4)(vi) [Cross-country natural gas distribution network]"]
[null,null,null,null,1,{"$f":"CONCATENATE(\"Undertaking \",E23)","v":"Undertaking 1"}]
[null,null,null,null,{"$f":"E23+1","v":2},{"$f":"CONCATENATE(\"Undertaking \",E24)","v":"Undertaking 2"}]
[null,null,"c","Total deductions under section 80-IA (a1 + a2 + b1 + b2 ) ",null,null,null,{"$f":"IF(MID(sheet1.ReturnFileSec,1,2)=\"12\",0,IF(bacValue=1,0,SUM(IA80.DeductProfUs80_IA_4_io,IA80.DeductProfUs80_IA_4_i,IA80.DeductProfUs80_IA_4_ii,IA80.DeductProfUs80_IA_4_iii,IA80.DeductProfUs80_IA_4_iv)))","v":0}]
[]
[null,null,"Schedule 80-IB",null,null,"Deductions under section 80-IB"]
[]
[null,null,null,"a","Deduction in respect of industrial undertaking located in Jammu & Kashmir or Ladakh [Section 80-IB(4)] "]
[null,null,null,null,1,{"$f":"CONCATENATE(\"Undertaking \",E30)","v":"Undertaking 1"}]
[null,null,null,null,{"$f":"E30+1","v":2},{"$f":"CONCATENATE(\"Undertaking \",E31)","v":"Undertaking 2"}]
[]
[null,null,null,"b","Deduction in respect of industrial undertaking located in industrially backward states specified in Eighth Schedule [Section 80-IB(4)] "]
[null,null,null,null,1,{"$f":"CONCATENATE(\"Undertaking \",E34)","v":"Undertaking 1"}]
[null,null,null,null,{"$f":"E34+1","v":2},{"$f":"CONCATENATE(\"Undertaking \",E35)","v":"Undertaking 2"}]
[]
[null,null,null,"c","Deduction in respect of industrial undertaking located in industrially backward districts [Section 80-IB(5)]  "]
[null,null,null,null,1,{"$f":"CONCATENATE(\"Undertaking \",E38)","v":"Undertaking 1"}]
[null,null,null,null,{"$f":"E38+1","v":2},{"$f":"CONCATENATE(\"Undertaking \",E39)","v":"Undertaking 2"}]
[]
[null,null,null,"b","Deduction in the case of multiplex theatre [Section 80-IB(7A)] "]
[null,null,null,null,1,{"$f":"CONCATENATE(\"Undertaking \",E42)","v":"Undertaking 1"}]
[null,null,null,null,{"$f":"E42+1","v":2},{"$f":"CONCATENATE(\"Undertaking \",E43)","v":"Undertaking 2"}]
[null,null,null,null,"`"]
[null,null,null,"c","Deduction in the case of convention centre [Section 80-IB(7B)]"]
[null,null,null,null,1,{"$f":"CONCATENATE(\"Undertaking \",E46)","v":"Undertaking 1"}]
[null,null,null,null,{"$f":"E46+1","v":2},{"$f":"CONCATENATE(\"Undertaking \",E47)","v":"Undertaking 2"}]
[]
[null,null,null,"b","Deduction in the case of undertaking which begins commercial production or refining of mineral oil [Section 80-IB(9)]    "]
[null,null,null,null,1,{"$f":"CONCATENATE(\"Undertaking \",E50)","v":"Undertaking 1"}]
[null,null,null,null,{"$f":"E50+1","v":2},{"$f":"CONCATENATE(\"Undertaking \",E51)","v":"Undertaking 2"}]
[]
[null,null,null,"c","Deduction in the case of an undertaking developing and building housing projects [Section 80-IB(10)]  "]
[null,null,null,null,1,{"$f":"CONCATENATE(\"Undertaking \",E54)","v":"Undertaking 1"}]
[null,null,null,null,{"$f":"E54+1","v":2},{"$f":"CONCATENATE(\"Undertaking \",E55)","v":"Undertaking 2"}]
[]
[null,null,null,"g","Deduction in the case of an undertaking operating a cold chain facility [Section 80-IB(11)]  "]
[null,null,null,null,1,{"$f":"CONCATENATE(\"Undertaking \",E58)","v":"Undertaking 1"}]
[null,null,null,null,{"$f":"E58+1","v":2},{"$f":"CONCATENATE(\"Undertaking \",E59)","v":"Undertaking 2"}]
[]
[null,null,null,"d","Deduction in the case of an undertaking engaged in processing, preservation and packaging of fruits and vegetables, meat, meat products, poultry, marine or dairy\nproducts [Section 80-IB(11A)]   "]
[null,null,null,null,1,{"$f":"CONCATENATE(\"Undertaking \",E62)","v":"Undertaking 1"}]
[null,null,null,null,{"$f":"E62+1","v":2},{"$f":"CONCATENATE(\"Undertaking \",E63)","v":"Undertaking 2"}]
[]
[null,null,null,"e","Deduction in the case of an undertaking engaged in integrated business of handling, storage and transportation of foodgrains [Section 80-IB(11A)] "]
[null,null,null,null,1,{"$f":"CONCATENATE(\"Undertaking \",E66)","v":"Undertaking 1"}]
[null,null,null,null,{"$f":"E66+1","v":2},{"$f":"CONCATENATE(\"Undertaking \",E67)","v":"Undertaking 2"}]
[]
[null,null,null,"h","Deduction in the case of an undertaking engaged in operating and maintaining a rural hospital [Section 80-IB(11B)] "]
[null,null,null,null,1,{"$f":"CONCATENATE(\"Undertaking \",E70)","v":"Undertaking 1"}]
[null,null,null,null,{"$f":"E70+1","v":2},{"$f":"CONCATENATE(\"Undertaking \",E71)","v":"Undertaking 2"}]
[]
[null,null,null,"i","Deduction in the case of an undertaking engaged in operating and maintaining a hospital in any area, other than excluded area [Section 80-IB(11C)"]
[null,null,null,null,1,{"$f":"CONCATENATE(\"Undertaking \",E74)","v":"Undertaking 1"}]
[null,null,null,null,{"$f":"E74+1","v":2},{"$f":"CONCATENATE(\"Undertaking \",E75)","v":"Undertaking 2"}]
[null,null,"f","Total deduction under section 80-IB (Total of a to e) ",null,null,null,{"$f":"IF(MID(sheet1.ReturnFileSec,1,2)=\"12\",0,IF(bacValue=1,0,SUM(IB80.DeductJKLocUs80_IB_4,IB80.DeductBackStatesUs80_IB_4,IB80.DeductBackDisttUs80_IB_5,IB80.DeductMultiplexUs80_IB_7A,IB80.DeductConvCentUs80_IB_7B,IB80.DeductMinOilUs80_IB_9,IB80.DeductHousUs80_IB_10,IB80.DeductColdChainUs80_IB_11,IB80.DeductFruitVegUs80_IB_11A,IB80.DeductFoodGrainUs80_IB_11A,IB80.DeductRurHospUs80_IB_11B,IB80.DeductHospAnyAreaUs80IB_11C)))","v":0}]
[]
[null,null,"Schedule 80-IC or 80-IE",null,null,"Deductions under section 80-IC or 80-IE"]
[]
[null,null,null,1,"Deduction in respect of  undertaking located in Sikkim  "]
[null,null,null,null,1,{"$f":"CONCATENATE(\"Undertaking \",E81)","v":"Undertaking 1"}]
[null,null,null,null,{"$f":"E81+1","v":2},{"$f":"CONCATENATE(\"Undertaking \",E82)","v":"Undertaking 2"}]
[]
[null,null,null,2,"Deduction in respect of  undertaking located in Himachal Pradesh"]
[null,null,null,null,1,{"$f":"CONCATENATE(\"Undertaking \",E85)","v":"Undertaking 1"}]
[null,null,null,null,{"$f":"E85+1","v":2},{"$f":"CONCATENATE(\"Undertaking \",E86)","v":"Undertaking 2"}]
[]
[null,null,null,3,"Deduction in respect of industrial undertaking located in Uttaranchal  "]
[null,null,null,null,1,{"$f":"CONCATENATE(\"Undertaking \",E89)","v":"Undertaking 1"}]
[null,null,null,null,{"$f":"E89+1","v":2},{"$f":"CONCATENATE(\"Undertaking \",E90)","v":"Undertaking 2"}]
[]
[null,null,null,4,"Deduction in respect of industrial undertaking located in  North-East "]
[null,null,null,null,"a","Assam "]
[null,null,null,null,null,1,{"$f":"CONCATENATE(\"Undertaking \",F94)","v":"Undertaking 1"}]
[null,null,null,null,null,{"$f":"F94+1","v":2},{"$f":"CONCATENATE(\"Undertaking \",F95)","v":"Undertaking 2"}]
[]
[null,null,null,null,"b","Arunachal Pradesh "]
[null,null,null,null,null,1,{"$f":"CONCATENATE(\"Undertaking \",F98)","v":"Undertaking 1"}]
[null,null,null,null,null,{"$f":"F98+1","v":2},{"$f":"CONCATENATE(\"Undertaking \",F99)","v":"Undertaking 2"}]
[]
[null,null,null,null,"c","Manipur "]
[null,null,null,null,null,1,{"$f":"CONCATENATE(\"Undertaking \",F102)","v":"Undertaking 1"}]
[null,null,null,null,null,{"$f":"F102+1","v":2},{"$f":"CONCATENATE(\"Undertaking \",F103)","v":"Undertaking 2"}]
[]
[null,null,null,null,"d","Mizoram "]
[null,null,null,null,null,1,{"$f":"CONCATENATE(\"Undertaking \",F106)","v":"Undertaking 1"}]
[null,null,null,null,null,{"$f":"F106+1","v":2},{"$f":"CONCATENATE(\"Undertaking \",F107)","v":"Undertaking 2"}]
[]
[null,null,null,null,"e","Meghalaya "]
[null,null,null,null,null,1,{"$f":"CONCATENATE(\"Undertaking \",F110)","v":"Undertaking 1"}]
[null,null,null,null,null,{"$f":"F110+1","v":2},{"$f":"CONCATENATE(\"Undertaking \",F111)","v":"Undertaking 2"}]
[]
[null,null,null,null,"f","Nagaland "]
[null,null,null,null,null,1,{"$f":"CONCATENATE(\"Undertaking \",F114)","v":"Undertaking 1"}]
[null,null,null,null,null,{"$f":"F114+1","v":2},{"$f":"CONCATENATE(\"Undertaking \",F115)","v":"Undertaking 2"}]
[]
[null,null,null,null,"g","Tripura "]
[null,null,null,null,null,1,{"$f":"CONCATENATE(\"Undertaking \",F118)","v":"Undertaking 1"}]
[null,null,null,null,null,{"$f":"F118+1","v":2},{"$f":"CONCATENATE(\"Undertaking \",F119)","v":"Undertaking 2"}]
[]
[null,null,null,"h","Total of deduction for undertakings located in North-east (Total of 4a to 4g) ",null,null,{"$f":"IF(MID(sheet1.ReturnFileSec,1,2)=\"12\",0,IF(bacValue=1,0,SUM(IC80.Assam,IC80.ArunachalPradesh,IC80.Manipur,IC80.Mizoram,IC80.Meghalaya,IC80.Nagaland,IC80.Tripura)))","v":0}]
[]
[null,null,5,"Total deduction under section 80-IC/80IE   (a + b + c + dh)",null,null,null,{"$f":"IF(MID(sheet1.ReturnFileSec,1,2)=\"12\",0,IF(bacValue=1,0,SUM(IC80.TotDeductInNorthEast,IC80.DeductInUttaranchal,IC80.DeductInHimachalP,IC80.DeductInSikkim)))","v":0}]

{"sheet":"80P","index":33,"n_rows":18,"n_cols":12,"rows_kept":18,"cut":false,"hidden":false,"merged":[[17,4,17,5],[2,2,2,3],[3,3,3,4],[2,4,2,7]]}
[]
[]
[null,null,"Schedule 80P",null,"Deductions under section 80P"]
[null,null,null,null,null,"Nature of Business Code (Only in relation to Co-operative societies Activities)","Income","Amount eligible for deduction"]
[null,null,null,1,"Sec.80P(2)(a)(i)  Banking/Credit Facilities to its members",null,null,null,null,null,null,{"$f":"MIN((PL.Dividends+PL.InterestInc),(busipofincl.IncOfCurYrAfterSetOffBFLosses2+MIN(othsrcincl.IncOfCurYrAfterSetOffBFLosses5,(os.DividendGross+os.InterestGross_b))))","v":0}]
[null,null,null,2,"Sec.80P(2)(a)(ii)  Cottage Industry"]
[null,null,null,3,"Sec.80P(2)(a)(iii)  Marketing of Agricultural produce grown by its members"]
[null,null,null,4,"Sec.80P(2)(a)(iv)  Purchase of Agricultural Implements, seeds, live stocks or other articles intended for agriculture for the purpose of supplying to its members."]
[null,null,null,5,"Sec.80P(2)(a)(v)  Processing ,  without the aid of power, of the agricultural Produce of its members."]
[null,null,null,6,"Sec.80P(2)(a)(vi)  Collective disposal of Labour of its members"]
[null,null,null,7,"Sec.80P(2)(a)(vii)  Fishing or allied activities for the purpose of supplying to its members."]
[null,null,null,8,"Sec.80P(2)(b)Primary cooperative society enagaged in supplying Milk, oilseeds, fruits or vegetables raised or grown by its members to Federal cooperative society enagaged in supplying Milk, oil seeds, fruits or vegetables/Government or local authority/Government Company /  corporation established by or under a Central, State or Provincial Act"]
[null,null,null,9,"Sec.80P(2)(c)(i)Consumer Cooperative Society Other than specified in 80P(2a) or 80P(2b)"]
[null,null,null,10,"Sec.80P(2)(c)(ii)Other Cooperative Society engaged in activities Other than specified in 80P(2a) or 80P(2b)"]
[null,null,null,11,"Sec.80P(2)(d)Interest/Dividend from Investment in other co-operative society"]
[null,null,null,12,"Sec.80P(2)(e)Income from Letting of godowns / warehouses for storage, processing / facilitating the marketing of commodities"]
[null,null,null,13,"Sec.80P(2)(f)Others"]
[null,null,null,14,"Total(1+2+3+4+5+6+7+8+9+10+11+12+13)",null,{"$f":"MAX(0,SUM(G5:G17))","v":0},{"$f":"IF(MID(sheet1.ReturnFileSec,1,2)=\"12\",0,IF(bacValue=1,0,IF(MID(sheet1.ReturnFileSec,1,2)=\"12\",0,MAX(0,SUM(H5:H17)))))","v":0}]

{"sheet":"VI-A","index":34,"n_rows":22,"n_cols":15,"rows_kept":22,"cut":false,"hidden":false,"merged":[[14,4,14,6],[2,4,2,10],[17,4,17,6],[18,4,18,6],[2,2,2,3],[3,2,21,2],[4,4,4,6],[6,4,6,6],[7,3,7,6],[20,3,20,6],[5,4,5,6],[21,4,21,6],[19,4,19,6],[9,4,9,6],[10,4,10,6],[11,4,11,6],[13,4,13,6],[12,4,12,6],[16,4,16,6],[15,4,15,6]]}
[]
[]
[null,null,"Schedule VI-A",null,"Deductions under Chapter VI-A",null,null,null,null,null,null,null,null,"SectionCheck",{"$f":"IF(MID(sheet1.ReturnFileSec1,1,6)=\"139(4)\",TRUE,FALSE)","v":false}]
[null,null,"TOTAL DEDUCTIONS","1. Part B- Deduction in respect of certain payments",null,null,null,null,null,null,"System Calculated"]
[null,null,null,"a","80G -Donations to certain funds, charitable institutions, etc. (Please fill 80G schedule. This field is auto-populated from schedule.)",null,null,"a",{"$f":"Per5080G.TotalEligibleDonationsUs80G","v":215000},null,{"$f":"Per5080G.TotalEligibleDonationsUs80G","v":215000}]
[null,null,null,"b","80GGA -Deduction in respect of certain donations for scientific research or rural development  (Please fill 80GGA schedule. This field is auto-populated from schedule.)",null,null,"b",{"$f":"Total_Donation_80GGA","v":0},null,{"$f":"IF(Sheet8b.TotProfBusGain>0,0,MIN(Total_Donation_Eligible_80GGA,Total_Income))","v":0}]
[null,null,null,"c","80GGC -Donation to Political party",null,null,"c",120000,null,{"$f":"MIN(IF(MID(sheet1.MainStatus,1,1)=\"4\",0,IF(MID(sheet1.MainStatus,1,1)=\"2\",0,VALUE(scvia.Section80GGC))),Total_Income)","v":120000}]
[null,null,null,"Total Deduction under Part B (a + b + c)",null,null,null,null,{"$f":"SUM(I5:I7)","v":335000},null,{"$f":"MIN(MAX(0,Sheet8b.GrossTotalIncome-Sheet8b.IncChargeableTaxSplRates),SUM(K5:K7))","v":335000}]
[null,null,null,"2. Part C- Deduction in respect of certain incomes"]
[null,null,null,"d","80IA (c of Schedule 80-IA)-Profits and gains from industrial undertakings or enterprises engaged in infrastructure development, etc.",null,null,"d",{"$f":"IA80.TotSchedule80_IA","v":0},null,{"$f":"MIN(IA80.TotSchedule80_IA)*1","v":0}]
[null,null,null,"e","80IAB-Profits and gains by an undertaking or enterprise engaged in development of Special Economic Zone",null,null,"e",null,null,{"$f":"MIN(VALUE(scvia.Section80IAB))*1","v":0}]
[null,null,null,"f","80-IAC-Special provision in respect of specified business",null,null,"f",null,null,{"$f":"MIN(VALUE(scvia.Section80IAC))*1","v":0}]
[null,null,null,"g","80IB (f of Schedule 80-IB-Profits and gains from certain industrial undertakings other than infrastructure development undertakings",null,null,"g",{"$f":"IB80.TotSchedule80_IB","v":0},null,{"$f":"MIN(IB80.TotSchedule80_IB)*1","v":0}]
[null,null,null,"h","80-IBA-Profits and gains from housing projects",null,null,"h",null,null,{"$f":"MIN(VALUE(scvia.Section80IBA))*1","v":0}]
[null,null,null,"i","80IC / 80IE  (h of Schedule 80-IC / 80-IE)-Special provisions in respect of certain undertakings or enterprises in certain special category States/North-Eastern States.",null,null,"i",{"$f":"IC80.TotSchedule80_IC","v":0},null,{"$f":"MIN(VALUE(scvia.Section80IC))*1","v":0}]
[null,null,null,"j","80JJA-Profits and gains from business of collecting and processing of bio-degradable waste.",null,null,"j",null,null,{"$f":"MIN(VALUE(scvia.Section80JJA))","v":0}]
[null,null,null,"k","80JJAA-Employment of new employees",null,null,"k",null,null,{"$f":"MIN(VALUE(scvia.Section80JJAA))","v":0}]
[null,null,null,"l","80LA(1)-Certain Income Of Offshore Banking Units ",null,null,"l",null,null,{"$f":"MIN(VALUE(scvia.Section80LA))","v":0}]
[null,null,null,"m","80LA(1A)-Certain Income Of International Financial Services Centre",null,null,"m",null,null,{"$f":"MIN(VALUE(scvia.Section80LA1A))","v":0}]
[null,null,null,"n","80P-Income of co-operative societies.",null,null,"n",{"$f":"MAX(0,Sch80P.Total)","v":0},null,{"$f":"MIN(Sch80P.Total)*1","v":0}]
[null,null,null,"Total Deduction under Part C (total of d to n)",null,null,null,2,{"$f":"SUM(I10:I20)","v":0},null,{"$f":"MAX(0,IF(scvia.Section80P_Calc>0,MIN(busipofincl.IncOfCurYrAfterSetOffBFLosses2+hp.IncOfCurYrAfterSetOffBFLosses1+othsrcincl.IncOfCurYrAfterSetOffBFLosses5-sheet11.Section44AD-sheet11.Section44ADA-sheet11.Section44AE,SUM(K10:K20)),MIN(busipofincl.IncOfCurYrAfterSetOffBFLosses2-sheet11.Section44AD-sheet11.Section44ADA-sheet11.Section44AE,SUM(K10:K20))))","v":0}]
[null,null,null,3,"Total Deductions under Chapter VI-A (1 + 2 )",null,null,3,{"$f":"scvia.TotPartBchapterVIA+scvia.TotPartCchapterVIA","v":335000},null,{"$f":"MAX(0,MIN(Sheet8b.GrossTotalIncome-Sheet8b.IncChargeableTaxSplRates,(scvia.TotPartBchapterVIA_Calc+scvia.TotPartCchapterVIA_Calc)))","v":335000}]

{"sheet":"AMT","index":35,"n_rows":13,"n_cols":27,"rows_kept":13,"cut":false,"hidden":false,"merged":[[2,2,2,4],[3,2,12,2],[3,4,3,8],[4,4,4,7],[4,8,8,9],[5,3,8,3],[9,4,9,7],[12,4,12,7],[10,4,10,7],[11,4,11,7]]}
[]
[]
[null,null,"Schedule AMT",null,null,"Computation of Alternate Minimum  Tax payable under section 115JC ",null,null,null,null,null,null,null,null,{"$f":"IF(AND(Condn_1=1,Condn_2=1,Condn_3=1,Condn_4=1,Condn_5=1,Condn_6=1),1,0)","v":0},"Condn 1",{"$f":"IF(Sheet8b.TotalIncome=0,1,0)","v":0},"Condn 2",{"$f":"IF(IF(sheet10.NetPLFromSpecifiedBus=\"\",0,sheet10.NetPLFromSpecifiedBus)=sheet10.ProfBfrTaxPL,1,0)","v":0},"Condn 3",{"$f":"IF(sheet12.AdjustedPLFrmSpecifiedBus < 0,1,0)","v":0},"Condn 4",{"$f":"IF(IF(sheet12.DeductUs35AD=\"\",0,sheet12.DeductUs35AD) > 0,1,0)","v":0},"Condn 5",{"$f":"IF(Sheet8b.TotalTI =0,1,0)","v":0},"Condn 6",{"$f":"IF(AND(Sheet8b.CurrentYearLoss=0,Sheet8b.BroughtFwdLossesSetoff=0),1,0)","v":1}]
[null,null,"ALTERNATE MINIMUM  TAX",1,"Total Income as per item 13 of PART-B-TI",null,null,null,null,{"$f":"IF(bacValue=1,0,IF(Amt_condn=1,sheet12.AdjustedPLFrmSpecifiedBus,Sheet8b.TotalIncome))","v":5256350},null,null,{"$f":"AMT.AdjustedUnderSec115JC3a","v":0},{"$f":"MAX(0,50000000-AMT.AdjustedUnderSec115JC3a2_5cr)","v":50000000},{"$f":"IF(bacValue=1,0,IF(FormulaOfAMT=\"N\",IF(AMT.Total<=0,0,IF(AMT.AdjustedUnderSec115JC<=2000000,0,MAX(0,IF(sheet1.ForeignExchangeFlag=\"Yes\",ROUND(AMT.AdjustedUnderSec115JC3a2New_5cr+AMT.AdjustedUnderSec115JC3b2New_5cr,0),ROUND(AMT.AdjustedUnderSec115JC3a2New_5cr+AMT.AdjustedUnderSec115JC3b2New_5cr,0))))),IF(AMT.Total<=0,0,MAX(0,IF(sheet1.ForeignExchangeFlag=\"Yes\",ROUND(AMT.AdjustedUnderSec115JC3a2New_5cr+AMT.AdjustedUnderSec115JC3b2New_5cr,0),ROUND(AMT.AdjustedUnderSec115JC3a2New_5cr+AMT.AdjustedUnderSec115JC3b2New_5cr,0))))))","v":0},{"$f":"AMT.AdjustedUnderSec115JC3a","v":0},{"$f":"MAX(0,10000000-AMT.AdjustedUnderSec115JC3a2_1cr)","v":10000000},{"$f":"IF(bacValue=1,0,IF(FormulaOfAMT=\"N\",IF(AMT.Total<=0,0,IF(AMT.AdjustedUnderSec115JC<=2000000,0,MAX(0,IF(sheet1.ForeignExchangeFlag=\"Yes\",ROUND(AMT.AdjustedUnderSec115JC3a2New_1cr+AMT.AdjustedUnderSec115JC3b2New_1cr,0),ROUND(AMT.AdjustedUnderSec115JC3a2New_1cr+AMT.AdjustedUnderSec115JC3b2New_1cr,0))))),IF(AMT.Total<=0,0,MAX(0,IF(sheet1.ForeignExchangeFlag=\"Yes\",ROUND(AMT.AdjustedUnderSec115JC3a2New_1cr+AMT.AdjustedUnderSec115JC3b2New_1cr,0),ROUND(AMT.AdjustedUnderSec115JC3a2New_1cr+AMT.AdjustedUnderSec115JC3b2New_1cr,0))))))","v":0}]
[null,null,null,2,"Adjustment as per section 115JC(2)",null,null,null,null,null,null,null,{"$f":"0.09*(IF(AMT.AdjustedUnderSec115JC3a2_5cr<0,0,IF(AMT.AdjustedUnderSec115JC3b2_5cr<0,AMT.AdjustedUnderSec115JC3a2_5cr+AMT.AdjustedUnderSec115JC3b2_5cr,AMT.AdjustedUnderSec115JC3a2_5cr)))","v":0},{"$f":"0.185*(IF(AMT.AdjustedUnderSec115JC3b2_5cr<0,0,IF(AMT.AdjustedUnderSec115JC3a2_5cr<0,AMT.AdjustedUnderSec115JC3a2_5cr+AMT.AdjustedUnderSec115JC3b2_5cr,AMT.AdjustedUnderSec115JC3b2_5cr)))","v":9250000},null,{"$f":"0.09*(IF(AMT.AdjustedUnderSec115JC3a2_1cr<0,0,IF(AMT.AdjustedUnderSec115JC3b2_1cr<0,AMT.AdjustedUnderSec115JC3a2_1cr+AMT.AdjustedUnderSec115JC3b2_1cr,AMT.AdjustedUnderSec115JC3a2_1cr)))","v":0},{"$f":"0.185*(IF(AMT.AdjustedUnderSec115JC3b2_1cr<0,0,IF(AMT.AdjustedUnderSec115JC3a2_1cr<0,AMT.AdjustedUnderSec115JC3a2_1cr+AMT.AdjustedUnderSec115JC3b2_1cr,AMT.AdjustedUnderSec115JC3b2_1cr)))","v":1850000}]
[null,null,null,null,"a ","Deduction Claimed under any section included in Chapter VI-A under the heading “C.—Deductions in respect of certain incomes” ","2a",{"$f":"IF(bacValue=1,0,MAX(0,MIN(Sheet8b.GrossTotalIncome-Sheet8b.IncChargeableTaxSplRates-Sheet8b.ProfGainSpecifiedBus,scvia.TotPartCchapterVIA_Calc-scvia.Section80P_Calc)))","v":0},null,null,null,null,{"$f":"AMT.AdjustedUnderSec115JC3a","v":0},{"$f":"MAX(0,20000000-AMT.AdjustedUnderSec115JC3a2_2cr)","v":20000000},{"$f":"IF(bacValue=1,0,IF(FormulaOfAMT=\"N\",IF(AMT.Total<=0,0,IF(AMT.AdjustedUnderSec115JC<=2000000,0,MAX(0,IF(sheet1.ForeignExchangeFlag=\"Yes\",ROUND(AMT.AdjustedUnderSec115JC3a2New_2cr+AMT.AdjustedUnderSec115JC3b2New_2cr,0),ROUND(AMT.AdjustedUnderSec115JC3a2New_2cr+AMT.AdjustedUnderSec115JC3b2New_2cr,0))))),IF(AMT.Total<=0,0,MAX(0,IF(sheet1.ForeignExchangeFlag=\"Yes\",ROUND(AMT.AdjustedUnderSec115JC3a2New_2cr+AMT.AdjustedUnderSec115JC3b2New_2cr,0),ROUND(AMT.AdjustedUnderSec115JC3a2New_2cr+AMT.AdjustedUnderSec115JC3b2New_2cr,0))))))","v":0}]
[null,null,null,null,"b ","Deduction Claimed u/s 10AA","2b",{"$f":"IF(bacValue=1,0,MIN(busipofincl.IncOfCurYrAfterSetOffBFLosses2,Sheet8b.DeductionsUnder10Aor10AA))","v":0},null,null,null,null,{"$f":"0.09*(IF(AMT.AdjustedUnderSec115JC3a2_2cr<0,0,IF(AMT.AdjustedUnderSec115JC3b2_2cr<0,AMT.AdjustedUnderSec115JC3a2_2cr+AMT.AdjustedUnderSec115JC3b2_2cr,AMT.AdjustedUnderSec115JC3a2_2cr)))","v":0},{"$f":"0.185*(IF(AMT.AdjustedUnderSec115JC3b2_2cr<0,0,IF(AMT.AdjustedUnderSec115JC3a2_2cr<0,AMT.AdjustedUnderSec115JC3a2_2cr+AMT.AdjustedUnderSec115JC3b2_2cr,AMT.AdjustedUnderSec115JC3b2_2cr)))","v":3700000}]
[null,null,null,null,"c ","Deduction claimed u/s 35AD as reduced by the amount of depreciation on assets on which such deduction is claimed","2c",null,null,null,null,null,{"$f":"AMT.AdjustedUnderSec115JC3a","v":0},{"$f":"MAX(0,5000000-AMT.AdjustedUnderSec115JC3a2_50L)","v":5000000},{"$f":"IF(bacValue=1,0,IF(FormulaOfAMT=\"N\",IF(AMT.Total<=0,0,IF(AMT.AdjustedUnderSec115JC<=2000000,0,MAX(0,IF(sheet1.ForeignExchangeFlag=\"Yes\",ROUND(AMT.AdjustedUnderSec115JC3a2New_50L+AMT.AdjustedUnderSec115JC3b2New_50L,0),ROUND(AMT.AdjustedUnderSec115JC3a2New_50L+AMT.AdjustedUnderSec115JC3b2New_50L,0))))),IF(AMT.Total<=0,0,MAX(0,IF(sheet1.ForeignExchangeFlag=\"Yes\",ROUND(AMT.AdjustedUnderSec115JC3a2New_50L+AMT.AdjustedUnderSec115JC3b2New_50L,0),ROUND(AMT.AdjustedUnderSec115JC3a2New_50L+AMT.AdjustedUnderSec115JC3b2New_50L,0))))))","v":0}]
[null,null,null,null,"d ","Total Adjustment (2a+ 2b+2c)","2d",{"$f":"IF(bacValue=1,0,AMT.DeductClaimSec6A+AMT.DeductClaimSec10AA+AMT.DeductClaimSec35AD)","v":0},null,null,null,null,{"$f":"0.09*(IF(AMT.AdjustedUnderSec115JC3a2_50L<0,0,IF(AMT.AdjustedUnderSec115JC3b2_50L<0,AMT.AdjustedUnderSec115JC3a2_50L+AMT.AdjustedUnderSec115JC3b2_50L,AMT.AdjustedUnderSec115JC3a2_50L)))","v":0},{"$f":"0.185*(IF(AMT.AdjustedUnderSec115JC3b2_50L<0,0,IF(AMT.AdjustedUnderSec115JC3a2_50L<0,AMT.AdjustedUnderSec115JC3a2_50L+AMT.AdjustedUnderSec115JC3b2_50L,AMT.AdjustedUnderSec115JC3b2_50L)))","v":925000}]
[null,null,null,3,"Adjusted Total Income under section 115JC(1) (1+2d)",null,null,null,3,{"$f":"IF(bacValue=1,0,MAX(0,(AMT.TotalIncItem11+AMT.Total)))","v":5256350},null,null,null,{"$f":"0.09*(IF(AMT.AdjustedUnderSec115JC3a<0,0,IF(AMT.AdjustedUnderSec115JC3b<0,AMT.AdjustedUnderSec115JC3a+AMT.AdjustedUnderSec115JC3b,AMT.AdjustedUnderSec115JC3a)))","v":0}]
[null,null,null,"3a","Adjusted Total Income u/s 115JC from units located in IFSC, if any ",null,null,null,null,null,null,null,null,{"$f":"0.185*(IF(AMT.AdjustedUnderSec115JC3b<0,0,IF(AMT.AdjustedUnderSec115JC3a<0,AMT.AdjustedUnderSec115JC3a+AMT.AdjustedUnderSec115JC3b,AMT.AdjustedUnderSec115JC3b)))","v":972424.75}]
[null,null,null,"3b","Adjusted Total Income u/s 115JC from other Units (3-3a) ",null,null,null,null,{"$f":"AMT.AdjustedUnderSec115JC-AMT.AdjustedUnderSec115JC3a","v":5256350}]
[null,null,null,4,"Tax payable under section 115JC  [9% of (3a) + 18.5% of (3b)] (In the case of , AOP, BOI, AJP this is applicable if 3 is greater than Rs. 20 lakhs)",null,null,null,4,{"$f":"IF(bacValue=1,0,IF(FormulaOfAMT=\"N\",IF(AMT.Total<=0,0,IF(AMT.AdjustedUnderSec115JC<=2000000,0,MAX(0,IF(sheet1.ForeignExchangeFlag=\"Yes\",ROUND(AMT.AdjustedUnderSec115JC3aNew+AMT.AdjustedUnderSec115JC3bNew,0),ROUND(AMT.AdjustedUnderSec115JC3aNew+AMT.AdjustedUnderSec115JC3bNew,0))))),IF(AMT.Total<=0,0,MAX(0,IF(sheet1.ForeignExchangeFlag=\"Yes\",ROUND(AMT.AdjustedUnderSec115JC3aNew+AMT.AdjustedUnderSec115JC3bNew,0),ROUND(AMT.AdjustedUnderSec115JC3aNew+AMT.AdjustedUnderSec115JC3bNew,0))))))","v":0},null,null,null,null,{"$f":"IF(MID(sheet1.MainStatus,1,1)=\"1\",\"Y\",IF(MID(sheet1.MainStatus,1,1)=\"2\",\"Y\",\"N\"))","v":"Y"},{"$f":"IF(MID(sheet1.ForeignExchangeFlag,1,1)=\"Y\",0.09,0.185)","v":0.185}]

{"sheet":"AMTC","index":36,"n_rows":24,"n_cols":17,"rows_kept":24,"cut":false,"hidden":false,"merged":[[22,4,22,8],[11,10,11,11],[7,5,8,5],[21,10,21,11],[14,10,14,11],[17,10,17,11],[15,10,15,11],[16,10,16,11],[13,10,13,11],[10,10,10,11],[18,10,18,11],[19,10,19,11],[9,10,9,11],[2,2,2,4],[3,2,23,2],[3,4,3,9],[4,4,4,9],[5,4,5,9],[23,4,23,8],[7,9,8,9],[6,3,21,3],[6,4,6,11],[23,10,23,11],[7,4,8,4],[22,10,22,11],[20,10,20,11],[7,10,8,11],[7,6,7,8],[12,10,12,11]]}
[]
[]
[null,null,"Schedule AMTC",null,null,"Computation of tax credit under section 115JD ",null,null,null,null,null,null,null,null,{"$f":"MAX(0,AMTC.TaxSection115JC-AMTC.TaxOthProvisions)","v":0}]
[null,null,"AMT CREDIT",1,"Tax under section 115JC in assessment year 2022-23  (1d of Part-B-TTI)",null,null,null,null,null,1,{"$f":"sheet9.TotalTax_DI","v":0}]
[null,null,null,2,"Tax under other provisions of the Act in assessment year 2022-23 (2g of Part-B-TTI)",null,null,null,null,null,2,{"$f":"Sheet9.GrossTaxLiability","v":1639981}]
[null,null,null,3,"Amount of tax against which credit is available [enter (2 – 1) if 2 is greater than 1, otherwise enter 0]",null,null,null,null,null,3,{"$f":"MAX(0,AMTC.TaxOthProvisions-AMTC.TaxSection115JC)","v":1639981}]
[null,null,null,4,"Utilisation of AMT credit Available (Sum of AMT credit utilized during the current year is subject to maximum of amount mentioned in 3 above and cannot exceed the sum of AMT Credit Brought Forward) "]
[null,null,null,null,"Sl. No.","Assessment Year    \n   (A)","AMT Credit",null,null,"AMT Credit Utilised during the Current Assessment Year \n(C)","Balance AMT Credit\nCarried Forward\n(D)= (B3) –(C)"]
[null,null,null,null,null,null,"Gross \n(B1)","Set-off in earlier assessment years (B2) ","Balance brought forward to the current assessment year (B3) = (B1) – (B2)"]
[null,null,null,null,"i","2011-12",null,null,{"$f":"MAX(G10-H10,0)","v":0},null,{"$f":"IF(bacValue=1,0,MAX(0,I10-J10))","v":0}]
[null,null,null,null,"i","2012-13",null,null,{"$f":"MAX(G11-H11,0)","v":0},null,{"$f":"IF(bacValue=1,0,MAX(0,I11-J11))","v":0}]
[null,null,null,null,"ii","2013-14",0,0,0,0,0]
[null,null,null,null,"iii","2014-15",0,0,0,0,0]
[null,null,null,null,"iv","2015-16",0,0,0,0,0]
[null,null,null,null,"v","2016-17",0,0,0,0,0]
[null,null,null,null,"vi","2017-18",0,0,0,0,0]
[null,null,null,null,"vii","2018-19",0,0,0,0,0]
[null,null,null,null,"viii","2019-20",0,0,0,0,0]
[null,null,null,null,"ix","2020-21",0,0,0,0,0]
[null,null,null,null,"x","2021-22",0,null,0,0,{"$f":"IF(bacValue=1,0,MAX(0,I20-J20))","v":0}]
[null,null,null,null,"xi","Current Year (enter 1 -2, if 1>2 else enter 0)",{"$f":"MAX(0,(AMTC.TaxSection115JC-AMTC.TaxOthProvisions-(IF((Sheet9.TotTaxRelief-Sheet9.GrossTaxLiability)>0,(Sheet9.TotTaxRelief-Sheet9.GrossTaxLiability),0))))","v":0},null,null,null,{"$f":"IF(bacValue=1,0,MAX(0,AMTC.AmtCreditFwd0))","v":0}]
[null,null,null,null,"xii","Total",{"$f":"SUM(G11:G21)","v":0},{"$f":"SUM(H11:H21)","v":0},{"$f":"SUM(I11:I21)","v":0},{"$f":"SUM(J11:J21)","v":0},{"$f":"SUM(K11:L21)","v":0},null,null,null,"Part B TI(6c-2g)",null,{"$f":"MAX((Sheet9.TotTaxRelief-Sheet9.GrossTaxLiability),0)","v":0}]
[null,null,null,5,"Amount of tax credit under section 115JD utilised during the year [total of item no 4 (C)]",null,null,null,null,5,{"$f":"IF(bacValue=1,0,AMTC.AmtCreditUtilized_Total)","v":0}]
[null,null,null,6,"Amount of AMT liability available for credit in subsequent assessment years [total of 4 (D)]",null,null,null,null,6,{"$f":"AMTC.BalAmtCreditCarryFwd_Total","v":0}]

{"sheet":"SI","index":37,"n_rows":82,"n_cols":29,"rows_kept":82,"cut":false,"hidden":false,"merged":[[2,2,2,3],[2,4,2,9],[3,24,3,28],[3,2,81,2]]}
[]
[]
[null,null,"Schedule SI",null,"Income chargeable to Income tax at special rates IB [Please see instruction Number-9 for section code and rate of tax]",null,null,null,null,null,null,null,null,null,{"$f":"MIN(100000,SI_Income_112A)","v":0},"Threshold","Available Income","Taxable SI","Income Adujustment"]
[null,null,"SPECIAL RATE","Sl. No.","Section/Description",null,"Special rate\n(%)","Income\n(i)","Taxable Income after adjusting for Min Chargeable to Tax","System calculated tax thereon\n(ii)",null,null,null,null,null,0,{"$f":"MAX((hp.IncOfCurYrAfterSetOffBFLosses1+busipofincl.IncOfCurYrAfterSetOffBFLosses2+busipofinclspec.IncOfCurYrAfterSetOffBFLosses2a+busipofinclspecified.IncOfCurYrAfterSetOffBFLosses2b+stcg.IncOfCurYrAfterSetOffBFLosses3b+othsrcincl.IncOfCurYrAfterSetOffBFLosses5+rh.IncOfCurYrAfterSetOffBFLosses6)-scvia.TotalChapVIADeductions-Sheet8b.DeductionsUnder10Aor10AA,0)+H10+H11+H12","v":5256350},{"$f":"Q4-SUM(P10:P17)","v":5256350},{"$f":"R4","v":5256350},null,null,null,null,null,"CG Set off to flow to SI"]
[null,null,null,null,null,null,null,null,null,null,null,null,null,null,{"$f":"MIN(100000-O3-O6,SI_Income_112A_PTI)","v":0},null,null,null,null,null,null,null,null,null,"Rate","Priority",null,null,"Capital Gain"]
[null,null,null,{"$f":"D5+1","v":1},"115B-Profits and gains of life insurance business","5B",12.5,{"$f":"MAX(bp.IncOfCurYrAfterSetOffBFLosses115B,0)","v":0},{"$f":"H6","v":0},{"$f":"ROUND(I6*G6/100,0)","v":0},null,null,null,null,{"$f":"MIN(100000-O3,SI_Income_112A_115AD)","v":0},null,null,null,null,null,null,null,null,null,0.15,1,{"$f":"MAX(0,(STCG.A2ie_CapgainonAssets+STCG.A3a_NRItaxSTTPaid)-(STCG.DTAAA3ie+STCG.DTAAA4a))","v":0},{"$f":"MAX(0,MIN(stcg.IncOfCurYrAfterSetOffBFLosses3-0,STCG111A))","v":0},"111A(A3e+A4a)"]
[null,null,null,{"$f":"D5+1","v":1},"Income from other sources chargeable at special rates in India as per DTAA","DTAAOS",1,{"$f":"MAX(os.IncOfCurYrAfterSetOffBFLossesDTAA,0)","v":0},0,0,null,null,null,null,null,null,null,null,null,null,null,null,null,null,null,2,{"$f":"MAX(0,STCG_PTI_15Percent-STCG.DTAAA8a)","v":0},{"$f":"MAX(0,MIN(stcg.IncOfCurYrAfterSetOffBFLosses3-STCG111A.IHLA,STCGPTI15))","v":0},"PTI 15"]
[null,null,null,{"$f":"D7+1","v":2},"STCG chargeable  at special rates in India as per DTAA",null,1,{"$f":"MAX(stcg.IncOfCurYrAfterSetOffBFLossesDTAA,0)","v":0},0,0,null,null,null,null,null,null,null,null,null,null,null,null,null,null,null,3,{"$f":"MAX(0,STCG.A2iie_CapgainonAssets-STCG.DTAAA3iie)","v":0},{"$f":"MAX(0,MIN(stcg.IncOfCurYrAfterSetOffBFLosses3-STCG111A.IHLA-STCGPTI15.IHLA,STCG111A_STCG115AD_1_b_ii))","v":0},"115AD-15%"]
[null,null,null,3,"LTCG chargeable  at special rates in India as per DTAA",null,1,{"$f":"MAX(ltcg.IncOfCurYrAfterSetOffBFLossesDTAA,0)","v":0},0,0,null,null,null,null,null,null,null,null,null,null,null,null,null,null,0.3,2,{"$f":"MAX(0,STCG.A4e_CapgainonAssets-STCG.DTAAA5e)","v":0},{"$f":"MAX(0,MIN(stcg.IncOfCurYrAfterSetOffBFLosses3a-STCGPTI30.IHLA,STCG30_STCG115AD_1_ii))","v":0},"115AD-30%"]
[null,null,null,4,"111A (STCG on shares/equity oriented MF on which STT paid)","1A",15,{"$f":"MAX(STCG111A.IHLA,0)","v":0},{"$f":"H10","v":0},{"$f":"ROUND(I10*G10/100,0)","v":0},null,null,null,null,21,{"$f":"exmp20Inc","v":0},{"$f":"MAX(THRESOLD-S4,0)","v":0},{"$f":"MAX(P10-Q10,0)","v":0},{"$f":"P10-R10","v":0},{"$f":"S10+S4","v":5256350},{"$f":"SI.SI4","v":0},null,null,null,null,1,{"$f":"MAX(0,STCG_PTI_30Percent-STCG.DTAAA8b)","v":0},{"$f":"MAX(0,MIN(stcg.IncOfCurYrAfterSetOffBFLosses3a,STCGPTI30))","v":0},"PTI 30"]
[null,null,null,5,"112 (LTCG on others)",21,20,{"$f":"MAX(0,LTCGNP.IHLA)","v":0},0,{"$f":"ROUND(I11*G11/100,0)","v":0},null,null,null,null,"1A",{"$f":"exmp15Inc","v":0},{"$f":"MAX(THRESOLD-T10,0)","v":0},{"$f":"MAX(P11-Q11,0)","v":0},{"$f":"P11-R11","v":0},{"$f":"T10+S11","v":5256350},{"$f":"SI.SI3","v":0},null,null,null,0.1,2,{"$f":"MAX(0,(LTCG.B3e_CapgainonAssets)-(LTCG.DTAAB4e))","v":0},{"$f":"MAX(0,MIN(ltcg.IncOfCurYrAfterSetOffBFLosses4-LTCGP_112A.IHLA-LTCGP_PTI10_112A.IHLA,LTCGP_LISTED))","v":0},"112 Proviso"]
[null,null,null,6,"112 proviso (LTCG on listed securities/ units without indexation)",22,10,{"$f":"MAX(0,LTCGP_LISTED.IHLA)","v":0},0,{"$f":"ROUND(I12*G12/100,0)","v":0},null,null,null,null,22,{"$f":"exmp10Inc","v":0},{"$f":"MAX(THRESOLD-T11,0)","v":0},{"$f":"MAX(P12-Q12,0)","v":0},{"$f":"P12-R12","v":0},{"$f":"T11+S12","v":5256350},{"$f":"SI.SI6","v":0},null,null,null,null,5,{"$f":"MAX(0,LTCG.Biii5e_CapgainonAssets-LTCG.DTAABiv7e)","v":0},{"$f":"MAX(0,MIN(ltcg.IncOfCurYrAfterSetOffBFLosses4-LTCGP_LISTED.IHLA-LTCGP_112A.IHLA-LTCGP_PTI10.IHLA-LTCGP_115ADproviso.IHLA-LTCGP_PTI10_112A.IHLA,LTCGP_115AD_1_iii))","v":0},"115AD(i)(iii)"]
[null,null,null,7,"112A (LTCG on sale of shares or units on which STT is paid)",null,10,{"$f":"MAX(0,LTCGP_112A.IHLA)","v":0},0,{"$f":"ROUND(IF(H13>100000,(H13-100000)*G13/100,0),0)","v":0},null,null,null,null,null,null,null,null,null,null,null,null,null,null,null,6,{"$f":"MAX(0,LTCG.Bii5e_CapgainonAssets-LTCG.DTAABiii7e)","v":0},{"$f":"MAX(0,MIN(ltcg.IncOfCurYrAfterSetOffBFLosses4-LTCGP_LISTED.IHLA-LTCGP_115AD_1_iii.IHLA-LTCGP_112A.IHLA-LTCGP_PTI10.IHLA-LTCGP_115ADproviso.IHLA-LTCGP_PTI10_112A.IHLA,LTCGP_115AC_1_c))","v":0},"115AC(i)(c)"]
[null,null,null,8,"115AD(1)(b)(ii)-Short term capital gains referred to in section 111A","5AD1biip",15,{"$f":"MAX(0,STCG111A_STCG115AD_1_b_ii.IHLA)","v":0},{"$f":"H14","v":0},{"$f":"ROUND(I14*G14/100,0)","v":0},null,null,null,null,null,null,null,null,null,null,null,null,null,null,null,7,{"$f":"MAX(0,LTCG.Bii3e_CapgainonAssets-LTCG.DTAABii7e)","v":0},{"$f":"MAX(0,MIN(ltcg.IncOfCurYrAfterSetOffBFLosses4-LTCGP_LISTED.IHLA-LTCGP_115AD_1_iii.IHLA-LTCGP_115AC_1_c.IHLA-LTCGP_115ADproviso.IHLA-LTCGP_PTI10.IHLA-LTCGP_112A.IHLA-LTCGP_PTI10_112A.IHLA,LTCGP_115_E_b))","v":0},"115AB"]
[null,null,null,9,"Securities referred in section 112A read with section 115AD ",null,10,{"$f":"MAX(0,LTCGP_115ADproviso.IHLA)","v":0},0,{"$f":"ROUND(IF(H15>O6,(H15-O6)*G15/100,0),0)","v":0},null,null,null,null,null,null,null,null,null,null,null,null,null,null,null,8,{"$f":"MAX(0,LTCG.Bi5e_CapgainonAssets-LTCG.DTAABi7e)","v":0},{"$f":"MAX(0,MIN(ltcg.IncOfCurYrAfterSetOffBFLosses4-LTCGP_LISTED.IHLA-LTCGP_115AD_1_iii.IHLA-LTCGP_115AC_1_c.IHLA-LTCGP_115_E_b.IHLA-LTCGP_PTI10.IHLA-LTCGP_112A.IHLA-LTCGP_115ADproviso.IHLA-LTCGP_PTI10_112A.IHLA,LTCGP_112_1_c_iii))","v":0},"112(1)(c)(iii)"]
[null,null,null,10,"112(1)(c)(iii) (LTCG for non-resident on unlisted securities)","21ciii",10,{"$f":"MAX(0,LTCGP_112_1_c_iii.IHLA)","v":0},0,{"$f":"ROUND(I16*G16/100,0)","v":0},null,null,null,null,null,null,null,null,null,null,null,null,null,null,null,4,{"$f":"MAX(0,LTCG.B8f_LTCGonSale-LTCG.DTAAB8f)","v":0},{"$f":"MAX(0,MIN(ltcg.IncOfCurYrAfterSetOffBFLosses4-LTCGP_112A.IHLA-LTCGP_LISTED.IHLA-LTCGP_PTI10.IHLA-LTCGP_PTI10_112A.IHLA,LTCGP_115ADproviso))","v":0},"115AD(i)(iii)proviso"]
[null,null,null,11,"115A(1)(a)(i)-Dividends, interest and income from units purchase in foreign currency","5A1ai",20,{"$f":"MAX(0,Source_5A1ai_OS-DTAA_5A1ai_OS)","v":0},0,0,null,null,null,null,null,null,null,null,null,null,null,null,null,null,null,"1_2",{"$f":"MAX(0,LTCG_PTI_10Percent_112A-LTCG.DTAAB11a1)","v":0},{"$f":"MAX(0,MIN(ltcg.IncOfCurYrAfterSetOffBFLosses4-LTCGP_112A.IHLA,LTCGP_PTI10_112A))","v":0},"PTI 10 112A"]
[null,null,null,12,"115A(1)(a)(ii)-Interest received from govt/Indian Concerns received in Foreign Currency","5A1aii",20,{"$f":"MAX(0,Source_5A1aii_OS-DTAA_5A1aii_OS)","v":0},0,0,null,null,null,null,null,null,null,null,null,null,null,null,null,null,null,3,{"$f":"MAX(0,LTCG_PTI_10Percent-LTCG.DTAAB11a2)","v":0},{"$f":"MAX(0,MIN(ltcg.IncOfCurYrAfterSetOffBFLosses4-LTCGP_112A.IHLA-LTCGP_LISTED.IHLA-LTCGP_PTI10_112A.IHLA,LTCGP_PTI10))","v":0},"PTI 10"]
[null,null,null,13,"115A(1) (a)(iia)-Interest from Infrastructure Debt Fund","5A1aiia",5,{"$f":"MAX(0,Source_5A1aiia_OS-DTAA_5A1aiia_OS)","v":0},{"$f":"H19","v":0},0,null,null,null,null,null,null,null,null,null,null,null,null,null,null,null,"1_1",{"$f":"MAX(0,LTCG.B5f_LTCGonSale-LTCG.DTAAB5f)","v":0},{"$f":"MAX(0,MIN(ltcg.IncOfCurYrAfterSetOffBFLosses4,LTCGP_112A))","v":0},"112A"]
[null,null,null,14,"115A(1) (a)(iiaa)-Interest as per Sec. 194LC(1)","5A1aiiaa",5,{"$f":"MAX(0,Source_5A1aiiaa_OS-DTAA_5A1aiiaa_OS)","v":0},0,0,null,null,null,null,null,null,null,null,null,null,null,null,null,null,0.2,2,{"$f":"MAX(0,LTCG_PTI_20Percent-LTCG.DTAAB11b)","v":0},{"$f":"MAX(0,MIN(ltcg.IncOfCurYrAfterSetOffBFLosses4a-LTCGNP.IHLA,LTCGPTI20))","v":0},"PTI 20"]
[null,null,null,15,"115A(1) (a)(iiab) -Interest as per Sec. 194LD","5A1aiiab",5,{"$f":"MAX(0,Source_5A1aiiab_OS-DTAA_5A1aiiab_OS)","v":0},0,0,null,null,null,null,null,null,null,null,null,null,null,null,null,null,null,1,{"$f":"MAX(0,LTCG.B02e_CapgainonAssets+LTCG_SaleLand_Total+LTCG.B4d_LTCGOnListedSecurity+LTCG.B2e_CapgainonAssets+LTCG.B7e_CapgainonAssets+LTCG.B9_AmtDeemed-LTCG.DTAAB1e-LTCG.DTAAB2e-LTCG.DTAAB3e-LTCG.DTAAB6c-LTCG.DTAAB9e-LTCG.DTAAB10)","v":0},{"$f":"MAX(0,MIN(ltcg.IncOfCurYrAfterSetOffBFLosses4a,LTCGNP))","v":0},"112(B1e+B2c+B3e+B6c+B9e+B10)"]
[null,null,null,16,"5A1aiiac-Income recd (NRI) as in S.194LBA [S.115A(1)(a)(iiac)]","5A1aiiac",5,{"$f":"MAX(0,Source_5A1aiiac_OS-DTAA_5A1aiiac_OS)","v":0},0,0,null,null,null,null,null,null,null,null,null,null,null,null,null,null,0.3,{"$f":"STCG.A4e_CapgainonAssets","v":0},{"$f":"MAX(0,MIN(stcg.IncOfCurYrAfterSetOffBFLosses3a,STCG115AD))","v":0}]
[null,null,null,17,"115A(1) (a)(iii)-Income received in respect of units of UTI purchased in Foreign Currency","5A1aiii",20,{"$f":"MAX(0,Source_5A1aiii_OS-DTAA_5A1aiii_OS)","v":0},0,0,null,null,null,null,null,null,null,null,null,null,null,null,null,null,null,null,{"$f":"STCG111A.IHLA+STCGPTI15.IHLA+STCG111A_STCG115AD_1_b_ii.IHLA+STCG30_STCG115AD_1_ii.IHLA+STCGPTI30.IHLA+LTCGP_LISTED.IHLA+LTCGP_115AD_1_iii.IHLA+LTCGP_115AC_1_c.IHLA+LTCGP_115_E_b.IHLA+LTCGP_112_1_c_iii.IHLA+LTCGP_115ADproviso.IHLA+LTCGP_PTI10.IHLA+LTCGP_PTI10_112A.IHLA+LTCGP_112A.IHLA+LTCGPTI20.IHLA+LTCGNP.IHLA","v":0},"Total CG Special rate Income"]
[null,null,null,18,"115A(1)(b)(A) & 115A(1)(b)(B)(Income from royalty or fees for technical services received from Government or Indian concern)","5A1bA",10,{"$f":"MAX(0,Source_5A1b_OS-DTAA_5A1b_OS)","v":0},0,0]
[null,null,null,19,"115ACA-Income by way of dividends from GDRs purchased in foreign currency by residents","5A1bB",10,{"$f":"MAX(0,Source_5ACA_OS-DTAA_5ACA_OS)","v":0},{"$f":"H25","v":0},{"$f":"ROUND(I25*G25/100,0)","v":0}]
[null,null,null,{"$f":"D24+1","v":19},"115AC(1)(a) Income by way of Interest received from bonds purchased in foreign currency","5AC1ab",10,{"$f":"MAX(0,Source_5AC1ab_OS-DTAA_5AC1ab_OS)","v":0},0,0]
[null,null,null,20,"115AC(1)(c) -LTCG arising from the transfer of bonds or GDR purchased in foreign currency - non-resident","5AC1c",10,{"$f":"MAX(0,LTCGP_115AC_1_c.IHLA)","v":0},0,0]
[null,null,null,21,"115AD(1)(i) -Income received by an FII in respect of securities (other than units as per Sec 115AB)","5AD1i",20,{"$f":"MAX(0,Source_5AD1i_OS-DTAA_5AD1i_OS)","v":0},{"$f":"H28","v":0},0]
[null,null,null,22,"115AD(1)(i) -Income received by an FII in respect of bonds or government securities as per Sec 194LD","5AD1iP",5,{"$f":"MAX(0,Source_5AD1iP_OS-DTAA_5AD1iP_OS)","v":0},0,0]
[null,null,null,23,"115AD (STCG for FIIs on securities where STT not paid)","5ADii",30,{"$f":"MAX(0,STCG30_STCG115AD_1_ii.IHLA)","v":0},0,0]
[null,null,null,24,"115AD (LTCG for FII on securities)","5ADiii",10,{"$f":"MAX(0,LTCGP_115AD_1_iii.IHLA)","v":0},0,0]
[null,null,null,25,"115BB-Winnings from lotteries, puzzles, races, games etc","5BB",30,{"$f":"MAX(0,Source_5BB_OS-DTAA_5BB_OS)","v":0},0,0]
[null,null,null,26,"115BBA-Income received by non-resident sportsmen or sports associations or entertainer","5BBA",20,{"$f":"MAX(0,Source_5BBA_OS-DTAA_5BBA_OS)","v":0},0,0]
[null,null,null,27,"115BBC-Anonymous donations","5BBC",30,{"$f":"MAX(0,Source_5BBC_OS-DTAA_5BBC_OS)","v":0},0,0]
[null,null,null,28,"115BBDA (Dividend income from domestic company exceeding Rs.10 lakh)","5BBDA",10,{"$f":"MAX(0,Source_5BBDA_OS-DTAA_5BBDA_OS)","v":0},0,0]
[null,null,null,{"$f":"D33+1","v":27},"115BBE (Income under section 68, 69, 69A, 69B, 69C or 69D) ","5BBE",60,{"$f":"MAX(0,Source_5BBE_OS-DTAA_5BBE_OS)","v":0},0,0]
[null,null,null,28,"115BBF (Income from patent)","5BBF_XXX",0,0,0,0]
[null,null,null,"a","Income under head business or profession ","5BBF_BP",10,{"$f":"MAX(0,sheet10.IncRecCredPL115BBF)","v":0},{"$f":"H38","v":0},0]
[null,null,null,"b","Income under head other sources","5BBF",10,{"$f":"MAX(0,Source_5BBF_OS-DTAA_5BBF_OS)","v":0},{"$f":"H39","v":0},0]
[null,null,null,{"$f":"D37+1","v":29},"115BBG (Income from transfer of carbon credits)","5BBF_XXX",0,0,0,0]
[null,null,null,"a","Income under head business or profession ","5BBF_BP",10,{"$f":"MAX(0,sheet10.IncRecCredPL115BBG)","v":0},{"$f":"H41","v":0},{"$f":"ROUND(I41*G41/100,0)","v":0}]
[null,null,null,"b","Income under head other sources","5BBF",10,{"$f":"MAX(0,Source_5BBG_OS-DTAA_5BBG_OS)","v":0},0,{"$f":"ROUND(I42*G42/100,0)","v":0}]
[null,null,null,{"$f":"D40+1","v":30},"115AB(1)(a)-Income in respect of units - off -shore fund","5AB1a",10,{"$f":"MAX(0,Source_5AB1a_OS-DTAA_5AB1a_OS)","v":0},0,0]
[null,null,null,{"$f":"D43+1","v":31},"115AB(1)(b)-Income by way of long-term capital gains arising from the transfer of units purchase in foreign currency by a off-shore fund","5AB1b",10,{"$f":"MAX(0,LTCGP_115_E_b.IHLA)","v":0},0,0]
[null,null,null,{"$f":"D44+1","v":32},"115E(a)-Investment Income of a Non-Resident Indian",null,20,{"$f":"MAX(0,Source_5Ea_OS-DTAA_5Ea_OS)","v":0},0,{"$f":"ROUND(I45*G45/100,0)","v":0}]
[null,null,null,{"$f":"D45+1","v":33},"Pass Through Income in the nature of Short Term Capital Gain chargeable @ 15%",null,15,{"$f":"MAX(0,STCGPTI15.IHLA)","v":0},0,0]
[null,null,null,{"$f":"D46+1","v":34},"Pass Through Income in the nature of Short Term Capital Gain chargeable @ 30%",null,30,{"$f":"MAX(0,STCGPTI30.IHLA)","v":0},{"$f":"H47","v":0},0]
[null,null,null,35,"Pass Through Income in the nature of Long Term Capital Gain chargeable @ 10% u/s 112A",null,10,{"$f":"MAX(0,LTCGP_PTI10_112A.IHLA)","v":0},{"$f":"H48","v":0},{"$f":"ROUND(IF(H48>O5,(H48-O5)*G48/100,0),0)","v":0}]
[null,null,null,36,"Pass Through Income in the nature of Long Term Capital Gain chargeable @ 10%",null,10,{"$f":"MAX(0,LTCGP_PTI10.IHLA)","v":0},0,0]
[null,null,null,37,"Pass Through Income in the nature of Long Term Capital Gain chargeable @ 20%",null,20,{"$f":"MAX(0,LTCGPTI20.IHLA)","v":0},0,0]
[null,null,null,38,"PTI_115A(1)(a)(i)-Dividends in the case of non-residents",null,20,{"$f":"MAX(0,Source_5A1ai_PTI-DTAA_5A1ai_PTI)","v":0},0,0]
[null,null,null,39,"PTI_115A(1)(a)(ii)-Interest received in the case of non-residents",null,20,{"$f":"MAX(0,Source_5A1aii_PTI-DTAA_5A1aii_PTI)","v":0},0,0]
[null,null,null,40,"PTI_115A(1)(a)(iia)-Interest received by non-resident from infrastructure debt fund",null,5,{"$f":"MAX(0,Source_5A1aiia_PTI-DTAA_5A1aiia_PTI)","v":0},0,0]
[null,null,null,41,"PTI_115A(1)(a)(iiaa)-Income received by non-resident as referred in section 194LC(1)",null,5,{"$f":"MAX(0,Source_5A1aiiaa_PTI-DTAA_5A1aiiaa_PTI)","v":0},0,0]
[null,null,null,42,"PTI_115A(1)(a)(iiab)-Income received by non-resident as referred in section 194LD",null,5,{"$f":"MAX(0,Source_5A1aiiab_PTI-DTAA_5A1aiiab_PTI)","v":0},0,0]
[null,null,null,43,"PTI_115A(1)(a)(iiac)-Income received by non-resident as referred in section 194LBA",null,5,{"$f":"MAX(0,Source_5A1aiiac_PTI-DTAA_5A1aiiac_PTI)","v":0},0,0]
[null,null,null,44,"PTI_115A(1)(a)(iii)-Income from units purchased in foreign currency in the case of non-residents",null,20,{"$f":"MAX(0,Source_5A1aiii_PTI-DTAA_5A1aiii_PTI)","v":0},0,0]
[null,null,null,45,"PTI_115A(1)(b)(A) & 115A(1)(b)(B) -Income from royalty or fees for technical services received from Government or Indian concern",null,10,{"$f":"MAX(0,Source_5A1b_PTI-DTAA_5A1b_PTI)","v":0},0,{"$f":"ROUND(I58*G58/100,0)","v":0}]
[null,null,null,46,"PTI_115ACA-Income by way of dividends from GDRs purchased in foreign currency by residents",null,10,{"$f":"MAX(0,Source_5ACA_PTI-DTAA_5ACA_PTI)","v":0},0,{"$f":"ROUND(I59*G59/100,0)","v":0}]
[null,null,null,{"$f":"D58+1","v":46},"PTI_115AB(1)(a)-Income received in respect of units purchased in foreign currency by an off-shore fund",null,10,{"$f":"MAX(0,Source_5AB1a_PTI-DTAA_5AB1a_PTI)","v":0},0,0]
[null,null,null,47,"PTI_115AC(1)(a)-Income by way of Interest received from bonds purchased in foreign currency",null,10,{"$f":"MAX(0,Source_5AC1ab_PTI-DTAA_5AC1ab_PTI)","v":0},0,0]
[null,null,null,48,"PTI_115AD(1)(i)-Income received by an FII in respect of securities (other than units referred to in section115AB)",null,20,{"$f":"MAX(0,Source_5AD1i_PTI-DTAA_5AD1i_PTI)","v":0},0,0]
[null,null,null,49,"PTI_115AD(1)(i)-Income received by an FII in respect of bonds or government securities referred to in section 194LD",null,5,{"$f":"MAX(0,Source_5AD1iP_PTI-DTAA_5AD1iP_PTI)","v":0},0,0]
[null,null,null,50,"PTI_115BBA-Income received by non-resident sportsmen or sports associations or entertainer",null,20,{"$f":"MAX(0,Source_5BBA_PTI-DTAA_5BBA_PTI)","v":0},0,0]
[null,null,null,51,"PTI_115BBC-Anonymous donations",null,30,{"$f":"MAX(0,Source_5BBC_PTI-DTAA_5BBC_PTI)","v":0},0,0]
[null,null,null,52,"PTI_115BBDA-Tax on certain dividends received from domestic companies.",null,10,{"$f":"MAX(0,Source_5BBDA_PTI-DTAA_5BBDA_PTI)","v":0},0,0]
[null,null,null,{"$f":"D64+1","v":51},"PTI_115BBF-Income from patent",null,10,{"$f":"MAX(0,Source_5BBF_PTI-DTAA_5BBF_PTI)","v":0},0,0]
[null,null,null,52,"PTI_115BBG-Income on Transfer of carbon credits",null,10,{"$f":"MAX(0,Source_5BBG_PTI-DTAA_5BBG_PTI)","v":0},0,0]
[null,null,null,53,"115A(1)(a)(iiaa)- Income received by non-resident as referred in proviso to section 194LC(1)","5A1aiiaaP",4,{"$f":"MAX(0,Source_5A1aiiaaP_OS-DTAA_5A1aiiaaP_OS)","v":0},0,0,null,null,"5A1aiiaaP","ossi_5A1aiiaaP"]
[null,null,null,54,"115A(1)(a)(iiac)- Distributed income being Dividend referred to  in section 194LBA","5A1aiiaci",10,{"$f":"MAX(0,Source_5A1aiiaci_OS-DTAA_5A1aiiaci_OS)","v":0},0,0,null,null,"5A1aiiaci","ossi_5A1aiiaci"]
[null,null,null,{"$f":"D69+1","v":54},"PTI_115A(1)(a)(iiaa)- PTI - Income received by non-resident as referred in proviso to section 194LC(1)","PTI_5A1aiiaaP",4,{"$f":"MAX(0,Source_PTI_5A1aiiaaP_PTI-DTAA_PTI_5A1aiiaaP_PTI)","v":0},0,0,null,null,"PTI_5A1aiiaaP","ossi_PTI_5A1aiiaaP"]
[null,null,null,55,"PTI_115A(1)(a)(iiac)- PTI - Distributed income being Dividend referred to  in section 194LBA","PTI_5A1aiiaci",10,{"$f":"MAX(0,Source_PTI_5A1aiiaci_PTI-DTAA_PTI_5A1aiiaci_PTI)","v":0},0,0,null,null,"PTI_5A1aiiaci","ossi_PTI_5A1aiiaci"]
[null,null,null,{"$f":"D71+1","v":55},"115AD(1)(i)- Income (being dividend) received by an FII in respect of securities (other than units referred to in section 115AB) - chargeable u/s 115AD(1)(i)","5AD1iDiv",20,{"$f":"MAX(0,Source_5AD1iDiv_OS-DTAA_5AD1iDiv_OS)","v":0},0,0,null,null,"5AD1iDiv","ossi_5AD1iDiv"]
[null,null,null,56,"PTI-115AD(1)(i)- PTI-Income (being dividend) received by an FII in respect of securities (other than units referred to in section 115AB) - chargeable u/s 115AD(1)(i)","PTI_5AD1iDiv",20,{"$f":"MAX(0,Source_PTI_5AD1iDiv_PTI-DTAA_PTI_5AD1iDiv_PTI)","v":0},0,0,null,null,"PTI_5AD1iDiv","ossi_PTI_5AD1iDiv"]
[null,null,null,57,"115AD(1)(i)(B)- Income (being dividend) received by a specified fund in respect of securities (other than units referred to in section 115AB) - chargeable u/s 115AD(1)(i)","5AD1IBd",10,{"$f":"MAX(0,Source_5AD1IBd_OS-DTAA_5AD1IBd_OS)","v":0},0,0,null,null,"5AD1IBd","ossi_5AD1IBd"]
[null,null,null,58,"115AD(1)(i)(B)- Income (other than dividend) received by a specified fund in respect of securities (other than units referred to in section 115AB) - chargeable u/s 115AD(1)(i)","5AD1IB",10,{"$f":"MAX(0,Source_5AD1IB_OS-DTAA_5AD1IB_OS)","v":0},0,0,null,null,"5AD1IB","ossi_5AD1IB"]
[null,null,null,59,"PTI_115AD(1)(i)(B)- PTI- Income (being dividend) received by a specified fund in respect of securities (other than units referred to in section 115AB) - chargeable u/s 115AD(1)(i)","PTI_5AD1IBd",10,{"$f":"MAX(0,Source_PTI_5AD1IBd_PTI-DTAA_PTI_5AD1IBd_PTI)","v":0},0,0,null,null,"PTI_5AD1IBd","ossi_PTI_5AD1IBd"]
[null,null,null,60,"PTI_115AD(1)(i)(B)- PTI- Income (other than dividend) received by a specified fund in respect of securities (other than units referred to in section 115AB) - chargeable u/s 115AD(1)(i)","PTI_5AD1IB",10,{"$f":"MAX(0,Source_PTI_5AD1IB_PTI-DTAA_PTI_5AD1IB_PTI)","v":0},0,0,null,null,"PTI_5AD1IB","ossi_PTI_5AD1IB"]
[null,null,null,61,"5AC1b - 115AC1b - Income by way of Dividend from bonds or GDRs purchased in foreign currency by non-residents - chargeable u/s 115AC",null,10,{"$f":"MAX(0,Source_5AC1b_OS-DTAA_5AC1b_OS)","v":0},0,0]
[null,null,null,62,"PTI_5AC1b-PTI -Income by way of Dividend from bonds or GDRs purchased in foreign currency by non-residents - chargeable u/s 115AC",null,10,{"$f":"MAX(0,Source_PTI_5AC1b_PTI-DTAA_PTI_5AC1b_PTI)","v":0},0,{"$f":"ROUND(I80*G80/100,0)","v":0}]
[null,null,null,63,"PTI_115E(a)-Investment Income of a Non-Resident Indian",null,20,{"$f":"MAX(0,Source_5Ea_PTI-DTAA_5Ea_PTI)","v":0},0,{"$f":"ROUND(I81*G81/100,0)","v":0}]
[null,null,null,null,null,null,"Tax at Spl Rate",{"$f":"SUM(SI.SplRateInc)","v":0},{"$f":"SUM(SI.SplRateIncCalc)","v":0},{"$f":"SUM(SI.SplRateIncTax)","v":0}]

{"sheet":"IF","index":38,"n_rows":11,"n_cols":11,"rows_kept":11,"cut":false,"hidden":false,"merged":[[11,2,11,10],[3,2,8,2],[10,3,10,8],[2,2,2,3],[2,4,2,10],[4,8,5,8],[3,3,3,9],[4,3,5,3],[4,4,5,4],[4,5,5,5],[4,6,5,6],[4,7,5,7]]}
[]
[]
[null,null,"Schedule IF",null,"Information regarding partnership firm in which you are partner"]
[null,null,"FIRMS IN WHICH PARTNER","Number of firms in which you are partner"]
[null,null,null,"Sl.No.","Name of the Firm","PAN of the firm","Whether the firm is liable for audit? (Yes/No) ","Whether section 92E is applicable to firm? (Yes/ No)","Percentage Share in the profit of the firm","Amount of share in the profit ","Capital balance on 31st March in the firm "]
[null,null,null,null,null,null,null,null,null,"i","ii"]
[null,null,null,1,"",""]
[null,null,null,{"$f":"D7+1","v":2},"",""]
[null,null,null,{"$f":"D8+1","v":3},"",""]
[null,null,null,{"$f":"D9+1","v":4},"",""]
[null,null,null,"Total",null,null,null,null,null,{"$f":"SUM(ProfitShareAmt)","v":0},{"$f":"SUM(FirmCapBalOn31Mar)","v":0}]

{"sheet":"EI","index":39,"n_rows":44,"n_cols":10,"rows_kept":44,"cut":false,"hidden":false,"merged":[[10,5,10,9],[11,4,12,4],[3,4,3,7],[4,4,4,7],[5,5,5,7],[8,5,8,7],[11,5,11,6],[43,4,43,7],[40,3,40,7],[11,9,12,9],[11,8,12,8],[11,7,12,7],[41,3,41,9],[16,4,16,9],[15,4,15,9],[36,4,36,9],[42,4,42,7],[35,4,35,9],[34,4,34,7],[30,4,30,9],[25,4,25,9],[29,4,29,9],[2,2,2,4],[2,5,2,9],[6,5,6,7],[7,5,7,7],[9,5,9,7]]}
[]
[]
[null,null,"Schedule - EI",null,null,"Details of Exempt Income (Income not to be included in Total Income or not chargeable to tax) "]
[null,null,null,1,"Interest Income",null,null,null,1]
[null,null,null,2,"Dividend Income",null,null,null,2]
[null,null,null,2,"i","Gross Agricultural receipts (other than income to be excluded under rule 7A, 7B or 8 of I.T. Rules)",null,null,"i"]
[null,null,null,null,"ii","Expenditure incurred on agriculture",null,null,"ii"]
[null,null,null,null,"iii","Unabsorbed agricultural loss of previous eight assessment years",null,null,"iii"]
[null,null,null,null,"iv","Agricultural income portion relating to Rule 7, 7A, 7B(1), 7B(1A) and 8 (from Sl. No. 39 of Sch. BP) ",null,null,"iv",{"$f":"MAX(0,sheet12.BalIncDeemedFrmAgri)","v":0}]
[null,null,null,null,"v","Net Agricultural income for the year (i – ii – iii + iv) (enter nil if loss)",null,null,2,{"$f":"MAX(SUM(Sheet20.scei.GrossAgri,-Sheet20.scei.ExpenditureAgri,-Sheet20.scei.UnabsorbedAgri,Sheet20.scei.AgriculturalIncome),0)","v":0}]
[null,null,null,null,"vi","In case the net agricultural income for the year exceeds Rs.5 lakh, please furnish the following details (Fill up details separately for each agricultural land)"]
[null,null,null,null,"Sl.No","Name of district along with pin code in which agricultural land is located",null,"Measurement of agricultural land in Acre","Whether the agricultural land is owned or held on lease","Whether the agricultural land is irrigated or rain-fed"]
[null,null,null,null,null,"Name of district","Pin code"]
[null,null,null,null,1,null,null,null,"(Select)","(Select)"]
[null,null,null,null,{"$f":"E14+1","v":2},null,null,null,"(Select)","(Select)"]
[]
[null,null,null,"3a","Exempt income"]
[null,null,null,null,"Sl.No ","Nature of Income","Acknowledgement Number","Form Filled","Amount"]
[null,null,null,null,1,"10(23FB)"]
[null,null,null,null,{"$f":"E19+1","v":2},"10(23FBA)"]
[null,null,null,null,{"$f":"E20+1","v":3},"10(23FC)"]
[null,null,null,null,4,"10(23FCA)"]
[null,null,null,null,5,"10(23FE)"]
[null,null,null,null,6,"10(23FF)",null,"Form 10-II"]
[null,null,null,null,7,"10(4D)",null,"Form 10-IK"]
[null,null,null,null,"Other exempt income (Select nature of income )"]
[null,null,null,null,"Sl.No ","Nature of Income","Amount"]
[null,null,null,null,1]
[null,null,null,null,{"$f":"E28+1","v":2}]
[]
[null,null,null,"3b","Other exempt income (Enter nature of income)"]
[null,null,null,null,"Sl.No ","Nature of Income","Amount"]
[null,null,null,null,1]
[null,null,null,null,{"$f":"E33+1","v":2}]
[null,null,null,null,"Total (3a+3b)",null,null,null,3,{"$f":"SUM(Sheet20.OthersIncome,Sheet20.NatureOfIncome3a,NatureOfIncome3aNewAmt)","v":0}]
[]
[null,null,null,4,"Income not chargeable to tax as per DTAA "]
[null,null,null,"Sl.No","Amount of income","Nature of income","Country name & Code","Article of DTAA","Head of Income ","Whether TRC obtained (Y/N) "]
[null,null,null,1,null,null,"(select)",null,"(Select)"]
[null,null,null,{"$f":"D39+1","v":2},null,null,"(select)",null,"(Select)"]
[null,null,null,"Total Income from DTAA not chargeable to tax ",null,null,null,null,4,{"$f":"SUM(Sheet20_DTAA_AmountOfIncome)","v":0}]
[]
[null,null,null,5,"Pass through income not chargeable to tax (Schedule PTI)",null,null,null,5]
[null,null,null,6,"Total (1 + 2 + 3 + 4 + 5 )",null,null,null,6,{"$f":"MAX(0,SUM(Sheet20.scei.InterestInc,Sheet20.scei.DividendInc,Sheet20.scei.NetAgriIncOrOthrIncRule7,Sheet20.OthersIncomeTotal,Sheet20.scei.DTAA,Sheet20.scei.PassThroughIncome))","v":0}]

{"sheet":"Schedule PTI","index":40,"n_rows":37,"n_cols":18,"rows_kept":37,"cut":false,"hidden":false,"merged":[[36,2,36,3],[25,9,25,10],[28,8,28,10],[10,9,10,10],[13,8,13,10],[20,8,20,10],[21,8,21,14],[22,9,22,10],[7,9,7,10],[3,2,3,3],[2,2,2,3],[3,8,3,10],[5,8,5,10],[6,8,6,14],[2,4,2,14]]}
[]
[]
[null,null,"Schedule PTI",null,"Pass Through Income details from business trust or investment fund as per section 115UA, 115UB"]
[null,null,"Sl. No.",null,"Investment entity covered by  section 115UA/115UB","Name of business trust/ investment fund","PAN of the business trust/ investment fund","Sl. No.","Head of income",null,null,"Current year income","Share of current year loss distributed by Investment fund","Net Income/Loss\n9=7-8","TDS on such amount, if any",null,null,2]
[null,null,null,"(1)","(2)","(3)","(4)","(5)",null,"(6)",null,"(7)","(8)","(9)","(10)"]
[null,null,null,1,"(SELECT)",null,null,"i","House property",null,null,null,null,{"$f":"L6-M6","v":0},null,null,null,15]
[null,null,null,null,null,null,null,"ii","Capital Gains"]
[null,null,null,null,null,null,null,null,"a","Short term",null,{"$f":"L9+L10","v":0},{"$f":"M9+M10","v":0},{"$f":"N9+N10","v":0}]
[null,null,null,null,null,null,null,null,null,"Section 111A",null,null,null,{"$f":"L9-M9","v":0}]
[null,null,null,null,null,null,null,null,null,"Others",null,null,null,0]
[null,null,null,null,null,null,null,null,"b","Long term",null,{"$f":"L12+L13","v":0},{"$f":"M12+M13","v":0},{"$f":"N12+N13","v":0}]
[null,null,null,null,null,null,null,null,null,"Section 112A",null,null,null,0]
[null,null,null,null,null,null,null,null,null,"Sections other than 112A",null,null,null,0]
[null,null,null,null,null,null,null,"iii","Other Sources",null,null,{"$f":"L15+L16","v":0},{"$f":"M15+M16","v":0},{"$f":"N15+N16","v":0}]
[null,null,null,null,null,null,null,null,null,"DIVIDEND ",null,null,null,0]
[null,null,null,null,null,null,null,null,null,"Others",null,null,null,0]
[null,null,null,null,null,null,null,"iv","Income claimed to be exempt",null,null,{"$f":"L18+L19+L20","v":0},{"$f":"M18+M19+M20","v":0},{"$f":"N18+N19+N20","v":0}]
[null,null,null,null,null,null,null,null,"a","u/s ","10(23FBB)",null,null,{"$f":"L18-M18","v":0}]
[null,null,null,null,null,null,null,null,"b","u/s ",null,null,null,{"$f":"L19-M19","v":0}]
[null,null,null,null,null,null,null,null,"c","u/s ",null,null,null,{"$f":"L20-M20","v":0}]
[null,null,null,{"$f":"D6+1","v":2},"(SELECT)",null,null,"i","House property",null,null,null,null,{"$f":"L21-M21","v":0}]
[null,null,null,null,null,null,null,"ii","Capital Gains"]
[null,null,null,null,null,null,null,null,"a","Short term",null,{"$f":"L24+L25","v":0},{"$f":"M24+M25","v":0},{"$f":"N24+N25","v":0}]
[null,null,null,null,null,null,null,null,null,"Section 111A",null,null,null,{"$f":"L24-M24","v":0}]
[null,null,null,null,null,null,null,null,null,"Others",null,null,null,0]
[null,null,null,null,null,null,null,null,"b","Long term",null,{"$f":"L27+L28","v":0},{"$f":"M27+M28","v":0},{"$f":"N27+N28","v":0}]
[null,null,null,null,null,null,null,null,null,"Section 112A",null,null,null,0]
[null,null,null,null,null,null,null,null,null,"Sections other than 112A",null,null,null,0]
[null,null,null,null,null,null,null,"iii","Other Sources",null,null,{"$f":"L30+L31","v":0},{"$f":"M30+M31","v":0},{"$f":"N30+N31","v":0}]
[null,null,null,null,null,null,null,null,null,"DIVIDEND ",null,null,null,0]
[null,null,null,null,null,null,null,null,null,"Others",null,null,null,0]
[null,null,null,null,null,null,null,"iv","Income claimed to be exempt",null,null,{"$f":"L33+L34+L35","v":0},{"$f":"M33+M34+M35","v":0},{"$f":"N33+N34+N35","v":0}]
[null,null,null,null,null,null,null,null,"a","u/s ","10(23FBB)",null,null,{"$f":"L33-M33","v":0}]
[null,null,null,null,null,null,null,null,"b","u/s ",null,null,null,{"$f":"L34-M34","v":0}]
[null,null,null,null,null,null,null,null,"c","u/s ",null,null,null,{"$f":"L35-M35","v":0}]
[]
[null,null,"NOTE ►",null,null,"Please refer to the instructions for filling out this schedule."]

{"sheet":"Schedule TPSA","index":41,"n_rows":24,"n_cols":8,"rows_kept":24,"cut":false,"hidden":false,"merged":[[9,3,9,6],[14,2,14,7],[24,2,24,7],[10,3,10,6],[11,3,11,6],[12,3,12,6],[2,2,2,3],[2,4,2,7],[3,3,3,6],[7,3,7,6],[8,3,8,6]]}
[]
[]
[null,null,"Schedule TPSA",null,"Details of Tax on secondary adjustments as per section 92CE(2A)"]
[null,null,1,"Amount of primary adjustment on which option u/s 92CE(2A) is exercised & such excess money has not been repatriated within the prescribed time (please indicate the total of adjustments made in respect of all the Ays)"]
[null,null,null,"Financial Year for which  claiming benefit under Section 92CE (2A)]"]
[null,null,"1a","2019-20"]
[null,null,"1b","2020-21"]
[null,null,"2a","Additional Income tax payable @ 18% on above ",null,null,null,{"$f":"MAX(0,ROUND(TPSA_92CE_Amount*0.18,0))","v":0}]
[null,null,"2b","Surcharge @ 12% on “a”",null,null,null,{"$f":"MAX(0,ROUND(TPSA_Additional_Income*0.12,0))","v":0}]
[null,null,"2c","Health & Education cess on (a+b)",null,null,null,{"$f":"MAX(0,ROUND((TPSA_Additional_Income+TPSA_Surcharge)*0.04,0))","v":0}]
[null,null,"2d","Total Additional tax payable (a+b+c)",null,null,null,{"$f":"MAX(0,TPSA_Additional_Income+TPSA_Surcharge+TPSA_Education_Cess)","v":0}]
[null,null,3,"Taxes paid ",null,null,null,{"$f":"MAX(0,TPSC_Amount_Deposited)","v":0}]
[null,null,4,"Net tax payable  (2d-3) ",null,null,null,{"$f":"MAX(0,TPSA_AddtionalTax_Total-TPSA_Taxpaid)","v":0}]
[]
[null,null,"Details of Taxes Paid "]
[null,null,"Sl.\nNo.","BSR Code","Name of Bank and Branch","Date of Deposit\n(DD/MM/YYYY)","Serial Number of\nChallan","Amount deposited (Rs)"]
[null,null,1,2,3,4,5,6]
[null,null,1,"","",""]
[null,null,{"$f":"C18+1","v":2},"","",""]
[null,null,{"$f":"C19+1","v":3},"","",""]
[null,null,{"$f":"C20+1","v":4},"","",""]
[null,null,{"$f":"C21+1","v":5},"","",""]
[null,null,{"$f":"C22+1","v":6},"","",""]
[null,null,null,null,null,null,"Total",{"$f":"SUM(TPSC_Amt)","v":0}]

{"sheet":"FSI","index":42,"n_rows":28,"n_cols":31,"rows_kept":28,"cut":false,"hidden":false,"merged":[[27,3,27,13],[25,4,26,8],[12,5,13,5],[12,6,13,6],[12,4,13,4],[12,7,13,7],[2,2,2,4],[4,27,4,30],[4,5,5,5],[4,6,5,6],[4,7,4,11]]}
[]
[]
[null,null,"Schedule FSI",null,null,"Details of Income from outside India and tax relief (available only in case of resident)"]
[null,null,null,"Details of Income included in Total Income in Part-B-TI above"]
[]
[]
[null,null,null,null,null,"(Select)","",null,null,null,{"$f":"MIN(I7,J7)","v":0},null,null,null,null,{"$f":"MIN(N7,O7)","v":0},null,null,null,0,{"$f":"MIN(S7,T7)","v":0},null,null,null,null,{"$f":"MIN(X7,Y7)","v":0},null,{"$f":"H7+M7+R7+W7","v":0},0,0,0]
[null,null,null,null,null,"(Select)","",null,null,null,{"$f":"MIN(I8,J8)","v":0},null,null,null,null,{"$f":"MIN(N8,O8)","v":0},null,null,null,null,{"$f":"MIN(S8,T8)","v":0},null,null,null,null,{"$f":"MIN(X8,Y8)","v":0},null,0,0,0,0]
[null,null,null,null,null,"(Select)","",null,null,null,{"$f":"MIN(I9,J9)","v":0},null,null,null,null,{"$f":"MIN(N9,O9)","v":0},null,null,null,null,{"$f":"MIN(S9,T9)","v":0},null,null,null,null,{"$f":"MIN(X9,Y9)","v":0},null,0,0,0,0]
[null,null,null,null,null,"(Select)","",null,null,null,{"$f":"MIN(I10,J10)","v":0},null,null,null,null,{"$f":"MIN(N10,O10)","v":0},null,null,null,null,{"$f":"MIN(S10,T10)","v":0},null,null,null,null,{"$f":"MIN(X10,Y10)","v":0},null,0,0,0,0]
[]
[]
[null,null,null,null,"Sl. No.","Country Code","Taxpayer Identification number","Sl. No.","Head Of Income ","Income from outside India (included in PART B-TI) ","Tax paid outside India","Tax payable on such income under normal provisions in India","Tax relief available in India (e)= (c) or (d) whichever is lower","Relevant article of DTAA if relief claimed u/s 90 or 90A",null,null,null,null,5,2]
[null,null,null,null,null,null,null,null,"(a)","(b)","(c) ","(d)","(e)  ","(f)"]
[null,null,null,null,1,null,"","i","House Property ",null,null,null,{"$f":"MIN(K15,L15)","v":0}]
[null,null,null,null,null,null,null,"ii","Business or\nProfession",null,null,null,{"$f":"MIN(K16,L16)","v":0}]
[null,null,null,null,null,null,null,"iii","Capital Gains ",null,null,null,{"$f":"MIN(K17,L17)","v":0}]
[null,null,null,null,null,null,null,"iv","Other Sources ",null,null,null,{"$f":"MIN(K18,L18)","v":0}]
[null,null,null,null,null,null,null,"Total",null,{"$f":"SUM(J15:J18)","v":0},{"$f":"SUM(K15:K18)","v":0},{"$f":"SUM(L15:L18)","v":0},{"$f":"SUM(M15:M18)","v":0}]
[null,null,null,null,{"$f":"1+E15","v":2},null,"","i","House Property ",null,null,null,{"$f":"MIN(K20,L20)","v":0}]
[null,null,null,null,null,null,null,"ii","Business or\nProfession",null,null,null,{"$f":"MIN(K21,L21)","v":0}]
[null,null,null,null,null,null,null,"iii","Capital Gains ",null,null,null,{"$f":"MIN(K22,L22)","v":0}]
[null,null,null,null,null,null,null,"iv","Other Sources ",null,null,null,{"$f":"MIN(K23,L23)","v":0}]
[null,null,null,null,null,null,null,"Total",null,{"$f":"SUM(J20:J23)","v":0},{"$f":"SUM(K20:K23)","v":0},{"$f":"SUM(L20:L23)","v":0},{"$f":"SUM(M20:M23)","v":0}]
[]
[]
[]
[null,null,"Note : ","Please refer to the instructions for filling out this schedule"]

{"sheet":"TR_FA","index":43,"n_rows":121,"n_cols":20,"rows_kept":121,"cut":false,"hidden":false,"merged":[[103,16,104,16],[103,13,104,13],[102,3,102,19],[103,10,104,10],[91,12,92,12],[91,13,91,15],[103,11,104,11],[103,12,104,12],[103,9,104,9],[103,17,103,19],[103,8,104,8],[103,6,104,6],[91,6,92,6],[91,8,92,8],[103,5,104,5],[91,11,92,11],[99,2,100,5],[91,3,92,3],[91,10,92,10],[91,7,92,7],[103,7,104,7],[103,4,104,4],[103,15,104,15],[103,14,104,14],[103,3,104,3],[91,9,92,9],[91,4,92,4],[91,5,92,5],[79,7,80,7],[79,9,80,9],[90,3,90,15],[87,2,88,5],[122,2,123,5],[114,6,115,6],[114,3,115,3],[114,4,115,4],[113,3,113,13],[110,2,111,6],[114,9,115,9],[114,7,115,7],[114,11,114,13],[114,8,115,8],[114,10,115,10],[114,5,115,5],[66,3,67,3],[79,11,80,11],[36,3,37,3],[79,10,80,10],[78,3,78,14],[45,10,46,10],[66,12,66,14],[45,4,46,4],[44,3,44,10],[45,5,46,5],[66,5,67,5],[65,3,65,14],[54,8,55,8],[62,2,63,6],[45,7,46,7],[45,3,46,3],[66,6,67,6],[51,2,51,10],[54,7,55,7],[79,12,79,14],[54,5,55,5],[54,14,54,16],[54,11,55,11],[54,9,55,9],[66,10,67,10],[66,11,67,11],[79,4,80,4],[79,6,80,6],[54,6,55,6],[26,3,26,14],[24,2,24,13],[18,11,19,11],[18,8,19,8],[66,9,67,9],[66,4,67,4],[79,8,80,8],[74,2,75,5],[66,8,67,8],[66,7,67,7],[79,5,80,5],[79,3,80,3],[35,3,35,14],[36,9,37,9],[42,2,42,14],[45,8,46,8],[54,3,55,3],[45,6,46,6],[54,10,55,10],[45,9,46,9],[53,3,53,16],[54,12,55,12],[54,13,55,13],[54,4,55,4],[27,9,28,9],[27,5,28,5],[27,8,28,8],[27,13,27,14],[36,13,37,13],[27,4,28,4],[27,11,28,11],[36,12,37,12],[27,12,28,12],[27,7,28,7],[27,10,28,10],[11,4,11,8],[12,4,12,8],[13,4,13,8],[27,3,28,3],[36,5,37,5],[36,7,37,7],[36,14,37,14],[36,4,37,4],[36,11,37,11],[36,8,37,8],[36,10,37,10],[18,6,19,6],[18,7,19,7],[17,3,17,13],[18,10,19,10],[36,6,37,6],[18,3,19,3],[18,9,19,9],[18,4,19,4],[18,5,19,5],[18,12,19,12],[18,13,19,13],[27,6,28,6],[33,2,33,14]]}
[]
[]
[null,null,"(Note : If no entry is made in the Country Code column, then other columns will not be considered for that row)"]
[null,null,"TR","Details Summary of tax relief claimed for Taxes Paid outside India (available only in case of resident)"]
[null,null,1,"Details of Tax relief claimed"]
[null,null,"TAX RELIEF FOR TAX PAID OUTSIDE INDIA","SrNo","Country Code\n\n\n\n\n\n\n(a)","Tax Identification number\n\n\n\n\n\n(b)","Total taxes paid outside India\n(total of ( c)  of Schedule FSI in respect of each country)  \n\n(c)","Total tax relief available\n(total of (e) of Schedule FSI in respect of each country)\n(d)","Section under which relief claimed (specify 90, 90A or 91)\n\n\n\n(e)"]
[null,null,null,1,null,"",0,0,"(Select)"]
[null,null,null,{"$f":"D7+1","v":2},null,"",0,0,"(Select)"]
[]
[]
[null,null,null,null,null,"Total",{"$f":"SUM(TR_TaxPaidOutsideIndia)","v":0},{"$f":"SUM(TR_TaxReliefOutsideIndia)","v":0}]
[null,null,null,2,"Total Tax relief available in respect of country where DTAA is applicable (section 90/90A) (Part of total of 1(d))",null,null,null,null,{"$f":"SUM(TR_TaxReliefOutsideIndia)-TR_TaxReliefOutsideIndiaNotDTAA","v":0}]
[null,null,null,3,"Total Tax relief available in respect of country where DTAA is not applicable (section 91) (Part of total of 1(d))",null,null,null,null,{"$f":"SUMIF(TR_ReliefClaimedUsSection,\"91\",TR_TaxReliefOutsideIndia)","v":0}]
[null,null,null,4,"Whether any tax paid outside India, on which tax relief was allowed in India, has been refunded/credited by the foreign tax authority during the year? If yes, provide the details below"]
[null,null,null,"a","Amount of tax refunded ",null,"  b) Assessment year in which tax relief allowed in India"]
[]
[null,null,"Schedule FA",null,"Details of Foreign Assets and Income from any source outside India"]
[null,null,"A1","Details of Foreign Depository Accounts held (including any beneficial interest) at any time during the calendar year ending as on 31st December, 2021) "]
[null,null,null,"Sl. No.\n1","Country Name and Code\n2","Name of  financial institution\n3","Address of  financial institution\n4","ZIP Code\n5","Account Number\n6","Status\n7","Account opening date\n8","Peak Balance During the  Period \n9","Closing balance \n10","Gross interest paid/credited to the account during the period\n11"]
[]
[null,null,null,1,"(Select)",null,null,null,"",null,""]
[null,null,null,{"$f":"D21+1","v":2},"(Select)",null,null,null,"",null,""]
[null,null,null,{"$f":"D22+1","v":3},"(Select)",null,null,null,"",null,""]
[null,null,null,{"$f":"D23+1","v":4},"(Select)",null,null,null,"",null,""]
[]
[]
[null,null,"A2","Details of Foreign Custodial Accounts held (including any beneficial interest) at any time during the calendar year ending as on 31st December, 2021"]
[null,null,null,"Sl. No.\n1","Country Name and Code\n2","Name of  financial institution\n3","Address of  financial institution\n4","ZIP Code\n5","Account Number\n6","Status\n7","Account opening date\n8","Peak Balance During the Period 9","Closing balance \n10","Gross amount paid/credited to the account during the period"]
[null,null,null,null,null,null,null,null,null,null,null,null,null,"Nature\n11a","Amount\n11b"]
[null,null,null,1,"(Select)",null,null,null,"",null,""]
[null,null,null,{"$f":"D30+1","v":2},"(Select)",null,null,null,"",null,""]
[null,null,null,{"$f":"D31+1","v":3},"(Select)",null,null,null,"",null,""]
[null,null,null,{"$f":"D32+1","v":4},"(Select)",null,null,null,"",null,""]
[]
[]
[null,null,"A3","Details of Foreign Equity and Debt Interest held (including any beneficial interest) in any entity at any time during the calendar year ending as on 31st December, 2021"]
[null,null,null,"Sl. No.\n1","Country Name and Code\n2","Name of entity\n3","Address of entity\n4","ZIP Code\n5","Nature of entity\n6","Date of acquiring the interest\n7","Initial value of the investment\n8","Peak value of investment during the period\n9","Closing balance \n10","Total gross amount paid/credited with respect to the holding during the period\n11","Total gross proceeds from sale or redemption of investment during the period\n12"]
[]
[null,null,null,1,"(Select)",null,null,null,"",""]
[null,null,null,{"$f":"D39+1","v":2},"(Select)",null,null,null,"",""]
[null,null,null,{"$f":"D40+1","v":3},"(Select)",null,null,null,"",""]
[null,null,null,{"$f":"D41+1","v":4},"(Select)",null,null,null,"",""]
[]
[]
[null,null,"A4","Details of Foreign Cash Value Insurance Contract or Annuity Contract held (including any beneficial interest) at any time during thecalendar year ending as on 31st December, 2021"]
[null,null,null,"Sl. No.\n1","Country Name and Code\n2","Name of financial institution in which insurance contract held\n3","Address of financial institution\n4","ZIP Code\n5","Date of contract\n6","The cash value or surrender value of the contract\n7","Total gross amount paid/credited with respect to the contract during the period.\n8"]
[]
[null,null,null,1,"(Select)",null,null,null,""]
[null,null,null,{"$f":"D48+1","v":2},"(Select)",null,null,null,""]
[null,null,null,{"$f":"D49+1","v":3},"(Select)",null,null,null,""]
[null,null,null,{"$f":"D50+1","v":4},"(Select)",null,null,null,""]
[]
[]
[null,null,"B","Details of Financial Interest in any Entity held (including any beneficial interest) at any time during the calendar year ending as on 31st December, 2021"]
[null,null,null,"Sl. No.","Country Code and Name","Zip Code","Nature of entity","Name of the Entity","Address of the Entity","Nature of Interest","Date since held","Total Investment (at cost)\n (in rupees)","Income accrued from such Interest","Nature of Income","Interest taxable and offered in this return"]
[null,null,null,null,null,null,null,null,null,null,null,null,null,null,"Amount","Schedule where offered","Item number of schedule "]
[null,null,null,1,"2(a)","2(b)",3,"4(a)","4(b)",5,6,7,8,9,10,11,12]
[null,null,null,1,"(Select)",null,null,null,null,null,""]
[null,null,null,{"$f":"D58+1","v":2},"(Select)",null,null,null,null,null,""]
[null,null,null,{"$f":"D59+1","v":3},"(Select)",null,null,null,null,null,""]
[null,null,null,{"$f":"D60+1","v":4},"(Select)",null,null,null,null,null,""]
[]
[]
[]
[]
[null,null,"C","Details of Immovable Property held (including any beneficial interest) at any time during the calendar year ending as on 31st December, 2021"]
[null,null,null,"Sl. No.","Country Code and Name","Zip Code","Address of the Property","Ownership-\nDirect/ Beneficial owner/ Beneficiary","   Date of acquisition","Total Investment \n(at cost) (in rupees)","Income derived from the property","Nature of Income","Income taxable and offered in this return"]
[null,null,null,null,null,null,null,null,null,null,null,null,"Amount","Schedule where offered","Item number of schedule"]
[null,null,null,1,"2(a)","2(b)",3,4,5,6,7,8,9,10,11]
[null,null,null,1,"(Select)",null,null,null,""]
[null,null,null,{"$f":"D70+1","v":2},"(Select)",null,null,null,""]
[null,null,null,{"$f":"D71+1","v":3},"(Select)",null,null,null,""]
[null,null,null,{"$f":"D72+1","v":4},"(Select)",null,null,null,""]
[]
[]
[]
[]
[]
[null,null,"D","Details of any other Capital Asset held (including any beneficial interest) at any time during the calendar year ending as on 31st December, 2021"]
[null,null,null,"Sl. No.","Country Code and Name","Zip Code","Nature of Asset","Ownership-\nDirect/ Beneficial owner/ Beneficiary\n","  Date of acquisition","Total Investment (at cost) (in rupees)","Income derived from the asset","Nature of Income","Income taxable and offered in this return"]
[null,null,null,null,null,null,null,null,null,null,null,null,"Amount","Schedule where offered","Item number of schedule"]
[null,null,null,1,"2(a)","2(b)",3,4,5,6,7,8,9,10,11]
[null,null,null,1,"(Select)",null,null,null,""]
[null,null,null,{"$f":"D83+1","v":2},"(Select)",null,null,null,""]
[null,null,null,{"$f":"D84+1","v":3},"(Select)",null,null,null,""]
[null,null,null,{"$f":"D85+1","v":4},"(Select)",null,null,null,""]
[]
[]
[]
[]
[null,null,"E","Details of account(s) in which you have signing authority held (including any beneficial interest) at any time during the calendar year ending as on 31st December, 2021 and which has not been included in A to D above. "]
[null,null,null,"Sl. No.","Name of the Institution in which the account is held","Address of the Institution","Country Name & Code         \n\n","Zip Code\n","Name of the Account Holder ","Account Number","Peak Balance/Investment / during the year (in rupees)","Whether income accrued is taxable in your hands?","If (7) is yes, Income accrued in the account","If (7) is yes, Income offered in this return"]
[null,null,null,null,null,null,null,null,null,null,null,null,null,"Amount","Schedule where offered","Item number of schedule"]
[null,null,null,1,2,"3(a)","3(b)","3(c)",4,5,6,7,8,9,10,11]
[null,null,null,1,null,null,"(Select)",null,null,""]
[null,null,null,{"$f":"D95+1","v":2},null,null,"(Select)",null,null,""]
[null,null,null,{"$f":"D96+1","v":3},null,null,"(Select)",null,null,""]
[null,null,null,{"$f":"D97+1","v":4},null,null,"(Select)",null,null,""]
[]
[]
[]
[]
[null,null,"F","Details of trusts, created under the laws of a country outside India, in which you are a trustee, beneficiary or settlor"]
[null,null,null,"Sl. No.","Country Code and Name","Zip Code","Name of the trust","Address of the trust","Name of trustees","Address of trustees","Name of Settlor","Address of Settlor","Name of Beneficiaries","Address of Beneficiaries","Date since position held","Whether income derived is taxable in your hands?"," If (8) is yes, Income derived from the trust","If (8) is yes, Income offered in this return"]
[null,null,null,null,null,null,null,null,null,null,null,null,null,null,null,null,null,"Amount","Schedule where offered","Item number of schedule"]
[null,null,null,1,"2(a)","2(b)",3,"3(a)",4,"4(a)",5,"5(a)",6,"6(a)",7,8,9,10,11,12]
[null,null,null,1,"(Select)",null,null,null,null,null,null,null,null,null,""]
[null,null,null,{"$f":"D107+1","v":2},"(Select)",null,null,null,null,null,null,null,null,null,""]
[null,null,null,{"$f":"D108+1","v":3},"(Select)",null,null,null,null,null,null,null,null,null,""]
[null,null,null,{"$f":"D109+1","v":4},"(Select)",null,null,null,null,null,null,null,null,null,""]
[]
[]
[]
[null,null,"G","Details of any other income derived from any source outside India which is not included in,- (i) items A to F above and, (ii) income under the head business or profession "]
[null,null,null,"Sl. No.","Country Code and Name","Zip Code","Name of person from whom derived","Address of person from whom derived\n","  Income derived","Nature of income","Whether taxable in your hands?","If (6) is yes, Income offered in this return"]
[null,null,null,null,null,null,null,null,null,null,null,"Amount","Schedule where offered","Item number of schedule"]
[null,null,null,1,"2(a)","2(b)","3(a)","3(b)",4,5,6,7,8,9]
[null,null,null,1,"(Select)"]
[null,null,null,{"$f":"D118+1","v":2},"(Select)"]
[null,null,null,{"$f":"D119+1","v":3},"(Select)"]
[null,null,null,{"$f":"D120+1","v":4},"(Select)"]

{"sheet":"GST","index":44,"n_rows":10,"n_cols":6,"rows_kept":10,"cut":false,"hidden":false,"merged":[[2,2,2,3],[2,4,2,5],[8,3,8,5],[9,3,9,5]]}
[]
[]
[null,null,"Schedule GST",null,"INFORMATION REGARDING TURNOVER/GROSS RECEIPT REPORTED FOR GST"]
[null,null,null,"Sl.No.","GSTIN No(s).","Annual value of outward supplies as per the GST return(s) filed"]
[null,null,null,1,"07AAAFY1234N1ZE",21600000]
[null,null,null,{"$f":"D5+1","v":2}]
[null,null,null,{"$f":"D6+1","v":3}]
[null,null,null,{"$f":"D7+1","v":4}]
[]
[null,null,"Note :","Please furnish the information above for each GSTIN No. separately"]

{"sheet":"PARTB - TI - TTI","index":45,"n_rows":116,"n_cols":19,"rows_kept":116,"cut":false,"hidden":false,"merged":[[2,2,2,5],[2,6,2,11],[3,2,9,2],[3,4,3,9],[4,4,4,9],[30,4,30,9],[33,4,33,9],[26,5,26,7],[18,6,18,7],[19,6,19,7],[31,4,31,9],[22,5,22,9],[27,5,27,9],[5,5,5,7],[16,6,16,7],[8,5,8,7],[13,6,13,7],[29,4,29,9],[12,6,12,7],[21,6,21,7],[23,4,23,7],[20,6,20,7],[10,10,17,11],[15,6,15,7],[7,5,7,7],[10,2,47,2],[37,5,37,9],[6,5,6,7],[9,5,9,9],[28,4,28,9],[25,5,25,7],[40,5,40,9],[17,5,17,9],[10,4,10,9],[11,5,11,9],[14,6,14,7],[32,4,32,9],[34,4,34,9],[36,5,36,7],[24,5,24,7],[35,5,35,7],[23,10,25,11],[74,5,74,7],[65,6,65,7],[43,4,43,9],[38,4,38,9],[51,5,51,9],[41,5,41,9],[45,4,45,9],[46,4,46,9],[47,4,47,9],[39,5,39,9],[42,4,42,9],[44,4,44,9],[64,6,64,7],[55,5,55,7],[58,5,58,9],[67,6,67,9],[71,4,71,9],[48,2,48,4],[48,6,48,11],[49,5,49,9],[65,9,66,9],[63,5,63,9],[116,2,116,11],[91,4,91,8],[98,4,98,11],[97,4,97,11],[104,7,104,8],[105,4,105,5],[106,4,106,5],[105,7,105,8],[96,4,96,10],[103,7,103,8],[92,4,92,9],[103,4,103,5],[101,4,101,11],[102,10,102,11],[103,10,103,11],[106,7,106,8],[105,10,105,11],[106,10,106,11],[91,2,100,2],[95,4,95,9],[109,4,109,11],[102,4,102,5],[90,5,90,9],[85,2,90,2],[85,4,85,9],[50,5,50,9],[69,5,69,9],[68,5,68,9],[57,5,57,9],[76,5,76,9],[75,5,75,7],[54,5,54,7],[73,4,73,9],[49,2,84,2],[49,3,52,3],[52,5,52,9],[70,4,70,9],[53,4,53,9],[72,4,72,9],[56,5,56,7],[66,6,66,7],[59,5,59,9],[60,6,60,7],[61,6,61,7],[62,6,62,7],[61,9,62,9],[78,10,81,11],[77,4,77,9],[110,7,110,8],[115,4,115,9],[110,9,110,10],[111,7,111,8],[108,3,108,4],[108,5,108,11],[111,9,111,10],[89,5,89,7],[86,5,86,7],[88,5,88,7],[87,5,87,7],[104,10,104,11],[104,4,104,5],[100,7,100,8],[94,3,94,6],[84,4,84,9],[82,5,82,7],[81,5,81,7],[80,5,80,7],[83,5,83,9],[79,5,79,7],[78,4,78,9]]}
[]
[]
[null,null,"PART B - TI",null,null,null,"Computation of total income  PLEASE NOTE THAT CALCULATED FIELDS (IN WHITE) ARE PICKED UP FROM OTHER SCHEDULES AND ARE NOT TO BE ENTERED. For ex :  The Income figures below will get filled up when the Schedules linked to them  are filled."]
[null,null,null,1,"Income from house property ( 3 of Schedule-HP) (enter nil if loss) ",null,null,null,null,null,1,{"$f":"MAX(0,HP.TotalIncomeChargeableUnHP)","v":1279000}]
[null,null,null,2,"Profits and gains from business or profession"]
[null,null,null,null,"i","Profits and gains from business other than speculative business and specified business (A38 of Schedule BP)(enter nil if loss) ",null,null,"2i",{"$f":"MAX(sheet12.NetPLBusOthThanSpec7A7B7C,0)","v":3777350}]
[null,null,null,null,"ii","Profit and gains from speculative business (3(ii) of table E of Schedule BP) (enter nil if loss and carry this figure to Schedule CFL) ",null,null,"2ii",{"$f":"MAX(0,sheet12.IncOfCurYrAfterSetOffa)","v":0}]
[null,null,null,null,"iii","Profits and gains from specified business (3(iii) of table E of Schedule BP) (enter nil if loss and carry this figure to Schedule CFL) ",null,null,"2iii",{"$f":"MAX(0,sheet12.IncOfCurYrAfterSetOffb)","v":0}]
[null,null,null,null,"iv","Income chargeable to tax at special rate (3d and 3e of Schedule BP )",null,null,"2iv",{"$f":"MAX(0,sheet10.IncRecCredPL115BBF+sheet10.IncRecCredPL115BBG+sheet12.IncOfCurYrAfterSetOffc)","v":0}]
[null,null,null,null,"v","Total (2i + 2ii + 2iii + 2iv) (enter nil, if loss and carry this figure of loss to Schedule CYLA)",null,null,null,null,"2v",{"$f":"SUM(J6:J9)","v":3777350}]
[null,null,"TOTAL INCOME",3,"Capital gains"]
[null,null,null,null,"a","Short term"]
[null,null,null,null,null,"i ","Short-term chargeable @ 15% (9ii of item E of schedule CG)",null,"3ai",{"$f":"STCG_CurrentYrGain15Percent","v":0}]
[null,null,null,null,null,"ii ","Short-term chargeable @ 30% (9iii of item E of schedule CG)",null,"3aii",{"$f":"STCG_CurrentYrGain30Percent","v":0}]
[null,null,null,null,null,"iii ","Short-term chargeable at applicable rate (9iv  of item E of schedule CG)",null,"3aiii",{"$f":"STCG_CurrentYrGainAppRate","v":0}]
[null,null,null,null,null,"iv","Short-term chargeable at special rates in India as per DTAA (9v of item E of Schedule CG) ",null,"3aiv",{"$f":"STCG_CurrentYrGainDTAARate","v":0}]
[null,null,null,null,null,"v","Total Short-term (ai + aii + aiii + aiv) (enter nil if loss)",null,"3av",{"$f":"SUM(J13:J16)","v":0}]
[null,null,null,null,"b","Long term"]
[null,null,null,null,null,"i","Long-term chargeable @ 10% (9vi of item E of Schedule CG)",null,"3bi",{"$f":"LTCG_CurrentYrGain10Percent","v":0}]
[null,null,null,null,null,"ii","Long-term chargeable @ 20% (9vii  of item E of Schedule CG)",null,"3bii",{"$f":"LTCG_CurrentYrGain20Percent","v":0}]
[null,null,null,null,null,"iii ","Long-term chargeable at special rates in India as per DTAA (9viii of item E of schedule CG)",null,"3biii",{"$f":"LTCG_CurrentYrGainDTAARate","v":0}]
[null,null,null,null,null,"iv","Total Long-term (bi + bii + biii) (enter nil if loss)",null,"3biv",{"$f":"MAX(0,Sheet8b.LongTermNP+Sheet8b.LongTermP+Sheet8b.LTCGDTAA)","v":0}]
[null,null,null,null,"c","Total capital gains  (3av + 3biv) (enter nil if loss)",null,null,null,null,"3c",{"$f":"MAX(0,Sheet8b.TotalShortTerm+Sheet8b.LongTerm)","v":0}]
[null,null,null,4,"Income from other sources"]
[null,null,null,null,"a","Net income from other sources chargeable to tax at normal applicable rates ( 6 of Schedule OS) (enter nil if loss)",null,null,"4a",{"$f":"MAX(0,os.BalanceNoRaceHorse)","v":535000}]
[null,null,null,null,"b","Income chargeable to tax at special rate (2 of Schedule OS)",null,null,"4b",{"$f":"os.IncChargeableSpecialRates","v":0}]
[null,null,null,null,"c","Income from the activity of owning and maintaining race horses (8e of Schedule OS) (enter nil if loss) ",null,null,"4c",{"$f":"MAX(0,os.BalanceOwnRaceHorse)","v":0}]
[null,null,null,null,"d","Total (4a + 4b + 4c) ",null,null,null,null,"4d",{"$f":"MAX(0,SUM(J25:J27))","v":535000}]
[null,null,null,5,"Total of head wise income (1 + 2v + 3c +4d)",null,null,null,null,null,5,{"$f":"Sheet8b.TotIncFromOS+Sheet8b.TotalCapGains+Sheet8b.TotProfBusGain+Sheet8b.IncomeFromHP","v":5591350}]
[null,null,null,6," Losses of current year to be set off against 5  (total of 2xvii, 3xvii and 4xvii  of Schedule CYLA)",null,null,null,null,null,6,{"$f":"SUM(sheet16.TotHPlossCurYrSetoff,sheet16.TotBusLossSetoff,sheet16.TotOthSrcLossNoRaceHorseSetoff)","v":0}]
[null,null,null,7,"Balance after set off of current year losses (5 – 6)  (total of column 5 of schedule CYLA + 4b + 2iv-2e of OS)",null,null,null,null,null,7,{"$f":"MAX(0,Sheet8b.TotalTI-Sheet8b.CurrentYearLoss)","v":5591350}]
[null,null,null,8,"Brought forward losses to be set off losses against 7(total of 2xvi, 3xvi and 4xvi of Schedule BFLA)",null,null,null,null,null,8,{"$f":"SUM(sheet16.TotBFLossSetoff,sheet16.TotUnabsorbedDeprSetoff,sheet16.TotAllUs35cl4Setoff)","v":0}]
[null,null,null,9,"Gross Total income (7 – 8) (total  column 5 of Schedule BFLA + 4b+2iii - 2e of schedule OS)",null,null,null,null,null,9,{"$f":"MAX(0,Sheet8b.BalanceAfterSetoffLosses-Sheet8b.BroughtFwdLossesSetoff)","v":5591350}]
[null,null,null,10,"Income chargeable to tax at special rate under section 111A, 112, 112A etc. included in 9",null,null,null,null,null,10,{"$f":"MAX(SUM(SI.SplRateInc),0)","v":0}]
[null,null,null,11,"Deductions under Chapter VI-A"]
[null,null,null,null,"a","Part-B of Chapter VI-A [1 of Schedule VI-A and limited upto (i,ii,iv,v,viii,xiii,xiv) of column 5 of schedule BFLA] ",null,null,"a",{"$f":"MAX(0,MIN(Sheet8b.GrossTotalIncome-Sheet8b.IncChargeableTaxSplRates,scvia.TotPartBchapterVIA_Calc))","v":335000}]
[null,null,null,null,"b","Part-C of Chapter VI-A [2 of Schedule VI-A )]",null,null,"b",{"$f":"MAX(0,IF(scvia.Section80P_Calc>0,MIN(busipofincl.IncOfCurYrAfterSetOffBFLosses2+hp.IncOfCurYrAfterSetOffBFLosses1+othsrcincl.IncOfCurYrAfterSetOffBFLosses5,scvia.TotPartCchapterVIA_Calc),MIN(scvia.TotPartCchapterVIA_Calc,scvia.TotPartCchapterVIA_Calc)))","v":0}]
[null,null,null,null,"c","Total (11a + 11b) [limited upto (9-10)]",null,null,null,null,"11c",{"$f":"MAX(0,MIN(Sheet8b.PartBchapterVIA+Sheet8b.PartCchapterVIA,Sheet8b.GrossTotalIncome-Sheet8b.IncChargeableTaxSplRates))","v":335000}]
[null,null,null,12,"Deduction u/s 10AA (Total of Schedule 10AA)",null,null,null,null,null,12,{"$f":"MAX(0,SUM(L40:L42))","v":0}]
[null,null,null,null,"a","Deduction u/s 10AA (Total of Schedule 10AA)",null,null,null,null,"a",{"$f":"MAX(0,MIN(Sheet8b.GrossTotalIncome-Sheet8b.IncChargeableTaxSplRates-Sheet8b.DeductionsUnderScheduleVIA,MIN(busipofincl.IncOfCurYrAfterSetOffBFLosses2,AA10.TotalDedUs10Sub)))","v":0}]
[null,null,null,null,"b","Income of investment fund referred to in section 10(23FB) or 10(23FBA) ",null,null,null,null,"b"]
[null,null,null,null,"c","Income of a business trust referred to in section 10(23FC) or 10(23FCA)",null,null,null,null,"c"]
[null,null,null,13,"Total income  (9 - 11c - 12)",null,null,null,null,null,13,{"$f":"ROUND(MAX(0,Sheet8b.GrossTotalIncome-Sheet8b.IncomeNotPart10-Sheet8b.DeductionsUnderScheduleVIA),-1)","v":5256350}]
[null,null,null,14,"Income chargeable to tax at special rates (total of (i) of schedule SI)",null,null,null,null,null,14,{"$f":"MAX(SUM(SI.SplRateIncCalc),0)","v":0}]
[null,null,null,15,"Net agricultural income/ any other income for rate purpose (2v of Schedule EI)",null,null,null,null,null,15,{"$f":"IF(MID(sheet1.SubStatus,1,2)=\"1c\",0,IF(Sheet20.scei.NetAgriIncOrOthrIncRule7>5000,Sheet20.scei.NetAgriIncOrOthrIncRule7,0))","v":0}]
[null,null,null,16,"Aggregate income (13 – 14  + 15)  [applicable if (13-14)  exceeds maximum amount not chargeable to tax]",null,null,null,null,null,16,{"$f":"IF(GrpsA,IF(GrpsB,IF(OR(CaseEstateOfDeceased,NOT(GrpsC.3)),IF(MAX(0,Sheet8b.TotalIncome-Sheet8b.IncChargeTaxSplRate111A112)> 250000,MAX(0,Sheet8b.TotalIncome-Sheet8b.IncChargeTaxSplRate111A112)+IF(Sheet8b.NetAgricultureIncomeOrOtherIncomeForRate> 5000,Sheet8b.NetAgricultureIncomeOrOtherIncomeForRate,0),0),MAX(0,Sheet8b.TotalIncome-Sheet8b.IncChargeTaxSplRate111A112)+IF(Sheet8b.NetAgricultureIncomeOrOtherIncomeForRate> 5000,Sheet8b.NetAgricultureIncomeOrOtherIncomeForRate,0)),IF(GrpsB.4,IF(GrpsB.33,IF(GrpsB.2,MAX(0,Sheet8b.TotalIncome-Sheet8b.IncChargeTaxSplRate111A112)+IF(Sheet8b.NetAgricultureIncomeOrOtherIncomeForRate> 5000,Sheet8b.NetAgricultureIncomeOrOtherIncomeForRate,0),IF(MAX(0,Sheet8b.TotalIncome-Sheet8b.IncChargeTaxSplRate111A112)> 250000,MAX(0,Sheet8b.TotalIncome-Sheet8b.IncChargeTaxSplRate111A112)+IF(Sheet8b.NetAgricultureIncomeOrOtherIncomeForRate> 5000,Sheet8b.NetAgricultureIncomeOrOtherIncomeForRate,0),0)),IF(PDT.AOP, IF(Case2,IF(MAX(0,Sheet8b.TotalIncome-Sheet8b.IncChargeTaxSplRate111A112)> 250000,MAX(0,Sheet8b.TotalIncome-Sheet8b.IncChargeTaxSplRate111A112)+IF(Sheet8b.NetAgricultureIncomeOrOtherIncomeForRate> 5000,Sheet8b.NetAgricultureIncomeOrOtherIncomeForRate,0),0),MAX(0,Sheet8b.TotalIncome-Sheet8b.IncChargeTaxSplRate111A112)+IF(Sheet8b.NetAgricultureIncomeOrOtherIncomeForRate> 5000,Sheet8b.NetAgricultureIncomeOrOtherIncomeForRate,0)),MAX(0,Sheet8b.TotalIncome-Sheet8b.IncChargeTaxSplRate111A112)+IF(Sheet8b.NetAgricultureIncomeOrOtherIncomeForRate> 5000,Sheet8b.NetAgricultureIncomeOrOtherIncomeForRate,0))),IF(Case2,IF(MAX(0,Sheet8b.TotalIncome-Sheet8b.IncChargeTaxSplRate111A112)> 250000,MAX(0,Sheet8b.TotalIncome-Sheet8b.IncChargeTaxSplRate111A112)+IF(Sheet8b.NetAgricultureIncomeOrOtherIncomeForRate> 5000,Sheet8b.NetAgricultureIncomeOrOtherIncomeForRate,0),0),MAX(0,Sheet8b.TotalIncome-Sheet8b.IncChargeTaxSplRate111A112)+IF(Sheet8b.NetAgricultureIncomeOrOtherIncomeForRate> 5000,Sheet8b.NetAgricultureIncomeOrOtherIncomeForRate,0)))),MAX(0,Sheet8b.TotalIncome-Sheet8b.IncChargeTaxSplRate111A112)+IF(Sheet8b.NetAgricultureIncomeOrOtherIncomeForRate> 5000,Sheet8b.NetAgricultureIncomeOrOtherIncomeForRate,0))","v":5256350}]
[null,null,null,17,"Losses of current year to be carried forward (total of xvi of Sch CFL)",null,null,null,null,null,17,{"$f":"IF(MID(sheet1.SubStatus,1,1)=\"5\",SUM(CFL!L25:O25),SUM(CFL!G25:'CFL'!W25))","v":0}]
[null,null,null,18,"Deemed  total income under section 115JC (3 of Schedule AMT)",null,null,null,null,null,18,{"$f":"AMT.AdjustedUnderSec115JC","v":5256350}]
[null,null,"Part B - TTI",null,null,null,"Computation of Tax Liability on Total Income"]
[null,null,"COMPUTATION OF TAX LIABILITY",1,"a","Tax payable on deemed  total income under section 115JC (4 of Schedule AMT) ",null,null,null,null,"1a",{"$f":"AMT.TaxPayableUnderSec115JC","v":0}]
[null,null,null,null,"b","Surcharge on (a) above (if applicable) ",null,null,null,null,"1b",{"$f":"AMTSurcharge","v":0}]
[null,null,null,null,"c","Health and Education Cess @ 4% on 1a+1b above ",null,null,null,null,"1c",{"$f":"ROUND(0.04*(sheet9.TaxDeemedTISec115JC+sheet9.deemeds),0)","v":0}]
[null,null,null,null,"d","Total Tax Payable on deemed total income (1a+1b+1c)",null,null,null,null,"1d",{"$f":"SUM(L50:L52)","v":0}]
[null,null,null,2,"Tax payable on total income"]
[null,null,null,null,"a","Tax at normal rates on 16 of Part B-TI",null,null,"2a",1576905]
[null,null,null,null,"b","Tax at special rates (total of col. (ii) of Schedule-SI)",null,null,"2b",0]
[null,null,null,null,"c","Rebate on agricultural income [applicable if (13-14) of Part B-TI exceeds maximum amount not chargeable to tax] ",null,null,"2c",0]
[null,null,null,null,"d","Tax Payable on total income (2a+2b -2c)) ",null,null,null,null,"2d",{"$f":"MAX(SUM(J55,J56)-sheet9.RebateOnAgriInc,0)","v":1576905}]
[null,null,null,null,"e","Surcharge"]
[null,null,null,null,"A","Surcharge computed before marginal relief"]
[null,null,null,null,null,"i","25% of 12(ii) of Schedule SI",null,"Ai",{"$f":" ROUND(0.25 * SI_115BBE,0)","v":0}]
[null,null,null,null,null,"ii"," 10% or 15%, as applicable of 1(ii), 2(ii),7(ii), 9(ii), 21(ii), 22(ii), 234(ii) of Schedule SI  Dividend income  u/s. 115AD(1)(a) of Schedule SI and Dividend income included in Part BTI ",null,"Aii",189229,null,null,null,null,null,null,null,null,{"$f":"Surchrgii","v":189229}]
[null,null,null,null,null,"iii ","On [(2d) – (12(ii)  + 1(ii) +2(ii)+7(ii)+9(ii)+21(ii)+22(ii)+23(ii) ) , Dividend income u/s 115AD(1)(a) of Schedule SI and Dividend income included in Part B TI]",null,"Aiii",null,null,null,null,null,null,null,null,null,{"$f":"Surchrgiii","v":0}]
[null,null,null,null,"B","Surcharge after marginal relief",null,null,null,null,null,null,null,null,null,null,null,null,{"$f":"Sheet9.Surcharge_ii_Bfr+Sheet9.Surcharge_ii_enhc_Bfr","v":189229}]
[null,null,null,null,null,"i","25% of 12(ii) of Schedule SI ",null,"Bi",{"$f":" ROUND(0.25 * SI_115BBE,0)","v":0}]
[null,null,null,null,null,"ii"," 10% or 15%, as applicable of 1(ii), 2(ii),7(ii), 9(ii), 21(ii), 22(ii), 234(ii) of Schedule SI  Dividend income  u/s. 115AD(1)(a) of Schedule SI and Dividend income included in Part BTI ",null,"Bii",0]
[null,null,null,null,null,"iii "," On [(2d) – (12(ii)  + 1(ii) +2(ii)+7(ii)+9(ii)+21(ii)+22(ii)+23(ii) ) , Dividend income u/s 115AD(1)(a) of Schedule SI and Dividend income included in Part B TI]",null,"Biii"]
[null,null,null,null,null,"iv","Total (Bi +Bii+Biii)",null,null,null,"2eBiv",{"$f":"MAX(0,Sheet9.Surcharge_i+Sheet9.Surcharge_ii)","v":0}]
[null,null,null,null,"f","Health and Education Cess @ 4% on 2d+2eiv",null,null,null,null,"2f",63076]
[null,null,null,null,"g","Gross tax liability (2d + 2eiv + 2f)",null,null,null,null,"2g",{"$f":"sheet9.TaxPayableOnTotInc+Sheet9.SurchargeOnTaxPayable+Sheet9.EducationCess","v":1639981}]
[null,null,null,3,"Gross tax payable (higher of 1d or 2g)",null,null,null,null,null,3,{"$f":"MAX(Sheet9.GrossTaxLiability,sheet9.TotalTax_DI)","v":1639981}]
[null,null,null,4,"Credit under section 115JD of tax paid in earlier years (applicable if 2g is more than 1d)  (5 of Schedule AMTC) ",null,null,null,null,null,4,{"$f":"IF(Sheet9.GrossTaxLiability<=sheet9.TotalTax_DI,0,AMTC.TaxSection115JD)","v":0}]
[null,null,null,5,"Tax payable after credit under section 115JD (3 - 4)",null,null,null,null,null,5,{"$f":"MAX(0,sheet9.GrossTaxPayable-sheet9.CreditUS115JD)","v":1639981}]
[null,null,null,6,"Tax relief  "]
[null,null,null,null,"a","Section 90/90A (2 of Schedule TR)",null,null,"6a",{"$f":"TR_TaxReliefOutsideIndiaDTAA","v":0}]
[null,null,null,null,"b","Section 91 ( 3 of Schedule TR)",null,null,"6b",{"$f":"TR_TaxReliefOutsideIndiaNotDTAA","v":0}]
[null,null,null,null,"c","Total (6a + 6b )",null,null,null,null,"6c",{"$f":"SUM(J75:J76)","v":0}]
[null,null,null,7,"Net tax liability (5 – 6c) (enter zero, if negative)",null,null,null,null,null,7,{"$f":"MAX(sheet9.TaxPayAfterCreditUs115JD-Sheet9.TotTaxRelief,0)","v":1639981}]
[null,null,null,8,"Interest and fee  payable"]
[null,null,null,null,"a","Interest for default in furnishing the return (section 234A)",null,null,"8a",0]
[null,null,null,null,"b","Interest for default in payment of advance tax (section 234B) ",null,null,"8b",0]
[null,null,null,null,"c","Interest for deferment of advance tax (section 234C) ",null,null,"8c",0]
[null,null,null,null,"d","Fee for default in furnishing return of income (section 234F)",null,null,"8d",5000]
[null,null,null,null,"e","Total Interest and Fee Payable (8a+8b+8c+8d)",null,null,null,null,"8e",{"$f":"SUM(J80:J83)","v":5000}]
[null,null,null,9,"Aggregate liability (7 + 8e)",null,null,null,null,null,9,{"$f":"ROUND(Sheet9.NetTaxLiability+Sheet9.TotalIntrstPay,0)","v":1644981}]
[null,null,"TAXES PAID",10,"Taxes Paid"]
[null,null,null,null,"a","Advance Tax (from column 5 of 15A)",null,null,"10a",{"$f":"AdvanceTax","v":85000}]
[null,null,null,null,"b","TDS (total of column 9 of 15B)",null,null,"10b",{"$f":"SUM(TDS2.ClaimedInOwnHands)+SUM(TDS3.ClaimedInOwnHands)","v":241000}]
[null,null,null,null,"c","TCS (total of column 7 of 15C)",null,null,"10c",{"$f":"SUM(TCS.AmtTCSClaimedThisYear)","v":0}]
[null,null,null,null,"d","Self-Assessment Tax (from column 5 of 15A)",null,null,"10d",{"$f":"IT.SAT","v":0}]
[null,null,null,null,"e","Total Taxes Paid (10a+10b+10c+10d)",null,null,null,null,"10e",{"$f":"SUM(J87:J90)","v":326000}]
[null,null,"REFUND",11,"Amount payable (Enter if 9 is greater than 10e, else enter 0)",null,null,null,null,null,11,{"$f":"ROUND(MAX(0,Sheet9.AggregateTaxInterestLiability-Sheet9.TotalTaxesPaid),-1)","v":1318980}]
[null,null,null,12,"Refund (If 10e is greater than 9)(Refund, if any, will be directly credited into the bank account)",null,null,null,null,null,12,{"$f":"ROUND(MAX(0,Sheet9.TotalTaxesPaid-Sheet9.AggregateTaxInterestLiability),-1)","v":0}]
[null,null,null,13,"Enter your bank account number (, the number should be 9 digits or more as per CBS system of the bank )",null,null,null,null,null,13]
[null,null,null,"IFS Code of the bank",null,null,null,null,null,"Type of account(select)",null,"(Select)"]
[null,null,null,13,"Do you have a bank account in India (Non-residents claiming refund with no bank account in India may select NO)?",null,null,null,null,null,13,"YES"]
[null,null,null,null,"Total number of savings and current bank accounts held by you at any time during the previous year (excluding dormant accounts)."]
[null,null,null,13,"Details of all Bank Accounts held in India at any time during the previous year (excluding dormant accounts)\nNote: If you do not have any bank account in India, enter the details as IFSC - NNNN0NNNNNN, Name of Bank - NOT APPLICABLE, Account No. - NA999.\n\n"]
[null,null,null,"(i)","Details of all Bank Accounts held in India at any time during the previous year (excluding dormant accounts)"]
[]
[]
[]
[null,null,null,null,"Sl.No",null,"IFS Code of the Bank","Name of the Bank",null,"Account Number","Indicate the account in which you prefer to get your refund credited"]
[null,null,null,null,{"$f":"E101+1","v":1},null,"HDFC0000003","HDFC BANK",null,"50520000751234",null,null,null,null,null,true]
[null,null,null,null,{"$f":"E104+1","v":2},null,"PUNB0657700","PUNJAB NATIONAL BANK",null,"4212001785967458",null,null,null,null,null,false]
[null,null,null,null,{"$f":"E105+1","v":3},null,null,null,null,null,null,null,null,null,null,false]
[null,null,null,null,{"$f":"E106+1","v":4},null,null,null,null,null,null,null,null,null,null,false]
[]
[null,null,null,"Note :",null,"1. Minimum one account should be selected for refund credit.\n2. In case of Refund, multiple accounts are selected for refund credit, then refund will be credited to one of the account decided by CPC after processing the return."]
[null,null,null,"(ii)","Non-residents, who are claiming income-tax refund and not having bank account in India may, at their option, furnish the details of one foreign bank account:"]
[null,null,null,null,"Sl.No",null,"SWIFT Code","Name of the Bank",null,"Country of Location",null,"IBAN"]
[null,null,null,null,1,null,"",null,null,null,null,""]
[]
[]
[]
[null,null,null,14,"Do you at any time during previous year, -\n(i) hold, as beneficial owner, beneficiary or otherwise, any asset (including financial interest in any entity) located outside India or\n(ii) have signing authority in any account located outside India; or                                                                                                                                 \n(iii) have income from any source outside India ?                                                                                                                                                                                                          [applicable only in case of a resident] [Ensure Schedule FA is filled up if the answer is Yes]",null,null,null,null,null,14,"NO"]

{"sheet":"Part B ATI","index":46,"n_rows":44,"n_cols":26,"rows_kept":44,"cut":false,"hidden":true,"merged":[[12,3,12,13],[2,2,2,5],[2,6,2,15],[3,4,3,15],[4,5,4,13],[5,5,5,13],[6,5,6,13],[7,5,7,13],[8,5,8,13],[9,5,9,13],[10,4,10,13],[11,3,11,13],[24,3,24,13],[13,3,13,13],[14,3,14,13],[15,3,15,13],[16,3,16,13],[17,3,17,13],[18,3,18,13],[20,2,21,2],[20,4,20,13],[21,4,21,13],[22,3,22,13],[23,3,23,13],[35,5,35,15],[25,3,25,13],[26,3,26,15],[27,5,27,15],[28,4,29,4],[28,7,28,9],[29,7,29,9],[30,7,30,9],[31,7,31,9],[32,4,32,9],[33,4,33,15],[34,3,34,4],[41,4,41,15],[42,3,42,4],[43,3,43,13],[36,4,37,4],[36,7,36,9],[37,7,37,9],[38,7,38,9],[39,7,39,9],[40,4,40,9]]}
[]
[]
[null,null,"Part B - ATI",null,null,null,"Computation of total updated income and tax payable"]
[null,null,1,"A","Head of Income under which additional income is being returned as per Updated Return\nHead of income (If yes, Please specify additional income)"]
[null,null,null,null,"a","Income from Salary",null,null,null,null,null,null,null,null,"a",null,null,null,null,null,null,null,null,null,null,{"$f":"MID(sheet1.ReturnFileSec,4,4)","v":""}]
[null,null,null,null,"b","Income from house property ",null,null,null,null,null,null,null,null,"b"]
[null,null,null,null,"c","Income from Business or Profession ",null,null,null,null,null,null,null,null,"c"]
[null,null,null,null,"d","Income from Capital Gains",null,null,null,null,null,null,null,null,"d"]
[null,null,null,null,"e","Income from Other Sources",null,null,null,null,null,null,null,null,"e"]
[null,null,null,null,"f","Total additional Income (a+b+c+d+e)",null,null,null,null,null,null,null,null,"f",{"$f":"IF(MID(sheet1.ReturnFileSec1,4,4)=\"(8A)\",SUM(P5:P9),0)","v":0}]
[null,null,null,"B","Total Income as per last valid return (only in cases where the  Income Tax Return has been previously filed) ",null,null,null,null,null,null,null,null,null,"B"]
[null,null,2,"Total updated income as per Part_BTI (Please see instruction)",null,null,null,null,null,null,null,null,null,null,2,{"$f":"IF(MID(sheet1.ReturnFileSec1,4,4)=\"(8A)\",Sheet8b.TotalIncome,0)","v":0}]
[null,null,3,"Amount payable, if any (To be taken from the “Amount payable” of Part B-TTI of the updated ITR) (Please see instruction) ",null,null,null,null,null,null,null,null,null,null,3,{"$f":"IF(MID(sheet1.ReturnFileSec1,4,4)=\"(8A)\",Sheet9.BalTaxPayable1,0)","v":0}]
[null,null,4,"Amount refundable, if any (To be taken from “Refund” of Part B-TTI of the updated ITR) (Please see instruction)",null,null,null,null,null,null,null,null,null,null,4,{"$f":"IF(U_AmtPayable>0,0,IF(MID(sheet1.ReturnFileSec1,4,4)=\"(8A)\",Sheet9.RefundDue,0))","v":0}]
[null,null,5,"Amount payable  on the basis of  last valid return (only in applicable cases)",null,null,null,null,null,null,null,null,null,null,5,0]
[null,null,"6i","Refund claimed as per last valid return, if any (Please see instruction)",null,null,null,null,null,null,null,null,null,null,"6i"]
[null,null,"6ii","Total Refund issued as per last valid return, if any ( this amount should include interest u/s 244A received )  (Please see instruction)",null,null,null,null,null,null,null,null,null,null,"6ii",null,null,null,{"$f":" VALUE(MID(sheet9.Date,4,2))","v":3},{"$f":" VALUE(MID(sheet9.Date,9,2))","v":23}]
[null,null,7,"Fee for default in furnishing return of income u/s 234F ",null,null,null,null,null,null,null,null,null,null,7,{"$f":"IF(MID(sheet1.ReturnFileSec1,4,4)=\"(8A)\",Sheet9.IntrstPayUs234F,0)","v":0}]
[null,null,8,"Regular Assessment Tax, if any (in applicable cases)",null,null,null,null,null,null,null,null,null,null,8,null,null,null,{"$f":"ROUND((MAX(0,(U_AggrLiabilityRefund+U_AggrLiabilityNoRefund)-U_FeeIncUS234F)*0.25),0)","v":0}]
[null,null,9,"Aggregate liability on additional income "]
[null,null,null,"9i","In case refund has been issued [3 + 6ii- (5 + 8 + 4)])",null,null,null,null,null,null,null,null,null,"9i",{"$f":"IF(MID(sheet1.ReturnFileSec1,4,4)=\"(8A)\",IF(P17>0,P13+P17-(P15+P19+U_AmtRefundable),0),0)","v":0}]
[null,null,null,"9ii","In case refund has not been issued [3 + 6i – (5+8+4)]",null,null,null,null,null,null,null,null,null,"9ii",{"$f":"IF(MID(sheet1.ReturnFileSec1,4,4)=\"(8A)\",IF(P17=0,P13+P16-(P15+P19+U_AmtRefundable),0),0)","v":0}]
[null,null,10,"Additional income-tax liability on updated income [25% or 50% of (9-7)]",null,null,null,null,null,null,null,null,null,null,10,{"$f":"IF(OR(Vyear<24,AND(Vyear=24,Vmonth<4)),ROUND((MAX(0,(U_AggrLiabilityRefund+U_AggrLiabilityNoRefund)-U_FeeIncUS234F)*0.25),0),ROUND((MAX(0,(U_AggrLiabilityRefund+U_AggrLiabilityNoRefund)-U_FeeIncUS234F)*0.5),0))","v":0},null,null,{"$f":"MAX(0,(U_AggrLiabilityRefund+U_AggrLiabilityNoRefund)-U_FeeIncUS234F)","v":0}]
[null,null,11,"Net amount payable (9+10)",null,null,null,null,null,null,null,null,null,null,11,{"$f":"IF(MID(sheet1.ReturnFileSec1,4,4)=\"(8A)\",MAX(0,P21+P22+P23),0)","v":0}]
[null,null,12,"Tax paid u/s 140B",null,null,null,null,null,null,null,null,null,null,12,{"$f":"U_Total1","v":0}]
[null,null,13,"Tax due (11-12) ",null,null,null,null,null,null,null,null,null,null,13,{"$f":"IF(MID(sheet1.ReturnFileSec1,4,4)=\"(8A)\",MAX(0,P24-P25),0)","v":0}]
[null,null,14,"Tax Payment details (ONLY as per Updated Return)"]
[null,null,null,null,"A","Details of payments of tax on updated return u/s 140B "]
[null,null,null,null,"Sl. No.","BSR Code ","Date of Deposit\n(DD/MM/YYYY)","Serial Number of Challan",null,null,"Amount (Rs)"]
[null,null,null,null,null,"\n(1) ","\n(2)","(3)",null,null,"\n(4)"]
[null,null,null,null,1,null,""]
[null,null,null,null,{"$f":"E31+1","v":2}]
[null,null,null,null,"Total",null,null,null,null,null,{"$f":"IF(MID(sheet1.ReturnFileSec1,4,4)=\"(8A)\",SUM(U_Amt1),0)","v":0}]
[]
[null,null,"Note:","Note:",null,"Enter the totals of tax paid u/s 140B  at sl.no.12 of Part B-ATI"]
[null,null,null,null,"B","Details of payments of Advance Tax / Self Assessment Tax /  Regular Assessment Tax, credit for which has not been claimed in the earlier return (credit for the same is not to be allowed again under section 140B(2) ) "]
[null,null,null,null,"Sl. No.","BSR Code ","Date of Deposit\n(DD/MM/YYYY)","Serial Number of Challan",null,null,"Amount (Rs)"]
[null,null,null,null,null,"\n(1) ","\n(2)","(3)",null,null,"\n(4)"]
[null,null,null,null,1,null,""]
[null,null,null,null,{"$f":"E39+1","v":2}]
[null,null,null,null,"Total",null,null,null,null,null,{"$f":"IF(MID(sheet1.ReturnFileSec1,4,4)=\"(8A)\",SUM(U_Amt2),0)","v":0}]
[]
[null,null,"Note:","Note:",null,"Credit for above is not to be allowed again under section 140B(2) "]
[null,null,15,"Relief u/s 89 which is not claimed in earlier return [relief for the same is not to be allowed under section 140B(2)]",null,null,null,null,null,null,null,null,null,null,15]

{"sheet":"IT","index":47,"n_rows":27,"n_cols":29,"rows_kept":27,"cut":false,"hidden":false,"merged":[[15,2,20,2],[25,4,26,6],[14,2,14,3],[14,4,14,7]]}
[]
[]
[]
[null,null,null,null,null,null,null,null,null,null,null,null,null,null,null,null,null,null,null,null,null,{"$f":"SUMIF(FormulaofSAT,\"=12\",IT.Amt)","v":0},{"$f":"SUMIF(FormulaofSAT,\"=24\",IT.Amt)","v":0}]
[null,null,null,null,null,null,null,null,null,null,null,null,null,null,null,null,null,null,null,null,null,{"$f":"SUMIF(FormulaofSAT,\"=11\",IT.Amt)","v":0},{"$f":"SUMIF(FormulaofSAT,\"=23\",IT.Amt)","v":0}]
[null,null,null,null,null,null,null,null,null,null,null,null,null,null,null,null,null,null,null,null,null,{"$f":"SUMIF(FormulaofSAT,\"=10\",IT.Amt)","v":0},{"$f":"SUMIF(FormulaofSAT,\"=22\",IT.Amt)","v":0}]
[null,null,null,null,null,null,null,null,null,null,null,null,null,null,null,null,null,null,null,null,null,{"$f":"SUMIF(FormulaofSAT,\"=9\",IT.Amt)","v":0},{"$f":"SUMIF(FormulaofSAT,\"=21\",IT.Amt)","v":0}]
[null,null,null,null,null,null,null,null,null,null,null,null,null,null,null,null,null,null,null,null,null,{"$f":"SUMIF(FormulaofSAT,\"=8\",IT.Amt)","v":0},{"$f":"SUMIF(FormulaofSAT,\"=20\",IT.Amt)","v":0}]
[null,null,null,null,null,null,null,null,null,null,null,null,null,null,null,null,null,null,null,null,null,{"$f":"SUMIF(FormulaofSAT,\"=7\",IT.Amt)","v":0},{"$f":"SUMIF(FormulaofSAT,\"=19\",IT.Amt)","v":0}]
[null,null,null,null,null,null,null,null,null,null,null,null,null,null,null,null,null,null,null,"Quarter Income Break up",null,{"$f":"SUMIF(FormulaofSAT,\"=6\",IT.Amt)","v":0},{"$f":"SUMIF(FormulaofSAT,\"=18\",IT.Amt)","v":0}]
[null,null,null,null,null,null,null,null,null,null,null,null,null,null,null,null,null,null,null,null,{"$f":"SUMIF(FormulaofQ,\"=5\",IT.Amt)","v":0},{"$f":"SUMIF(FormulaofSAT,\"=5\",IT.Amt)","v":0},{"$f":"SUMIF(FormulaofSAT,\"=17\",IT.Amt)","v":0}]
[null,null,null,null,null,null,null,null,null,null,null,null,null,null,null,null,null,null,null,null,{"$f":"SUMIF(FormulaofQ,\"=4\",IT.Amt)","v":0},{"$f":"SUMIF(FormulaofSAT,\"=4\",IT.Amt)","v":0},{"$f":"SUMIF(FormulaofSAT,\"=16\",IT.Amt)","v":0}]
[null,null,null,null,null,null,null,null,null,null,null,null,null,null,null,null,null,null,null,null,{"$f":"SUMIF(FormulaofQ,\"=3\",IT.Amt)","v":85000},{"$f":"SUMIF(FormulaofSAT,\"=3\",IT.Amt)","v":0},{"$f":"SUMIF(FormulaofSAT,\"=15\",IT.Amt)","v":0}]
[null,null,null,null,null,null,null,null,null,null,null,null,null,null,null,null,null,null,null,null,{"$f":"SUMIF(FormulaofQ,\"=2\",IT.Amt)","v":0},{"$f":"SUMIF(FormulaofSAT,\"=2\",IT.Amt)","v":0},{"$f":"SUMIF(FormulaofSAT,\"=14\",IT.Amt)","v":0}]
[null,null,"15A",null,"Details of payments of Advance Tax and Self-Assessment Tax",null,null,null,null,null,null,null,null,null,null,null,"State Code",{"$f":"MID(sheet1.StateCode1,1,2)","v":"09"},"AT",{"$f":"SUMIF(IT.FormulaOfS,\"<2\",IT.Amt)","v":85000},{"$f":"SUMIF(FormulaofQ,\"=1\",IT.Amt)","v":0},{"$f":"SUMIF(FormulaofSAT,\"=1\",IT.Amt)","v":0},{"$f":"SUMIF(FormulaofSAT,\"=13\",IT.Amt)","v":0},{"$f":"SUMIF(FormulaofQ0,\"=1\",IT.Amt)","v":0},{"$f":"IF(IT.Qtr0>0,0.75,1)","v":1}]
[null,null,"TAX PAYMENTS","Sl.\nNo.","BSR Code\nMust be filled to include the payment in the Total","Date of Deposit\n(DD/MM/YYYY)","Serial Number of\nChallan","Amount (Rs)",null,null,null,null,null,null,null,null,"TN and Pondicherry case",{"$f":"IF(OR(R15=\"03\",R15=\"04\",R15=\"20\",R15=\"21\",R15=\"22\",R15=\"23\",R15=\"30\"),FALSE,FALSE)","v":false},"SAT",{"$f":"SUMIF(IT.FormulaOfS,\">=2\",IT.Amt)","v":0},"ExSAT",{"$f":"SUMIF(FormulaOfExSAT,\">=A\",IT.Amt)","v":0},"ExSAT1",{"$f":"SUMIF(FormulaOfExSAT1,\">=B\",IT.Amt)","v":0}]
[null,null,null,1,2,3,4,5,null,null,null,null,null,null,null,null,"Year","Day","Month",null,null,null,null,null,"TN CASE","Normal case"]
[null,null,null,1,"0000574","30/11/2021","00072",40000,null,null,null,null,null,null,null,null,{"$f":"VALUE(MID(F18,7,4))","v":2021},{"$f":"VALUE(MID(F18,1,2))","v":30},{"$f":"VALUE(MID(F18,4,2))","v":11},{"$f":"IF(Q18>2022,2,IF(Q18>=2022,IF(S18>=4,2,1),1))","v":1},{"$f":"IF(TN.Flag,Y18,Z18)","v":3},{"$f":"IF(Q18<=2022,IF(T18>1,IF(S18<4,S18+9,S18-3),0),S18+9)","v":0},{"$f":"IF(Q18<=2023,IF(T18>1,IF(AND(S18=1,R18<=10),\"A\",S18-3),0),S18+9)","v":0},null,{"$f":"IF(T18>1,6,IF(Q18<2022,IF((S18=6)*(R18>30),2,IF(S18<7,1,IF((S18=9)*(R18>15),3,IF(S18<10,2,IF((S18=12)*(R18>31),4,IF(S18<13,3,4)))))),IF(S18<3,4,IF(R18<16,4,5))))","v":3},{"$f":"IF(T18>1,6,IF(Q18<2022,IF((S18=6)*(R18>15),2,IF(S18<7,1,IF((S18=9)*(R18>15),3,IF(S18<10,2,IF((S18=12)*(R18>15),4,IF(S18<13,3,4)))))),IF(S18<3,4,IF(R18<16,4,5))))","v":3},{"$f":"IF(Q18<=2022,IF(T18>1,IF(AND(S18=11,R18<=7),\"B\",S18-3),0),S18+9)","v":0},{"$f":"IF(Q18<=2022,IF(T18>1,S18-3,0),S18+9)","v":0},{"$f":"IF(Q18<=2022,IF(T18>1,IF(AND(S18=9,R18<=15),\"B\",S18-3),0),S18+9)","v":0}]
[null,null,null,{"$f":"D18+1","v":2},"0000598","30/11/2021","00089",45000,null,null,null,null,null,null,null,null,2021,30,11,{"$f":"IF(Q19>2022,2,IF(Q19>=2022,IF(S19>=4,2,1),1))","v":1},3,{"$f":"IF(Q19<=2022,IF(T19>1,IF(S19<4,S19+9,S19-3),0),S19+9)","v":0},{"$f":"IF(Q19<=2023,IF(T19>1,IF(AND(S19=1,R19<=10),\"A\",S19-3),0),S19+9)","v":0},null,{"$f":"IF(T19>1,6,IF(Q19<2022,IF((S19=6)*(R19>30),2,IF(S19<7,1,IF((S19=9)*(R19>15),3,IF(S19<10,2,IF((S19=12)*(R19>31),4,IF(S19<13,3,4)))))),IF(S19<3,4,IF(R19<16,4,5))))","v":3},{"$f":"IF(T19>1,6,IF(Q19<2022,IF((S19=6)*(R19>15),2,IF(S19<7,1,IF((S19=9)*(R19>15),3,IF(S19<10,2,IF((S19=12)*(R19>15),4,IF(S19<13,3,4)))))),IF(S19<3,4,IF(R19<16,4,5))))","v":3},{"$f":"IF(Q19<=2022,IF(T19>1,IF(AND(S19=11,R19<=7),\"B\",S19-3),0),S19+9)","v":0},{"$f":"IF(Q19<=2022,IF(T19>1,S19-3,0),S19+9)","v":0},{"$f":"IF(Q19<=2022,IF(T19>1,IF(AND(S19=9,R19<=15),\"B\",S19-3),0),S19+9)","v":0}]
[null,null,null,{"$f":"D19+1","v":3},null,null,null,null,null,null,null,null,null,null,null,null,{"$error":"#VALUE!"},{"$error":"#VALUE!"},{"$error":"#VALUE!"},{"$error":"#VALUE!"},{"$error":"#VALUE!"},{"$error":"#VALUE!"},{"$error":"#VALUE!"},null,{"$error":"#VALUE!"},{"$error":"#VALUE!"},{"$f":"IF(Q20<=2022,IF(T20>1,IF(AND(S20=11,R20<=7),\"B\",S20-3),0),S20+9)","v":{"$error":"#VALUE!"}},{"$error":"#VALUE!"},{"$error":"#VALUE!"}]
[null,null,null,{"$f":"D20+1","v":4},null,null,null,null,null,null,null,null,null,null,null,null,{"$error":"#VALUE!"},{"$error":"#VALUE!"},{"$error":"#VALUE!"},{"$error":"#VALUE!"},{"$error":"#VALUE!"},{"$error":"#VALUE!"},{"$error":"#VALUE!"},null,{"$error":"#VALUE!"},{"$error":"#VALUE!"},{"$f":"IF(Q21<=2022,IF(T21>1,IF(AND(S21=11,R21<=7),\"B\",S21-3),0),S21+9)","v":{"$error":"#VALUE!"}},{"$error":"#VALUE!"},{"$error":"#VALUE!"}]
[null,null,null,{"$f":"D21+1","v":5},null,null,null,null,null,null,null,null,null,null,null,null,{"$error":"#VALUE!"},{"$error":"#VALUE!"},{"$error":"#VALUE!"},{"$error":"#VALUE!"},{"$error":"#VALUE!"},{"$error":"#VALUE!"},{"$error":"#VALUE!"},null,{"$error":"#VALUE!"},{"$error":"#VALUE!"},{"$error":"#VALUE!"},{"$error":"#VALUE!"},{"$error":"#VALUE!"}]
[null,null,null,{"$f":"D22+1","v":6},null,null,null,null,null,null,null,null,null,null,null,null,{"$error":"#VALUE!"},{"$error":"#VALUE!"},{"$error":"#VALUE!"},{"$error":"#VALUE!"},{"$error":"#VALUE!"},{"$error":"#VALUE!"},{"$error":"#VALUE!"},null,{"$error":"#VALUE!"},{"$error":"#VALUE!"},{"$f":"IF(Q23<=2022,IF(T23>1,IF(AND(S23=11,R23<=7),\"B\",S23-3),0),S23+9)","v":{"$error":"#VALUE!"}},{"$error":"#VALUE!"},{"$error":"#VALUE!"}]
[null,null,null,null,null,"Total",null,{"$f":"SUM(IT.Amt)","v":85000},null,null,null,null,null,null,null,null,null,null,null,null,null,null,null,null,null,null,0]
[null,null,"NOTE",null,"Enter the totals of Advance tax and Self-Assessment tax in Sl No. 10a & 10d of Part B-TTI"]
[null,null,null,null,null,null,null,null,null,null,null,null,null,null,null,null,"Note:",null,null,null,"Example:","FormulaOfExSAT=IF(P16<=2018,IF(S16>1,IF(R16<4,R16+9,IF(AND(R16=8,Q16<=5),\"A\",R16-3)),0),R16+9)"]
[null,null,null,null,null,null,null,null,null,null,null,null,null,null,null,null,"EXSAT need to be changed in case if Date is need to be postponed.",null,null,null,null,"FormulaOfExSAT1=IF(P16<=2018,IF(S16>1,IF(AND(R16=9,Q16<=30),\"B\",R16-3),0),R16+9)"]

{"sheet":"TDS","index":48,"n_rows":38,"n_cols":23,"rows_kept":38,"cut":false,"hidden":false,"merged":[[3,14,3,18],[4,15,4,18],[3,19,3,20],[16,20,16,21],[16,15,16,19],[2,2,2,4],[3,11,3,13],[4,12,4,13],[3,2,3,3],[3,9,3,10],[11,3,11,4],[38,3,39,6],[24,3,24,4],[37,3,37,4],[29,5,30,5],[29,4,30,4],[29,6,30,6],[37,5,37,11],[29,11,30,11],[29,9,30,9],[29,7,29,8],[29,10,30,10],[12,3,13,6],[28,2,28,4],[29,2,31,2],[25,3,26,6],[15,2,15,4],[16,2,16,3],[16,12,16,14],[17,13,17,14],[17,16,17,19],[16,10,16,11]]}
[]
[]
[null,null,"Schedule TDS 1",null,null,"Details of Tax Deducted at Source on Income [As per Form 16 A issued by Deductor(s)]"]
[null,null,"15B1",null,"Sl. No.","TDS credit in the name of \nTDS credit relating to self /other person [other person as per rule 37BA(2)] ","PAN of Other Person (if TDS credit related to other person) ","Aadhaar No. of Other Person (if TDS credit related to other person) ","Tax Deduction Account\nNumber (TAN) of the\nDeductor","Unclaimed TDS brought forward (b/f)",null,"TDS OF THE CURRENT FINANCIAL YEAR (TDS DEDUCTED DURING THE FY 2021-22)",null,null,"TDS CREDIT BEING CLAIMED THIS YEAR (ONLY IF CORRESPONDING RECEIPT IS BEING OFFERED FOR TAX THIS YEAR, NOT APPLICABLE IF TDS IS DEDUCTED U/S 194N)",null,null,null,null,"Corresponding Receipt offered",null,"TDS credit being carried forward "]
[null,null,null,null,"(Col 1)","(Col 2)","(Col 3a)","(Col 3b)","(Col 4)","Fin. Year in which deducted\n(Col 5)","TDS b/f\n(Col 6)","Deducted in own hands\n(Col 7)","Deducted in the hands of any other person as per rule 37BA(2) (if applicable)\n(Col 8)",null,"Claimed in own hands\n(Col 9)","Claimed in the hands ofany other person as per rule 37BA(2) (if applicable)\n(Col 10)",null,null,null,"Gross Amount \n(Col 11)","Head of Income\n(Col 12)","(Col 13)"]
[null,null,null,null,null,null,null,null,null,null,null,null,"Income","TDS",null,"Income","TDS","PAN ","Aadhaar No."]
[null,null,null,null,1,"SELF",null,null,"DELA12381D",null,null,200000,null,null,200000,null,null,null,null,2050000,"INCOME FROM HOUSE PROPERTY",{"$f":"MAX(0,K7+L7+N7-O7-Q7)","v":0}]
[null,null,null,null,{"$f":"E7+1","v":2},"SELF",null,null,"DELP09235C",null,null,41000,null,null,41000,null,null,null,null,410000,"INCOME FROM OTHER SOURCES",{"$f":"MAX(0,K8+L8+N8-O8-Q8)","v":0}]
[null,null,null,null,{"$f":"E8+1","v":3},null,null,null,null,null,null,null,null,null,null,null,null,null,null,null,null,{"$f":"MAX(0,K9+L9+N9-O9-Q9)","v":0}]
[null,null,null,null,{"$f":"E9+1","v":4},null,null,null,null,null,null,null,null,null,null,null,null,null,null,null,null,{"$f":"MAX(0,K10+L10+N10-O10-Q10)","v":0}]
[null,null,null,null,null,null,null,null,null,null,null,null,null,"Total",{"$f":"SUM(TDS2.ClaimedInOwnHands)","v":241000}]
[null,null,null,"NOTE",null,"Please enter total of column 9 in10b of Part B- TTI "]
[]
[]
[]
[null,null,"Schedule TDS 2",null,null," Details of Tax Deducted at Source (TDS) on Income [As per Form 16B/16C/16D furnished issued  by Deductor(s)]"]
[null,null,"15B2",null,"Sl. No.","TDS credit in the name of","PAN of Other Person (if TDS credit related to other person) ","Aadhaar No. of Other Person (if TDS credit related to other person) ","PAN of the buyer/Tenant / Deductor","Aadhaar of the buyer/Tenant/  Deductor","Unclaimed TDS brought forward (b/f)",null,"TDS OF THE CURRENT FINANCIAL YEAR (TDS DEDUCTED DURING THE FY 2021-22)",null,null,"TDS credit being claimed this Year (only if corresponding receipt is being offered for tax this year)",null,null,null,null,"Corresponding Receipt offered",null,"TDS credit being carried forward "]
[null,null,null,null,"(Col 1)","(Col 2)","(Col 3a)","(Col 3b)","(Col 4a)","(Col 4b)","Fin. Year in which deducted\n(Col 5)","TDS b/f\n(Col 6)","Deducted in own hands\n(Col 7)","Deducted in the hands of spouse as per section 5A or any other person as per rule 37BA(2) (if applicable) \n(Col 8)",null,"Claimed in own hands\n(Col 9)","Claimed in the hands ofany other person as per rule 37BA(2) (if applicable)\n(Col 10)",null,null,null,"Gross Amount \n(Col 11)","Head of Income\n(Col 12)","(Col 13)"]
[null,null,null,null,null,null,null,null,null,null,null,null,null,"Income","TDS",null,"Income","TDS","PAN","Aadhaar No."]
[null,null,null,null,1,null,null,null,null,null,null,null,null,null,null,null,null,null,null,null,null,"(SELECT)",{"$f":"MAX(0,L20+M20+O20-P20-R20)","v":0}]
[null,null,null,null,{"$f":"E20+1","v":2},null,null,null,null,null,null,null,null,null,null,null,null,null,null,null,null,null,{"$f":"MAX(0,L21+M21+O21-P21-R21)","v":0}]
[null,null,null,null,{"$f":"E21+1","v":3},null,null,null,null,null,null,null,null,null,null,null,null,null,null,null,null,null,{"$f":"MAX(0,L22+M22+O22-P22-R22)","v":0}]
[null,null,null,null,{"$f":"E22+1","v":4},null,null,null,null,null,null,null,null,null,null,null,null,null,null,null,null,null,{"$f":"MAX(0,L23+M23+O23-P23-R23)","v":0}]
[null,null,null,null,null,null,null,null,null,null,null,null,null,null,"Total",{"$f":"SUM(TDS3.ClaimedInOwnHands)","v":0}]
[null,null,null,"NOTE",null,"Please enter total of column 9 in10b of Part B- TTI "]
[]
[]
[]
[null,null,"15C",null,null,"Details of Tax Collected at Source [As per Form 27D issued by the Collector(s)]"]
[null,null,"TCS ON INCOME",null,"SI. NO.","Tax Deduction and Tax Collection Account Number of the collector","Name of the Collector","Unclaimed TCS brought forward (b/f)",null,"TCS OF THE CURRENT FIN. YEAR\n(TAX COLLECTED DURING FY 2021-22)","Amount out of (5) or (6) being claimed this Year (only if corresponding income is being offered for tax this year)","Amount out of (5) or (6) being carried forward"]
[null,null,null,null,null,null,null,"Financial year in which TCS is collected.","Amount\nb/f"]
[null,null,null,null,"(Col 1)","(Col 2)","( Col 3 )","( Col 4 )","(Col  5 )","( Col 6 )","(Col  7 )","( Col 8 )"]
[null,null,null,null,1,null,null,null,null,null,null,{"$f":"MAX(0,I33+J33-K33)","v":0}]
[null,null,null,null,{"$f":"E33+1","v":2},null,null,null,null,null,null,{"$f":"MAX(0,I34+J34-K34)","v":0}]
[null,null,null,null,{"$f":"E34+1","v":3},null,null,null,null,null,null,{"$f":"MAX(0,I35+J35-K35)","v":0}]
[null,null,null,null,{"$f":"E35+1","v":4},null,null,null,null,null,null,{"$f":"MAX(0,I36+J36-K36)","v":0}]
[null,null,null,null,null,null,null,"Total",null,null,{"$f":"SUM(TCS.AmtTCSClaimedThisYear)","v":0}]
[null,null,null,"NOTE",null,"Please enter total of column (7) of Schedule-TCS in 10c of Part B-TTI"]

{"sheet":"FD","index":49,"n_rows":7,"n_cols":8,"rows_kept":7,"cut":false,"hidden":true,"merged":[[6,0,6,1],[6,2,6,7],[4,2,4,5],[5,2,5,5],[0,2,0,7],[1,0,5,0],[1,2,1,5],[2,2,2,5],[3,2,3,5],[0,0,0,1]]}
["Schedule FD",null,"Break-up of payments/receipts in Foreign currency "]
["Currency -Wise Break-Up","SL.NO",null,null,null,null,"In Foreign Currency","Total Amount"]
[null,"i","Payments made during the year on Capital Amount"]
[null,"ii","Payments made during the year on revenus Amount"]
[null,"iii","Receipts during the year on capital amount"]
[null,"iv","Receipts during the year on revenus amount"]
["NOTE",null,"Please refer to instructions for filling out this schedule. "]

{"sheet":"VERIFICATION","index":50,"n_rows":10,"n_cols":12,"rows_kept":10,"cut":false,"hidden":false,"merged":[[6,2,6,6],[5,2,5,6],[2,2,2,11],[7,2,7,11],[9,3,9,11],[3,2,3,6],[6,8,6,11],[5,8,5,11],[8,2,8,10],[4,2,4,11],[3,8,3,10]]}
[]
[]
[null,null,"VERIFICATION"]
[null,null,"I, (full name in block letters),",null,null,null,null,"YUVA KUMAR","Son/ Daughter of ",null,null,"RAJ KUMAR"]
[null,null,"solemnly declare that to the best of my knowledge and belief, the information given in the return and the schedules thereto is correct and complete is in accordance with the provisions of the Income-tax Act, 1961."]
[null,null,"I further declare that I am making this return in my capacity as",null,null,null,null,"Managing Partner","and I am also competent to make this return and verify it."]
[null,null,"I am holding Permanent Account Number",null,null,null,null,"AANPK7889K"]
[null,null,"I further declare that the critical assumptions specified in the agreement have been satisfied and all the terms and conditions of the agreement have been complied with. (Applicable, in a case where return is furnished under section 92CD) "]
[null,null,"Date  (System Date)                                      ",null,null,null,null,null,null,null,null,{"$f":"CONCATENATE(IF(DAY(TODAY())<10,\"0\",\"\"),DAY(TODAY()),\"/\",IF(MONTH(TODAY())<10,\"0\",\"\"),MONTH(TODAY()),\"/\",YEAR(TODAY()))","v":"02/03/2023"}]
[null,null,"Note :","1. Submission date is the system date of e-Filing portal of Income Tax Department. The same is available in the Acknowledgement/ITR-V generated after submission of return.\n2. Verification Date is the date of e-Verification at e-Filing portal of Income Tax Department or the date of receipt of ITR-V at CPC, Bengaluru. The same will be available in View Returns/Forms option of e-Filing portal. In case of e-Verification, it is available in Acknowledgement."]

{"sheet":"SUMMARY","index":51,"n_rows":50,"n_cols":5,"rows_kept":50,"cut":false,"hidden":false,"merged":[[4,1,6,1],[7,1,15,1],[8,3,8,4],[15,3,15,4],[10,2,10,4],[12,3,12,4],[13,3,13,4],[14,3,14,4],[2,2,2,4],[4,3,4,4],[6,3,6,4],[7,3,7,4],[5,3,5,4],[16,1,23,1],[24,1,27,1],[16,3,16,4],[49,2,49,4],[43,3,43,4],[44,3,44,4],[38,3,38,4],[39,3,39,4],[40,3,40,4],[45,3,45,4],[46,3,46,4],[48,2,48,4],[41,3,41,4],[42,3,42,4],[35,2,35,4],[37,3,37,4]]}
[]
[]
[null,null,"SUMMARY"]
[]
[null,null,"Name",{"$f":"TRIM(sheet9.AssesseeVerName)","v":"YUVA KUMAR"}]
[null,null,"PAN",{"$f":"TRIM(sheet1.PAN)","v":"AAAFY4512P"}]
[null,null,"Son / Daughter of",{"$f":"TRIM(sheet9.FatherName)","v":"RAJ KUMAR"}]
[null,null,"Verification PAN",{"$f":"TRIM(sheet9.PAN)","v":"AANPK7889K"}]
[null,null,"Filing Date",{"$f":"TRIM(sheet9.Date)","v":"02/03/2023"}]
[]
[null,null,"Tax payment Amount Verification"]
[]
[null,null,"Schedule","Amount (Rs)"]
[null,null,"IT",{"$f":"IT.SAT+AdvanceTax","v":85000}]
[null,null,"TDS2",{"$f":"SUM(TDS2.Total)","v":241000}]
[null,null,"TDS3",{"$f":"SUM(TDS3.Total)","v":0}]
[null,null,"TCS",{"$f":"SUM(TCS.Total)","v":0}]
[]
[null,null,"Sl. No.","Schedule","Number of Entries"]
[null,null,1,"QUANTITATIVE_DETAILS-a",1]
[null,null,2,"QUANTITATIVE_DETAILS-b",0]
[null,null,3,"QUANTITATIVE_DETAILS-c",0]
[null,null,4,"HOUSE_PROPERTY",0]
[null,null,5,"10A",0]
[null,null,6,"10AA",0]
[null,null,7,"80G-A",1]
[null,null,8,"80G-B",0]
[null,null,9,"80G-C",0]
[null,null,{"$f":"C28+1","v":10},"80G-D",0]
[null,null,11,"SI",0]
[null,null,{"$f":"C30+1","v":12},"IT",0]
[null,null,13,"TDS2",0]
[null,null,14,"TDS3",0]
[null,null,15,"TCS",0]
[]
[null,null,"Please verify the following schedules / sheets whichever showing up as empty, whether they are optional, not filled, or are they actually empty"]
[]
[null,null,"Schedule","Filled Status"]
[null,null,"Nature of Business",{"$f":"IF('PART A - GENERAL(2)'!E39=\"\",\"Empty\",IF('PART A - GENERAL(2)'!E39=\"(Select)\",\"Empty\",\"Filled\"))","v":"Filled"}]
[null,null,"Schedule DPM",{"$f":"IF(SUM(DPM_DOA!$F$21,DPM_DOA!$G$21,DPM_DOA!$H$21)=0,\"Empty\",\"Filled\")","v":"Filled"}]
[null,null,"Schedule DOA",{"$f":"IF(SUM(DPM_DOA!$G$45,DPM_DOA!$H$45,DPM_DOA!$I$45,DPM_DOA!$J$45,DPM_DOA!$K$45,DPM_DOA!$L$45,DPM_DOA!$M$45)=0,\"Empty\",\"Filled\")","v":"Empty"}]
[null,null,"Schedule ESR",{"$f":"IF(SUM(ESRTOT.ExcessAmtOverDebPL)=0,\"Empty\",\"Filled\")","v":"Empty"}]
[null,null,"Schedule CFL",{"$f":"IF(SUM(CFL!$G$26,CFL!$L$26,CFL!$M$26,CFL!$P$26,CFL!$S$26)=0,\"Empty\",\"Filled\")","v":"Empty"}]
[null,null,"Schedule 80 IA",{"$f":"IF(SUM(IA80.TotSchedule80_IA)=0,\"Empty\",\"Filled\")","v":"Empty"}]
[null,null,"Schedule 80 IB",{"$f":"IF(SUM(IB80.TotSchedule80_IB)=0,\"Empty\",\"Filled\")","v":"Empty"}]
[null,null,"Schedule 80 IC",{"$f":"IF(SUM(IC80.TotSchedule80_IC)=0,\"Empty\",\"Filled\")","v":"Empty"}]
[null,null,"Schedule EI",{"$f":"IF(SUM(Sheet20.scei.TotalExemptInc)=0,\"Empty\",\"Filled\")","v":"Empty"}]
[]
[null,null,"Instructions"]
[null,null,"\n1. Verify the count of number of entries against each schedule.\n2. Ensure the total number of entries entered per schedule is valid and being reflected in the preview sheet.   \n3. In case this count does not match the number of entries, you may check and update the schedules. \n4. Click on ‘Save JSON’ to generate the JSON file if all the details are verified.\n5. All Schedules which are optional and not filled are reported as ‘Empty’ in Preview."]

{"sheet":"Help","index":52,"n_rows":95,"n_cols":13,"rows_kept":95,"cut":false,"hidden":true,"merged":[[70,1,70,7],[74,1,74,7],[76,1,76,7],[67,1,67,7],[73,1,73,7],[72,1,72,7],[75,1,75,7],[69,1,69,7],[68,1,68,7],[94,1,98,7],[77,1,77,7],[80,1,80,7],[81,1,81,7],[85,1,85,7],[89,1,89,7],[91,1,91,7],[90,1,90,7],[63,1,63,7],[64,1,64,7],[65,1,65,7],[66,1,66,7],[55,1,55,7],[57,1,57,7],[62,1,62,7],[56,1,56,7],[54,1,54,6],[30,1,30,7],[31,1,31,7],[35,1,35,7],[40,1,40,7],[45,1,45,7],[46,1,46,7],[47,1,47,7],[49,1,49,7],[53,1,53,7],[50,1,50,7],[48,1,48,7],[30,11,30,12],[28,1,28,7],[25,11,25,12],[27,11,27,12],[28,11,28,12],[29,1,29,7],[29,11,29,12],[26,11,26,12],[2,11,2,12],[15,11,15,12],[22,11,22,12],[23,11,23,12],[24,11,24,12],[31,11,31,12],[59,11,59,12],[38,11,38,12],[43,11,43,12],[41,11,41,12],[42,11,42,12],[47,11,47,12],[50,11,50,12],[45,11,45,12],[32,11,32,12],[36,11,36,12],[46,11,46,12],[48,11,48,12],[49,11,49,12],[51,11,51,12],[33,11,33,12],[34,11,34,12],[35,11,35,12],[40,11,40,12],[37,11,37,12],[65,11,65,12],[61,11,61,12],[44,11,44,12],[39,11,39,12],[60,11,60,12],[58,11,58,12],[63,11,63,12],[62,11,62,12],[57,11,57,12],[52,11,52,12],[64,11,64,12],[53,11,53,12],[54,11,54,12],[56,11,56,12],[55,11,55,12],[79,11,79,12],[75,11,75,12],[76,11,76,12],[77,11,77,12],[78,11,78,12],[70,11,70,12],[74,11,74,12],[69,11,69,12],[66,11,66,12],[71,11,71,12],[67,11,67,12],[72,11,72,12],[73,11,73,12]]}
[]
[]
[null,"Instructions to fill up Excel Utility",null,null,null,null,null,null,null,null,null,"How to use this Excel Utility "]
[null,null,null,null,null,null,null,null,null,null,"i","Overview"]
["i","Overview",null,null,null,null,null,null,null,null,"ii","Before you begin"]
["ii","Before you begin",null,null,null,null,null,null,null,null,"iii","Structure of the ITR utility"]
["iii","Structure of the utility for ITR5",null,null,null,null,null,null,null,null,"iv","Filing and Using the Excel utility "]
["iv","Customisation of the utility",null,null,null,null,null,null,null,null,"v","Validating the sheets"]
["v","Filling up the sections of the form using the utility",null,null,null,null,null,null,null,null,"vi","Navigation"]
["vi","Validating the sheets",null,null,null,null,null,null,null,null,"vii","Calculate Tax"]
["vii","Generating the JSON",null,null,null,null,null,null,null,null,"viii","Generating the JSON"]
["viii","Printing",null,null,null,null,null,null,null,null,"ix","Printing"]
["ix","Importing",null,null,null,null,null,null,null,null,"x","Importing"]
[null,null,null,null,null,null,null,null,null,null,"xi","How to submit an ITR using Excel utility?"]
[null,"Configure the utility"]
[null,"Fill up applicable schedules",null,null,null,null,null,null,null,null,"i","Overview :"]
[null,"Validate each sheet",null,null,null,null,null,null,null,null,null,"Fill up applicable schedules","Navigate to each schedule applicable and fill the data."]
[null,"Generate JSON",null,null,null,null,null,null,null,null,null,"Validate each sheet","Click on the 'Validate' Button on each filled sheet .Correct errors (if any) identified by the validate feature."]
[null,"Validate Summary",null,null,null,null,null,null,null,null,null,"Click on Calculate Tax","Fill the necessary details in applicable schedules and click on 'Calculate Tax' for computation of tax. \nPlease make sure you click the 'Calculate Tax' button before generation of JSON.  "]
[null,"Upload the JSON",null,null,null,null,null,null,null,null,null,"Generate JSON","After all required schedules have been filled ,validated and tax has been calculated (using 'Calculate Tax' buttton), click on Generate JSON which will recheck all sheets."]
[null,null,null,null,null,null,null,null,null,null,null,"Save JSON","To save the JSON in the desired path, click on the 'Save JSON' button."]
[null,null,null,null,null,null,null,null,null,null,null,"Upload the JSON","To upload the saved JSON, Go to https://incometaxindiaefiling.gov.in -> Login -> e-File -> Upload Return."]
[]
[null,null,null,null,null,null,null,null,null,null,"ii","Before you begin :"]
[null,null,null,null,null,null,null,null,null,null,null,"Read the instructions for filling up the form available in the following website:  http://www.incometaxindia.gov.in"]
[null,null,null,null,null,null,null,null,null,null,null,"The ITR Utility is an Excel Workbook that consists of a number of individual, integrated worksheets. Each of the sheets contains one or more schedules for data entry. Initially, all the sheets are visible to the user. A number of these sheets are optional. The user can decide which sheets are applicable to their case and accordingly select Y or N to hide or show the sheets. Similarly , by selecting the sheets which the user needs for printing, it is possible to control how many sheets should be printed (in case all sheets are not required to be printed). Later on, these settings can always be changed.      "]
["i","Overview"]
[null,"The excel utility can be used for creating the JSON file for efiling of your returns.",null,null,null,null,null,null,null,null,"iii","Structure of the ITR utility :"]
[null,"The excel utility provides all the sections and schedules required to be submitted as a part of the eFiling process.",null,null,null,null,null,null,null,null,null,"Various sheets and schedules per sheet form part of the Utility.Each sheet includes a number of distinct, titled sections/schedules. "]
[null,"Once, the data to be submitted for filing your returns is entered into the utility, the Generate JSON button will take you to a validation page.",null,null,null,null,null,null,null,null,null,"Each sheet is identified by the sheet tabs located at the bottom of the Excel window. These tabs are labeled with abbreviation forms of the schedules of the sheet."]
[null,"The validation page shows the error free entries that the utility will convert into JSON format when the user clicks on Publish JSON button."]
[null,"The JSON file generated will be placed in the same folder as the Excel utility, and will carry a name ending with your PAN number followed by the file extension.",null,null,null,null,null,null,null,null,"iv","Filing and Using the Excel utility :"]
[null,null,null,null,null,null,null,null,null,null,null,"Every section/schedule is color coded to facilitate the user. The different types of cells in the sheets are as follows:"]
["ii","Before you begin",null,null,null,null,null,null,null,null,null,"a) The mandatory fields are marked in red. The data entered will have a  green background color (Certain fields are mandatory under specific conditions only)."]
[null,"Read the general instructions for filling up the form.",null,null,null,null,null,null,null,null,null,"b) Data entry cells for optional/non-mandatory fields have a black font and a green background color. "]
[null,"The ITR5 Excel Utility is an Excel Workbook that consists of a number of individual, integrated worksheets. Each of the sheets contains one or more schedules for data entry. Initially, all the sheets are visible to the user. A number of these sheets are o",null,null,null,null,null,null,null,null,null,"c) Fields whose values are autocalculated /autopopulated by the utility  have a blue font and a white background color. Linked fields, where no data entry is done by the user, but a value is picked up from an existing cell elsewhere in the sheet, these have  a blue font for the labels and a white background.      "]
[null,"The following elements are available on every sheet",null,null,null,null,null,null,null,null,null,"All amounts are in Indian Rupee."]
[null,"a) The navigate buttons for navigating to the various schedules.",null,null,null,null,null,null,null,null,null,"All date fields must be entered in dd/mm/yyyy format."]
[null,"b) Home Button which allows a user to navigate to the customisation home page.",null,null,null,null,null,null,null,null,null,"For percentage fields, only enter the the value upto two decimal places. (percentage symbol is not required)."]
[null,"c) Validate Sheet button , which allows the user to check for errors / omissions if any, per sheet.",null,null,null,null,null,null,null,null,null,"Adding more rows : Schedules such as TDS, TCS, IT etc  allow users to enter data in tabular format. Using the 'Add rows' button provided below these tables, the assessee can add as many rows as required.\nNote: Rows once added and not required (or empty rows) should not be deleted, even if they are blank. The utility does not generate JSON for rows left blank."]
[null,"d) Generate JSON button, which will be clicked by the user to generate the JSON and validate all the sheets. The validation results are shown on the validate page. If found OK, user may click on Save JSON button which will save the file required for uploading"]
[null,"e) Print button which will print all the sheets selected for printing on the Customization page.",null,null,null,null,null,null,null,null,"v","Validating the sheets :"]
[null,null,null,null,null,null,null,null,null,null,null,"Validate the filled sheet using the 'Validate' button. Correct errors (if any) identified by the validate feature."]
[null,"f) Help button providing context specific help."]
[null,null,null,null,null,null,null,null,null,null,"vi","Navigation :  "]
["iii","Structure of the utility for ITR5",null,null,null,null,null,null,null,null,null,"There are two navigation buttons in the utility : 'Next' and 'Previous'. The user can navigate between the sheets by either clicking on next or previous buttons as required.    "]
[null,"The various sheets and the schedules covered per sheet is as below."]
[null,"The name of each sheet displays in the tab at the bottom of the workbook.",null,null,null,null,null,null,null,null,"vii","Calculate Tax :  "]
[null,"Each sheet includes a number of distinct, titled sections / schedules. These titles are displayed in black color background with white text. ",null,null,null,null,null,null,null,null,null,"For the Tax to be computed the user must click on the 'Calculate Tax' button after filling the necessary details in applicable schedules. "]
[null,"Each sheet is identified by the sheet tabs located at the bottom of the Excel window. These tabs are labeled with abbreviation forms of the schedules of the sheet."]
[null,"You can move to a specific sheet by either choosing the sheet tab from the bottom, or by navigating to the required schedule (and sheet) using the right panel.",null,null,null,null,null,null,null,null,"viii","Generating the JSON :"]
[null,null,null,null,null,null,null,null,null,null,null,"Verify all the information entered in the ITR Utility."]
["iv","Customisation of the utility by clicking on the Home button shown here ",null,null,null,null,null,null,null,null,null,"Click on the 'Generate JSON' button. This will revalidate all the sheets, and direct the user to the confirmation page which shows the various schedules (and the no of rows per schedule) being generated. "]
[null,"Depending on the various optional schedules that you need to leave out of the filing, you can customize the utility to show you only relevant sheets.",null,null,null,null,null,null,null,null,null,"Once verified, the assessee can then click on 'Save JSON' option to generate and save the JSON. "]
[null,"To customize the utility, one needs to go to the Home page / Customization sheet by clicking on the Home button.",null,null,null,null,null,null,null,null,null,"After successfully generating, a message will be displayed with the name and location of the saved JSON."]
[null,"This sheet has embedded in it the Version number, buttons to access the \"General instructions to fill the utility and form\". \"Customize\" button which when clicked will apply the customization inputs for hiding unnecessary sheets, to the utility.",null,null,null,null,null,null,null,null,null,"This JSON can then be uploaded in the efiling portal."]
[null,"The print options are also stored on clicking Customize button. These options include user selected list of sheets that need to be printed."]
[null,"Note : If, on a sheet, there are more than one schedules, you should disable the sheet by selecting \"N\" only if all the schedules on that sheet are not relevant to you. ",null,null,null,null,null,null,null,null,"ix","Printing : "]
[null,null,null,null,null,null,null,null,null,null,null,"The print button in the utility provides an option to print  after previewing."]
["v","Filling up the sections of the form using the utility."]
[null,"Every section / schedule is color coded to facilitate the user to enter data.",null,null,null,null,null,null,null,null,"x","Importing :"]
[null,"There are following different types of cells in the sheet.",null,null,null,null,null,null,null,null,null,"a) Import Previous Version"]
[null,"a)    Data entry cells for mandatory fields which are required to be compulsorily entered by the user. These have a red font and a green background color.",null,null,null,null,null,null,null,null,null,"If the user has a filled ITR in a previous version, the user can import the data from the previous version to the current version.To import click on the  'Import Previous Version' button in the utility and browse the path of the previous version of  filled ITR. "]
[null,"b)    Data entry cells for mandatory fields which , if left empty by the user, will default to a predefined value. These have a red font and a green background color.",null,null,null,null,null,null,null,null,null,"b) Import Personal and Tax Details"]
[null,"c)    Data entry cells for fields which may be mandatory based on the value of some other field. Ex : Only in the case of revised return are the dates of original return and receipt no to be filled in. Such labels are either partially red, or , if they have a serial number, then only the serial number is red. This deontes conditional compulsory fields. The background color is green.",null,null,null,null,null,null,null,null,null,"The user can  import the personal and Tax details into ITR1 excel utility by following the given steps."]
[null,"d) Data entry cells for optional fields have a black font and a green background color.",null,null,null,null,null,null,null,null,null,"Step 1 : Login into the e-Filing portal using valid login credentials."]
[null,"e) Formula fields where no data entry is done by the user but a value is calculated based on already available values. These have a blue font for the labels and a white background color. The formulas are not changeable by the user but are calculated by the utility.",null,null,null,null,null,null,null,null,null,"Step 2 : Go to the 'Downloads' menu and click the 'Download Prefilled JSON' link. Select the 'Assessment Year' and download the Prefilled JSON in the desired location."]
[null,"f) Linked fields, where no data entry is done by the user, but a value is picked up from an existing cell elsewhere in the sheet. These have  a blue font for the labels and a white background. ",null,null,null,null,null,null,null,null,null,"Step 3 : Open the utility and click on the 'Import Personal/Tax Details from JSON' button. "]
[null,"Refer to the navigation buttons shown on the left for Next, Previous and Index. The user can navigate the various sheets and schedules by either clicking on next or previous buttons to move to the next or the previous tab, or by clicking on Index to move to the sheet which contains a list of all the schedules , or alternatively by directly clickin on the sheet tabs at the bottom. "]
[null,"Moving through the cells : After the user has reached the desired schedule, the user can click on the tab keyboard button. On clicking tab, the user is taken to the next green cell of the schedule.",null,null,null,null,null,null,null,null,"xi","How to submit an ITR using Excel utility?"]
[null,"Adding more rows : Schedules such as Subsidiary Details, 10A, TDS2, TCS etc allow users to enter data in tabular format.",null,null,null,null,null,null,null,null,null,"1.Download the ITR preparation utility for the assessment year under 'Downloads'."]
[null,"The utility provides an option to add more rows in these schedules than provided in the base utility.",null,null,null,null,null,null,null,null,null,"2.Prepare the Income Tax  return using the utility. Validate, Generate and Save the JSON in the desired path."]
[null,"IMPORTANT : To add more rows, the user must place the cursor in the last row that is already filled up in the schedule. Thereafter, the user can click on the button provided to add more rows. The user can enter a number greater than or equal to 1. On clicking enter, the desired number of rows will be increased.",null,null,null,null,null,null,null,null,null,"3. Login to e-Filing portal (https://incometaxindiaefiling.gov.in) and go to e-File --> Upload Return."]
[null,"Warning : Rows once added, cannot be deleted. However, if rows are not filled up, they will not be reflected in the generated JSON.",null,null,null,null,null,null,null,null,null,"4.Select the appropriate ITR, Assessment Year and JSON (using browse button)."]
[null,"Note while filling tabular data  : When filling tabular data, ensure that all rows are filled one after another. Do not skip a row blank. Do not use 2 rows for entering value for a particular entry. Example : If address is longer than the available space, please continue typing in the provided space, and do not move to the next cell to complete the rest of the address. The cell will automatically expand and accept the full address in the same cell.",null,null,null,null,null,null,null,null,null,"5.Upload Digital Signature Certificate(DSC) if applicable. Please ensure the DSC is registered with e-Filing."]
[null,"After filling a row in the table, do not skip a blank row before filling the next row. The utility will stop generating JSON at the point it encounters a blank row. Also, every schedule has either red colored column headers, which must be filled up for a valid row to be accepted by the utility. To be sure that the data entered in such tables is being accepted by the utility, please check the count per table displayed when you click on the JSON generate button. By clicking on the JSON Generate button, you will be taken to the verification sheet wherein the utility will calculate the valid rows for each and every schedule and display the same for final verification before outputting the JSON file for upload.",null,null,null,null,null,null,null,null,null,"6.Click on 'SUBMIT' button."]
[null,"Caution to ensure correct generation of JSON as per expectations : For Schedules such as IT, FBT where the totals are being transferred to Part B, ensure that user does not enter data in the schedules which is incomplete. All rows where amounts are entered, must have all mandatory data filled up, else the JSON may not reflect the entered invalid rows. Refer above paragraph for details.",null,null,null,null,null,null,null,null,null,"7.On successful submission, ITR-V/Acknowledgement would be displayed. Click on the link and download the ITR-V/Acknowledgement."]
[null,"After the required schedules in a sheet are filled up, the user must click the Validate sheet button to confirm that the sheet has no obvious errors or data entry validation errors that are checked by the utility. Though the utility attempts to check most",null,null,null,null,null,null,null,null,null,"If ITR is uploaded with DSC, the Return Filing process is complete. The return will be further processed and the Assessee will be notified accordingly. Please check your emails on these notifications."]
[null,null,null,null,null,null,null,null,null,null,null,"If ITR is uploaded with DSC, the Return Filing process is complete. The return will be further processed and the Assessee will be notified accordingly. Please check your emails on these notifications."]
["vii","Generating the JSON and Verification :",null,null,null,null,null,null,null,null,null,"Note:\nIf ITR is uploaded with DSC, the Return Filing process is complete. The return will be further processed and the Assessee will be notified accordingly. Please check your emails on these notifications.\nOR\nThe return is not uploaded with a DSC, an ITR-V Form should be printed, signed and submitted to CPC, Bangalore using Ordinary Post or Speed Post ONLY within 120 days from the date of e-Filing. On receipt of the ITR-V at CPC, the return will be further processed and the Assessee will be notified accordingly. Please check your emails on these notifications."]
[null,"Once all relevant sheets have been filled up, the user can then click on the \"Generate JSON\" button. This will validate once again all the sheets, and direct the user to the confirmation page which shows the various schedules listed showing which have been"]
[null,"The user can then confirm the same with their actual data, and if ok, click on Save JSON option to finally save the generated JSON to the file system. The system will prompt the user with the name and location of the file saved."]
[null,"This file can then be uploaded towards efiling your return and an acknowledgement can be hence generated."]
[]
["viii","Printing."]
[null,"The filled up sheets can be printed. The user can decide which sheets to print by selecting from the homepage, the sheets desired to be printed from the last column."]
[null,"On clicking Print, the selected sheets will be printed out."]
[]
["ix","Importing"]
[null,"If a taxpayer has already filled up ITR5 on a previous version, the tax payer can transfer all of the data from the previous version to the current version by following the given steps."]
[null,"Step 1 : Ensure that the previous version is kept in a specific folder (any folder) and the taxpayer is aware of the location of this file. If this file is open, please close it / save and close before proceeding."]
[null,"Step 2 : Open the latest version of the ITR5 utility after downloading from the site, unzipping if the downloaded utility is in an archived (zip) format . "]
[null,"Step 3 : Go to the General sheet and click on the import button on the top right. Follow the messages thereafter"]
[]
[null,"Note :                                                                                                                                                                                                                           The import utility is only for importing already filled in ITR5 forms for the current assessment year using the Excel utility provided on the IncomeTax Efiling site for ITR5. Typically, the need to import would be for those taxpayers who may have filled in ITR5 using excel utility this year for current assessment year, and would need to move to a later version of the utility provided on the IncomeTax eFiling Site.This feature is NOT for importing either from any other ITR such as 1,2,3 etc or from previous years data to this years data."]

{"sheet":"DB","index":53,"n_rows":91906,"n_cols":113,"rows_kept":562,"cut":true,"hidden":true,"merged":[[0,65,0,66],[0,68,0,69],[0,71,0,72],[0,89,0,90]],"bounds":{"rows_first":250,"rows_last":62,"rows_between":250,"halvings":3}}
["Audit Section Code","(Select)","Return filed under section",null,"(Select)","STATE","(Select)","Country","(select)","NOB","(Select)","Status","(Select)",null,"(Select)","cmb_QDTradingConcern.UnitOfMeasure","(Select)","cmb_QDRawMaterial.UnitOfMeasure","(Select)","cmb_QDFinishrByProd.UnitOfMeasure","(Select)","ayunit","(Select)",null,"(Select)","FSI_newcountrycode","(Select)","cmb_TRFA.Country","(Select)",null,null,null,null,"IFSCCodeSet","ABHY0065001","MAHB0001092","HDFC0001945","NICB0000004","SBIN0016955",null,null,"(Select)",null,null,"CG DTAA Selection",null,"CG DTAA Selection",null,null,null,null,null,"ABHYUDAYA COOPERATIVE BANK LIMITED","ABHY",null,"(Select)","HashKey","7Z3mxclnABiXtYG",null,"(Select)",null,"(Select)",null,"(Select)",null,"PTI Source Vlookup",null,null,"Source Vlookup",null,null,"OS DTAA Vlookup",null,null,"(Select)",null,"(Select)",null,"(Select)",null,"(Select)","STATE without FOREIGN","(Select)",null,null,"(Select)","(Select)",null,null,"Pincode list",null,null,"RngBacYes","bad value","oldbacValue",null,"Financial Year","Cost Inflation Index",null,null,null,"(Select)","(Select)",null,null,null,null,null,"Return Filed DD",null,"Revised",null,"AY 2023"]
[null,"10A",null,"(Select)","(Select)",null,"01-Andaman and Nicobar Islands",null,"93-AFGHANISTAN",null,"00002-Not Applicable",null,"1-Firm",null,"1-Firm",null,"101-gms",null,"101-gms",null,"101-gms",null,"2001-02",null,"a-laying and operating a cross-country natural gas pipeline network for distribution, including storage facilities being an integral part of such network;",null,"AFGHANISTAN:93",null,"AFGHANISTAN:93",null,null,null,null,null,"ABHY0065002","MAHB0001093","HDFC0001944","NICB0000003","SBIN0016954",null,null,"93-AFGHANISTAN",null,null,"(Select)",null,"(Select)",null,null,null,null,null,"ADITYA BIRLA IDEA PAYMENTS BANK","ABPB",null,"INDIVIDUAL","HAshIteration",1849,null,"PTI_115A(1)(a)(i)-Dividends in the case of non-residents",null,"115A(1)(a)(i)-Dividends in the case of non-residents",null,"56(2)(i)-Dividend",null,"PTI_115A(1)(a)(i)","PTI_5A1ai",null,"115A(1)(a)(i)","5A1ai",null,"56(2)(i)","56i",null,"80GGA(2)(a)-Sum paid to Research Association or University, college or other institution for Scientific Research",null,"01001-Growing and manufacturing of tea",null,"14001-Software development ",null,"08001-Renting of land transport equipment",null,"01-Andaman and Nicobar Islands",null,null,"INE216D08039","KSS LIMITED OCD 31MR15 FVRS1LAC",null,null,null,null,null,"(Select)",null,null,null,2001,100,null,null,null,"INE0A0Q08027","AVANCE TECHNOHUB PRIVATE LIMITED",null,null,null,null,null,"(Select)",null,"(Select)",null,"(Select)"]
[null,"10AA",null,"139(1)-On or before due date",11,null,"02-Andhra Pradesh",null,"1001-ALAND ISLANDS",null,"01001-Growing and manufacturing of tea  ",null,"2-Local Authority",null,"2-Local Authority",null,"102-kilograms",null,"102-kilograms",null,"102-kilograms",null,"2002-03",null,"aa-building and operating a new hotel of two-star or above category as classified by the Central Government;",null,"ALAND ISLANDS:1001",null,"ALAND ISLANDS:1001",null,null,null,null,null,"ABHY0065003","MAHB0001094","HDFC0001943","NKGS0000114","SBIN0016952",null,null,"1001-ALAND ISLANDS",null,null,"A1e",null,"A1e",null,null,null,null,null,"ABU DHABI COMMERCIAL BANK","ADCB",null,"INDIVIDUAL_WORKING_PARTNER [AS PER EXPL.4 TO SEC.40(b)]",null,null,null,"PTI_115A(1)(a)(ii)-Interest received in the case of non-residents",null,"115A(1)(a)(ii)-Interest received in the case of non-residents",null,"56(2)-Interest",null,"PTI_115A(1)(a)(ii)","PTI_5A1aii",null,"115A(1)(a)(ii)","5A1aii",null,"56(2)",56,null,"80GGA(2)(aa)-Sum paid to Research Association or University, college or other institution for Social science or Statistical Research",null,"01002-Growing and manufacturing of coffee ",null,"14002-Other software consultancy  ",null,"11002-Packers and movers",null,"02-Andhra Pradesh",null,null,"INE305C01029","PANAMA PETROCHEM LIMITED EQ NEW FV RS. 2/-",null,null,744,"01-ANDAMAN AND NICOBAR ISLANDS",null,"Continue to opt",null,null,null,2002,105,null,null,null,"INE0JSH01018","APEEJAY CHEMICAL INDUSTRIES PRIVATE LIMITED",null,null,"(Select)",null,null,"Original Return 139(1)/139(4)",null,"Original Return 139(1)/139(4)",null,"Updated return"]
[null,"44DA",null,"139(4)-Belated",12,null,"03-Arunachal Pradesh",null,"355-ALBANIA",null,"01002-Growing and manufacturing of coffee ",null,"3-Cooperative Bank",null,"3-AOP/BOI",null,"103-litre",null,"103-litre",null,"103-litre",null,"2003-04",null,"ab-building and operating a new hospital with at least one hundred beds for patients;",null,"ALBANIA:355",null,"ALBANIA:355",null,null,null,null,null,"ABHY0065004","MAHB0001095","HDFC0001942","NKGS0000113","SBIN0016951",null,null,"355-ALBANIA",null,null,"A2c",null,"A2c",null,null,null,null,null,"THE AKOLA DISTRICT CENTRAL COOPERATIVE BANK","ADCC",null,"INDIVIDUAL_RETIRED_PARTNER","Creation Date",{"$f":"CONCATENATE(YEAR(TODAY()),\"-\",IF(MONTH(TODAY())<10,\"0\",\"\"),MONTH(TODAY()),\"-\",IF(DAY(TODAY())<10,\"0\",\"\"),DAY(TODAY()))","v":"2023-03-02"},null,"PTI_115A(1)(a)(iia)-Interest received by non-resident from infrastructure debt fund",null,"115A(1)(a)(iia)-Interest received by non-resident from infrastructure debt fund",null,"56(2)(iii)-Rental income from machinery, plants, buildings etc.,",null,"PTI_115A(1)(a)(iia)","PTI_5A1aiia",null,"115A(1)(a)(iia)","5A1aiia",null,"56(2)(iii)","562iii",null,"80GGA(2)(b)-Sum paid to an association or institution for Rural Development",null,"01003-Growing and manufacturing of rubber ",null,"14003-Data processing ",null,"11008-Freight transport by road ",null,"03-Arunachal Pradesh",null,null,"INE315R01018","SHIVAM MEGASTRUCTURES PVT LTD EQ CLASS A",null,null,515,"02-ANDHRA PRADESH",null,"Opt out","1-Firm","1-Partnership Firm","RES-Resident",2003,109,null,null,null,"INE572O07HP1","ECAP EQUITIES LIMITED",null,null,"Section 10(20)",null,null,"Revised return",null,"Revised return"]
[null,"50B",null,"142(1)",13,null,"04-Assam",null,"213-ALGERIA",null,"01003-Growing and manufacturing of rubber ",null,"4-Cooperative Society",null,"4-AJP(Artificial Juridical Person)",null,"104-kilolitre",null,"104-kilolitre",null,"104-kilolitre",null,"2004-05",null,"ac-developing and building a housing project under a scheme for slum redevelopment or rehabilitation framed by the Central Government or a State Government, as the case may be, and which is notified by the Board in this behalf in accordance with the guidelines as may be prescribed;"," ","ALGERIA:213",null,"ALGERIA:213",null,null,null,null,null,"ABHY0065005","MAHB0001096","HDFC0001941","NKGS0000112","SBIN0016950",null,null,"213-ALGERIA",null,null,"A3e-111A",null,"A3e-111A",null,null,null,null,null,"AIRTEL PAYMENTS BANK LIMITED","AIRP",null,"HUF",null,null,null,"PTI_115A(1)(a)(iiaa)-Income received by non-resident as referred in section 194LC(1)",null,"115A(1)(a)(iiaa)-Income received by non-resident as referred in section 194LC(1)",null,"56(2)(x)-Income under section 56(2)(x)",null,"PTI_115A(1)(a)(iiaa)","PTI_5A1aiiaa",null,"115A(1)(a)(iiaa)","5A1aiiaa",null,"56(2)(x)","562x",null,"80GGA(2)(bb)-Sum paid to PSU or Local Authority or  an association or institution approved by the National Committee for carrying out any eligible project",null,"01004-Market gardening and horticulture specialties",null,"14004-Database activities and distribution of electronic content ",null,"11010-Forwarding of freight ",null,"04-Assam",null,null,"INE315R01026","SHIVAM MEGASTRUCTURES PVT LTD EQ CLASS B",null,null,524,"02-ANDHRA PRADESH",null,null,null,null,null,2004,113,null,null,null,"INE659A14554","SUDARSHAN CHEMICAL INDUSTRIES LTD.",null,null,"Section 10(23AA)",null,null,null,null,"Updated return"]
[null,"80-IA",null,"148",14,null,"05-Bihar",null,"684-AMERICAN SAMOA",null,"01004-Market gardening and horticulture specialties ",null,"5-Limited Liability Partnership",null,null,null,"105-metre",null,"105-metre",null,"105-metre",null,"2005-06",null,"ad-developing and building a housing project under a scheme for affordable housing framed by the Central Government or a State Government, as the case may be, and notified by the Board in this behalf in accordance with the guidelines as may be prescribed;"," ","AMERICAN SAMOA:684",null,"AMERICAN SAMOA:684",null,null,null,null,null,"ABHY0065006","MAHB0001097","HDFC0001940","NKGS0000111","SBIN0016948",null,null,"684-AMERICAN SAMOA",null,null,"A3e-115D",null,"A6g",null,null,null,null,null,"AMBARNATH JAIHIND COOP BANK LTD AMBARNATH","AJHC",null,"FIRM",null,null,null,"PTI_115A(1)(a)(iiab)-Income received by non-resident as referred in section 194LD",null,"115A(1)(a)(iiab)-Income received by non-resident as referred in section 194LD",null,"115A(1)(a)(i)-Dividends in the case of non-residents",null,"PTI_115A(1)(a)(iiab)","PTI_5A1aiiab",null,"115A(1)(a)(iiab)","5A1aiiab",null,"115A(1)(a)(i)","5A1ai",null,"80GGA(2)(c)-Sum paid to an association or institution for Conservation of Natural Resources or for afforestation",null,"01005-Raising of silk worms and production of silk",null,"14005-Other IT enabled services ",null,"11011-Receiving and acceptance of freight ",null,"05-Bihar",null,null,"INE315R01034","SHIVAM MEGASTRUCTURES PVT LTD EQ CLASS C",null,null,522,"02-ANDHRA PRADESH",null,"RngBacNo",null,null,null,2005,117,null,null,null,"INE704I14EX9","BARCLAYS INVESTMENTS & LOANS (INDIA) PRIVATE LIMITED",null,null,"Section 10(23AAB)"]
[null,"80-IAB",null,"153A",15,null,"06-Chandigarh",null,"376-ANDORRA",null,"01005-Raising of silk worms and production of silk ",null,"6-Any other AOP BOI ",null,null,null,"106-kilometre",null,"106-kilometre",null,"106-kilometre",null,"2006-07",null,"ae-new plant or in a newly installed capacity in an existing plant for production of fertilizer;",null,"ANDORRA:376",null,"ANDORRA:376",null,null,null,null,null,"ABHY0065007","MAHB0001098","HDFC0001939","NKGS0000110","SBIN0016947",null,null,"376-ANDORRA",null,null,"A4a",null,"A7",null,null,null,null,null,"AKOLA JANATA COMMERCIAL COOPERATIVE BANK","AKJB",null,"LLP",null,null,null,"PTI_115A(1)(a)(iiac)-Income received by non-resident as referred in section 194LBA",null,"115A(1)(a)(iiac)-Income received by non-resident as referred in section 194LBA",null,"115A(1)(a)(ii)-Interest received in the case of non-residents",null,"PTI_115A(1)(a)(iiac)","PTI_5A1aiiac",null,"115A(1)(a)(iiac)","5A1aiiac",null,"115A(1)(a)(ii)","5A1aii",null,"80GGA(2)(cc)-Sum paid for Afforestation, to the funds, which are notified by Central Govt.",null,"01006-Raising of bees and production of honey",null,"14006-BPO services ",null,"11012-Cargo handling ",null,"06-Chandigarh",null,null,"INE538F03172","ESSAR POWER LIMITED 0.01% PREF 31AG24",null,null,534,"02-ANDHRA PRADESH",null,"(Select)",null,null,null,2006,122,null,null,null,"INE754R14227","HERO FUTURE ENERGIES PRIVATE LIMITED",null,null,"Section 10(23BB)"]
[null,"80-IAC",null,"153C",16,null,"07-Dadra Nagar and Haveli",null,"244-ANGOLA",null,"01006-Raising of bees and production of honey ",null,"7-Private Discretionary Trust",null,null,null,"107-numbers",null,"107-numbers",null,"107-numbers",null,"2007-08",null,"af-setting up and operating an inland container depot or a container freight station notified or approved under the Customs Act, 1962 (52 of 1962);",null,"ANGOLA:244",null,"ANGOLA:244",null,null,null,null,null,"ABHY0065008","MAHB0001099","HDFC0001938","NKGS0000109","SBIN0016944",null,null,"244-ANGOLA",null,null,"A4b",null,"A8a",null,null,null,null,null,"ALLAHABAD BANK","ALLA",null,"DOMESTIC_COMPANY",null,null,null,"PTI_115A(1)(a)(iii)-Income from units purchased in foreign currency in the case of non-residents",null,"115A(1)(a)(iii)-Income from units purchased in foreign currency in the case of non-residents",null,"115A(1)(a)(iia)-Interest received by non-resident from infrastructure debt fund",null,"PTI_115A(1)(a)(iii)","PTI_5A1aiii",null,"115A(1)(a)(iii)","5A1aiii",null,"115A(1)(a)(iia)","5A1aiia",null,"80GGA(2)(d)-Sum paid for Rural Development to the funds, which are notified by Central Govt.",null,"01007-Raising of poultry and production of eggs",null,"14008-Maintenance and repair of office, accounting and computing machinery ",null,"11015-Other Transport & Logistics services n.e.c",null,"07-Dadra Nagar and Haveli",null,null,"INE790J03023","VATIKA LIMITED 0.001% PREF 31DC15",null,null,531,"02-ANDHRA PRADESH",null,"Opting in now",null,null,null,2007,129,null,null,null,"INE918K14686","EDELWEISS FINANCE & INVESTMENTS LTD",null,null,"Section 10(23BBA)"]
[null,"80-IB",null,"139(5)-Revised",17,null,"08-Daman and Diu",null,"1264-ANGUILLA",null,"01007-Raising of poultry and production of eggs  ",null,"8-AJP",null,null,null,"108-quintal",null,"108-quintal",null,"108-quintal",null,"2008-09",null,"ag-bee-keeping and production of honey and beeswax;",null,"ANGUILLA:1264",null,"ANGUILLA:1264",null,null,null,null,null,"ABHY0065009","MAHB0001100","HDFC0001937","NKGS0000108","SBIN0016943",null,null,"1264-ANGUILLA",null,null,"A5e",null,"A8b",null,null,null,null,null,"AHMEDABAD MERCANTILE COOPERATIVE BANK","AMCB",null,"FOREIGN_COMPANY",null,null,null,"PTI_115A(1)(b)-Income from royalty or fees for technical services received from Government or Indian concern",null,"115A(1)(b)-Income from royalty or fees for technical services received from Government or Indian concern",null,"115A(1)(a)(iiaa)-Income received by non-resident as referred in section 194LC(1)",null,"PTI_115A(1)(b)","PTI_5A1bA",null,"115A(1)(b)","5A1bA",null,"115A(1)(a)(iiaa)","5A1aiiaa",null,"80GGA(2)(e)-Sum paid to National Urban Poverty Eradication Fund as setup and notified by Central Govt.",null,"01008-Rearing of sheep and production of wool",null,"16001-Legal profession ",null,null,null,"08-Daman and Diu",null,null,"INF903J01U93","SUNDARAM MUTUAL FUND FTP DW REGULAR PLAN QTLRY DIVI PAY 28SP16",null,null,516,"02-ANDHRA PRADESH",null,"Not opting",null,null,null,2008,137,null,null,null,"INE002A08674","RELIANCE INDUSTRIES LIMITED",null,null,"Section 10(23BBC)"]
[null,"80-IC",null,"139(9)",18,null,"09-Delhi",null,"1010-ANTARCTICA",null,"01008-Rearing of sheep and production of wool ",null,null,null,null,null,"109-ton",null,"109-ton",null,"109-ton",null,"2009-10",null,"ah-setting up and operating a warehousing facility for storage of sugar;",null,"ANTARCTICA:1010",null,"ANTARCTICA:1010",null,null,null,null,null,"ABHY0065010","MAHB0001101","HDFC0001936","NKGS0000107","SBIN0016942",null,null,"1010-ANTARCTICA",null,null,"A6g",null,"A8c",null,null,null,null,null,"AHMEDNAGAR MERCHANTS CO-OP BANK LTD","AMDN",null,"CO_OPERATIVE_SOCIETY",null,null,null,"PTI_115E(a)-Investment Income of a Non-Resident Indian",null,"115E(a)-Investment Income of a Non-Resident Indian",null,"115A(1)(a)(iiab)-Income received by non-resident as referred in section 194LD",null,"PTI_115E(a)","PTI_5Ea",null,"115E(a)","5Ea",null,"115A(1)(a)(iiab)","5A1aiiab",null,null,null,"01009-Rearing of animals and production of animal products",null,"16002-Accounting, book-keeping and auditing profession ",null,null,null,"09-Delhi",null,null,"INF903J01V01","SUNDARAM MUTUAL FUND FTP DW REGULAR PLAN HLF YRLY DIVI PAY 28SP16",null,null,533,"02-ANDHRA PRADESH",null,null,null,null,null,2009,148,null,null,null,"INE0A1508031","RELIANCE STRATEGIC BUSINESS VENTURES LIMITED",null,null,"Section 10(23BBE)"]
[null,"80-ID",null,"92CD-Modified return",19,null,"10-Goa",null,"1268-ANTIGUA AND BARBUDA",null,"01009-Rearing of animals and production of animal products ",null,null,null,null,null,"110-pound",null,"110-pound",null,"110-pound",null,"2010-11",null,"ai-laying and operating a slurry pipeline for the transportation of iron ore;",null,"ANTIGUA AND BARBUDA:1268",null,"ANTIGUA AND BARBUDA:1268",null,null,null,null,null,"ABHY0065011","MAHB0001102","HDFC0001935","NKGS0000104","SBIN0016940",null,null,"1268-ANTIGUA AND BARBUDA",null,null,"A7",null,null,null,null,null,null,null,"ANDHRA BANK","ANDB",null,"LOCAL_AUTHORITY",null,null,null,"PTI_115AB(1)(a)-Income received in respect of units purchased in foreign currency by an off-shore fund",null,"115AB(1)(a)-Income received in respect of units purchased in foreign currency by an off-shore fund",null,"115A(1)(a)(iiac)-Income received by non-resident as referred in section 194LBA",null,"PTI_115AB(1)(a)","PTI_5AB1a",null,"115AB(1)(a)","5AB1a",null,"115A(1)(a)(iiac)","5A1aiiac",null,null,null,"01010-Agricultural and animal husbandry services",null,"16003-Tax consultancy ",null,null,null,"10-Goa",null,null,"INF903J01V27","SUNDARAM MUTUAL FUND FTP DW DIRECT PLAN QTLRY DIVI PAY 28SP16",null,null,532,"02-ANDHRA PRADESH",null,"RngNone",null,null,null,2010,167,null,null,null,"INE0JR707011","K.M. GLOBAL CREDIT PRIVATE LIMITED",null,null,"Section 10(23BBG)"]
[null,"80-IE",null,"119(2)(b)-after condonation of delay",20,null,"11-Gujarat",null,"54-ARGENTINA",null,"01010-Agricultural and animal husbandry services  ",null,"(Select)",null,null,null,"111-milligrams",null,"111-milligrams",null,"111-milligrams",null,"2011-12",null,"aj-setting up and operating a semi-conductor wafer fabrication manufacturing unit, and which is notified by the Board in accordance with such guidelines as may be prescribed",null,"ARGENTINA:54",null,"ARGENTINA:54",null,null,null,null,null,"ABHY0065012","MAHB0001103","HDFC0001934","NKGS0000099","SBIN0016939",null,null,"54-ARGENTINA",null,null,"A8a",null,null,null,null,null,null,null,"AUSTRALIA AND NEW ZEALAND BANKING GROUP LIMITED","ANZB",null,"TRUST",null,null,null,"PTI_115AC(1)(a)-Income by way of Interest from bonds purchased in foreign currency  in case of a non-resident",null,"115AC(1)(a)-Income by way of Interest from bonds purchased in foreign currency  in case of a non-resident",null,"115A(1)(a)(iii)-Income from units purchased in foreign currency in the case of non-residents",null,"PTI_115AC(1)(a)","PTI_5AC1a",null,"115AC(1)(a)","5AC1a",null,"115A(1)(a)(iii)","5A1aiii",null,null,null,"01011-Soil conservation, soil testing and soil desalination services",null,"16004-Architectural profession ",null,null,null,"11-Gujarat",null,null,"INF903J01V35","SUNDARAM MUTUAL FUND FTP DW DIRECT PLAN HLF YRLY DIVI PAY 28SP16",null,null,535,"02-ANDHRA PRADESH",null,"(Select)",null,null,null,2011,184,null,null,null,"INE0JXY01013","CSL CAPITAL PRIVATE LIMITED",null,null,"Section 10(23BBH)"]
[null,"80JJAA",null,"139(8A)-Updated return",21,null,"12-Haryana",null,"374-ARMENIA",null,"01011-Soil conservation, soil testing and soil desalination services ",null,"1-Partnership Firm",null,null,null,"112-carat",null,"112-carat",null,"112-carat",null,"2012-13",null,"ak-developing or operating and maintaining or developing, operating and maintaining, any infrastructure facility; and",null,"ARMENIA:374",null,"ARMENIA:374",null,null,null,null,null,"ABHY0065013","MAHB0001104","HDFC0001933","NKGS0000097","SBIN0016938",null,null,"374-ARMENIA",null,null,"A8b",null,null,null,null,null,null,null,"THE ANDHRA PRADESH STATE COOPERATIVE BANK LIMITED","APBL",null,"AOP_BOI",null,null,null,"PTI_115AD(1)(i)-Income (other than dividend) received by an FII in respect of securities (other than units referred to in section115AB)",null,"115AD(1)(i)-Income (other than dividend) received by an FII in respect of securities (other than units referred to in section115AB)",null,"115A(1)(b)-Income from royalty or fees for technical services received from Government or Indian concern",null,"PTI_115AD(1)(i)","PTI_5AD1i",null,"115AD(1)(i)","5AD1i",null,"115A(1)(b)","5A1bA",null,null,null,"01012-Hunting, trapping and game propagation services",null,"16005-Engineering and technical consultancy ",null,null,null,"12-Haryana",null,null,"INE121H07AH3","IL&FS FINANCIAL SERVICES LIMITED SR-III 9.65 NCD 18SP19 FVRS1000",null,null,518,"02-ANDHRA PRADESH",null,null,null,null,null,2012,200,null,null,null,"INE0JY201016","SAVEO HEALTHTECH PRIVATE LIMITED",null,null,"Section 10(23C)(i)"]
[null,"80LA",null,null,null,null,"13-Himachal Pradesh",null,"297-ARUBA",null,"01012-Hunting, trapping and game propagation services ",null,"2-LLP (Limited Liability Partnership)",null,null,null,"113-numbers (1000s)",null,"113-numbers (1000s)",null,"113-numbers (1000s)",null,"2013-14",null,"b-all other cases not falling under any of the above clauses.",null,"ARUBA:297",null,"ARUBA:297",null,null,null,null,null,"ABHY0065014","MAHB0001105","HDFC0001932","NKGS0000096","SBIN0016937",null,null,"297-ARUBA",null,null,"A8c",null,null,null,null,null,null,null,"ANDHRA PRAGATHI GRAMEENA BANK","APGB",null,"ANY_OTHER_AJP",null,null,null,"PTI_115AD(1)(i)P-Income received by an FII in respect of bonds or government securities referred to in section 194LD",null,"115AD(1)(i)P-Income received by an FII in respect of bonds or government securities referred to in section 194LD",null,"115E(a)-Investment Income of a Non-Resident Indian",null,"PTI_115AD(1)(i)P","PTI_5AD1iP",null,"115AD(1)(i)P","5AD1iP",null,"115E(a)","5Ea",null,null,null,"01013-Growing of timber, plantation, operation of tree nurseries and conserving of forest",null,"16007-Fashion designing ",null,null,null,"13-Himachal Pradesh",null,null,"INE333R18023","EARC TRUST - SC 52 SERIES II SECURITY RECEIPTS 16JL14",null,null,505,"02-ANDHRA PRADESH",null,null,null,null,null,2013,220,null,null,null,"INE0JYB01019","ADVAITH BIOFUELS LIMITED",null,null,"Section 10(23C)(ii)"]
[null,"115JC",null,"(Select)",null,null,"14-Jammu and Kashmir",null,"61-AUSTRALIA",null,"01013-Growing of timber, plantation, operation of tree nurseries and conserving of forest ",null,null,null,null,null,"114-kwatt",null,"114-kwatt",null,"114-kwatt",null,"2014-15",null,null,null,"AUSTRALIA:61",null,"AUSTRALIA:61",null,null,null,null,null,"ABHY0065015","MAHB0001106","HDFC0001931","NKGS0000095","SBIN0016936",null,null,"61-AUSTRALIA",null,null,null,null,null,null,null,null,null,null,"ANDHRA PRADESH GRAMEENA VIKAS BANK","APGV",null,"SETTLER",null,null,null,"PTI_115BBA-Tax on non-resident sportsmen or sports associations or entertainer",null,"115BBA-Income received by non-resident sportsmen or sports associations or entertainer",null,"115AB(1)(a)-Income received in respect of units purchased in foreign currency by an off-shore fund",null,"PTI_115BBA","PTI_5BBA",null,"115BBA","5BBA",null,"115AB(1)(a)","5AB1a",null,null,null,"01014-Gathering of tendu leaves",null,"16008-Interior decoration ",null,null,null,"14-Jammu and Kashmir",null,null,"INE374Q18045","EARC TRUST - SC 28 SR IV SECURITY RECEIPTS 04AG14",null,null,517,"02-ANDHRA PRADESH",null,null,null,null,null,2014,240,null,null,null,"INE372G01046","C.T.R. MANUFACTURING INDUSTRIES PRIVATE LIMITED",null,null,"Section 10(23C)(iii)"]
[null,"10(23FF)",null,"139(1)-On or before due date",null,null,"15-Karnataka",null,"43-AUSTRIA",null,"01014-Gathering of tendu leaves ",null,"(Select)",null,null,null,"115-mwatt",null,"115-mwatt",null,"115-mwatt",null,"2015-16",null,null,null,"AUSTRIA:43",null,"AUSTRIA:43",null,null,null,null,null,"ABHY0065016","MAHB0001107","HDFC0001930","NKGS0000094","SBIN0016935",null,null,"43-AUSTRIA",null,null,null,null,null,null,null,null,null,null,"THE A.P. MAHESH COOPERATIVE URBAN BANK LIMITED","APMC",null,"TRUSTEE",null,null,null,"PTI_5AC1b-PTI -Income by way of Dividend from bonds or GDR purchased in foreign currency  in case of a non-resident",null,"5AC1b-115AC1b - Income by way of Dividend from bonds or GDRs purchased in foreign currency by non-residents - chargeable u/s 115AC",null,"115AC(1)(a)-Income by way of Interest from bonds purchased in foreign currency  in case of a non-resident",null,"PTI_115BBC","PTI_5BBC",null,"115BBC","5BBC",null,"115AC(1)(a)","5AC1a",null,null,null,"01015-Gathering of other wild growing materials",null,"16009-Photography  ",null,null,null,"15-Karnataka",null,null,"INE385R18015","ARCIL - AST - V TRUST SERIES I SECURITY RECEIPTS 28MR14",null,null,523,"02-ANDHRA PRADESH",null,null,null,null,null,2015,254,null,null,null,"INE432R07281","SHRIRAM HOUSING FINANCE LIMITED",null,null,"Section 10(23C)(iiia)"]
[null,"10(4D)",null,"139(4)-Belated",null,null,"16-Kerala",null,"994-AZERBAIJAN",null,"01015-Gathering of other wild growing materials  ",null,"1-Local Authority",null,null,null,"116-inch",null,"116-inch",null,"116-inch",null,"2016-17",null,null,null,"AZERBAIJAN:994",null,"AZERBAIJAN:994",null,null,null,null,null,"ABHY0065017","MAHB0001108","HDFC0001929","NKGS0000093","SBIN0016934",null,null,"994-AZERBAIJAN",null,null,"(Select)",null,"(Select)",null,null,null,null,null,"APNA SAHAKARI BANK LIMITED","ASBL",null,"BENEFICIARY",null,null,null,"PTI_115BBG-Transfer of carbon credits",null,"115BBG-Transfer of carbon credits",null,"115AD(1)(i)-Income (other than dividend) received by an FII in respect of securities (other than units referred to in section115AB)",null,"PTI_115BBG","PTI_5BBG",null,"115BBG","5BBG",null,"115AD(1)(i)","5AD1i",null,null,null,"01016-Forestry service activities, timber cruising, afforestation and reforestation",null,"16013-Business and management consultancy activities ",null,null,null,"16-Kerala",null,null,"INE386R18013","ARCIL - AST - 038-I- TRUST SERIES I SECURITY RECEIPTS 30JU14",null,null,504,"02-ANDHRA PRADESH",null,null,null,null,null,2016,264,null,null,null,"INE559R01029","LANDMARK CARS LIMITED",null,null,"Section 10(23C)(iiiaa)"]
[null,null,null,"139(5)-Revised",null,null,"17-Lakshadweep",null,"1242-BAHAMAS",null,"01016-Forestry service activities, timber cruising, afforestation and reforestation   ",null,null,null,null,null,"117-feet",null,"117-feet",null,"117-feet",null,"2017-18",null,"(Select)",null,"BAHAMAS:1242",null,"BAHAMAS:1242",null,null,null,null,null,"ABHY0065018","MAHB0001109","HDFC0001928","NKGS0000092","SBIN0016933",null,null,"1242-BAHAMAS",null,null,"B1e",null,"B1e",null,null,null,null,null,"AU SMALL FINANCE BANK LIMITED","AUBL",null,"PRINCIPAL_OFFICER",null,null,null,"PTI_5A1aiiaaP-PTI -Income received by non-resident as referred in proviso to section 194LC(1)",null,"5AD1iDiv-Income (being dividend) received by an FII in respect of securities (other than units referred to in section 115AB) - chargeable u/s 115AD(1)(i)",null,"115AD(1)(i)P-Income received by an FII in respect of bonds or government securities referred to in section 194LD",null,"PTI_115BB","PTI_5BB",null,"115BBDA","5BBDA",null,"115AD(1)(i)P","5AD1iP",null,null,null,"01017-Logging service activities, transport of logs within the forest ",null,"16018-Secretarial activities ",null,null,null,"17-Lakshadweep",null,null,"INE387R18011","ALCHEMIST - XXVI TRUST SECURITY RECEIPTS 30JU14",null,null,506,"02-ANDHRA PRADESH",null,null,null,null,null,2017,272,null,null,null,"INE093JA7E40","ANAND RATHI GLOBAL FINANCE LIMITED",null,null,"Section 10(23C)(iiiaaa)"]
[null,null,null,"92CD-Modified return",null,null,"18-Madhya Pradesh",null,"973-BAHRAIN",null,"01017-Logging service activities, transport of logs within the forest ",null,"(Select)",null,"(Select)",null,"118-sqft",null,"118-sqft",null,"118-sqft",null,"2018-19",null,"Banking Regulation Act, 1949",null,"BAHRAIN:973",null,"BAHRAIN:973",null,null,null,null,null,"ABHY0065019","MAHB0001110","HDFC0001927","NKGS0000091","SBIN0016932",null,null,"973-BAHRAIN",null,null,"B2e",null,"B2e",null,null,null,null,null,"ALMORA URBAN COOPERATIVE BANK LIMITED","AUCB",null,"EXECUTOR",null,null,null,"PTI_5AD1IB-PTI- Income (other than dividend) received by a specified fund in respect of securities (other than units referred to in section 115AB) - chargeable u/s 115AD(1)(i)",null,"5A1aiiaaP-Income received by non-resident as referred in proviso to section 194LC(1)",null,"115BBA-Tax on non-resident sportsmen or sports associations or entertainer",null,"PTI_115BBE","PTI_5BBE",null,"115BBF","5BBF",null,"115BBA","5BBA",null,null,null,"01018-Other agriculture, animal husbandry or forestry activity n.e.c",null,"16019_1-Medical Profession",null,null,null,"18-Madhya Pradesh",null,null,"INE397R01016","BAJAJ RESOURCES LIMITED EQ",null,null,503,"02-ANDHRA PRADESH",null,null,null,null,null,2018,280,null,null,null,"INE093JA7F15","ANAND RATHI GLOBAL FINANCE LIMITED",null,null,"Section 10(23C)(iiiaaaa)"]
[null,null,null,"119(2)(b)-after condonation of delay",null,null,"19-Maharashtra",null,"880-BANGLADESH",null,"01018-Other agriculture, animal husbandry or forestry activity n.e.c ",null,"1a-Primary Agricultural Credit Society",null,"1a-Primary Agricultural Credit Society",null,"119-acre",null,"119-acre",null,"119-acre",null,"2019-20",null,"Central Excise Act,1944",null,"BANGLADESH:880",null,"BANGLADESH:880",null,null,null,null,null,"ABHY0065020","MAHB0001111","HDFC0001926","NKGS0000090","SBIN0016931",null,null,"880-BANGLADESH",null,null,"B3c",null,"B3c",null,null,null,null,null,"BASSEIN CATHOLIC COOPERATIVE BANK LIMITED","BACB",null,null,null,null,null,"PTI_5AD1iDiv-PTI-Income (being dividend) received by an FII in respect of securities (other than units referred to in section 115AB) - chargeable u/s 115AD(1)(i)",null,"5AD1IB-Income (other than dividend) received by a specified fund in respect of securities (other than units referred to in section 115AB) - chargeable u/s 115AD(1)(i)",null,"115BBG-Transfer of carbon credits",null,"PTI_115BBDA","PTI_5BBDA",null,"115ACA","5ACA1a",null,"115BBG","5BBG",null,null,null,"02001-Fishing on commercial basis in inland waters",null,"16020-Film Artist",null,null,null,"19-Maharashtra",null,null,"INE399R01012","RUJUVALIKA INVESTMENTS LIMITED EQ",null,null,521,"02-ANDHRA PRADESH",null,null,null,null,null,2019,289,null,null,null,"INE0GNR01014","NETSCAPE SOFTWARE LIMITED",null,null,"Section 10(25)(i)"]
[null,null,null,"139(8A)-Updated return",null,null,"20-Manipur",null,"1246-BARBADOS",null,"02001-Fishing on commercial basis in inland waters ",null,"1b-Primary Co-operative Agricultural and Rural Development bank",null,"1b-Primary Co-operative Agricultural and Rural Development bank",null,"120-cubicft",null,"120-cubicft",null,"120-cubicft",null,"2020-21",null,"Central Sales Tax Act, 1956",null,"BARBADOS:1246",null,"BARBADOS:1246",null,null,null,null,null,"ABHY0065021","MAHB0001112","HDFC0001925","NKGS0000089","SBIN0016930",null,null,"1246-BARBADOS",null,null,"B4c",null,"B4c",null,null,null,null,null,"THE BARAMATI SAHAKARI BANK LTD","BARA",null,null,null,null,null,"PTI_5AD1IBd-PTI- Income (being dividend) received by a specified fund in respect of securities (other than units referred to in section 115AB) - chargeable u/s 115AD(1)(i)",null,"5AD1IBd-Income (being dividend) received by a specified fund in respect of securities (other than units referred to in section 115AB) - chargeable u/s 115AD(1)(i)",null,"115BBC-Anonymous donations",null,"PTI_115BBF","PTI_5BBF",null,"5A1aiiaaP","5A1aiiaaP",null,"115BBC","5BBC",null,null,null,"02002-Fishing on commercial basis in ocean and coastal areas ",null,"18001-General  hospitals ",null,null,null,"20-Manipur",null,null,"INE687C13017","REXNORD ELECTRONICS & CONTROLS LTD WARRANTS 22MR16",null,null,509,"02-ANDHRA PRADESH",null,null,null,null,null,2020,301,null,null,null,"INE102M01029","OMNIACTIVE HEALTH TECHNOLOGIES LIMITED",null,null,"Section 10(25)(ii)"]
[null,null,null,null,null,null,"21-Meghalaya",null,"375-BELARUS",null,"02002-Fishing on commercial basis in ocean and coastal areas ",null,"1c-Co-operative Bank other than a primary agricultural credit society or a primary co-operative agricultural and rural development bank",null,"1c-Co-operative Bank other than a primary agricultural credit society or a primary co-operative agricultural and rural development bank",null,"121-sqmetre",null,"121-sqmetre",null,"121-sqmetre",null,"2021-22",null,"Central Goods and Services Tax Act, 2017",null,"BELARUS:375",null,"BELARUS:375",null,null,null,null,null,"ABHY0065022","MAHB0001113","HDFC0001924","NKGS0000088","SBIN0016928",null,null,"375-BELARUS",null,null,"B5c",null,"B5c",null,null,null,null,null,"BANK OF BARODA","BARB",null,null,null,null,null,null,null,null,null,"115BB-Winnings from lotteries, crossword puzzles etc.",null,"PTI_115ACA","PTI_5ACA1a",null,"5A1aiiaci","5A1aiiaci",null,"5BB","5BB",null,null,null,"02003-Fish farming",null,"18002-Speciality and super speciality hospitals ",null,null,null,"21-Meghalaya",null,null,"INE727M09083","IFCI VENTURE CAPITAL FUNDS LIMITED SR-III 10.8 LOA 10OT24 FVRS10LAC",null,null,530,"02-ANDHRA PRADESH",null,null,null,null,null,2021,317,null,null,null,"INF955L01KA2","BARODA MUTUAL FUND",null,null,"Section 10(25)(iii)"]
[null,null,null,"(Select)",null,null,"22-Mizoram",null,"32-BELGIUM",null,"02003-Fish farming ",null,"2-Society Registered under Societies Registration Act-1860 or any law corresponding to that State ",null,"2-Society Registered under Societies Registration Act-1860 or any law corresponding to that State ",null,"122-cubicmetre",null,"122-cubicmetre",null,"122-cubicmetre",null,"2022-23",null,"Charitable And Religious Trusts Act, 1920",null,"BELGIUM:32",null,"BELGIUM:32",null,null,null,null,null,"ABHY0065023","MAHB0001114","HDFC0001923","NKGS0000087","SBIN0016927",null,null,"32-BELGIUM",null,null,"B6c",null,"B9e",null,null,null,null,null,"BARCLAYS BANK","BARC",null,null,null,null,null,"PTI_5A1aiiaci-PTI - Distributed income being Dividend referred to  in section 194LBA",null,"5A1aiiaci-Distributed income being Dividend referred to  in section 194LBA",null,"PTI_115A(1)(a)(i)-Dividends in the case of non-residents",null,"PTI_5A1aiiaaP","PTI_5A1aiiaaP",null,"5AD1iDiv","5AD1iDiv",null,"115BBDA","5BBDA",null,null,null,"02004-Gathering of marine materials such as natural pearls, sponges, coral etc.",null,"18003-Nursing homes ",null,null,null,"22-Mizoram",null,null,"INE990D07304","KRISHNA BHAGYA JALA NIGAM LIMITED SR-B 9.13 BD 30SP24 FVRS10LAC",null,null,520,"02-ANDHRA PRADESH",null,null,null,null,null,null,null,null,null,null,"INF955L01KE4","BARODA MUTUAL FUND",null,null,"Section 10(25)(iv)"]
["FA_Ownership_Interest","(Select)",null,"139(9)",null,null,"23-Nagaland",null,"501-BELIZE",null,"02004-Gathering of marine materials such as natural pearls, sponges, coral etc.   ",null,"3-Other Cooperative Society",null,"3-Other Cooperative Society",null,"999-residual",null,"999-residual",null,"999-residual",null,null,null,"Electricity Act, 2003",null,"BELIZE:501",null,"BELIZE:501",null,null,null,null,null,"ABHY0065024","MAHB0001115","HDFC0001922","NKGS0000086","SBIN0016926",null,null,"501-BELIZE",null,null,"B7c-112(1)(c)",null,"B10",null,null,null,null,null,"BANK OF BAHARAIN AND KUWAIT BSC","BBKM",null,null,null,null,null,"(Select)",null,null,null,"PTI_115A(1)(a)(ii)-Interest received in the case of non-residents",null,"PTI_5A1aiiaci","PTI_5A1aiiaci",null,"5AD1IBd","5AD1IBd",null,"115BBF","5BBF",null,null,null,"02005-Services related to marine and fresh water fisheries, fish hatcheries and fish farms  ",null,"18004-Diagnostic centres   ",null,null,null,"23-Nagaland",null,null,"INF247L01536","MOTILAL OSWAL MUTUAL FUND MOSt SHARES 50 ETF GROWTH OPT OPEN ENDED",null,null,791,"03-ARUNACHAL PRADESH",null,null,null,null,null,null,null,null,null,null,"INE02TC07422","PKF FINANCE LIMITED",null,null,"Section 10(25)(v)"]
[null,"DIRECT",null,"142(1)",null,null,"24-Odisha",null,"229-BENIN",null,"02005-Services related to marine and fresh water fisheries, fish hatcheries and fish farms  ",null,"4-Business Trust",null,"4-Business Trust",null,null,null,null,null,null,null,null,null,"Employees Provident Fund and Miscellaneous Provisions Act, 1952",null,"BENIN:229",null,"BENIN:229",null,null,null,null,null,"ABHY0065025","MAHB0001116","HDFC0001921","NKGS0000085","SBIN0016925",null,null,"229-BENIN",null,null,"B7c-115AB1b",null,"B11a1",null,null,null,null,null,"BHARAT COOPERATIVE BANK MUMBAI LIMITED","BCBM",null,null,null,null,null,"PTI_115AD(1)(i)-Income (other than dividend) received by an FII in respect of securities (other than units referred to in section115AB)",null,"(Select)",null,"PTI_115A(1)(a)(iia)-Interest received by non-resident from infrastructure debt fund",null,"PTI_5AD1iDiv","PTI_5AD1iDiv",null,"5AD1IB","5AD1IB",null,"115ACA","5ACA1a",null,null,null,"02006-Other Fish farming activity n.e.c",null,"18005-Pathological laboratories ",null,null,null,"24-Odisha",null,null,"INE013A07F12","RELIANCE CAPITAL LIMITED SR-B/265 TYPE IV BR NCD 02FB18 FVRS1LAC",null,null,792,"03-ARUNACHAL PRADESH",null,null,null,null,null,null,null,null,null,null,"INE05EJ07026","ADVAITHA VENTURES PRIVATE LIMITED",null,null,"Section 10(25A)"]
[null,"BENEFICIAL_OWNER",null,"148",null,null,"25-Puducherry",null,"1441-BERMUDA",null,"02006-Other Fish farming activity n.e.c",null,"5-Investment Fund",null,"5-Investment Fund",null,null,null,null,null,null,null,null,null,"Foreign Exchange Management Act, 1999",null,"BERMUDA:1441",null,"BERMUDA:1441",null,null,null,null,null,"ABHY0065026","MAHB0001117","HDFC0001920","NKGS0000084","SBIN0016923",null,null,"1441-BERMUDA",null,null,"B7c-115AC",null,"B11a2",null,null,null,null,null,"BANK OF CEYLON","BCEY",null,null,null,null,null,"PTI_115AD(1)(i)P-Income received by an FII in respect of bonds or government securities referred to in section 194LD",null,"115AD(1)(i)-Income (other than dividend) received by an FII in respect of securities (other than units referred to in section115AB)",null,"PTI_115A(1)(a)(iiaa)-Income received by non-resident as referred in section 194LC(1)",null,"PTI_5AD1IBd","PTI_5AD1IBd",null,"5AC1b","5AC1b",null,"PTI_115A(1)(a)(i)","PTI_5A1ai",null,null,null,"03001-Mining and agglomeration of hard coal",null,"18010-Medical clinics  ",null,null,null,"25-Puducherry",null,null,"INE100R01014","ANUJ BUILDCON PRIVATE LIMITED EQ",null,null,790,"03-ARUNACHAL PRADESH",null,null,null,null,null,null,null,null,null,null,"INE0FNK01011","BAITARANI POWER PROJECT PRIVATE LIMITED",null,null,"Section 10(26AAB)"]
[null,"BENIFICIARY",null,null,null,null,"26-Punjab",null,"975-BHUTAN",null,"03001-Mining and agglomeration of hard coal ",null,"6-Trust other than trust eligible to file return in ITR-7",null,"2-Society Registered under Societies Registration Act-1860 or any law corresponding to that State ",null,null,null,null,null,null,null,null,null,"Government Superannuation Fund Act, 1956",null,"BHUTAN:975",null,"BHUTAN:975",null,null,null,null,null,"ABHY0065027","MAHB0001118","HDFC0001919","NKGS0000083","SBIN0016922",null,null,"975-BHUTAN",null,null,"B7c-115AD",null,"B11b",null,null,null,null,null,"BANDHAN BANK LIMITED","BDBL",null,null,null,null,null,"PTI_115BBF-Income from patent",null,"115AD(1)(i)P-Income received by an FII in respect of bonds or government securities referred to in section 194LD",null,"PTI_115A(1)(a)(iiab)-Income received by non-resident as referred in section 194LD",null,"PTI_5AD1IB","PTI_5AD1IB",null,null,null,null,"PTI_115A(1)(a)(ii)","PTI_5A1aii",null,null,null,"03002-Mining and agglomeration of lignite",null,"18011-Dental practice  ",null,null,null,"26-Punjab",null,null,"INE134E08GK2","POWER FINANCE CORPORATION LTD. SR-120 A 8.98 BD 08OT24 FVRS10LAC",null,null,783,"04-ASSAM",null,null,null,null,null,null,null,null,null,null,"INF769K01HO6","MIRAE ASSET MUTUAL FUND",null,null,"Section 10(26B)"]
[null,null,null,null,null,null,"27-Rajasthan",null,"591-BOLIVIA (PLURINATIONAL STATE OF)",null,"03002-Mining and agglomeration of lignite ",null,"7-Any other AOP/BOI",null,"7-Any other AOP/BOI",null,null,null,null,null,null,null,null,null,"Indian Trusts Act, 1882",null,"BOLIVIA (PLURINATIONAL STATE OF):591",null,"BOLIVIA (PLURINATIONAL STATE OF):591",null,null,null,null,null,"ABHY0065028","MAHB0001119","HDFC0001918","NKGS0000082","SBIN0016921",null,null,"591-BOLIVIA (PLURINATIONAL STATE OF)",null,null,"B8c",null,null,null,null,null,null,null,"DENA BANK","BKDN",null,null,null,null,null,"PTI_115BBG-Transfer of carbon credits",null,"115BBF-Income from patent",null,"PTI_115A(1)(a)(iiac)-Income received by non-resident as referred in section 194LBA",null,"PTI_5AC1b","PTI_5AC1b",null,null,null,null,"PTI_115A(1)(a)(iia)","PTI_5A1aiia",null,null,null,"03003-Extraction and agglomeration of peat",null,"18012-Ayurveda practice ",null,null,null,"27-Rajasthan",null,null,"INE134E08GL0","POWER FINANCE CORPORATION LTD. SR-120 B 8.98 BD 08OT24 FVRS10LAC",null,null,788,"04-ASSAM",null,null,null,null,null,null,null,null,null,null,"INE060203044","SPIRITED AUTO CARS (I) LIMITED",null,null,"Section 10(26BB)"]
[null,null,null,null,null,null,"28-Sikkim",null,"1002-BONAIRE, SINT EUSTATIUS AND SABA",null,"03003-Extraction and agglomeration of peat ",null,null,null,null,null,null,null,null,null,null,null,null,null,"Integrated Goods and Services Tax Act, 2017",null,"BONAIRE, SINT EUSTATIUS AND SABA:1002",null,"BONAIRE, SINT EUSTATIUS AND SABA:1002",null,null,null,null,null,"ABHY0065029","MAHB0001120","HDFC0001917","NKGS0000081","SBIN0016920",null,null,"1002-BONAIRE, SINT EUSTATIUS AND SABA",null,null,"B9e",null,null,null,null,null,null,null,"BANK OF INDIA","BKID",null,null,null,null,null,"PTI_5AD1iDiv-PTI-Income (being dividend) received by an FII in respect of securities (other than units referred to in section 115AB) - chargeable u/s 115AD(1)(i)",null,"115BBG-Transfer of carbon credits",null,"PTI_115A(1)(a)(iii)-Income from units purchased in foreign currency in the case of non-residents",null,null,null,null,null,null,null,"PTI_115A(1)(a)(iiaa)","PTI_5A1aiiaa",null,null,null,"03004-Extraction of crude petroleum and natural gas",null,"18013-Unani practice ",null,null,null,"28-Sikkim",null,null,"INE392R08012","DOLVI MINERALS & METALS PRIVATE LIMITED NCD 22OT19 PPRS5LAC",null,null,784,"04-ASSAM",null,null,null,null,null,null,null,null,null,null,"INE0HGO01013","STARLIT TREXIM PVT LTD",null,null,"Section 10(26BBB)"]
["RngAll",null,null,null,null,null,"29-Tamil Nadu",null,"387-BOSNIA AND HERZEGOVINA",null,"03004-Extraction of crude petroleum and natural gas ",null,"(Select)",null,null,null,null,null,null,null,null,null,null,null,"Limited Liability Partnership Act, 2008",null,"BOSNIA AND HERZEGOVINA:387",null,"BOSNIA AND HERZEGOVINA:387",null,null,null,null,null,"ABHY0065030","MAHB0001121","HDFC0001916","NKGS0000080","SBIN0016919",null,null,"387-BOSNIA AND HERZEGOVINA",null,null,"B10",null,null,null,null,null,null,null,"B N P PARIBAS","BNPA",null,null,null,null,null,"PTI_5AD1IBd-PTI- Income (being dividend) received by a specified fund in respect of securities (other than units referred to in section 115AB) - chargeable u/s 115AD(1)(i)",null,"5AD1iDiv-Income (being dividend) received by an FII in respect of securities (other than units referred to in section 115AB) - chargeable u/s 115AD(1)(i)",null,"PTI_115A(1)(b)-Income from royalty or fees for technical services received from Government or Indian concern",null,null,null,null,null,null,null,"PTI_115A(1)(a)(iiab)","PTI_5A1aiiab",null,null,null,"03005-Service activities incidental to oil and gas extraction excluding surveying ",null,"18014-Homeopathy practice ",null,null,null,"29-Tamil Nadu",null,null,"INE797O18083","IARF - II TRUST SCHEME - I SR VIII SECURITY RECEIPTS 14OT14",null,null,781,"04-ASSAM",null,null,null,null,null,null,null,null,null,null,"INF109KC1O33","ICICI PRUDENTIAL MUTUAL FUND",null,null,"Section 10(44)"]
["(Select)",null,null,"153A",null,null,"30-Tripura",null,"267-BOTSWANA",null,"03005-Service activities incidental to oil and gas extraction excluding surveying ",null,"1-Estate of the deceased",null,null,null,null,null,null,null,null,null,null,null,"Payment of Gratuity Act, 1972",null,"BOTSWANA:267",null,"BOTSWANA:267",null,null,null,null,null,"ABHY0065031","MAHB0001122","HDFC0001915","NKGS0000079","SBIN0016917",null,null,"267-BOTSWANA",null,null,"B11a1",null,null,null,null,null,null,null,"BHAGINI NIVEDITA SAHAKARI BANK LTD PUNE","BNSB",null,null,null,null,null,"PTI_5AD1IB-PTI- Income (other than dividend) received by a specified fund in respect of securities (other than units referred to in section 115AB) - chargeable u/s 115AD(1)(i)",null,"5AD1IBd-Income (being dividend) received by a specified fund in respect of securities (other than units referred to in section 115AB) - chargeable u/s 115AD(1)(i)",null,"PTI_115E(a)-Investment Income of a Non-Resident Indian",null,null,null,null,null,null,null,"PTI_115A(1)(a)(iiac)","PTI_5A1aiiac",null,null,null,"03006-Mining of uranium and thorium ores ",null,"18015-Nurses, physiotherapists or other para-medical practitioners ",null,null,null,"30-Tripura",null,null,"INE217K07AT8","RELIANCE HOME FINANCE LIMITED SR-M/37 BR NCD 28JN21 FVRS5LAC",null,null,786,"04-ASSAM",null,null,null,null,null,null,null,null,null,null,"INE08OQ08014","ACME AKLERA POWER TECHNOLOGY PRIVATE LIMITED"]
["Y-Yes",null,null,"153C",null,null,"31-Uttar Pradesh",null,"1003-BOUVET ISLAND",null,"03006-Mining of uranium and thorium ores ",null,"2-Estate of the insolvent",null,null,null,null,null,null,null,null,null,null,null,"SEBI Act, 1992",null,"BOUVET ISLAND:1003",null,"BOUVET ISLAND:1003",null,null,null,null,null,"ABHY0065032","MAHB0001123","HDFC0001914","NKGS0000078","SBIN0016916",null,null,"1003-BOUVET ISLAND",null,null,"B11a2",null,null,null,null,null,null,null,"BANK OF AMERICA","BOFA",null,null,null,null,null,null,null,"5AD1IB-Income (other than dividend) received by a specified fund in respect of securities (other than units referred to in section 115AB) - chargeable u/s 115AD(1)(i)",null,"PTI_115AB(1)(a)-Income received in respect of units purchased in foreign currency by an off-shore fund",null,null,null,null,null,null,null,"PTI_115A(1)(a)(iii)","PTI_5A1aiii",null,null,null,"03007-Mining of iron ores ",null,"18016-Veterinary hospitals and practice ",null,null,null,"31-Uttar Pradesh",null,null,"INE461R01010","YEDESHI AURANGABAD TOLLWAY  LIMITED EQ",null,null,785,"04-ASSAM",null,null,null,null,null,null,null,null,null,null,"INE0H4R03021","INFILECT TECHNOLGIES PRIVATE LIMITED"]
["N-No",null,null,null,null,null,"32-West Bengal",null,"55-BRAZIL",null,"03007-Mining of iron ores ",null,"3-Other AJP",null,null,null,null,null,null,null,null,null,null,null,"Securities Contract (Regulation) Act, 1956",null,"BRAZIL:55",null,"BRAZIL:55",null,null,null,null,null,"ABHY0065034","MAHB0001124","HDFC0001913","NKGS0000077","SBIN0016915",null,null,"55-BRAZIL",null,null,"B11b",null,null,null,null,null,null,null,"MUFG BANK, LTD","BOTM",null,null,null,null,null,null,null,null,null,"PTI_115AC(1)(a)-Income by way of Interest from bonds purchased in foreign currency  in case of a non-resident",null,null,null,null,null,null,null,"PTI_115A(1)(b)","PTI_5A1bA",null,null,null,"03008-Mining of non-ferrous metal ores, except uranium and thorium ores ",null,"18017-Medical education",null,null,null,"32-West Bengal",null,null,"INE752E07LU2","POWER GRID CORPORATION OF INDIA LIMITED 8.93 BD 20OT20 FVRS10LAC LOA UPTO 24FB15",null,null,787,"04-ASSAM",null,null,null,null,null,null,null,null,null,null,"IN9167U01023","JAYPORE E-COMMERCE PRIVATE LIMITED"]
["RngYes",null,null,null,null,null,"33-Chattisgarh",null,"1014-BRITISH INDIAN OCEAN TERRITORY",null,"03008-Mining of non-ferrous metal ores, except uranium and thorium ores ",null,null,null,null,null,null,null,null,null,null,null,null,null,"State Goods and Services Tax Act, 2017",null,"BRITISH INDIAN OCEAN TERRITORY:1014",null,"BRITISH INDIAN OCEAN TERRITORY:1014",null,null,null,null,null,"ABHY0065035","MAHB0001125","HDFC0001912","NKGS0000076","SBIN0016913",null,null,"1014-BRITISH INDIAN OCEAN TERRITORY",null,null,null,null,null,null,null,null,null,null,"CENTRAL BANK OF INDIA","CBIN",null,null,null,null,null,null,null,null,null,"PTI_115AD(1)(i)-Income received by an FII in respect of securities (other than units referred to in section115AB)",null,null,null,null,null,null,null,"PTI_115E(a)","PTI_5Ea",null,null,null,"03009-Mining of gemstones ",null,"18018-Medical research ",null,null,null,"33-Chattisgarh",null,null,"INE752E07LV0","POWER GRID CORPORATION OF INDIA LIMITED 8.93 BD 20OT21 FVRS10LAC LOA UPTO 24FB15",null,null,782,"04-ASSAM",null,null,null,null,null,null,null,null,null,null,"INE027E07BQ8","L&T FINANCE LIMITED"]
["Y-Yes",null,null,null,null,null,"34-Uttarakhand",null,"673-BRUNEI DARUSSALAM",null,"03009-Mining of gemstones ",null,"(Select)",null,null,null,null,null,null,null,null,null,null,null,"Union Territories Goods and Services Tax Act, 2017",null,"BRUNEI DARUSSALAM:673",null,"BRUNEI DARUSSALAM:673",null,null,null,null,null,"ABHY0065036","MAHB0001126","HDFC0001911","NKGS0000075","SBIN0016912",null,null,"673-BRUNEI DARUSSALAM",null,null,null,null,null,null,null,null,null,null,"CITIZEN CREDIT COOPERATIVE BANK LIMITED","CCBL",null,null,null,null,null,null,null,null,null,"PTI_115AD(1)(i)P-Income received by an FII in respect of bonds or government securities referred to in section 194LD",null,null,null,null,null,null,null,"PTI_115AB(1)(a)","PTI_5AB1a",null,null,null,"03010-Mining of chemical and fertilizer minerals ",null,"18019-Practice of other alternative medicine",null,null,null,"34-Uttarakhand",null,null,"INE752E07LW8","POWER GRID CORPORATION OF INDIA LIMITED 8.93 BD 20OT22 FVRS10LAC LOA UPTO 24FB15",null,null,813,"05-BIHAR",null,null,null,null,null,null,null,null,null,null,"INE0CBH04153","SWARAJ GREEN POWER AND FUEL LIMITED"]
[null,null,null,null,null,null,"35-Jharkhand",null,"359-BULGARIA",null,"03010-Mining of chemical and fertilizer minerals ",null,null,null,null,null,null,null,null,null,null,null,null,null,"Others",null,"BULGARIA:359",null,"BULGARIA:359",null,null,null,null,null,"ABHY0065037","MAHB0001127","HDFC0001910","NKGS0000074","SBIN0016909",null,null,"359-BULGARIA",null,null,null,null,null,null,null,null,null,null,"JP MORGAN BANK","CHAS",null,null,null,null,null,null,null,null,null,"PTI_115BBA-Tax on non-resident sportsmen or sports associations or entertainer",null,null,null,null,null,null,null,"PTI_115AC(1)(a)","PTI_5AC1a",null,null,null,"03011-Mining of quarrying of abrasive materials ",null,"18020-Other healthcare services",null,null,null,"35-Jharkhand",null,null,"INE752E07LX6","POWER GRID CORPORATION OF INDIA LIMITED 8.93 BD 20OT23 FVRS10LAC LOA UPTO 24FB15",null,null,812,"05-BIHAR",null,null,null,null,null,null,null,null,null,null,"INE0FC001010","LITHASA TECHNOLOGIES PRIVATE LIMITED"]
[null,null,null,null,null,null,"36-Telangana",null,"226-BURKINA FASO",null,"03011-Mining of quarrying of abrasive materials ",null,null,null,null,null,null,null,null,null,null,null,null,null,null,null,"BURKINA FASO:226",null,"BURKINA FASO:226",null,null,null,null,null,"ABHY0065038","MAHB0001128","HDFC0001909","NKGS0000073","SBIN0016908",null,null,"226-BURKINA FASO",null,null,null,null,null,null,null,null,null,null,"CITI BANK","CITI",null,null,null,null,null,null,null,null,null,"PTI_115BBC-Anonymous donations",null,null,null,null,null,null,null,"PTI_115AD(1)(i)","PTI_5AD1i",null,null,null,"03012-Mining of mica, graphite and asbestos ",null,"20010-Individual artists excluding authors ",null,null,null,"36-Telangana",null,null,"INE752E07LY4","POWER GRID CORPORATION OF INDIA LIMITED 8.93 BD 20OT24 FVRS10LAC LOA UPTO 24FB15",null,null,853,"05-BIHAR",null,null,null,null,null,null,null,null,null,null,"INE0J0D01013","CREATIVE INFOGRAPHICS PRIVATE LIMITED"]
[null,null,null,null,null,null,"37-Ladakh",null,"257-BURUNDI",null,"03012-Mining of mica, graphite and asbestos ",null,null,null,null,null,null,null,null,null,null,null,null,null,null,null,"BURUNDI:257",null,"BURUNDI:257",null,null,null,null,null,"ABHY0065039","MAHB0001129","HDFC0001908","NKGS0000072","SBIN0016907",null,null,"257-BURUNDI",null,null,null,null,null,null,null,null,null,null,"CITY UNION BANK LIMITED","CIUB",null,null,null,null,null,null,null,null,null,"PTI_115BBG-Transfer of carbon credits",null,null,null,null,null,null,null,"PTI_115AD(1)(i)P","PTI_5AD1iP",null,null,null,"03013-Quarrying of stones (marble/granite/dolomite), sand and clay ",null,"20011-Literary activities ",null,null,null,"37-Ladakh",null,null,"INE752E07LZ1","POWER GRID CORPORATION OF INDIA LIMITED 8.93 BD 20OT25 FVRS10LAC LOA UPTO 24FB15",null,null,848,"05-BIHAR",null,null,null,null,null,null,null,null,null,null,"INE0J0J01010","NSK HOLDINGS PRIVATE LIMITED."]
[null,null,null,null,null,null,"99-Foreign",null,"238-CABO VERDE",null,"03013-Quarrying of stones (marble/granite/dolomite), sand and clay ",null,null,null,null,null,null,null,null,null,null,null,null,null,null,null,"CABO VERDE:238",null,"CABO VERDE:238",null,null,null,null,null,"ABHY0065040","MAHB0001130","HDFC0001907","NKGS0000071","SBIN0016906",null,null,"238-CABO VERDE",null,null,null,null,null,null,null,null,null,null,"CAPITAL SMALL FINANCE BANK LIMITED","CLBL",null,null,null,null,null,null,null,null,null,"5AD1iDiv-Income (being dividend) received by an FII in respect of securities (other than units referred to in section 115AB) - chargeable u/s 115AD(1)(i)",null,null,null,null,null,null,null,"PTI_115BBA","PTI_5BBA",null,null,null,"03014-Other mining and quarrying ",null,"20012-Other cultural activities n.e.c. ",null,null,null,null,null,null,"INE752E07MA2","POWER GRID CORPORATION OF INDIA LIMITED 8.93 BD 20OT26 FVRS10LAC LOA UPTO 24FB15",null,null,851,"05-BIHAR",null,null,null,null,null,null,null,null,null,null,"INE242A14UT1","INDIAN OIL CORPORATION LIMITED"]
[null,null,null,null,null,null,null,null,"855-CAMBODIA",null,"03014-Other mining and quarrying ",null,null,null,null,null,null,null,null,null,null,null,null,null,null,null,"CAMBODIA:855",null,"CAMBODIA:855",null,null,null,null,null,"ABHY0065041","MAHB0001131","HDFC0001906","NKGS0000070","SBIN0016905",null,null,"855-CAMBODIA",null,null,null,null,null,null,null,null,null,null,"CANARA BANK","CNRB",null,null,null,null,null,null,null,null,null,"5A1aiiaaP-Income received by non-resident as referred in proviso to section 194LC(1)",null,null,null,null,null,null,null,"PTI_115BBC","PTI_5BBC",null,null,null,"03015-Mining and production of salt ",null,null,null,null,null,null,null,null,"INE752E07MB0","POWER GRID CORPORATION OF INDIA LIMITED 8.93 BD 20OT27 FVRS10LAC LOA UPTO 24FB15",null,null,847,"05-BIHAR",null,null,null,null,null,null,null,null,null,null,"INE242A14UV7","INDIAN OIL CORPORATION LIMITED"]
[null,null,null,null,null,null,null,null,"237-CAMEROON",null,"03015-Mining and production of salt ",null,null,null,null,null,null,null,null,null,null,null,null,null,null,null,"CAMEROON:237",null,"CAMEROON:237",null,null,null,null,null,"ABHY0065042","MAHB0001132","HDFC0001905","NKGS0000069","SBIN0016904",null,null,"237-CAMEROON",null,null,null,null,null,null,null,null,null,null,"CORPORATION BANK","CORP",null,null,null,null,null,null,null,null,null,"5A1aiiaci-Distributed income being Dividend referred to  in section 194LBA",null,null,null,null,null,null,null,"PTI_115BBG","PTI_5BBG",null,null,null,"03016-Other mining and quarrying n.e.c",null,null,null,null,null,null,null,null,"INE752E07MC8","POWER GRID CORPORATION OF INDIA LIMITED 8.93 BD 20OT28 FVRS10LAC LOA UPTO 24FB15",null,null,846,"05-BIHAR",null,null,null,null,null,null,null,null,null,null,"INE704I14EP5","BARCLAYS INVESTMENTS & LOANS (INDIA) PRIVATE LIMITED"]
[null,null,null,null,null,null,null,null,"1-CANADA",null,"03016-Other mining and quarrying n.e.c ",null,null,null,null,null,null,null,null,null,null,null,null,null,null,null,"CANADA:1",null,"CANADA:1",null,null,null,null,null,"ABHY0065043","MAHB0001133","HDFC0001904","NKGS0000068","SBIN0016903",null,null,"1-CANADA",null,null,null,null,null,null,null,null,null,null,"THE COSMOS CO OPERATIVE BANK LIMITED","COSB",null,null,null,null,null,null,null,null,null,"PTI_5A1aiiaaP-PTI -Income received by non-resident as referred in proviso to section 194LC(1)",null,null,null,null,null,null,null,"PTI_115BB","PTI_5BB",null,null,null,"04001-Production, processing and preservation of meat and meat products ",null,null,null,null,null,null,null,null,"INE752E07MD6","POWER GRID CORPORATION OF INDIA LIMITED 8.93 BD 20OT29 FVRS10LAC LOA UPTO 24FB15",null,null,852,"05-BIHAR",null,null,null,null,null,null,null,null,null,null,"INE973V08045","ATHENA HISAR SOLAR POWER PRIVATE LIMITED"]
[null,null,null,null,null,null,null,null,"1345-CAYMAN ISLANDS",null,"04001-Production, processing and preservation of meat and meat products ",null,null,null,null,null,null,null,null,null,null,null,null,null,null,null,"CAYMAN ISLANDS:1345",null,"CAYMAN ISLANDS:1345",null,null,null,null,null,"ABHY0065044","MAHB0001134","HDFC0001903","NKGS0000067","SBIN0016902",null,null,"1345-CAYMAN ISLANDS",null,null,null,null,null,null,null,null,null,null,"CREDIT SUISEE AG","CRES",null,null,null,null,null,null,null,null,null,"PTI_5A1aiiaci-PTI - Distributed income being Dividend referred to  in section 194LBA",null,null,null,null,null,null,null,"PTI_115BBDA","PTI_5BBDA",null,null,null,"04002-Production, processing and preservation of fish and fish products ",null,null,null,null,null,null,null,null,"INE900Q01019","LIFELONG STEEL AND ALLOYS PRIVATE LIMITED EQ",null,null,845,"05-BIHAR",null,null,null,null,null,null,null,null,null,null,"INE718I03026","JSW CEMENT LIMITED"]
[null,null,null,null,null,null,null,null,"236-CENTRAL AFRICAN REPUBLIC",null,"04002-Production, processing and preservation of fish and fish products ",null,null,null,null,null,null,null,null,null,null,null,null,null,null,null,"CENTRAL AFRICAN REPUBLIC:236",null,"CENTRAL AFRICAN REPUBLIC:236",null,null,null,null,null,"ABHY0065045","MAHB0001135","HDFC0001902","NKGS0000066","SBIN0016901",null,null,"236-CENTRAL AFRICAN REPUBLIC",null,null,null,null,null,null,null,null,null,null,"CREDIT AGRICOLE CORPORATE AND INVESTMENT BANK CALYON BANK","CRLY",null,null,null,null,null,null,null,null,null,"PTI_5AD1iDiv-PTI-Income (being dividend) received by an FII in respect of securities (other than units referred to in section 115AB) - chargeable u/s 115AD(1)(i)",null,null,null,null,null,null,null,"PTI_115BBF","PTI_5BBF",null,null,null,"04003-Manufacture of vegetable oil, animal oil and fats ",null,null,null,null,null,null,null,null,"INF194KA1VV0","IDFC MUTUAL FUND FTP SR 44 REGULAR PLAN QTRLY DIVI PAY 24OT16",null,null,841,"05-BIHAR",null,null,null,null,null,null,null,null,null,null,"INE875R04098","BALKRISHNA PAPER MILLS LIMITED"]
[null,null,null,null,null,null,null,null,"235-CHAD",null,"04003-Manufacture of vegetable oil, animal oil and fats ",null,null,null,null,null,null,null,null,null,null,null,null,null,null,null,"CHAD:235",null,"CHAD:235",null,null,null,null,null,"ABHY0065046","MAHB0001136","HDFC0001901","NKGS0000065","SBIN0016900",null,null,"235-CHAD",null,null,null,null,null,null,null,null,null,null,"SHRI CHHATRAPATI RAJASHRI SHAHU URBAN COOPERATIVE BANK LIMITED","CRUB",null,null,null,null,null,null,null,null,null,"5AD1IBd-Income (being dividend) received by a specified fund in respect of securities (other than units referred to in section 115AB) - chargeable u/s 115AD(1)(i)",null,null,null,null,null,null,null,"PTI_115ACA","PTI_5ACA1a",null,null,null,"04004-Processing of fruits, vegetables and edible nuts ",null,null,null,null,null,null,null,null,"INF194KA1VW8","IDFC MUTUAL FUND FTP SR 44 REGULAR PLAN HLF YRLY DIVPAY 24OT16",null,null,802,"05-BIHAR",null,null,null,null,null,null,null,null,null,null,"INE035103139","SERVICE LEE TECHNOLOGIES PRIVATE LIMITED"]
[null,null,null,null,null,null,null,null,"56-CHILE",null,"04004-Processing of fruits, vegetables and edible nuts ",null,null,null,null,null,null,null,null,null,null,null,null,null,null,null,"CHILE:56",null,"CHILE:56",null,null,null,null,null,"ABHY0065047","MAHB0001137","HDFC0001900","NKGS0000064","SBIN0016899",null,null,"56-CHILE",null,null,null,null,null,null,null,null,null,null,"CATHOLIC SYRIAN BANK LIMITED","CSBK",null,null,null,null,null,null,null,null,null,"5AD1IB-Income (other than dividend) received by a specified fund in respect of securities (other than units referred to in section 115AB) - chargeable u/s 115AD(1)(i)",null,null,null,null,null,null,null,"5A1aiiaaP","5A1aiiaaP",null,null,null,"04005-Manufacture of dairy products ",null,null,null,null,null,null,null,null,"INF336L01JG4","HSBC MUTUAL FUND FUND FIXED TERM SERIES 98 DIR DIVI PAY 26OT16",null,null,804,"05-BIHAR",null,null,null,null,null,null,null,null,null,null,"INE0FO801019","PHILIPS DOMESTIC APPLIANCES INDIA LIMITED"]
[null,null,null,null,null,null,null,null,"86-CHINA",null,"04005-Manufacture of dairy products ",null,null,null,null,null,null,null,null,null,null,null,null,null,null,null,"CHINA:86",null,"CHINA:86",null,null,null,null,null,"ABHY0065048","MAHB0001138","HDFC0001899","NKGS0000063","SBIN0016898",null,null,"86-CHINA",null,null,null,null,null,null,null,null,null,null,"CHINATRUST COMMERCIAL BANK LIMITED","CTCB",null,null,null,null,null,null,null,null,null,"PTI_5AD1IBd-PTI- Income (being dividend) received by a specified fund in respect of securities (other than units referred to in section 115AB) - chargeable u/s 115AD(1)(i)",null,null,null,null,null,null,null,"5A1aiiaci","5A1aiiaci",null,null,null,"04006-Manufacture of sugar  ",null,null,null,null,null,null,null,null,"INF336L01JH2","HSBC MUTUAL FUND FUND FIXED TERM SERIES 98 DIR GROWTH 26OT16",null,null,811,"05-BIHAR",null,null,null,null,null,null,null,null,null,null,"INE0IIO18011","OMKARA PS07/2021-22 TRUST"]
[null,null,null,null,null,null,null,null,"9-CHRISTMAS ISLAND",null,"04006-Manufacture of sugar  ",null,null,null,null,null,null,null,null,null,null,null,null,null,null,null,"CHRISTMAS ISLAND:9",null,"CHRISTMAS ISLAND:9",null,null,null,null,null,"ABHY0065049","MAHB0001139","HDFC0001898","NKGS0000062","SBIN0016897",null,null,"9-CHRISTMAS ISLAND",null,null,null,null,null,null,null,null,null,null,"DBS BANK INDIA LIMITED","DBSS",null,null,null,null,null,null,null,null,null,"PTI_5AD1IB-PTI- Income (other than dividend) received by a specified fund in respect of securities (other than units referred to in section 115AB) - chargeable u/s 115AD(1)(i)",null,null,null,null,null,null,null,"5AD1iDiv","5AD1iDiv",null,null,null,"04007-Manufacture of cocoa, chocolates and sugar confectionery ",null,null,null,null,null,null,null,null,"INF336L01JI0","HSBC MUTUAL FUND FUND FIXED TERM SERIES 98 REG DIVI PAY 26OT16",null,null,824,"05-BIHAR",null,null,null,null,null,null,null,null,null,null,"INE0IIP18018","OMKARA PS08/2021-22 TRUST"]
[null,null,null,null,null,null,null,null,"672-COCOS (KEELING) ISLANDS",null,"04007-Manufacture of cocoa, chocolates and sugar confectionery ",null,null,null,null,null,null,null,null,null,null,null,null,null,null,null,"COCOS (KEELING) ISLANDS:672",null,"COCOS (KEELING) ISLANDS:672",null,null,null,null,null,"ABHY0065050","MAHB0001140","HDFC0001897","NKGS0000061","SBIN0016896",null,null,"672-COCOS (KEELING) ISLANDS",null,null,null,null,null,null,null,null,null,null,"DEVELOPMENT BANK OF SINGAPORE","DBSS",null,null,null,null,null,null,null,null,null,null,null,null,null,null,null,null,null,"PTI_5A1aiiaaP","PTI_5A1aiiaaP",null,null,null,"04008-Flour milling ",null,null,null,null,null,null,null,null,"INF336L01JJ8","HSBC MUTUAL FUND FUND FIXED TERM SERIES 98 REG GROWTH 26OT16",null,null,821,"05-BIHAR",null,null,null,null,null,null,null,null,null,null,"INE0IIV01012","KUMAR ORGANIC PRODUCTS LIMITED"]
[null,null,null,null,null,null,null,null,"57-COLOMBIA",null,"04008-Flour milling ",null,null,null,null,null,null,null,null,null,null,null,null,null,null,null,"COLOMBIA:57",null,"COLOMBIA:57",null,null,null,null,null,"ABHY0065051","MAHB0001141","HDFC0001896","NKGS0000060","SBIN0016895",null,null,"57-COLOMBIA",null,null,null,null,null,null,null,null,null,null,"DCB BANK LIMITED","DCBL",null,null,null,null,null,null,null,null,null,"(Select)",null,null,null,null,null,null,null,"PTI_5A1aiiaci","PTI_5A1aiiaci",null,null,null,"04009-Rice milling ",null,null,null,null,null,null,null,null,"INF903J01X09","SUNDARAM MUTUAL FUND HYBRID FD SR L REGULAR PLAN GROWTH 10NV19",null,null,844,"05-BIHAR",null,null,null,null,null,null,null,null,null,null,"INE0IIX01018","BOSTON IVY HEALTHCARE SOLUTIONS PRIVATE LIMITED"]
[null,null,null,null,null,null,null,null,"270-COMOROS",null,"04009-Rice milling ",null,null,null,null,null,null,null,null,null,null,null,null,null,null,null,"COMOROS:270",null,"COMOROS:270",null,null,null,null,null,"ABHY0065052","MAHB0001142","HDFC0001895","NKGS0000059","SBIN0016894",null,null,"270-COMOROS",null,null,null,null,null,null,null,null,null,null,"DEOGIRI NAGARI SAHAKARI BANK LTD. AURANGABAD","DEOB",null,null,null,null,null,null,null,null,null,"56(2)(i)-Dividend",null,null,null,null,null,null,null,"PTI_5AD1iDiv","PTI_5AD1iDiv",null,null,null,"04010-Dal milling ",null,null,null,null,null,null,null,null,"INF903J01X17","SUNDARAM MUTUAL FUND HYBRID FD SR L REG PL HLF YRLY DIVIPAY 10NV19",null,null,855,"05-BIHAR",null,null,null,null,null,null,null,null,null,null,"INE248U14JH4","IIFL WEALTH PRIME LIMITED"]
[null,null,null,null,null,null,null,null,"242-CONGO",null,"04010-Dal milling ",null,null,null,null,null,null,null,null,null,null,null,null,null,null,null,"CONGO:242",null,"CONGO:242",null,null,null,null,null,"ABHY0065053","MAHB0001143","HDFC0001894","NKGS0000058","SBIN0016893",null,null,"242-CONGO",null,null,null,null,null,null,null,null,null,null,"DEUSTCHE BANK","DEUT",null,null,null,null,null,null,null,null,null,"56(2)-Interest",null,null,null,null,null,null,null,"5AD1IBd","5AD1IBd",null,null,null,"04011-Manufacture of other grain mill products ",null,null,null,null,null,null,null,null,"INF903J01X25","SUNDARAM MUTUAL FUND HYBRID FD SR L REG PLAN YRLY DIVI PAY 10NV19",null,null,843,"05-BIHAR",null,null,null,null,null,null,null,null,null,null,"INE093JA7G14","ANAND RATHI GLOBAL FINANCE LIMITED"]
[null,null,null,null,null,null,null,null,"243-CONGO (DEMOCRATIC REPUBLIC OF THE)",null,"04011-Manufacture of other grain mill products ",null,null,null,null,null,null,null,null,null,null,null,null,null,null,null,"CONGO (DEMOCRATIC REPUBLIC OF THE):243",null,"CONGO (DEMOCRATIC REPUBLIC OF THE):243",null,null,null,null,null,"ABHY0065054","MAHB0001144","HDFC0001893","NKGS0000057","SBIN0016892",null,null,"243-CONGO (DEMOCRATIC REPUBLIC OF THE)",null,null,null,null,null,null,null,null,null,null,"DEPOSIT INSURANCE AND CREDIT GUARANTEE CORPORATION","DICG",null,null,null,null,null,null,null,null,null,"56(2)(iii)-Rental income from machinery, plants, buildings etc.,",null,null,null,null,null,null,null,"5AD1IB","5AD1IB",null,null,null,"04012-Manufacture of bakery products ",null,null,null,null,null,null,null,null,"INF903J01X41","SUNDARAM MUTUAL FUND HYBRID FD SR L DIR PL HLF YRLY DIVIPAY 10NV19",null,null,842,"05-BIHAR",null,null,null,null,null,null,null,null,null,null,"INE0GRH01016","SERVEAMC LIMITED"]
[null,null,null,null,null,null,null,null,"682-COOK ISLANDS",null,"04012-Manufacture of bakery products ",null,null,null,null,null,null,null,null,null,null,null,null,null,null,null,"COOK ISLANDS:682",null,"COOK ISLANDS:682",null,null,null,null,null,"ABHY0065055","MAHB0001146","HDFC0001892","NKGS0000056","SBIN0016891",null,null,"682-COOK ISLANDS",null,null,null,null,null,null,null,null,null,null,"THE DELHI STATE COOPERATIVE BANK LIMITED","DLSC",null,null,null,null,null,null,null,null,null,"56(2)(x)-Income under section 56(2)(x)",null,null,null,null,null,null,null,"PTI_5AD1IBd","PTI_5AD1IBd",null,null,null,"04013-Manufacture of starch products ",null,null,null,null,null,null,null,null,"INF903J01X58","SUNDARAM MUTUAL FUND HYBRID FD SR L DIR PLAN YRLY DIVI PAY 10NV19",null,null,854,"05-BIHAR",null,null,null,null,null,null,null,null,null,null,"INE0GRL01018","PARSHURAM POTTERY WORKS CO LIMITED"]
[null,null,null,null,null,null,null,null,"506-COSTA RICA",null,"04013-Manufacture of starch products ",null,null,null,null,null,null,null,null,null,null,null,null,null,null,null,"COSTA RICA:506",null,"COSTA RICA:506",null,null,null,null,null,"ABHY0065056","MAHB0001147","HDFC0001891","NKGS0000055","SBIN0016890",null,null,"506-COSTA RICA",null,null,null,null,null,null,null,null,null,null,"DHANALAKSHMI BANK","DLXB",null,null,null,null,null,null,null,null,null,"115AD(1)(i)-Income (other than dividend) received by an FII in respect of securities (other than units referred to in section115AB)",null,null,null,null,null,null,null,"PTI_5AD1IB","PTI_5AD1IB",null,null,null,"04014-Manufacture of animal feeds ",null,null,null,null,null,null,null,null,"IN1620130071","STATE DEVELOPMENT LOAN 16429 HAR 11SP23 9.50 FV RS 100",null,null,805,"05-BIHAR",null,null,null,null,null,null,null,null,null,null,"INE0GRN01014","RCM BROKING SERVICES LIMITED"]
[null,null,null,null,null,null,null,null,"225-COTE DIVOIRE",null,"04014-Manufacture of animal feeds ",null,null,null,null,null,null,null,null,null,null,null,null,null,null,null,"COTE DIVOIRE:225",null,"COTE DIVOIRE:225",null,null,null,null,null,"ABHY0065057","MAHB0001148","HDFC0001890","NKGS0000054","SBIN0016889",null,null,"225-COTE DIVOIRE",null,null,null,null,null,null,null,null,null,null,"DMK JAOLI BANK","DMKJ",null,null,null,null,null,null,null,null,null,"115AD(1)(i)P-Income received by an FII in respect of bonds or government securities referred to in section 194LD",null,null,null,null,null,null,null,"5AC1b","5AC1b",null,null,null,"04015-Manufacture of other food products ",null,null,null,null,null,null,null,null,"IN3420140060","STATE DEVELOPMENT LOAN 17105 WB 27AG24 9.10 FV RS 100",null,null,800,"05-BIHAR",null,null,null,null,null,null,null,null,null,null,"INE093JA7P21","ANAND RATHI GLOBAL FINANCE LIMITED"]
[null,null,null,null,null,null,null,null,"385-CROATIA",null,"04015-Manufacture of other food products ",null,null,null,null,null,null,null,null,null,null,null,null,null,null,null,"CROATIA:385",null,"CROATIA:385",null,null,null,null,null,"ABHY0065058","MAHB0001149","HDFC0001889","NKGS0000053","SBIN0016888",null,null,"385-CROATIA",null,null,null,null,null,null,null,null,null,null,"DOMBIVLI NAGARI SAHAKARI BANK LIMITED","DNSB",null,null,null,null,null,null,null,null,null,"115BBC-Anonymous donations",null,null,null,null,null,null,null,"PTI_5AC1b","PTI_5AC1b",null,null,null,"04016-Manufacturing of wines  ",null,null,null,null,null,null,null,null,"INE141A08019","ORIENTAL BANK OF COMMERCE 9.2 BD 27OT24 FVRS10LAC",null,null,803,"05-BIHAR",null,null,null,null,null,null,null,null,null,null,"INE0HR201017","SATTS ESTATES LIMITED"]
[null,null,null,null,null,null,null,null,"53-CUBA",null,"04016-Manufacturing of wines  ",null,null,null,null,null,null,null,null,null,null,null,null,null,null,null,"CUBA:53",null,"CUBA:53",null,null,null,null,null,"ABHY0065059","MAHB0001150","HDFC0001888","NKGS0000052","SBIN0016887",null,null,"53-CUBA",null,null,null,null,null,null,null,null,null,null,"DOHA BANK QSC","DOHB",null,null,null,null,null,null,null,null,null,"115BBF-Tax on income from patent",null,null,null,null,null,null,null,null,null,null,null,null,"04017-Manufacture of beer ",null,null,null,null,null,null,null,null,"INE378R07039","UNITED SEAMLESS TUBULAAR PRIVATE LIMITED SR-A 8.5 BD 31MR21 FVRS10LAC",null,null,801,"05-BIHAR",null,null,null,null,null,null,null,null,null,null,"INE0HR301015","THE BOOK CENTRE LIMITED"]
[null,null,null,null,null,null,null,null,"1015-CURACAO",null,"04017-Manufacture of beer ",null,null,null,null,null,null,null,null,null,null,null,null,null,null,null,"CURACAO:1015",null,"CURACAO:1015",null,null,null,null,null,"ABHY0065060","MAHB0001151","HDFC0001887","NKGS0000051","SBIN0016886",null,null,"1015-CURACAO",null,null,null,null,null,null,null,null,null,null,"DOHA BANK","DOHB",null,null,null,null,null,null,null,null,null,"115BBG-Transfer of carbon credits",null,null,null,null,null,null,null,null,null,null,null,null,"04018-Manufacture of malt liquors  ",null,null,null,null,null,null,null,null,"INE543R01015","ROMANO BUILDTECH PRIVATE LIMITED EQ",null,null,823,"05-BIHAR",null,null,null,null,null,null,null,null,null,null,"INE0HRD15013","NORTHERN ARC 2021 SBL SCHINDLER"]
[null,null,null,null,null,null,null,null,"357-CYPRUS",null,"04018-Manufacture of malt liquors  ",null,null,null,null,null,null,null,null,null,null,null,null,null,null,null,"CYPRUS:357",null,"CYPRUS:357",null,null,null,null,null,"ABHY0065061","MAHB0001152","HDFC0001886","NKGS0000050","SBIN0016884",null,null,"357-CYPRUS",null,null,null,null,null,null,null,null,null,null,"DURGAPUR STEEL PEOPLES CO-OPERATIVE BANK LTD","DURG",null,null,null,null,null,null,null,null,null,"115BB-Winnings from lotteries, crossword puzzles etc.",null,null,null,null,null,null,null,null,null,null,null,null,"04019-Distilling and blending of spirits, production of ethyl alcohol ",null,null,null,null,null,null,null,null,"IN9466M01026","BHUVEE STENOVATE PRIVATE LIMITED EQ PP RS.8/-",null,null,814,"05-BIHAR",null,null,null,null,null,null,null,null,null,null,"INE0HRF15018","PLATINUM TRUST MARCH 2021"]
[null,null,null,null,null,null,null,null,"420-CZECHIA",null,"04019-Distilling and blending of spirits, production of ethyl alcohol ",null,null,null,null,null,null,null,null,null,null,null,null,null,null,null,"CZECHIA:420",null,"CZECHIA:420",null,null,null,null,null,"ABHY0065062","MAHB0001153","HDFC0001885","NKGS0000049","SBIN0016883",null,null,"420-CZECHIA",null,null,null,null,null,null,null,null,null,null,"EMIRATES NBD BANK P J S C","EBIL",null,null,null,null,null,null,null,null,null,"115ACA-Income by way of dividends from GDRs purchased in foreign currency by residents",null,null,null,null,null,null,null,null,null,null,null,null,"04020-Manufacture of mineral water ",null,null,null,null,null,null,null,null,"INE261Q08011","WADHWA RESIDENCY PRIVATE LIMITED SR-A 20 CCD 01AG21 FVRS100",null,null,160,"06-CHANDIGARH",null,null,null,null,null,null,null,null,null,null,"INE0HRJ01010","RADIANCE MH SUNRISE THREE PRIVATE LIMITED"]
[null,null,null,null,null,null,null,null,"45-DENMARK",null,"04020-Manufacture of mineral water ",null,null,null,null,null,null,null,null,null,null,null,null,null,null,null,"DENMARK:45",null,"DENMARK:45",null,null,null,null,null,"ABHY0065063","MAHB0001154","HDFC0001884","NKGS0000048","SBIN0016882",null,null,"45-DENMARK",null,null,null,null,null,null,null,null,null,null,"EXPORT IMPORT BANK OF INDIA","EIBI",null,null,null,null,null,null,null,null,null,"PTI_115AD(1)(i)- Income received by an FII in respect of securities (other than units referred to in section115AB)",null,null,null,null,null,null,null,null,null,null,null,null,"04021-Manufacture of soft drinks ",null,null,null,null,null,null,null,null,"INE361P04010","RENEW WIND ENERGY (JAMB) PVT. LTD. 0.0001% PREF 22JU34",null,null,495,"33-CHHATTISGARH",null,null,null,null,null,null,null,null,null,null,"INE0HRM01014","RADIANCE MH SUNRISE EIGHT PRIVATE LIMITED"]
[null,null,null,null,null,null,null,null,"253-DJIBOUTI",null,"04021-Manufacture of soft drinks ",null,null,null,null,null,null,null,null,null,null,null,null,null,null,null,"DJIBOUTI:253",null,"DJIBOUTI:253",null,null,null,null,null,"ABHY0065064","MAHB0001155","HDFC0001883","NKGS0000047","SBIN0016881",null,null,"253-DJIBOUTI",null,null,null,null,null,null,null,null,null,null,"EQUITAS SMALL FINANCE BANK LIMITED","ESFB",null,null,null,null,null,null,null,null,null,"PTI_115AD(1)(i)P-Income received by an FII in respect of bonds or government securities referred to in section 194LD",null,null,null,null,null,null,null,null,null,null,null,null,"04022-Manufacture of other non-alcoholic beverages ",null,null,null,null,null,null,null,null,"INE373R04011","LUXURY FARMS PRIVATE LIMITED 12% PREF 29MR19",null,null,491,"33-CHHATTISGARH",null,null,null,null,null,null,null,null,null,null,"INE0HRT01019","RADIANCE MH SUNRISE TWELVE PRIVATE LIMITED"]
[null,null,null,null,null,null,null,null,"1767-DOMINICA",null,"04022-Manufacture of other non-alcoholic beverages ",null,null,null,null,null,null,null,null,null,null,null,null,null,null,null,"DOMINICA:1767",null,"DOMINICA:1767",null,null,null,null,null,"ABHY0065065","MAHB0001156","HDFC0001882","NKGS0000046","SBIN0016880",null,null,"1767-DOMINICA",null,null,null,null,null,null,null,null,null,null,"ESAF SMALL FINANCE BANK LIMITED","ESMF",null,null,null,null,null,null,null,null,null,"PTI_115BBC-Anonymous donations",null,null,null,null,null,null,null,null,null,null,null,null,"04023-Manufacture of tobacco products ",null,null,null,null,null,null,null,null,"INE373R04029","LUXURY FARMS PRIVATE LIMITED 14% PREF 13JU22",null,null,494,"33-CHHATTISGARH",null,null,null,null,null,null,null,null,null,null,"INF846K01Z38","AXIS MUTUAL FUND"]
[null,null,null,null,null,null,null,null,"1809-DOMINICAN REPUBLIC",null,"04023-Manufacture of tobacco products ",null,null,null,null,null,null,null,null,null,null,null,null,null,null,null,"DOMINICAN REPUBLIC:1809",null,"DOMINICAN REPUBLIC:1809",null,null,null,null,null,"ABHY0065066","MAHB0001157","HDFC0001881","NKGS0000045","SBIN0016879",null,null,"1809-DOMINICAN REPUBLIC",null,null,null,null,null,null,null,null,null,null,"FEDERAL BANK","FDRL",null,null,null,null,null,null,null,null,null,"PTI_115BBF-Tax on income from patent",null,null,null,null,null,null,null,null,null,null,null,null,"04024-Manufacture of textiles (other than by handloom)   ",null,null,null,null,null,null,null,null,"INE373R04037","LUXURY FARMS PRIVATE LIMITED 12% PREF 30MR24",null,null,493,"33-CHHATTISGARH",null,null,null,null,null,null,null,null,null,null,"INE05M203147","FITTERNITY HEALTH E-SOLUTION PRIVATE LIMITED"]
[null,null,null,null,null,null,null,null,"593-ECUADOR",null,"04024-Manufacture of textiles (other than by handloom)   ",null,null,null,null,null,null,null,null,null,null,null,null,null,null,null,"ECUADOR:593",null,"ECUADOR:593",null,null,null,null,null,"ABHY0065067","MAHB0001158","HDFC0001880","NKGS0000044","SBIN0016878",null,null,"593-ECUADOR",null,null,null,null,null,null,null,null,null,null,"FINO PAYMENTS BANK","FINO",null,null,null,null,null,null,null,null,null,"PTI_115BBG-Transfer of carbon credits",null,null,null,null,null,null,null,null,null,null,null,null,"04025-Manufacture of textiles using handlooms (khadi) ",null,null,null,null,null,null,null,null,"INE383R01016","PATWA INVESTMENT AND FINANCE LIMITED EQ",null,null,490,"33-CHHATTISGARH",null,null,null,null,null,null,null,null,null,null,"INE201P08076","G R INFRAPROJECTS LIMITED"]
[null,null,null,null,null,null,null,null,"20-EGYPT",null,"04025-Manufacture of textiles using handlooms (khadi) ",null,null,null,null,null,null,null,null,null,null,null,null,null,null,null,"EGYPT:20",null,"EGYPT:20",null,null,null,null,null,"ABHY0065068","MAHB0001159","HDFC0001879","NKGS0000043","SBIN0016877",null,null,"20-EGYPT",null,null,null,null,null,null,null,null,null,null,"FIRSTRAND BANK LIMITED","FIRN",null,null,null,null,null,null,null,null,null,"PTI_115ACA-Income by way of dividends from GDRs purchased in foreign currency by residents",null,null,null,null,null,null,null,null,null,null,null,null,"04026-Manufacture of carpet, rugs, blankets, shawls etc. (other than by hand)  ",null,null,null,null,null,null,null,null,"INE430R01015","AAYUSH FOOD AND HERBS LIMITED EQ",null,null,496,"33-CHHATTISGARH",null,null,null,null,null,null,null,null,null,null,"INE549K08244","MUTHOOT FINCORP LIMITED"]
[null,null,null,null,null,null,null,null,"503-EL SALVADOR",null,"04026-Manufacture of carpet, rugs, blankets, shawls etc. (other than by hand)  ",null,null,null,null,null,null,null,null,null,null,null,null,null,null,null,"EL SALVADOR:503",null,"EL SALVADOR:503",null,null,null,null,null,"ABHY0065069","MAHB0001160","HDFC0001878","NKGS0000042","SBIN0016876",null,null,"503-EL SALVADOR",null,null,null,null,null,null,null,null,null,null,"FINCARE SMALL FINANCE BANK LTD","FSFB",null,null,null,null,null,null,null,null,null,"5AD1iDiv-Income (being dividend) received by an FII in respect of securities (other than units referred to in section 115AB) - chargeable u/s 115AD(1)(i)",null,null,null,null,null,null,null,null,null,null,null,null,"04027-Manufacture of carpet, rugs, blankets, shawls etc. by hand ",null,null,null,null,null,null,null,null,"INE476M07263","L&T HOUSING FINANCE LIMITED SR-J OPT-3 9.45 NCD 06NV21 FVRS25LAC",null,null,497,"33-CHHATTISGARH",null,null,null,null,null,null,null,null,null,null,"INE549K08251","MUTHOOT FINCORP LIMITED"]
[null,null,null,null,null,null,null,null,"240-EQUATORIAL GUINEA",null,"04027-Manufacture of carpet, rugs, blankets, shawls etc. by hand ",null,null,null,null,null,null,null,null,null,null,null,null,null,null,null,"EQUATORIAL GUINEA:240",null,"EQUATORIAL GUINEA:240",null,null,null,null,null,"ABHY0065070","MAHB0001161","HDFC0001877","NKGS0000041","SBIN0016875",null,null,"240-EQUATORIAL GUINEA",null,null,null,null,null,null,null,null,null,null,"THE GREATER BOMBAY COOPERATIVE BANK LIMITED","GBCB",null,null,null,null,null,null,null,null,null,"PTI_5AD1iDiv-PTI-Income (being dividend) received by an FII in respect of securities (other than units referred to in section 115AB) - chargeable u/s 115AD(1)(i)",null,null,null,null,null,null,null,null,null,null,null,null,"04028-Manufacture of wearing apparel  ",null,null,null,null,null,null,null,null,"INE531R01010","MEGATHERM TRANSMISSION & DISTRIBUTION PRIVATE LIMITED EQ",null,null,492,"33-CHHATTISGARH",null,null,null,null,null,null,null,null,null,null,"INE0CTY03038","GIRIDHAN METAL PRIVATE LIMITED"]
[null,null,null,null,null,null,null,null,"291-ERITREA",null,"04028-Manufacture of wearing apparel  ",null,null,null,null,null,null,null,null,null,null,null,null,null,null,null,"ERITREA:291",null,"ERITREA:291",null,null,null,null,null,"ABHY0065071","MAHB0001162","HDFC0001876","NKGS0000040","SBIN0016874",null,null,"291-ERITREA",null,null,null,null,null,null,null,null,null,null,"THE GADCHIROLI DISTRICT CENTRAL COOPERATIVE BANK LIMITED","GDCB",null,null,null,null,null,null,null,null,null,"5AD1IBd-Income (being dividend) received by a specified fund in respect of securities (other than units referred to in section 115AB) - chargeable u/s 115AD(1)(i)",null,null,null,null,null,null,null,null,null,null,null,null,"04029-Tanning and dressing of leather ",null,null,null,null,null,null,null,null,"INE532R01018","MEP HIGHWAY SOLUTIONS PRIVATE LIMITED EQ",null,null,110,"09-DELHI",null,null,null,null,null,null,null,null,null,null,"INE0INV01012","THE MAHALAKSHMI TEXTILE MILLS LIMITED"]
[null,null,null,null,null,null,null,null,"372-ESTONIA",null,"04029-Tanning and dressing of leather ",null,null,null,null,null,null,null,null,null,null,null,null,null,null,null,"ESTONIA:372",null,"ESTONIA:372",null,null,null,null,null,"ABHY0065072","MAHB0001163","HDFC0001875","NKGS0000039","SBIN0016873",null,null,"372-ESTONIA",null,null,null,null,null,null,null,null,null,null,"THE GUJARAT STATE COOPERATIVE BANK LIMITED","GSCB",null,null,null,null,null,null,null,null,null,"5AD1IB-Income (other than dividend) received by a specified fund in respect of securities (other than units referred to in section 115AB) - chargeable u/s 115AD(1)(i)",null,null,null,null,null,null,null,null,null,null,null,null,"04030-Manufacture of luggage, handbags and the like saddler and harness ",null,null,null,null,null,null,null,null,"INE534R01014","MIDASTOUCH POWER PRIVATE LIMITED EQ",null,null,403,"10-GOA",null,null,null,null,null,null,null,null,null,null,"INE348Y07947","YOGAKSHEMAM LOANS LIMITED"]
[null,null,null,null,null,null,null,null,"251-ETHIOPIA",null,"04030-Manufacture of luggage, handbags and the like saddler and harness ",null,null,null,null,null,null,null,null,null,null,null,null,null,null,null,"ETHIOPIA:251",null,"ETHIOPIA:251",null,null,null,null,null,"ABHY0065073","MAHB0001164","HDFC0001874","NKGS0000038","SBIN0016872",null,null,"251-ETHIOPIA",null,null,null,null,null,null,null,null,null,null,"HARYANA STATE COOPERATIVE BANK","HARC",null,null,null,null,null,null,null,null,null,"PTI_5AD1IBd-PTI- Income (being dividend) received by a specified fund in respect of securities (other than units referred to in section 115AB) - chargeable u/s 115AD(1)(i)",null,null,null,null,null,null,null,null,null,null,null,null,"04031-Manufacture of footwear ",null,null,null,null,null,null,null,null,"INE537R01017","SANCHAYA POWER PRIVATE LIMITED EQ",null,null,385,"11-GUJARAT",null,null,null,null,null,null,null,null,null,null,"INE659R03338","ANI TECHNOLOGIES PRIVATE LIMITED"]
[null,null,null,null,null,null,null,null,"500-FALKLAND ISLANDS (MALVINAS)",null,"04031-Manufacture of footwear ",null,null,null,null,null,null,null,null,null,null,null,null,null,null,null,"FALKLAND ISLANDS (MALVINAS):500",null,"FALKLAND ISLANDS (MALVINAS):500",null,null,null,null,null,"ABHY0065074","MAHB0001165","HDFC0001873","NKGS0000037","SBIN0016871",null,null,"500-FALKLAND ISLANDS (MALVINAS)",null,null,null,null,null,null,null,null,null,null,"THE HASTI COOP BANK LTD","HCBL",null,null,null,null,null,null,null,null,null,"PTI_5AD1IB-PTI- Income (other than dividend) received by a specified fund in respect of securities (other than units referred to in section 115AB) - chargeable u/s 115AD(1)(i)",null,null,null,null,null,null,null,null,null,null,null,null,"04032-Manufacture of wood and wood products, cork, straw and plaiting material ",null,null,null,null,null,null,null,null,"INE539R01013","INDIGENOUS POWER PRIVATE LIMITED EQ",null,null,384,"11-GUJARAT",null,null,null,null,null,null,null,null,null,null,"INE003L07127","EMBASSY PROPERTY DEVELOPMENTS PRIVATE LIMITED"]
[null,null,null,null,null,null,null,null,"298-FAROE ISLANDS",null,"04032-Manufacture of wood and wood products, cork, straw and plaiting material ",null,null,null,null,null,null,null,null,null,null,null,null,null,null,null,"FAROE ISLANDS:298",null,"FAROE ISLANDS:298",null,null,null,null,null,"ABHY0065075","MAHB0001166","HDFC0001872","NKGS0000036","SBIN0016870",null,null,"298-FAROE ISLANDS",null,null,null,null,null,null,null,null,null,null,"HDFC BANK","HDFC",null,null,null,null,null,null,null,null,null,null,null,null,null,null,null,null,null,null,null,null,null,null,"04033-Manufacture of paper and paper products ",null,null,null,null,null,null,null,null,"INE540R01011","SAIBLISS POWER PRIVATE LIMITED EQ",null,null,383,"11-GUJARAT",null,null,null,null,null,null,null,null,null,null,"INE09MC01011","MANIKARAN RENEWABLES LIMITED"]
[null,null,null,null,null,null,null,null,"679-FIJI",null,"04033-Manufacture of paper and paper products ",null,null,null,null,null,null,null,null,null,null,null,null,null,null,null,"FIJI:679",null,"FIJI:679",null,null,null,null,null,"ABHY0065076","MAHB0001167","HDFC0001871","NKGS0000035","SBIN0016869",null,null,"679-FIJI",null,null,null,null,null,null,null,null,null,null,"HIMACHAL PRADESH STATE COOPERATIVE BANK LTD","HPSC",null,null,null,null,null,null,null,null,null,null,null,null,null,null,null,null,null,null,null,null,null,null,"04034-Publishing, printing and reproduction of recorded media ",null,null,null,null,null,null,null,null,"INE541R01019","FILTRA CONSULTANTS AND ENGINEERS LIMITED EQ",null,null,393,"11-GUJARAT",null,null,null,null,null,null,null,null,null,null,"INE0F7D01012","G.K.DIAMONDS LIMITED"]
[null,null,null,null,null,null,null,null,"358-FINLAND",null,"04034-Publishing, printing and reproduction of recorded media ",null,null,null,null,null,null,null,null,null,null,null,null,null,null,null,"FINLAND:358",null,"FINLAND:358",null,null,null,null,null,"ABHY0065077","MAHB0001168","HDFC0001870","NKGS0000034","SBIN0016868",null,null,"358-FINLAND",null,null,null,null,null,null,null,null,null,null,"HSBC BANK","HSBC",null,null,null,null,null,null,null,null,null,null,null,null,null,null,null,null,null,null,null,null,null,null,"04035-Manufacture of coke oven products ",null,null,null,null,null,null,null,null,"INE542R01017","PARINEE REALTORS PRIVATE LIMITED EQ",null,null,394,"11-GUJARAT",null,null,null,null,null,null,null,null,null,null,"INE0F7Q01014","SGZ & SGA SUGARS (JV) LIMITED"]
[null,null,null,null,null,null,null,null,"33-FRANCE",null,"04035-Manufacture of coke oven products ",null,null,null,null,null,null,null,null,null,null,null,null,null,null,null,"FRANCE:33",null,"FRANCE:33",null,null,null,null,null,"ABHY0065102","MAHB0001169","HDFC0001869","NKGS0000033","SBIN0016867",null,null,"33-FRANCE",null,null,null,null,null,null,null,null,null,null,"WOORI BANK","HVBK",null,null,null,null,null,null,null,null,null,null,null,null,null,null,null,null,null,null,null,null,null,null,"04036-Manufacture of refined petroleum products ",null,null,null,null,null,null,null,null,"INE173Y07014","AZURE RENEWABLE ENERGY PRIVATE LIMITED 9.6 NCD 28OT22 FVRS10000",null,null,392,"11-GUJARAT",null,null,null,null,null,null,null,null,null,null,"INE0E2307039","AVIOM INDIA HOUSING FINANCE PRIVATE LIMITED"]
[null,null,null,null,null,null,null,null,"594-FRENCH GUIANA",null,"04036-Manufacture of refined petroleum products ",null,null,null,null,null,null,null,null,null,null,null,null,null,null,null,"FRENCH GUIANA:594",null,"FRENCH GUIANA:594",null,null,null,null,null,"ABHY0065103","MAHB0001170","HDFC0001868","NKGS0000032","SBIN0016866",null,null,"594-FRENCH GUIANA",null,null,null,null,null,null,null,null,null,null,"PT BANK MAYBANK INDONESIA TBK","IBBK",null,null,null,null,null,null,null,null,null,null,null,null,null,null,null,null,null,null,null,null,null,null,"04037-Processing of nuclear fuel ",null,null,null,null,null,null,null,null,"INF789FA13R7","UTI MUTUAL FUND FTIF SR XX XI (1100D) REG FLEXI DIVREI 06DC17",null,null,387,"11-GUJARAT",null,null,null,null,null,null,null,null,null,null,"INE0GR701017","REFORM CLUB (GUJARAT) LIMITED"]
[null,null,null,null,null,null,null,null,"689-FRENCH POLYNESIA",null,"04037-Processing of nuclear fuel ",null,null,null,null,null,null,null,null,null,null,null,null,null,null,null,"FRENCH POLYNESIA:689",null,"FRENCH POLYNESIA:689",null,null,null,null,null,"ABHY0065104","MAHB0001171","HDFC0001867","NKGS0000031","SBIN0016865",null,null,"689-FRENCH POLYNESIA",null,null,null,null,null,null,null,null,null,null,"IDBI BANK","IBKL",null,null,null,null,null,null,null,null,null,null,null,null,null,null,null,null,null,null,null,null,null,null,"04038-Manufacture of fertilizers and nitrogen compounds ",null,null,null,null,null,null,null,null,"INF789FA13S5","UTI MUTUAL FUND FTIF SR XX XII (1103D) DIR MAT DIV PAY 18DC17",null,null,388,"11-GUJARAT",null,null,null,null,null,null,null,null,null,null,"INE0GS401013","SRI GOPAL AUTOMOTIVE LIMITED"]
[null,null,null,null,null,null,null,null,"1004-FRENCH SOUTHERN TERRITORIES",null,"04038-Manufacture of fertilizers and nitrogen compounds ",null,null,null,null,null,null,null,null,null,null,null,null,null,null,null,"FRENCH SOUTHERN TERRITORIES:1004",null,"FRENCH SOUTHERN TERRITORIES:1004",null,null,null,null,null,"ABHY0065105","MAHB0001172","HDFC0001866","NKGS0000030","SBIN0016864",null,null,"1004-FRENCH SOUTHERN TERRITORIES",null,null,null,null,null,null,null,null,null,null,"INDUSTRIAL BANK OF KOREA","IBKO",null,null,null,null,null,null,null,null,null,null,null,null,null,null,null,null,null,null,null,null,null,null,"04039-Manufacture of plastics in primary forms and of synthetic rubber ",null,null,null,null,null,null,null,null,"INF789FA13T3","UTI MUTUAL FUND FTIF SR XX XII (1103D) REG QTLY DIVREI 18DC17",null,null,396,"11-GUJARAT",null,null,null,null,null,null,null,null,null,null,"INE177R07100","AVENDUS FINANCE PRIVATE LIMITED"]
[null,null,null,null,null,null,null,null,"241-GABON",null,"04039-Manufacture of plastics in primary forms and of synthetic rubber ",null,null,null,null,null,null,null,null,null,null,null,null,null,null,null,"GABON:241",null,"GABON:241",null,null,null,null,null,"ABHY0065106","MAHB0001173","HDFC0001865","NKGS0000029","SBIN0016863",null,null,"241-GABON",null,null,null,null,null,null,null,null,null,null,"INDUSTRIAL AND COMMERCIAL BANK OF CHINA LIMITED","ICBK",null,null,null,null,null,null,null,null,null,null,null,null,null,null,null,null,null,null,null,null,null,null,"04040-Manufacture of paints, varnishes and similar coatings ",null,null,null,null,null,null,null,null,"INF789FA14Q7","UTI MUTUAL FUND FTIF SR XX XI (1100D) DIR FLEXI DIVPAY 06DC17",null,null,382,"11-GUJARAT",null,null,null,null,null,null,null,null,null,null,"INE09YC04010","WIN CABLE AND DATACOM  LIMITED"]
[null,null,null,null,null,null,null,null,"220-GAMBIA",null,"04040-Manufacture of paints, varnishes and similar coatings ",null,null,null,null,null,null,null,null,null,null,null,null,null,null,null,"GAMBIA:220",null,"GAMBIA:220",null,null,null,null,null,"ABHY0065107","MAHB0001174","HDFC0001864","NKGS0000028","SBIN0016862",null,null,"220-GAMBIA",null,null,null,null,null,null,null,null,null,null,"ICICI BANK LIMITED","ICIC",null,null,null,null,null,null,null,null,null,null,null,null,null,null,null,null,null,null,null,null,null,null,"04041-Manufacture of pharmaceuticals, medicinal chemicals and botanical products ",null,null,null,null,null,null,null,null,"INF789FA14S3","UTI MUTUAL FUND FTIF SR XX XII (1103D) DIR QTLY DIVPAY 18DC17",null,null,360,"11-GUJARAT",null,null,null,null,null,null,null,null,null,null,"INE0HG318012","EARC TRUST - SC 409"]
[null,null,null,null,null,null,null,null,"995-GEORGIA",null,"04041-Manufacture of pharmaceuticals, medicinal chemicals and botanical products ",null,null,null,null,null,null,null,null,null,null,null,null,null,null,null,"GEORGIA:995",null,"GEORGIA:995",null,null,null,null,null,"ABHY0065108","MAHB0001175","HDFC0001863","NKGS0000027","SBIN0016861",null,null,"995-GEORGIA",null,null,null,null,null,null,null,null,null,null,"IDFC First Bank Ltd","IDFB",null,null,null,null,null,null,null,null,null,null,null,null,null,null,null,null,null,null,null,null,null,null,"04042-Manufacture of soap and detergents ",null,null,null,null,null,null,null,null,"INF789FA15Q4","UTI MUTUAL FUND FTIF SR XX XI (1100D) DIR FLEXI DIVREI 06DC17",null,null,363,"11-GUJARAT",null,null,null,null,null,null,null,null,null,null,"INE0HGG15019","VIDYA TRUST 2021 SERIES II"]
[null,null,null,null,null,null,null,null,"49-GERMANY",null,"04042-Manufacture of soap and detergents ",null,null,null,null,null,null,null,null,null,null,null,null,null,null,null,"GERMANY:49",null,"GERMANY:49",null,null,null,null,null,"ABHY0065109","MAHB0001176","HDFC0001862","NKGS0000026","SBIN0016860",null,null,"49-GERMANY",null,null,null,null,null,null,null,null,null,null,"INDIAN BANK","IDIB",null,null,null,null,null,null,null,null,null,null,null,null,null,null,null,null,null,null,null,null,null,null,"04043-Manufacture of other chemical products ",null,null,null,null,null,null,null,null,"INF789FA15R2","UTI MUTUAL FUND FTIF SR XX XI (1100D) REG MAT DIVI PAY 06DC17",null,null,364,"11-GUJARAT",null,null,null,null,null,null,null,null,null,null,"INE0HGH15017","NORTHERN ARC 2021 VF PADDY"]
[null,null,null,null,null,null,null,null,"233-GHANA",null,"04043-Manufacture of other chemical products ",null,null,null,null,null,null,null,null,null,null,null,null,null,null,null,"GHANA:233",null,"GHANA:233",null,null,null,null,null,"ABHY0065110","MAHB0001177","HDFC0001861","NKGS0000025","SBIN0016859",null,null,"233-GHANA",null,null,null,null,null,null,null,null,null,null,"IDUKKI DISTRICT CO OPERATIVE BANK LTD","IDUK",null,null,null,null,null,null,null,null,null,null,null,null,null,null,null,null,null,null,null,null,null,null,"04044-Manufacture of man-made fibers ",null,null,null,null,null,null,null,null,"INF789FA15S0","UTI MUTUAL FUND FTIF SR XX XII (1103D) DIR QTLY DIVREI 18DC17",null,null,380,"11-GUJARAT",null,null,null,null,null,null,null,null,null,null,"INE204S01012","LE LAVOIR LIMITED"]
[null,null,null,null,null,null,null,null,"350-GIBRALTAR",null,"04044-Manufacture of man-made fibers ",null,null,null,null,null,null,null,null,null,null,null,null,null,null,null,"GIBRALTAR:350",null,"GIBRALTAR:350",null,null,null,null,null,"ABHY0065111","MAHB0001178","HDFC0001860","NKGS0000024","SBIN0016858",null,null,"350-GIBRALTAR",null,null,null,null,null,null,null,null,null,null,"INDUSIND BANK","INDB",null,null,null,null,null,null,null,null,null,null,null,null,null,null,null,null,null,null,null,null,null,null,"04045-Manufacture of rubber products ",null,null,null,null,null,null,null,null,"INF789FA16R0","UTI MUTUAL FUND FTIF SR XX XI (1100D) REG QTLY DIV PAY 06DC17",null,null,365,"11-GUJARAT",null,null,null,null,null,null,null,null,null,null,"INE498Z03011","VINEHA ENTERPRISES PRIVATE LIMITED"]
[null,null,null,null,null,null,null,null,"30-GREECE",null,"04045-Manufacture of rubber products ",null,null,null,null,null,null,null,null,null,null,null,null,null,null,null,"GREECE:30",null,"GREECE:30",null,null,null,null,null,"ABHY0065112","MAHB0001179","HDFC0001859","NKGS0000023","SBIN0016857",null,null,"30-GREECE",null,null,null,null,null,null,null,null,null,null,"INDIAN OVERSEAS BANK","IOBA",null,null,null,null,null,null,null,null,null,null,null,null,null,null,null,null,null,null,null,null,null,null,"04046-Manufacture of plastic products ",null,null,null,null,null,null,null,null,"INF789FA16S8","UTI MUTUAL FUND FTIF SR XX XII (1103D) REG ANNL DIVPAY 18DC17",null,null,362,"11-GUJARAT",null,null,null,null,null,null,null,null,null,null,"INE975F14UR9","KOTAK MAHINDRA INVESTMENTS LIMITED"]
[null,null,null,null,null,null,null,null,"299-GREENLAND",null,"04046-Manufacture of plastic products ",null,null,null,null,null,null,null,null,null,null,null,null,null,null,null,"GREENLAND:299",null,"GREENLAND:299",null,null,null,null,null,"ABHY0065113","MAHB0001180","HDFC0001858","NKGS0000022","SBIN0016856",null,null,"299-GREENLAND",null,null,null,null,null,null,null,null,null,null,"INDIA POST PAYMENT BANK","IPOS",null,null,null,null,null,null,null,null,null,null,null,null,null,null,null,null,null,null,null,null,null,null,"04047-Manufacture of glass and glass products  ",null,null,null,null,null,null,null,null,"INF789FA17Q0","UTI MUTUAL FUND FTIF SR XX XI (1100D) DIR MAT DIVI PAY 06DC17",null,null,391,"11-GUJARAT",null,null,null,null,null,null,null,null,null,null,"INE01I507307","KLM AXIVA FINVEST LIMITED"]
[null,null,null,null,null,null,null,null,"1473-GRENADA",null,"04047-Manufacture of glass and glass products  ",null,null,null,null,null,null,null,null,null,null,null,null,null,null,null,"GRENADA:1473",null,"GRENADA:1473",null,null,null,null,null,"ABHY0065114","MAHB0001181","HDFC0001857","NKGS0000021","SBIN0016855",null,null,"1473-GRENADA",null,null,null,null,null,null,null,null,null,null,"Irinjalakuda Town Co-Operative Bank Ltd","ITBL",null,null,null,null,null,null,null,null,null,null,null,null,null,null,null,null,null,null,null,null,null,null,"04048-Manufacture of cement, lime and plaster ",null,null,null,null,null,null,null,null,"INF789FA17R8","UTI MUTUAL FUND FTIF SR XX XI (1100D) REG QTLY DIV REI 06DC17",null,null,361,"11-GUJARAT",null,null,null,null,null,null,null,null,null,null,"INE0GGS03095","99 ALGORITHMS PRIVATE LIMITED"]
[null,null,null,null,null,null,null,null,"590-GUADELOUPE",null,"04048-Manufacture of cement, lime and plaster ",null,null,null,null,null,null,null,null,null,null,null,null,null,null,null,"GUADELOUPE:590",null,"GUADELOUPE:590",null,null,null,null,null,"ABHY0065115","MAHB0001182","HDFC0001856","NKGS0000020","SBIN0016854",null,null,"590-GUADELOUPE",null,null,null,null,null,null,null,null,null,null,"JAMMU AND KASHMIR BANK LIMITED","JAKA",null,null,null,null,null,null,null,null,null,null,null,null,null,null,null,null,null,null,null,null,null,null,"04049-Manufacture of articles of concrete, cement and plaster ",null,null,null,null,null,null,null,null,"INF789FA17S6","UTI MUTUAL FUND FTIF SR XX XII (1103D) REG ANNL DIVREI 18DC17",null,null,395,"11-GUJARAT",null,null,null,null,null,null,null,null,null,null,"INE0GH104016","GIBS COMPUTERS LIMITED"]
[null,null,null,null,null,null,null,null,"1671-GUAM",null,"04049-Manufacture of articles of concrete, cement and plaster ",null,null,null,null,null,null,null,null,null,null,null,null,null,null,null,"GUAM:1671",null,"GUAM:1671",null,null,null,null,null,"ABHY0065116","MAHB0001183","HDFC0001855","NKGS0000019","SBIN0016853",null,null,"1671-GUAM",null,null,null,null,null,null,null,null,null,null,"JANASEVA SAHAKARI BANK LIMITED","JANA",null,null,null,null,null,null,null,null,null,null,null,null,null,null,null,null,null,null,null,null,null,null,"04050-Manufacture of Bricks ",null,null,null,null,null,null,null,null,"INF789FA18Q8","UTI MUTUAL FUND FTIF SR XX XI (1100D) DIR QTRY DIV PAY 06DC17",null,null,370,"11-GUJARAT",null,null,null,null,null,null,null,null,null,null,"INE0HY703021","OCTOPOLIS TECHNOLOGIES PRIVATE LIMITED"]
[null,null,null,null,null,null,null,null,"502-GUATEMALA",null,"04050-Manufacture of Bricks ",null,null,null,null,null,null,null,null,null,null,null,null,null,null,null,"GUATEMALA:502",null,"GUATEMALA:502",null,null,null,null,null,"ABHY0065117","MAHB0001184","HDFC0001854","NKGS0000018","SBIN0016850",null,null,"502-GUATEMALA",null,null,null,null,null,null,null,null,null,null,"JANASEVA SAHAKARI BANK BORIVLI LIMITED","JASB",null,null,null,null,null,null,null,null,null,null,null,null,null,null,null,null,null,null,null,null,null,null,"04051-Manufacture of other clay and ceramic products ",null,null,null,null,null,null,null,null,"INF789FA18R6","UTI MUTUAL FUND FTIF SR XX XII (1103D) DIR ANNL DIVPAY 18DC17",null,null,389,"11-GUJARAT",null,null,null,null,null,null,null,null,null,null,"INE0I8S01015","BORDERLESS SOFTTECH PRIVATE LIMITED"]
[null,null,null,null,null,null,null,null,"1481-GUERNSEY",null,"04051-Manufacture of other clay and ceramic products ",null,null,null,null,null,null,null,null,null,null,null,null,null,null,null,"GUERNSEY:1481",null,"GUERNSEY:1481",null,null,null,null,null,"ABHY0065118","MAHB0001185","HDFC0001853","NKGS0000017","SBIN0016849",null,null,"1481-GUERNSEY",null,null,null,null,null,null,null,null,null,null,"JIO PAYMENTS BANK LIMITED","JIOP",null,null,null,null,null,null,null,null,null,null,null,null,null,null,null,null,null,null,null,null,null,null,"04052-Manufacture of other non-metallic mineral products ",null,null,null,null,null,null,null,null,"INF789FA18S4","UTI MUTUAL FUND FTIF SR XX XII (1103D) REG FLEXI DIVPA 18DC17",null,null,390,"11-GUJARAT",null,null,null,null,null,null,null,null,null,null,"INE051307333","CHEMMANUR CREDITS AND INVESTMENTS LIMITED"]
[null,null,null,null,null,null,null,null,"224-GUINEA",null,"04052-Manufacture of other non-metallic mineral products ",null,null,null,null,null,null,null,null,null,null,null,null,null,null,null,"GUINEA:224",null,"GUINEA:224",null,null,null,null,null,"ABHY0065119","MAHB0001186","HDFC0001852","NKGS0000016","SBIN0016848",null,null,"224-GUINEA",null,null,null,null,null,null,null,null,null,null,"JALGAON JANATA SAHAKARI BANK LIMITED","JJSB",null,null,null,null,null,null,null,null,null,null,null,null,null,null,null,null,null,null,null,null,null,null,"04053-Manufacture of pig iron, sponge iron, Direct Reduced Iron etc.  ",null,null,null,null,null,null,null,null,"INF789FA19Q6","UTI MUTUAL FUND FTIF SR XX XI (1100D) DIR QTRLY DIVREI 06DC17",null,null,126,"12-HARYANA",null,null,null,null,null,null,null,null,null,null,"INE083T07056","TRANSCON DEVELOPERS PRIVATE LIMITED"]
[null,null,null,null,null,null,null,null,"245-GUINEA-BISSAU",null,"04053-Manufacture of pig iron, sponge iron, Direct Reduced Iron etc.  ",null,null,null,null,null,null,null,null,null,null,null,null,null,null,null,"GUINEA-BISSAU:245",null,"GUINEA-BISSAU:245",null,null,null,null,null,"ABHY0065120","MAHB0001187","HDFC0001851","NKGS0000015","SBIN0016847",null,null,"245-GUINEA-BISSAU",null,null,null,null,null,null,null,null,null,null,"THE JALGAON PEOPELS COOPERATIVE BANK LIMITED","JPCB",null,null,null,null,null,null,null,null,null,null,null,null,null,null,null,null,null,null,null,null,null,null,"04054-Manufacture of Ferro alloys ",null,null,null,null,null,null,null,null,"INF789FA19R4","UTI MUTUAL FUND FTIF SR XX XII (1103D) DIR ANNL DIVREI 18DC17",null,null,121,"12-HARYANA",null,null,null,null,null,null,null,null,null,null,"INE0DLR03185","TOPPR TECHNOLOGIES PRIVATE LIMITED"]
[null,null,null,null,null,null,null,null,"592-GUYANA",null,"04054-Manufacture of Ferro alloys ",null,null,null,null,null,null,null,null,null,null,null,null,null,null,null,"GUYANA:592",null,"GUYANA:592",null,null,null,null,null,"ABHY0065121","MAHB0001188","HDFC0001850","NKGS0000014","SBIN0016846",null,null,"592-GUYANA",null,null,null,null,null,null,null,null,null,null,"JANAKALYAN SAHAKARI BANK LIMITED","JSBL",null,null,null,null,null,null,null,null,null,null,null,null,null,null,null,null,null,null,null,null,null,null,"04055-Manufacture of Ingots, billets, blooms and slabs etc.  ",null,null,null,null,null,null,null,null,"INF789FA19S2","UTI MUTUAL FUND FTIF SR XX XII (1103D) REG FLEXI DIVRE 18DC17",null,null,123,"12-HARYANA",null,null,null,null,null,null,null,null,null,null,"INE0H0G03014","KOTLA RENEWABLES PRIVATE LIMITED"]
[null,null,null,null,null,null,null,null,"509-HAITI",null,"04055-Manufacture of Ingots, billets, blooms and slabs etc.  ",null,null,null,null,null,null,null,null,null,null,null,null,null,null,null,"HAITI:509",null,"HAITI:509",null,null,null,null,null,"ABHY0065122","MAHB0001189","HDFC0001849","NKGS0000013","SBIN0016845",null,null,"509-HAITI",null,null,null,null,null,null,null,null,null,null,"JANATA SAHAKARI BANK LIMITED","JSBP",null,null,null,null,null,null,null,null,null,null,null,null,null,null,null,null,null,null,null,null,null,null,"04056-Manufacture of steel products  ",null,null,null,null,null,null,null,null,"IN3120140014","STATE DEVELOPMENT LOAN 16849 TN 10AP24 9.63 FV RS 100",null,null,125,"12-HARYANA",null,null,null,null,null,null,null,null,null,null,"INE0H3815017","SANSAR TRUST FEB 2021 II"]
[null,null,null,null,null,null,null,null,"1005-HEARD ISLAND AND MCDONALD ISLANDS",null,"04056-Manufacture of steel products  ",null,null,null,null,null,null,null,null,null,null,null,null,null,null,null,"HEARD ISLAND AND MCDONALD ISLANDS:1005",null,"HEARD ISLAND AND MCDONALD ISLANDS:1005",null,null,null,null,null,"ABHY0065123","MAHB0001190","HDFC0001848","NKGS0000012","SBIN0016844",null,null,"1005-HEARD ISLAND AND MCDONALD ISLANDS",null,null,null,null,null,null,null,null,null,null,"JANA SMALL FINANCE BANK LTD","JSFB",null,null,null,null,null,null,null,null,null,null,null,null,null,null,null,null,null,null,null,null,null,null,"04057-Manufacture of basic precious and non-ferrous metals ",null,null,null,null,null,null,null,null,"IN3420120153","STATE DEVELOPMENT LOAN 16113 WB 20MR23 8.66 FV RS 100",null,null,134,"12-HARYANA",null,null,null,null,null,null,null,null,null,null,"INE238A166V1","AXIS BANK LIMITED"]
[null,null,null,null,null,null,null,null,"6-HOLY SEE",null,"04057-Manufacture of basic precious and non-ferrous metals ",null,null,null,null,null,null,null,null,null,null,null,null,null,null,null,"HOLY SEE:6",null,"HOLY SEE:6",null,null,null,null,null,"ABHY0065124","MAHB0001191","HDFC0001847","NKGS0000011","SBIN0016843",null,null,"6-HOLY SEE",null,null,null,null,null,null,null,null,null,null,"THE KANGRA CENTRAL COOPERATIVE BANK LIMITED","KACE",null,null,null,null,null,null,null,null,null,null,null,null,null,null,null,null,null,null,null,null,null,null,"04058-Manufacture of non-metallic mineral products ",null,null,null,null,null,null,null,null,"INE010Q07139","SHUBHI AGRO INDUSTRIES LIMITED SR-1 18 LOA 16NV15 FVRS1LAC",null,null,133,"12-HARYANA",null,null,null,null,null,null,null,null,null,null,"INE238A167V9","AXIS BANK LIMITED"]
[null,null,null,null,null,null,null,null,"504-HONDURAS",null,"04058-Manufacture of non-metallic mineral products ",null,null,null,null,null,null,null,null,null,null,null,null,null,null,null,"HONDURAS:504",null,"HONDURAS:504",null,null,null,null,null,"ABHY0065125","MAHB0001192","HDFC0001846","NKGS0000010","SBIN0016842",null,null,"504-HONDURAS",null,null,null,null,null,null,null,null,null,null,"KALLAPPANNA AWADE ICHALKARANJI JANATA SAHAKARI BANK LIMITED","KAIJ",null,null,null,null,null,null,null,null,null,null,null,null,null,null,null,null,null,null,null,null,null,null,"04059-Casting of metals ",null,null,null,null,null,null,null,null,"INE039A07785","IFCI LIMITED SR-IV 9.9 NCD 01DC21 FVRS1000 LOA UPTO 17MY15",null,null,136,"12-HARYANA",null,null,null,null,null,null,null,null,null,null,"INE491R07014","DJ ENERGY PRIVATE LIMITED"]
[null,null,null,null,null,null,null,null,"852-HONG KONG",null,"04059-Casting of metals ",null,null,null,null,null,null,null,null,null,null,null,null,null,null,null,"HONG KONG:852",null,"HONG KONG:852",null,null,null,null,null,"ABHY0065126","MAHB0001193","HDFC0001845","NKGS0000009","SBIN0016841",null,null,"852-HONG KONG",null,null,null,null,null,null,null,null,null,null,"THE KANGRA COOPERATIVE BANK LIMITED","KANG",null,null,null,null,null,null,null,null,null,null,null,null,null,null,null,null,null,null,null,null,null,null,"04060-Manufacture of fabricated metal products ",null,null,null,null,null,null,null,null,"INE039A07793","IFCI LIMITED SR-V NCD 01DC21 FVRS1000 LOA UPTO 17MY15",null,null,124,"12-HARYANA",null,null,null,null,null,null,null,null,null,null,"INE492R07012","UTTAR URJA PROJECTS PRIVATE LIMITED"]
[null,null,null,null,null,null,null,null,"36-HUNGARY",null,"04060-Manufacture of fabricated metal products ",null,null,null,null,null,null,null,null,null,null,null,null,null,null,null,"HUNGARY:36",null,"HUNGARY:36",null,null,null,null,null,"ABHY0065201","MAHB0001194","HDFC0001844","NKGS0000008","SBIN0016840",null,null,"36-HUNGARY",null,null,null,null,null,null,null,null,null,null,"KARNATAKA BANK LIMITED","KARB",null,null,null,null,null,null,null,null,null,null,null,null,null,null,null,null,null,null,null,null,null,null,"04061-Manufacture of engines and turbines ",null,null,null,null,null,null,null,null,"INE039A07801","IFCI LIMITED SR-VI 9.9 NCD 01DC24 FVRS1000 LOA UPTO 17MY15",null,null,131,"12-HARYANA",null,null,null,null,null,null,null,null,null,null,"INE814O07303","NEOGROWTH CREDIT PRIVATE LIMITED"]
[null,null,null,null,null,null,null,null,"354-ICELAND",null,"04061-Manufacture of engines and turbines ",null,null,null,null,null,null,null,null,null,null,null,null,null,null,null,"ICELAND:354",null,"ICELAND:354",null,null,null,null,null,"ABHY0065202","MAHB0001195","HDFC0001843","NKGS0000007","SBIN0016839",null,null,"354-ICELAND",null,null,null,null,null,null,null,null,null,null,"KALUPUR COMMERCIAL COOPERATIVE BANK","KCCB",null,null,null,null,null,null,null,null,null,null,null,null,null,null,null,null,null,null,null,null,null,null,"04062-Manufacture of pumps and compressors ",null,null,null,null,null,null,null,null,"INE039A07819","IFCI LIMITED SR-VII NCD 01DC24 FVRS1000 LOA UPTO 17MY15",null,null,132,"12-HARYANA",null,null,null,null,null,null,null,null,null,null,"INE909H08378","TMF HOLDINGS LIMITED"]
[null,null,null,null,null,null,null,null,"91-INDIA",null,"04062-Manufacture of pumps and compressors ",null,null,null,null,null,null,null,null,null,null,null,null,null,null,null,"INDONESIA:62",null,"INDONESIA:62",null,null,null,null,null,"ABHY0065203","MAHB0001196","HDFC0001842","NKGS0000006","SBIN0016838",null,null,"62-INDONESIA",null,null,null,null,null,null,null,null,null,null,"KOZHIKODE DISTRICT COOPERATIAVE BANK LTD","KDCB",null,null,null,null,null,null,null,null,null,null,null,null,null,null,null,null,null,null,null,null,null,null,"04063-Manufacture of bearings and gears ",null,null,null,null,null,null,null,null,"INE296A07EG2","BAJAJ FINANCE LIMITED SR-111 9.36 NCD 18NV24 FVRS10LAC",null,null,122,"12-HARYANA",null,null,null,null,null,null,null,null,null,null,"INE651J07812","JM FINANCIAL CREDIT SOLUTIONS LIMITED"]
[null,null,null,null,null,null,null,null,"62-INDONESIA",null,"04063-Manufacture of bearings and gears ",null,null,null,null,null,null,null,null,null,null,null,null,null,null,null,"IRAN (ISLAMIC REPUBLIC OF):98",null,"IRAN (ISLAMIC REPUBLIC OF):98",null,null,null,null,null,"ABHY0065204","MAHB0001197","HDFC0001841","NKGS0000005","SBIN0016837",null,null,"98-IRAN (ISLAMIC REPUBLIC OF)",null,null,null,null,null,null,null,null,null,null,"KAVERI GRAMEENA BANK","KGRB",null,null,null,null,null,null,null,null,null,null,null,null,null,null,null,null,null,null,null,null,null,null,"04064-Manufacture of ovens and furnaces ",null,null,null,null,null,null,null,null,"INE348F08043","MADHYA PRADESH FINANCIAL CORPORATION SR-I 9.2 LOA 19NV24 FVRS1LAC",null,null,127,"12-HARYANA",null,null,null,null,null,null,null,null,null,null,"INF174V01AL7","MAHINDRA MANULIFE MUTUAL FUND"]
[null,null,null,null,null,null,null,null,"98-IRAN (ISLAMIC REPUBLIC OF)",null,"04064-Manufacture of ovens and furnaces ",null,null,null,null,null,null,null,null,null,null,null,null,null,null,null,"IRAQ:964",null,"IRAQ:964",null,null,null,null,null,"ABHY0065205","MAHB0001198","HDFC0001840","NKGS0000004","SBIN0016836",null,null,"964-IRAQ",null,null,null,null,null,null,null,null,null,null,"KALYAN JANATA SAHAKARI BANK","KJSB",null,null,null,null,null,null,null,null,null,null,null,null,null,null,null,null,null,null,null,null,null,null,"04065-Manufacture of lifting and handling equipment ",null,null,null,null,null,null,null,null,"INE593R07017","LABOURNET SERVICES INDIA PRIVATE LIMITED 10.5 LOA 07AP17 FVRS10LAC",null,null,135,"12-HARYANA",null,null,null,null,null,null,null,null,null,null,"INF194KB1AQ3","IDFC MUTUAL FUND"]
[null,null,null,null,null,null,null,null,"964-IRAQ",null,"04065-Manufacture of lifting and handling equipment ",null,null,null,null,null,null,null,null,null,null,null,null,null,null,null,"IRELAND:353",null,"IRELAND:353",null,null,null,null,null,"ABHY0065208","MAHB0001199","HDFC0001839","NKGS0000003","SBIN0016835",null,null,"353-IRELAND",null,null,null,null,null,null,null,null,null,null,"KOTAK MAHINDRA BANK LIMITED","KKBK",null,null,null,null,null,null,null,null,null,null,null,null,null,null,null,null,null,null,null,null,null,null,"04066-Manufacture of other general purpose machinery ",null,null,null,null,null,null,null,null,"INE756I08090","HDB FINANCIAL SERVICES LIMITED SR- I/1/9 9.55 BD 15NV24 FVRS10LAC",null,null,176,"13-HIMACHAL PRADESH",null,null,null,null,null,null,null,null,null,null,"INF194KB1AR1","IDFC MUTUAL FUND"]
[null,null,null,null,null,null,null,null,"353-IRELAND",null,"04066-Manufacture of other general purpose machinery ",null,null,null,null,null,null,null,null,null,null,null,null,null,null,null,"ISLE OF MAN:1624",null,"ISLE OF MAN:1624",null,null,null,null,null,"ABHY0065301","MAHB0001200","HDFC0001838","NKGS0000002","SBIN0016834",null,null,"1624-ISLE OF MAN",null,null,null,null,null,null,null,null,null,null,"KERALA GRAMIN BANK","KLGB",null,null,null,null,null,null,null,null,null,null,null,null,null,null,null,null,null,null,null,null,null,null,"04067-Manufacture of agricultural and forestry machinery ",null,null,null,null,null,null,null,null,"INE535D01029","ROTO PUMPS LIMITED EQ NEW FV RS. 2/-",null,null,174,"13-HIMACHAL PRADESH",null,null,null,null,null,null,null,null,null,null,"INF194KB1AY7","IDFC MUTUAL FUND"]
[null,null,null,null,null,null,null,null,"1624-ISLE OF MAN",null,"04067-Manufacture of agricultural and forestry machinery ",null,null,null,null,null,null,null,null,null,null,null,null,null,null,null,"ISRAEL:972",null,"ISRAEL:972",null,null,null,null,null,"ABHY0065302","MAHB0001201","HDFC0001837","NKGS0000001","SBIN0016833",null,null,"972-ISRAEL",null,null,null,null,null,null,null,null,null,null,"THE KURMANCHAL NAGAR SAHAKARI BANK LIMITED","KNSB",null,null,null,null,null,null,null,null,null,null,null,null,null,null,null,null,null,null,null,null,null,null,"04068-Manufacture of Machine Tools ",null,null,null,null,null,null,null,null,"INE542N07013","GREEN INFRA WIND FARM ASSETS LIMITED 12 NCD 30DC23 FVRS10LAC",null,null,177,"13-HIMACHAL PRADESH",null,null,null,null,null,null,null,null,null,null,"INF194KB1BG2","IDFC MUTUAL FUND"]
[null,null,null,null,null,null,null,null,"972-ISRAEL",null,"04068-Manufacture of Machine Tools ",null,null,null,null,null,null,null,null,null,null,null,null,null,null,null,"ITALY:5",null,"ITALY:5",null,null,null,null,null,"ABHY0065304","MAHB0001202","HDFC0001836","NESF0000005","SBIN0016832",null,null,"5-ITALY",null,null,null,null,null,null,null,null,null,null,"KEB Hana Bank","KOEX",null,null,null,null,null,null,null,null,null,null,null,null,null,null,null,null,null,null,null,null,null,null,"04069-Manufacture of machinery for metallurgy ",null,null,null,null,null,null,null,null,"INE639R01011","NATURE INDIA COMMUNIQUE LTD EQ",null,null,175,"13-HIMACHAL PRADESH",null,null,null,null,null,null,null,null,null,null,"INE03CO07470","PUNJAB KASHMIR FINANCE LIMITED"]
[null,null,null,null,null,null,null,null,"5-ITALY",null,"04069-Manufacture of machinery for metallurgy ",null,null,null,null,null,null,null,null,null,null,null,null,null,null,null,"JAMAICA:1876",null,"JAMAICA:1876",null,null,null,null,null,"ABHY0065305","MAHB0001203","HDFC0001835","NESF0000004","SBIN0016831",null,null,"1876-JAMAICA",null,null,null,null,null,null,null,null,null,null,"KRUNG THAI BANK PCL","KRTH",null,null,null,null,null,null,null,null,null,null,null,null,null,null,null,null,null,null,null,null,null,null,"04070-Manufacture of machinery for mining, quarrying and constructions ",null,null,null,null,null,null,null,null,"INE646R01016","SKYROCK ENGINEERS PRIVATE LIMITED EQ",null,null,171,"13-HIMACHAL PRADESH",null,null,null,null,null,null,null,null,null,null,"INE03CO07504","PUNJAB KASHMIR FINANCE LIMITED"]
[null,null,null,null,null,null,null,null,"1876-JAMAICA",null,"04070-Manufacture of machinery for mining, quarrying and constructions ",null,null,null,null,null,null,null,null,null,null,null,null,null,null,null,"JAPAN:81",null,"JAPAN:81",null,null,null,null,null,"ABHY0065306","MAHB0001204","HDFC0001834","NESF0000003","SBIN0016830",null,null,"81-JAPAN",null,null,null,null,null,null,null,null,null,null,"THE KARANATAKA STATE COOPERATIVE APEX BANK LIMITED","KSCB",null,null,null,null,null,null,null,null,null,null,null,null,null,null,null,null,null,null,null,null,null,null,"04071-Manufacture of machinery for processing of food and  beverages  ",null,null,null,null,null,null,null,null,"INE647R01014","STELLAR SPRING PROJECTS PRIVATE LIMITED EQ",null,null,172,"13-HIMACHAL PRADESH",null,null,null,null,null,null,null,null,null,null,"INE04HH07026","APEX URBAN INFRASTRUCTURE PRIVATE LIMITED"]
[null,null,null,null,null,null,null,null,"81-JAPAN",null,"04071-Manufacture of machinery for processing of food and  beverages  ",null,null,null,null,null,null,null,null,null,null,null,null,null,null,null,"JERSEY:1534",null,"JERSEY:1534",null,null,null,null,null,"ADCB0000002","MAHB0001205","HDFC0001833","NESF0000002","SBIN0016829",null,null,"1534-JERSEY",null,null,null,null,null,null,null,null,null,null,"THE KARAD URBAN COOPERATIVE BANK LIMITED","KUCB",null,null,null,null,null,null,null,null,null,null,null,null,null,null,null,null,null,null,null,null,null,null,"04072-Manufacture of machinery for leather and textile ",null,null,null,null,null,null,null,null,"INE648R01012","STELLAR CONSTELLATION PROJECTS PRIVATE LIMITED EQ",null,null,173,"13-HIMACHAL PRADESH",null,null,null,null,null,null,null,null,null,null,"INE0GOX01010","HCL EMPLOYEES INVESTMENT CO LTD"]
[null,null,null,null,null,null,null,null,"1534-JERSEY",null,"04072-Manufacture of machinery for leather and textile ",null,null,null,null,null,null,null,null,null,null,null,null,null,null,null,"JORDAN:962",null,"JORDAN:962",null,null,null,null,null,"ADCB0000001","MAHB0001206","HDFC0001832","NESF0000001","SBIN0016828",null,null,"962-JORDAN",null,null,null,null,null,null,null,null,null,null,"KARUR VYSYA BANK","KVBL",null,null,null,null,null,null,null,null,null,null,null,null,null,null,null,null,null,null,null,null,null,null,"04073-Manufacture of weapons and ammunition ",null,null,null,null,null,null,null,null,"INE659R01019","ANI TECHNOLOGIES PRIVATE LIMITED EQ",null,null,192,"14-JAMMU AND KASHMIR",null,null,null,null,null,null,null,null,null,null,"INE101Q07862","MUTHOOTTU MINI FINANCIERS LTD"]
[null,null,null,null,null,null,null,null,"962-JORDAN",null,"04073-Manufacture of weapons and ammunition ",null,null,null,null,null,null,null,null,null,null,null,null,null,null,null,"KAZAKHSTAN:7",null,"KAZAKHSTAN:7",null,null,null,null,null,"AMCB0RTGS4S","MAHB0001207","HDFC0001831","NMGB0000002","SBIN0016827",null,null,"7-KAZAKHSTAN",null,null,null,null,null,null,null,null,null,null,"KARNATAKA VIKAS GRAMEENA BANK","KVGB",null,null,null,null,null,null,null,null,null,null,null,null,null,null,null,null,null,null,null,null,null,null,"04074-Manufacture of other special purpose machinery ",null,null,null,null,null,null,null,null,"INE660R01017","MEP IRDP SOLAPUR TOLL ROAD PRIVATE LIMITED EQ",null,null,185,"14-JAMMU AND KASHMIR",null,null,null,null,null,null,null,null,null,null,"IN902X201024","SASTASUNDAR MARKETPLACE LIMITED"]
[null,null,null,null,null,null,null,null,"7-KAZAKHSTAN",null,"04074-Manufacture of other special purpose machinery ",null,null,null,null,null,null,null,null,null,null,null,null,null,null,null,"KENYA:254",null,"KENYA:254",null,null,null,null,null,"AMCB0660036","MAHB0001208","HDFC0001830","NMGB0000003","SBIN0016826",null,null,"254-KENYA",null,null,null,null,null,null,null,null,null,null,"LAXMI VILAS BANK","LAVB",null,null,null,null,null,null,null,null,null,null,null,null,null,null,null,null,null,null,null,null,null,null,"04075-Manufacture of domestic appliances ",null,null,null,null,null,null,null,null,"INE662R01013","PIRAMAL RESIDENCES PRIVATE LIMITED EQ",null,null,182,"14-JAMMU AND KASHMIR",null,null,null,null,null,null,null,null,null,null,"INE00ZD07421","ABANS FINANCE PRIVATE LIMITED"]
[null,null,null,null,null,null,null,null,"254-KENYA",null,"04075-Manufacture of domestic appliances ",null,null,null,null,null,null,null,null,null,null,null,null,null,null,null,"KIRIBATI:686",null,"KIRIBATI:686",null,null,null,null,null,"AMCB0660035","MAHB0001209","HDFC0001829","NMGB0000004","SBIN0016825",null,null,"686-KIRIBATI",null,null,null,null,null,null,null,null,null,null,"BANK OF MAHARASHTRA","MAHB",null,null,null,null,null,null,null,null,null,null,null,null,null,null,null,null,null,null,null,null,null,null,"04076-Manufacture of office, accounting and computing machinery ",null,null,null,null,null,null,null,null,"INE663R01011","PJPA REALITY PRIVATE LIMITED EQ",null,null,181,"14-JAMMU AND KASHMIR",null,null,null,null,null,null,null,null,null,null,"INE093JA7OT4","ANAND RATHI GLOBAL FINANCE LIMITED"]
[null,null,null,null,null,null,null,null,"686-KIRIBATI",null,"04076-Manufacture of office, accounting and computing machinery ",null,null,null,null,null,null,null,null,null,null,null,null,null,null,null,"KOREA (DEMOCRATIC PEOPLES REPUBLIC OF):850",null,"KOREA (DEMOCRATIC PEOPLES REPUBLIC OF):850",null,null,null,null,null,"AMCB0660034","MAHB0001210","HDFC0001828","NMGB0000005","SBIN0016824",null,null,"850-KOREA (DEMOCRATIC PEOPLES REPUBLIC OF)",null,null,null,null,null,null,null,null,null,null,"Maharashtra Gramin Bank","MAHG",null,null,null,null,null,null,null,null,null,null,null,null,null,null,null,null,null,null,null,null,null,null,"04077-Manufacture of electrical machinery and apparatus  ",null,null,null,null,null,null,null,null,"INE848E07690","NHPC LIMITED 8.54 BD 26NV20 FVRS1LAC LOA UPTO 18FB15",null,null,180,"14-JAMMU AND KASHMIR",null,null,null,null,null,null,null,null,null,null,"INF769K01HS7","MIRAE ASSET MUTUAL FUND"]
[null,null,null,null,null,null,null,null,"850-KOREA (DEMOCRATIC PEOPLES REPUBLIC OF)",null,"04077-Manufacture of electrical machinery and apparatus  ",null,null,null,null,null,null,null,null,null,null,null,null,null,null,null,"KOREA (REPUBLIC OF):82",null,"KOREA (REPUBLIC OF):82",null,null,null,null,null,"AMCB0660033","MAHB0001211","HDFC0001827","NMGB0000006","SBIN0016823",null,null,"82-KOREA (REPUBLIC OF)",null,null,null,null,null,null,null,null,null,null,"GS Mahanagar Co-operative Bank Limited, Mumbai","MCBL",null,null,null,null,null,null,null,null,null,null,null,null,null,null,null,null,null,null,null,null,null,null,"04078-Manufacture of Radio, Television, communication equipment and apparatus ",null,null,null,null,null,null,null,null,"INE848E07708","NHPC LIMITED 8.54 BD 26NV21 FVRS1LAC LOA UPTO 18FB15",null,null,184,"14-JAMMU AND KASHMIR",null,null,null,null,null,null,null,null,null,null,"IN8265J07018","JM FINANCIAL ASSET RECONSTRUCTION COMPANY LIMITED"]
[null,null,null,null,null,null,null,null,"82-KOREA (REPUBLIC OF)",null,"04078-Manufacture of Radio, Television, communication equipment and apparatus ",null,null,null,null,null,null,null,null,null,null,null,null,null,null,null,"KUWAIT:965",null,"KUWAIT:965",null,null,null,null,null,"AMCB0660032","MAHB0001212","HDFC0001826","NMGB0000007","SBIN0016822",null,null,"965-KUWAIT",null,null,null,null,null,null,null,null,null,null,"THE MUMBAI DISTRICT CENTRAL COOPERATIVE BANK LIMITED","MDCB",null,null,null,null,null,null,null,null,null,null,null,null,null,null,null,null,null,null,null,null,null,null,"04079-Manufacture of medical and surgical equipment ",null,null,null,null,null,null,null,null,"INE848E07716","NHPC LIMITED 8.54 BD 26NV22 FVRS1LAC LOA UPTO 18FB15",null,null,193,"14-JAMMU AND KASHMIR",null,null,null,null,null,null,null,null,null,null,"INE0AEH01017","PANORAMA AROMATICS LIMITED"]
[null,null,null,null,null,null,null,null,"965-KUWAIT",null,"04079-Manufacture of medical and surgical equipment ",null,null,null,null,null,null,null,null,null,null,null,null,null,null,null,"KYRGYZSTAN:996",null,"KYRGYZSTAN:996",null,null,null,null,null,"AMCB0660031","MAHB0001213","HDFC0001825","NMGB0000008","SBIN0016821",null,null,"996-KYRGYZSTAN",null,null,null,null,null,null,null,null,null,null,"MIZUHO BANK LTD","MHCB",null,null,null,null,null,null,null,null,null,null,null,null,null,null,null,null,null,null,null,null,null,null,"04080-Manufacture of industrial process control equipment ",null,null,null,null,null,null,null,null,"INE848E07724","NHPC LIMITED 8.54 BD 26NV23 FVRS1LAC LOA UPTO 18FB15",null,null,191,"14-JAMMU AND KASHMIR",null,null,null,null,null,null,null,null,null,null,"INE0JOW01016","CAMPUSCONNECT TECHNOLOGIES PRIVATE LIMITED"]
[null,null,null,null,null,null,null,null,"996-KYRGYZSTAN",null,"04080-Manufacture of industrial process control equipment ",null,null,null,null,null,null,null,null,null,null,null,null,null,null,null,"LAO PEOPLES DEMOCRATIC REPUBLIC:856",null,"LAO PEOPLES DEMOCRATIC REPUBLIC:856",null,null,null,null,null,"AMCB0660030","MAHB0001214","HDFC0001824","NMGB0000009","SBIN0016820",null,null,"856-LAO PEOPLES DEMOCRATIC REPUBLIC",null,null,null,null,null,null,null,null,null,null,"Mahesh Sahakari Bank Ltd Pune","MSBL",null,null,null,null,null,null,null,null,null,null,null,null,null,null,null,null,null,null,null,null,null,null,"04081-Manufacture of instruments and appliances for measurements and navigation ",null,null,null,null,null,null,null,null,"INE848E07732","NHPC LIMITED 8.54 BD 26NV24 FVRS1LAC LOA UPTO 18FB15",null,null,190,"14-JAMMU AND KASHMIR",null,null,null,null,null,null,null,null,null,null,"INE0JPZ01016","INDIS VILLA DEVELOPMENT PRIVATE LIMITED"]
[null,null,null,null,null,null,null,null,"856-LAO PEOPLES DEMOCRATIC REPUBLIC",null,"04081-Manufacture of instruments and appliances for measurements and navigation ",null,null,null,null,null,null,null,null,null,null,null,null,null,null,null,"LATVIA:371",null,"LATVIA:371",null,null,null,null,null,"AMCB0660029","MAHB0001215","HDFC0001823","NMGB0000010","SBIN0016819",null,null,"371-LATVIA",null,null,null,null,null,null,null,null,null,null,"MAHARASHTRA STATE COOPERATIVE BANK","MSCI",null,null,null,null,null,null,null,null,null,null,null,null,null,null,null,null,null,null,null,null,null,null,"04082-Manufacture of optical instruments ",null,null,null,null,null,null,null,null,"INE848E07740","NHPC LIMITED 8.54 BD 26NV25 FVRS1LAC LOA UPTO 18FB15",null,null,822,"35-JHARKHAND",null,null,null,null,null,null,null,null,null,null,"INE0JQ601017","CHEMBOND MATERIAL TECHNOLOGIES PRIVATE LIMITED"]
[null,null,null,null,null,null,null,null,"371-LATVIA",null,"04082-Manufacture of optical instruments ",null,null,null,null,null,null,null,null,null,null,null,null,null,null,null,"LEBANON:961",null,"LEBANON:961",null,null,null,null,null,"AMCB0660028","MAHB0001216","HDFC0001822","NMGB0000011","SBIN0016818",null,null,"961-LEBANON",null,null,null,null,null,null,null,null,null,null,"MASHREQBANK PSC","MSHQ",null,null,null,null,null,null,null,null,null,null,null,null,null,null,null,null,null,null,null,null,null,null,"04083-Manufacture of watches and clocks ",null,null,null,null,null,null,null,null,"INE848E07757","NHPC LIMITED 8.54 BD 26NV26 FVRS1LAC LOA UPTO 18FB15",null,null,825,"35-JHARKHAND",null,null,null,null,null,null,null,null,null,null,"INE149X01019","MODENIK LIFESTYLE PRIVATE LIMITED"]
[null,null,null,null,null,null,null,null,"961-LEBANON",null,"04083-Manufacture of watches and clocks ",null,null,null,null,null,null,null,null,null,null,null,null,null,null,null,"LESOTHO:266",null,"LESOTHO:266",null,null,null,null,null,"AMCB0660027","MAHB0001217","HDFC0001821","NMGB0000012","SBIN0016817",null,null,"266-LESOTHO",null,null,null,null,null,null,null,null,null,null,"THE MEHSANA URBAN COOPERATIVE BANK","MSNU",null,null,null,null,null,null,null,null,null,null,null,null,null,null,null,null,null,null,null,null,null,null,"04084-Manufacture of motor vehicles ",null,null,null,null,null,null,null,null,"INE848E07773","NHPC LIMITED 8.54 BD 26NV28 FVRS1LAC LOA UPTO 18FB15",null,null,829,"35-JHARKHAND",null,null,null,null,null,null,null,null,null,null,"INE403G14OF8","STANDARD CHARTERED CAPITAL LIMITED"]
[null,null,null,null,null,null,null,null,"266-LESOTHO",null,"04084-Manufacture of motor vehicles ",null,null,null,null,null,null,null,null,null,null,null,null,null,null,null,"LIBERIA:231",null,"LIBERIA:231",null,null,null,null,null,"AMCB0660026","MAHB0001218","HDFC0001820","NMGB0000013","SBIN0016816",null,null,"231-LIBERIA",null,null,null,null,null,null,null,null,null,null,"THE MUNICIPAL COOPERATIVE BANK LIMITED","MUBL",null,null,null,null,null,null,null,null,null,null,null,null,null,null,null,null,null,null,null,null,null,null,"04085-Manufacture of body of motor vehicles ",null,null,null,null,null,null,null,null,"INE848E07781","NHPC LIMITED 8.54 BD 26NV29 FVRS1LAC LOA UPTO 18FB15",null,null,815,"35-JHARKHAND",null,null,null,null,null,null,null,null,null,null,"INE403G14OL6","STANDARD CHARTERED CAPITAL LIMITED"]
[null,null,null,null,null,null,null,null,"231-LIBERIA",null,"04085-Manufacture of body of motor vehicles ",null,null,null,null,null,null,null,null,null,null,null,null,null,null,null,"LIBYA:218",null,"LIBYA:218",null,null,null,null,null,"AMCB0660025","MAHB0001219","HDFC0001819","NMGB0000014","SBIN0016815",null,null,"218-LIBYA",null,null,null,null,null,null,null,null,null,null,"SIR M VISVESVARAYA CO OPERATIVE BANK LTD","MVCB",null,null,null,null,null,null,null,null,null,null,null,null,null,null,null,null,null,null,null,null,null,null,"04086-Manufacture of parts & accessories of motor vehicles &  engines ",null,null,null,null,null,null,null,null,"INF205K01Q59","INVESCO MUTUAL FUND FMP SERIES-XXI PLAN E REG DIVI PAY 29NV16",null,null,816,"35-JHARKHAND",null,null,null,null,null,null,null,null,null,null,"INE403G14OM4","STANDARD CHARTERED CAPITAL LIMITED"]
[null,null,null,null,null,null,null,null,"218-LIBYA",null,"04086-Manufacture of parts & accessories of motor vehicles &  engines ",null,null,null,null,null,null,null,null,null,null,null,null,null,null,null,"LIECHTENSTEIN:423",null,"LIECHTENSTEIN:423",null,null,null,null,null,"AMCB0660024","MAHB0001220","HDFC0001818","NMGB0000015","SBIN0016814",null,null,"423-LIECHTENSTEIN",null,null,null,null,null,null,null,null,null,null,"NATIONAL AUSTRALIA BANK LIMITED","NATA",null,null,null,null,null,null,null,null,null,null,null,null,null,null,null,null,null,null,null,null,null,null,"04087-Building & repair of ships and boats ",null,null,null,null,null,null,null,null,"INF205K01Q75","INVESCO MUTUAL FUND FMP SERIES-XXI PLAN E DIRECT DIVI PAY 29NV16",null,null,835,"35-JHARKHAND",null,null,null,null,null,null,null,null,null,null,"INE607M14640","TATA POWER RENEWABLE ENERGY LIMITED"]
[null,null,null,null,null,null,null,null,"423-LIECHTENSTEIN",null,"04087-Building & repair of ships and boats ",null,null,null,null,null,null,null,null,null,null,null,null,null,null,null,"LITHUANIA:370",null,"LITHUANIA:370",null,null,null,null,null,"AMCB0660023","MAHB0001221","HDFC0001817","NMGB0000016","SBIN0016813",null,null,"370-LITHUANIA",null,null,null,null,null,null,null,null,null,null,"FIRST ABU DHABI BANK PJSC","NBAD",null,null,null,null,null,null,null,null,null,null,null,null,null,null,null,null,null,null,null,null,null,null,"04088-Manufacture of railway locomotive and rolling stocks ",null,null,null,null,null,null,null,null,"INF205K01Q83","INVESCO MUTUAL FUND FMP SERIES-XXI PLAN E DIRECT GROWTH 29NV16",null,null,828,"35-JHARKHAND",null,null,null,null,null,null,null,null,null,null,"INE755K14DX9","DALMIA CEMENT (BHARAT) LIMITED"]
[null,null,null,null,null,null,null,null,"370-LITHUANIA",null,"04088-Manufacture of railway locomotive and rolling stocks ",null,null,null,null,null,null,null,null,null,null,null,null,null,null,null,"LUXEMBOURG:352",null,"LUXEMBOURG:352",null,null,null,null,null,"AMCB0660022","MAHB0001222","HDFC0001816","NMGB0000017","SBIN0016812",null,null,"352-LUXEMBOURG",null,null,null,null,null,null,null,null,null,null,"NATIONAL BANK FOR AGRICULTURE AND RURAL DEVELOPMENT","NBRD",null,null,null,null,null,null,null,null,null,null,null,null,null,null,null,null,null,null,null,null,null,null,"04089-Manufacture of aircraft and spacecraft ",null,null,null,null,null,null,null,null,"INF205K01Q91","INVESCO MUTUAL FUND FMP SERIES-22 PLAN A REG DIVI PAY 08DC16",null,null,826,"35-JHARKHAND",null,null,null,null,null,null,null,null,null,null,"INE093JA7PD5","ANAND RATHI GLOBAL FINANCE LIMITED"]
[null,null,null,null,null,null,null,null,"352-LUXEMBOURG",null,"04089-Manufacture of aircraft and spacecraft ",null,null,null,null,null,null,null,null,null,null,null,null,null,null,null,"MACAO:853",null,"MACAO:853",null,null,null,null,null,"AMCB0660021","MAHB0001223","HDFC0001815","NMGB0000018","SBIN0016811",null,null,"853-MACAO",null,null,null,null,null,null,null,null,null,null,"NORTH EAST SMALL FINANCE BANK LIMITED","NESF",null,null,null,null,null,null,null,null,null,null,null,null,null,null,null,null,null,null,null,null,null,null,"04090-Manufacture of bicycles ",null,null,null,null,null,null,null,null,"INF205K01R09","INVESCO MUTUAL FUND FMP SERIES-22 PLAN A REG GROWTH 08DC16",null,null,834,"35-JHARKHAND",null,null,null,null,null,null,null,null,null,null,"INE0FCZ07019","INSELI PARK JAINS PROJECTS PRIVATE LIMITED"]
[null,null,null,null,null,null,null,null,"853-MACAO",null,"04090-Manufacture of bicycles ",null,null,null,null,null,null,null,null,null,null,null,null,null,null,null,"MACEDONIA (THE FORMER YUGOSLAV REPUBLIC OF):389",null,"MACEDONIA (THE FORMER YUGOSLAV REPUBLIC OF):389",null,null,null,null,null,"AMCB0660020","MAHB0001224","HDFC0001814","NMGB0000019","SBIN0016810",null,null,"389-MACEDONIA (THE FORMER YUGOSLAV REPUBLIC OF)",null,null,null,null,null,null,null,null,null,null,"NAGPUR NAGARIK SAHAKARI BANK LIMITED","NGSB",null,null,null,null,null,null,null,null,null,null,null,null,null,null,null,null,null,null,null,null,null,null,"04091-Manufacture of other transport equipment ",null,null,null,null,null,null,null,null,"INF205K01R17","INVESCO MUTUAL FUND FMP SERIES-22 PLAN A DIRECT DIVI PAY 08DC16",null,null,833,"35-JHARKHAND",null,null,null,null,null,null,null,null,null,null,"INE0GN515015","RETAIL SECURITISATION OPPORTUNITIES TRUST"]
[null,null,null,null,null,null,null,null,"389-MACEDONIA (THE FORMER YUGOSLAV REPUBLIC OF)",null,"04091-Manufacture of other transport equipment ",null,null,null,null,null,null,null,null,null,null,null,null,null,null,null,"MADAGASCAR:261",null,"MADAGASCAR:261",null,null,null,null,null,"AMCB0660019","MAHB0001225","HDFC0001813","NMGB0000020","SBIN0016809",null,null,"261-MADAGASCAR",null,null,null,null,null,null,null,null,null,null,"NEW INDIA COOPERATIVE BANK LIMITED","NICB",null,null,null,null,null,null,null,null,null,null,null,null,null,null,null,null,null,null,null,null,null,null,"04092-Manufacture of furniture ",null,null,null,null,null,null,null,null,"INF205K01R25","INVESCO MUTUAL FUND FMP SERIES-22 PLAN A DIRECT GROWTH 08DC16",null,null,832,"35-JHARKHAND",null,null,null,null,null,null,null,null,null,null,"INE0GNE01012","PRIMEBUILD DEVELOPERS AND FARMS PRIVATE LIMITED"]
[null,null,null,null,null,null,null,null,"261-MADAGASCAR",null,"04092-Manufacture of furniture ",null,null,null,null,null,null,null,null,null,null,null,null,null,null,null,"MALAWI:265",null,"MALAWI:265",null,null,null,null,null,"AMCB0660018","MAHB0001226","HDFC0001812","NMGB0000021","SBIN0016808",null,null,"265-MALAWI",null,null,null,null,null,null,null,null,null,null,"NAV JEEVAN CO OP BANK LTD","NJBK",null,null,null,null,null,null,null,null,null,null,null,null,null,null,null,null,null,null,null,null,null,null,"04093-Manufacture of jewellery ",null,null,null,null,null,null,null,null,"IN1020140043","STATE DEVELOPMENT LOAN 17119 AP 10SP24 9.08 FV RS 100",null,null,827,"35-JHARKHAND",null,null,null,null,null,null,null,null,null,null,"INE0GNG01017","PRESTIGE AMUSEMENTS PRIVATE LIMITED"]
[null,null,null,null,null,null,null,null,"265-MALAWI",null,"04093-Manufacture of jewellery ",null,null,null,null,null,null,null,null,null,null,null,null,null,null,null,"MALAYSIA:60",null,"MALAYSIA:60",null,null,null,null,null,"AMCB0660017","MAHB0001227","HDFC0001811","NMGB0000022","SBIN0016807",null,null,"60-MALAYSIA",null,null,null,null,null,null,null,null,null,null,"NKGSB COOPERATIVE BANK LIMITED","NKGS",null,null,null,null,null,null,null,null,null,null,null,null,null,null,null,null,null,null,null,null,null,null,"04094-Manufacture of sports goods ",null,null,null,null,null,null,null,null,"INE090A01021","ICICI BANK LIMITED EQ NEW FV RS. 2/-",null,null,831,"35-JHARKHAND",null,null,null,null,null,null,null,null,null,null,"INE0GNL01017","GREEN LIGHT FOODS PRIVATE LIMITED"]
[null,null,null,null,null,null,null,null,"60-MALAYSIA",null,"04094-Manufacture of sports goods ",null,null,null,null,null,null,null,null,null,null,null,null,null,null,null,"MALDIVES:960",null,"MALDIVES:960",null,null,null,null,null,"AMCB0660016","MAHB0001228","HDFC0001810","NMGB0000023","SBIN0016806",null,null,"960-MALDIVES",null,null,null,null,null,null,null,null,null,null,"THE NASIK MERCHANTS COOPERATIVE BANK LIMITED","NMCB",null,null,null,null,null,null,null,null,null,null,null,null,null,null,null,null,null,null,null,null,null,null,"04095-Manufacture of musical instruments ",null,null,null,null,null,null,null,null,"INE153A08071","MAHANAGAR TELEPHONE NIGAM LIMITED. 8.29 BD 28NV24 FVRS10LAC LOA UPTO 07DC14",null,null,575,"15-KARNATAKA",null,null,null,null,null,null,null,null,null,null,"INE0GNM01015","REDSTART LABS (INDIA) LIMITED"]
[null,null,null,null,null,null,null,null,"960-MALDIVES",null,"04095-Manufacture of musical instruments ",null,null,null,null,null,null,null,null,null,null,null,null,null,null,null,"MALI:223",null,"MALI:223",null,null,null,null,null,"AMCB0660015","MAHB0001229","HDFC0001809","NMGB0000024","SBIN0016805",null,null,"223-MALI",null,null,null,null,null,null,null,null,null,null,"NUTAN NAGARIK SAHAKARI BANK LIMITED","NNSB",null,null,null,null,null,null,null,null,null,null,null,null,null,null,null,null,null,null,null,null,null,null,"04096-Manufacture of games and toys ",null,null,null,null,null,null,null,null,"INE528G08154","YES BANK LIMITED RR BD 14AG25 FVRS10LAC",null,null,577,"15-KARNATAKA",null,null,null,null,null,null,null,null,null,null,"INE140R07157","CHAITANYA INDIA FIN CREDIT PRIVATE LIMITED"]
[null,null,null,null,null,null,null,null,"223-MALI",null,"04096-Manufacture of games and toys ",null,null,null,null,null,null,null,null,null,null,null,null,null,null,null,"MALTA:356",null,"MALTA:356",null,null,null,null,null,"AMCB0660014","MAHB0001230","HDFC0001808","NMGB0000025","SBIN0016804",null,null,"356-MALTA",null,null,null,null,null,null,null,null,null,null,"THE BANK OF NOVA SCOTIA","NOSC",null,null,null,null,null,null,null,null,null,null,null,null,null,null,null,null,null,null,null,null,null,null,"04097-Other manufacturing n.e.c. ",null,null,null,null,null,null,null,null,"INF109K01VH0","ICICI PRUDENTIAL MUTUAL FUND LIQUID FUND INSTTION I GROWTH",null,null,571,"15-KARNATAKA",null,null,null,null,null,null,null,null,null,null,"INE242A14SS7","INDIAN OIL CORPORATION LIMITED"]
[null,null,null,null,null,null,null,null,"356-MALTA",null,"04097-Other manufacturing n.e.c. ",null,null,null,null,null,null,null,null,null,null,null,null,null,null,null,"MARSHALL ISLANDS:692",null,"MARSHALL ISLANDS:692",null,null,null,null,null,"AMCB0660013","MAHB0001231","HDFC0001807","NMGB0000026","SBIN0016802",null,null,"692-MARSHALL ISLANDS",null,null,null,null,null,null,null,null,null,null,"NSDL Payments Bank Limited","NSPB",null,null,null,null,null,null,null,null,null,null,null,null,null,null,null,null,null,null,null,null,null,null,"04098-Recycling of metal waste and scrap ",null,null,null,null,null,null,null,null,"INF178L01095","KOTAK MAHINDRA MUTUAL FUND INFRA & ECO. REFORM STANDARD GROWTH OPEN END",null,null,573,"15-KARNATAKA",null,null,null,null,null,null,null,null,null,null,"INF663L01FH7","PGIM INDIA MUTUAL FUND"]
[null,null,null,null,null,null,null,null,"692-MARSHALL ISLANDS",null,"04098-Recycling of metal waste and scrap ",null,null,null,null,null,null,null,null,null,null,null,null,null,null,null,"MARTINIQUE:596",null,"MARTINIQUE:596",null,null,null,null,null,"AMCB0660012","MAHB0001232","HDFC0001806","NMGB0000027","SBIN0016801",null,null,"596-MARTINIQUE",null,null,null,null,null,null,null,null,null,null,"THE NAINITAL BANK LIMITED","NTBL",null,null,null,null,null,null,null,null,null,null,null,null,null,null,null,null,null,null,null,null,null,null,"04099-Recycling of non- metal waste and scrap ",null,null,null,null,null,null,null,null,"INF109K01VR9","ICICI PRUDENTIAL MUTUAL FUND LIQUID FUND MTHLY DIVI REINV",null,null,574,"15-KARNATAKA",null,null,null,null,null,null,null,null,null,null,"INF663L01FJ3","PGIM INDIA MUTUAL FUND"]
[null,null,null,null,null,null,null,null,"596-MARTINIQUE",null,"04099-Recycling of non- metal waste and scrap ",null,null,null,null,null,null,null,null,null,null,null,null,null,null,null,"MAURITANIA:222",null,"MAURITANIA:222",null,null,null,null,null,"AMCB0660011","MAHB0001233","HDFC0001805","NMGB0000028","SBIN0016800",null,null,"222-MAURITANIA",null,null,null,null,null,null,null,null,null,null,"NAGAR URBAN CO OPERATIVE BANK","NUCB",null,null,null,null,null,null,null,null,null,null,null,null,null,null,null,null,null,null,null,null,null,null,"05001-Production, collection and distribution of electricity ",null,null,null,null,null,null,null,null,"INF109K01WW7","ICICI PRUDENTIAL MUTUAL FUND BANKING & PSU DEBT FD RETAIL DLY DIVI PAY OP",null,null,562,"15-KARNATAKA",null,null,null,null,null,null,null,null,null,null,"INE0DEQ08017","SAGARDUTT BUILDERS & DEVELOPERS PRIVATE LIMITED"]
[null,null,null,null,null,null,null,null,"222-MAURITANIA",null,"05001-Production, collection and distribution of electricity ",null,null,null,null,null,null,null,null,null,null,null,null,null,null,null,"MAURITIUS:230",null,"MAURITIUS:230",null,null,null,null,null,"AMCB0660010","MAHB0001234","HDFC0001804","NMGB0000029","SBIN0016799",null,null,"230-MAURITIUS",null,null,null,null,null,null,null,null,null,null,"THE NAVNIRMAN CO-OPERATIVE BANK LIMITED","NVNM",null,null,null,null,null,null,null,null,null,null,null,null,null,null,null,null,null,null,null,null,null,null,"05002-Manufacture and distribution of gas ",null,null,null,null,null,null,null,null,"INF109K01589","ICICI PRUDENTIAL MUTUAL FUND MONTHLY INCOME PL GROWTH HLF YRLY AEP",null,null,585,"15-KARNATAKA",null,null,null,null,null,null,null,null,null,null,"INE0EKP08014","AMPLUS VENUS PRIVATE LIMITED"]
[null,null,null,null,null,null,null,null,"230-MAURITIUS",null,"05002-Manufacture and distribution of gas ",null,null,null,null,null,null,null,null,null,null,null,null,null,null,null,"MAYOTTE:269",null,"MAYOTTE:269",null,null,null,null,null,"AMCB0660009","MAHB0001235","HDFC0001803","NMGB0000030","SBIN0016798",null,null,"269-MAYOTTE",null,null,null,null,null,null,null,null,null,null,"ORIENTAL BANK OF COMMERCE","ORBC",null,null,null,null,null,null,null,null,null,null,null,null,null,null,null,null,null,null,null,null,null,null,"05003-Collection, purification and distribution of water ",null,null,null,null,null,null,null,null,"INF109K01AX1","ICICI PRUDENTIAL MUTUAL FUND FLOATING INTEREST FD GROWTH",null,null,570,"15-KARNATAKA",null,null,null,null,null,null,null,null,null,null,"INE0F3V01013","SUDHARSHAN DEVELOPERS LIMITED"]
[null,null,null,null,null,null,null,null,"269-MAYOTTE",null,"05003-Collection, purification and distribution of water ",null,null,null,null,null,null,null,null,null,null,null,null,null,null,null,"MEXICO:52",null,"MEXICO:52",null,null,null,null,null,"AMCB0660008","MAHB0001236","HDFC0001802","NMGB0000031","SBIN0016797",null,null,"52-MEXICO",null,null,null,null,null,null,null,null,null,null,"G P PARSIK BANK","PJSB",null,null,null,null,null,null,null,null,null,null,null,null,null,null,null,null,null,null,null,null,null,null,"05004-Other essential commodity service  n.e.c",null,null,null,null,null,null,null,null,"INF109K01RW7","ICICI PRUDENTIAL MUTUAL FUND DYN BD FU PREMIUM PLUS GROWTH OPEN ENDED",null,null,591,"15-KARNATAKA",null,null,null,null,null,null,null,null,null,null,"INE0F4901018","RAGHUWAR AGROTECH LIMITED"]
[null,null,null,null,null,null,null,null,"52-MEXICO",null,"05004-Other essential commodity service  n.e.c ",null,null,null,null,null,null,null,null,null,null,null,null,null,null,null,"MICRONESIA (FEDERATED STATES OF):691",null,"MICRONESIA (FEDERATED STATES OF):691",null,null,null,null,null,"AMCB0660007","MAHB0001237","HDFC0001801","NMGB0000032","SBIN0016793",null,null,"691-MICRONESIA (FEDERATED STATES OF)",null,null,null,null,null,null,null,null,null,null,"PRAGATHI KRISHNA GRAMIN BANK","PKGB",null,null,null,null,null,null,null,null,null,null,null,null,null,null,null,null,null,null,null,null,null,null,"06001-Site preparation works ",null,null,null,null,null,null,null,null,"INF109K01SH6","ICICI PRUDENTIAL MUTUAL FUND CORPORATE BD FD PREMIUM FORTNIGHTLY DIV PAY",null,null,561,"15-KARNATAKA",null,null,null,null,null,null,null,null,null,null,"INE0F4N01018","ARAMBAGH HATCHERIES LTD"]
[null,null,null,null,null,null,null,null,"691-MICRONESIA (FEDERATED STATES OF)",null,"06001-Site preparation works ",null,null,null,null,null,null,null,null,null,null,null,null,null,null,null,"MOLDOVA (REPUBLIC OF):373",null,"MOLDOVA (REPUBLIC OF):373",null,null,null,null,null,"AMCB0660005","MAHB0001238","HDFC0001800","NMGB0000033","SBIN0016792",null,null,"373-MOLDOVA (REPUBLIC OF)",null,null,null,null,null,null,null,null,null,null,"PUNJAB AND MAHARSHTRA COOPERATIVE BANK","PMCB",null,null,null,null,null,null,null,null,null,null,null,null,null,null,null,null,null,null,null,null,null,null,"06002-Building of complete constructions or parts- civil contractors ",null,null,null,null,null,null,null,null,"INF109K01SL8","ICICI PRUDENTIAL MUTUAL FUND CORPORATE BD FD WEEKLY DIVI PAY",null,null,587,"15-KARNATAKA",null,null,null,null,null,null,null,null,null,null,"INE0F4X01017","SAYAN TEXTILE PARK LIMITED"]
[null,null,null,null,null,null,null,null,"373-MOLDOVA (REPUBLIC OF)",null,"06002-Building of complete constructions or parts- civil contractors ",null,null,null,null,null,null,null,null,null,null,null,null,null,null,null,"MONACO:377",null,"MONACO:377",null,null,null,null,null,"AMCB0660004","MAHB0001239","HDFC0001799","NMGB0000034","SBIN0016791",null,null,"377-MONACO",null,null,null,null,null,null,null,null,null,null,"PRIME COOPERATIVE BANK LIMITED","PMEC",null,null,null,null,null,null,null,null,null,null,null,null,null,null,null,null,null,null,null,null,null,null,"06003-Building installation ",null,null,null,null,null,null,null,null,"INF109K01SR5","ICICI PRUDENTIAL MUTUAL FUND CORPORATE BD FD SUPER PREM FORTNTLY DIVIPAY",null,null,580,"15-KARNATAKA",null,null,null,null,null,null,null,null,null,null,"INE942S07261","YIELD VALUE STRUCTURES PRIVATE LIMITED"]
[null,null,null,null,null,null,null,null,"377-MONACO",null,"06003-Building installation ",null,null,null,null,null,null,null,null,null,null,null,null,null,null,null,"MONGOLIA:976",null,"MONGOLIA:976",null,null,null,null,null,"AMCB0660003","MAHB0001240","HDFC0001798","NMGB0000035","SBIN0016790",null,null,"976-MONGOLIA",null,null,null,null,null,null,null,null,null,null,"PRATHAMA BANK","PRTH",null,null,null,null,null,null,null,null,null,null,null,null,null,null,null,null,null,null,null,null,null,null,"06004-Building completion ",null,null,null,null,null,null,null,null,"INE010Q07097","SHUBHI AGRO INDUSTRIES LIMITED SR-3 16 LOA 27AP17 FVRS1LAC",null,null,582,"15-KARNATAKA",null,null,null,null,null,null,null,null,null,null,"INE071G08AL2","ICICI HOME FINANCE COMPANY LIMITED"]
[null,null,null,null,null,null,null,null,"976-MONGOLIA",null,"06004-Building completion ",null,null,null,null,null,null,null,null,null,null,null,null,null,null,null,"MONTENEGRO:382",null,"MONTENEGRO:382",null,null,null,null,null,"AMCB0660002","MAHB0001241","HDFC0001797","NMGB0000036","SBIN0016789",null,null,"382-MONTENEGRO",null,null,null,null,null,null,null,null,null,null,"PUNJAB AND SIND BANK","PSIB",null,null,null,null,null,null,null,null,null,null,null,null,null,null,null,null,null,null,null,null,null,null,"06005-Construction and maintenance of roads, rails, bridges, tunnels, ports, harbour, runways etc.   ",null,null,null,null,null,null,null,null,"INE248L03069","ESSAR POWER HAZIRA LIMITED RR PREF 27MR34",null,null,581,"15-KARNATAKA",null,null,null,null,null,null,null,null,null,null,"INE0CBB01012","MAHARASHTRA MINERALS CORPORATION LIMITED"]
[null,null,null,null,null,null,null,null,"382-MONTENEGRO",null,"06005-Construction and maintenance of roads, rails, bridges, tunnels, ports, harbour, runways etc.   ",null,null,null,null,null,null,null,null,null,null,null,null,null,null,null,"MONTSERRAT:1664",null,"MONTSERRAT:1664",null,null,null,null,null,"AIRP0000001","MAHB0001242","HDFC0001796","NMGB0000037","SBIN0016788",null,null,"1664-MONTSERRAT",null,null,null,null,null,null,null,null,null,null,"THE PANDHARPUR URBAN CO OP. BANK LTD. PANDHARPUR","PUCB",null,null,null,null,null,null,null,null,null,null,null,null,null,null,null,null,null,null,null,null,null,null,"06006-Construction and maintenance of power plants ",null,null,null,null,null,null,null,null,"INF761K01CE5","BOI AXA MUTUAL FUND FMP SERIES 15 (366D) DIR DIVI PAY 13MY15",null,null,583,"15-KARNATAKA",null,null,null,null,null,null,null,null,null,null,"INE0GBN18038","PRUDENT TRUST 47/21"]
[null,null,null,null,null,null,null,null,"1664-MONTSERRAT",null,"06006-Construction and maintenance of power plants ",null,null,null,null,null,null,null,null,null,null,null,null,null,null,null,"MOROCCO:212",null,"MOROCCO:212",null,null,null,null,null,"AKJB0000041","MAHB0001243","HDFC0001795","NMGB0000038","SBIN0016787",null,null,"212-MOROCCO",null,null,null,null,null,null,null,null,null,null,"PUNJAB NATIONAL BANK","PUNB",null,null,null,null,null,null,null,null,null,null,null,null,null,null,null,null,null,null,null,null,null,null,"06007-Construction  and maintenance of industrial plants ",null,null,null,null,null,null,null,null,"INE301E01024","ROCKWOOL (INDIA) PRIVATE LIMITED EQ NEW FV RS. 10/-",null,null,586,"15-KARNATAKA",null,null,null,null,null,null,null,null,null,null,"INE0GWZ18012","EARC TRUST - SC 410"]
[null,null,null,null,null,null,null,null,"212-MOROCCO",null,"06007-Construction  and maintenance of industrial plants ",null,null,null,null,null,null,null,null,null,null,null,null,null,null,null,"MOZAMBIQUE:258",null,"MOZAMBIQUE:258",null,null,null,null,null,"AKJB0000040","MAHB0001244","HDFC0001794","NMGB0000039","SBIN0016786",null,null,"258-MOZAMBIQUE",null,null,null,null,null,null,null,null,null,null,"PAYTM PAYMENTS BANK LTD","PYTM",null,null,null,null,null,null,null,null,null,null,null,null,null,null,null,null,null,null,null,null,null,null,"06008-Construction  and maintenance of power transmission and telecommunication lines  ",null,null,null,null,null,null,null,null,"INE344N01025","EAST INDIA PETROLEUM PRIVATE LIMITED EQ NEW FV RS. 10/-",null,null,590,"15-KARNATAKA",null,null,null,null,null,null,null,null,null,null,"INF789F01513","UTI MUTUAL FUND"]
[null,null,null,null,null,null,null,null,"258-MOZAMBIQUE",null,"06008-Construction  and maintenance of power transmission and telecommunication lines  ",null,null,null,null,null,null,null,null,null,null,null,null,null,null,null,"MYANMAR:95",null,"MYANMAR:95",null,null,null,null,null,"AKJB0000039","MAHB0001245","HDFC0001793","NMGB0000040","SBIN0016785",null,null,"95-MYANMAR",null,null,null,null,null,null,null,null,null,null,"QATAR NATIONAL BANK SAQ","QNBA",null,null,null,null,null,null,null,null,null,null,null,null,null,null,null,null,null,null,null,null,null,null,"06009-Construction of water ways and water reservoirs ",null,null,null,null,null,null,null,null,"INF174K01BP9","KOTAK MAHINDRA MUTUAL FUND QTRLY INTV PL SR 3 DIVIPY INTERVAL SCHEME",null,null,572,"15-KARNATAKA",null,null,null,null,null,null,null,null,null,null,"INF789F01TB6","UTI MUTUAL FUND"]
[null,null,null,null,null,null,null,null,"95-MYANMAR",null,"06009-Construction of water ways and water reservoirs ",null,null,null,null,null,null,null,null,null,null,null,null,null,null,null,"NAMIBIA:264",null,"NAMIBIA:264",null,null,null,null,null,"AKJB0000038","MAHB0001246","HDFC0001792","NMGB0000041","SBIN0016784",null,null,"264-NAMIBIA",null,null,null,null,null,null,null,null,null,null,"RABOBANK INTERNATIONAL","RABO",null,null,null,null,null,null,null,null,null,null,null,null,null,null,null,null,null,null,null,null,null,null,"06010-Other construction activity n.e.c.",null,null,null,null,null,null,null,null,"INF174K01BW5","KOTAK MAHINDRA MUTUAL FUND QTRLY INTV PL SR 5 DIVIREINV INTERVAL SCHEME",null,null,584,"15-KARNATAKA",null,null,null,null,null,null,null,null,null,null,"INE0I9603019","IMPEL BRANDS PRIVATE LIMITED"]
[null,null,null,null,null,null,null,null,"264-NAMIBIA",null,"06010-Other construction activity n.e.c. ",null,null,null,null,null,null,null,null,null,null,null,null,null,null,null,"NAURU:674",null,"NAURU:674",null,null,null,null,null,"AKJB0000037","MAHB0001247","HDFC0001791","NMGB0000042","SBIN0016783",null,null,"674-NAURU",null,null,null,null,null,null,null,null,null,null,"RBL Bank Limited","RATN",null,null,null,null,null,null,null,null,null,null,null,null,null,null,null,null,null,null,null,null,null,null,"07001-Purchase, sale and letting of leased buildings  (residential and non-residential) ",null,null,null,null,null,null,null,null,"INF174K01CG6","KOTAK MAHINDRA MUTUAL FUND QTRLY INTV PL SR 9 GROWTH INTERVAL SCHEME",null,null,560,"15-KARNATAKA",null,null,null,null,null,null,null,null,null,null,"INE0I9S01013","DALMIA BHARAT GREEN VISION LIMITED"]
[null,null,null,null,null,null,null,null,"674-NAURU",null,"07001-Purchase, sale and letting of leased buildings (residential and non-residential)",null,null,null,null,null,null,null,null,null,null,null,null,null,null,null,"NEPAL:977",null,"NEPAL:977",null,null,null,null,null,"AKJB0000036","MAHB0001248","HDFC0001790","NMGB0000043","SBIN0016782",null,null,"977-NEPAL",null,null,null,null,null,null,null,null,null,null,"IDRBT","RBIH",null,null,null,null,null,null,null,null,null,null,null,null,null,null,null,null,null,null,null,null,null,null,"07002-Operating of real estate of self-owned buildings (residential and non-residential) ",null,null,null,null,null,null,null,null,"INF174K01EP3","KOTAK MAHINDRA MUTUAL FUND BOND REGULAR ANNUAL DIVREINV",null,null,576,"15-KARNATAKA",null,null,null,null,null,null,null,null,null,null,"INF174KA1HH2","KOTAK MAHINDRA MUTUAL FUND"]
[null,null,null,null,null,null,null,null,"977-NEPAL",null,"07002-Operating of real estate of self-owned buildings (residential and non-residential) ",null,null,null,null,null,null,null,null,null,null,null,null,null,null,null,"NETHERLANDS:31",null,"NETHERLANDS:31",null,null,null,null,null,"AKJB0000035","MAHB0001249","HDFC0001789","NMGB0000044","SBIN0016781",null,null,"31-NETHERLANDS",null,null,null,null,null,null,null,null,null,null,"RESERVE BANK OF INDIA , PAD","RBIS",null,null,null,null,null,null,null,null,null,null,null,null,null,null,null,null,null,null,null,null,null,null,"07003-Developing and sub-dividing real estate into lots ",null,null,null,null,null,null,null,null,"INF174K01FA2","KOTAK MAHINDRA MUTUAL FUND DYNAMIC BOND FD REG GROWTH",null,null,563,"15-KARNATAKA",null,null,null,null,null,null,null,null,null,null,"IN8651J07019","JM FINANCIAL CREDIT SOLUTIONS LIMITED"]
[null,null,null,null,null,null,null,null,"31-NETHERLANDS",null,"07003-Developing and sub-dividing real estate into lots ",null,null,null,null,null,null,null,null,null,null,null,null,null,null,null,"NEW CALEDONIA:687",null,"NEW CALEDONIA:687",null,null,null,null,null,"AKJB0000033","MAHB0001250","HDFC0001788","NMGB0000045","SBIN0016778",null,null,"687-NEW CALEDONIA",null,null,null,null,null,null,null,null,null,null,"RESERVE BANK OF INDIA, PAD","RBIS",null,null,null,null,null,null,null,null,null,null,null,null,null,null,null,null,null,null,null,null,null,null,"07004-Real estate activities on a fee or contract basis ",null,null,null,null,null,null,null,null,"INF174K01FG9","KOTAK MAHINDRA MUTUAL FUND TREASURY ADV FD WEEKLY DIV  PAYOUT OPEN END",null,null,682,"16-KERALA",null,null,null,null,null,null,null,null,null,null,"INE071G08AJ6","ICICI HOME FINANCE COMPANY LIMITED"]
[null,null,null,null,null,null,null,null,"687-NEW CALEDONIA",null,"07004-Real estate activities on a fee or contract basis ",null,null,null,null,null,null,null,null,null,null,null,null,null,null,null,"NEW ZEALAND:64",null,"NEW ZEALAND:64",null,null,null,null,null,"AKJB0000032","MAHB0001251","HDFC0001787","NMGB0000046","SBIN0016777",null,null,"64-NEW ZEALAND",null,null,null,null,null,null,null,null,null,null,"RBI PAD, AHMEDABAD","RBIS",null,null,null,null,null,null,null,null,null,null,null,null,null,null,null,null,null,null,null,null,null,null,"07005-Other real estate/renting services n.e.c",null,null,null,null,null,null,null,null,"INF174K01FP0","KOTAK MAHINDRA MUTUAL FUND BANKING AND PSU DEBT FUND MTHLY DIV REINV OP",null,null,680,"16-KERALA",null,null,null,null,null,null,null,null,null,null,"INE0FTA01019","SUPERHOUSE  EDUCATIONAL  FOUNDATION"]
[null,null,null,null,null,null,null,null,"64-NEW ZEALAND",null,"07005-Other real estate/renting services n.e.c ",null,null,null,null,null,null,null,null,null,null,null,null,null,null,null,"NICARAGUA:505",null,"NICARAGUA:505",null,null,null,null,null,"AKJB0000031","MAHB0001252","HDFC0001786","NMGB0000047","SBIN0016776",null,null,"505-NICARAGUA",null,null,null,null,null,null,null,null,null,null,"RESERVE BANK OF INDIA","RBIS",null,null,null,null,null,null,null,null,null,null,null,null,null,null,null,null,null,null,null,null,null,null,"08001-Renting of land transport equipment ",null,null,null,null,null,null,null,null,"INF174K01245","KOTAK MAHINDRA MUTUAL FUND INDIA EQ CONTRA FD DIRECT GROWTH",null,null,683,"16-KERALA",null,null,null,null,null,null,null,null,null,null,"INE0FTI01012","ORTEK CONTROLS LTD"]
[null,null,null,null,null,null,null,null,"505-NICARAGUA",null,"08001-Renting of land transport equipment ",null,null,null,null,null,null,null,null,null,null,null,null,null,null,null,"NIGER:227",null,"NIGER:227",null,null,null,null,null,"AKJB0000030","MAHB0001253","HDFC0001785","NMGB0000048","SBIN0016775",null,null,"227-NIGER",null,null,null,null,null,null,null,null,null,null,"RAJKOT NAGRIK SAHAKARI BANK LIMITED","RNSB",null,null,null,null,null,null,null,null,null,null,null,null,null,null,null,null,null,null,null,null,null,null,"08002-Renting of water transport equipment ",null,null,null,null,null,null,null,null,"INF174K01393","KOTAK MAHINDRA MUTUAL FUND DEBT HYBRID REGULAR GROWTH",null,null,686,"16-KERALA",null,null,null,null,null,null,null,null,null,null,"INE414G07FO9","MUTHOOT FINANCE LIMITED"]
[null,null,null,null,null,null,null,null,"227-NIGER",null,"08002-Renting of water transport equipment ",null,null,null,null,null,null,null,null,null,null,null,null,null,null,null,"NIGERIA:234",null,"NIGERIA:234",null,null,null,null,null,"AKJB0000029","MAHB0001254","HDFC0001784","NMGB0000049","SBIN0016774",null,null,"234-NIGERIA",null,null,null,null,null,null,null,null,null,null,"RAJARAMBAPU SAHAKARI BANK LIMITED","RRBP",null,null,null,null,null,null,null,null,null,null,null,null,null,null,null,null,null,null,null,null,null,null,"08003-Renting of air transport equipment ",null,null,null,null,null,null,null,null,"IN1020130101","STATE DEVELOPMENT LOAN 16618 AP 18DC23 9.52 FV RS 100",null,null,688,"16-KERALA",null,null,null,null,null,null,null,null,null,null,"INE03Q201024","GLENMARK LIFE SCIENCES LIMITED"]
[null,null,null,null,null,null,null,null,"234-NIGERIA",null,"08003-Renting of air transport equipment ",null,null,null,null,null,null,null,null,null,null,null,null,null,null,null,"NIUE:683",null,"NIUE:683",null,null,null,null,null,"AKJB0000028","MAHB0001255","HDFC0001783","NMGB0000050","SBIN0016773",null,null,"683-NIUE",null,null,null,null,null,null,null,null,null,null,"RAJGURUNAGAR SAHAKARI BANK LIMITED","RSBL",null,null,null,null,null,null,null,null,null,null,null,null,null,null,null,null,null,null,null,null,null,null,"08004-Renting of agricultural machinery and equipment ",null,null,null,null,null,null,null,null,"INE002Q01014","HORIZON PACKS PVT LTD EQ",null,null,685,"16-KERALA",null,null,null,null,null,null,null,null,null,null,"INE057604014","V V F LIMITED"]
[null,null,null,null,null,null,null,null,"683-NIUE",null,"08004-Renting of agricultural machinery and equipment ",null,null,null,null,null,null,null,null,null,null,null,null,null,null,null,"NORFOLK ISLAND:15",null,"NORFOLK ISLAND:15",null,null,null,null,null,"AKJB0000027","MAHB0001256","HDFC0001782","NMGB0000051","SBIN0016772",null,null,"15-NORFOLK ISLAND",null,null,null,null,null,null,null,null,null,null,"THE RAJASTHAN STATE COOPERATIVE BANK LIMITED","RSCB",null,null,null,null,null,null,null,null,null,null,null,null,null,null,null,null,null,null,null,null,null,null,"08005-Renting of construction and civil engineering machinery ",null,null,null,null,null,null,null,null,"INE023Q01010","RITIKA PRIVATE LIMITED EQ",null,null,673,"16-KERALA",null,null,null,null,null,null,null,null,null,null,"INE0I0R01014","SETCO AUTO SYSTEMS PRIVATE LIMITED"]
[null,null,null,null,null,null,null,null,"15-NORFOLK ISLAND",null,"08005-Renting of construction and civil engineering machinery ",null,null,null,null,null,null,null,null,null,null,null,null,null,null,null,"NORTHERN MARIANA ISLANDS:1670",null,"NORTHERN MARIANA ISLANDS:1670",null,null,null,null,null,"AKJB0000026","MAHB0001257","HDFC0001781","NMGB0000052","SBIN0016771",null,null,"1670-NORTHERN MARIANA ISLANDS",null,null,null,null,null,null,null,null,null,null,"SBER BANK","SABR",null,null,null,null,null,null,null,null,null,null,null,null,null,null,null,null,null,null,null,null,null,null,"08006-Renting of office machinery and equipment ",null,null,null,null,null,null,null,null,"INE024Q01018","ISSL SETTLEMENT & TRANSACTION SERVICES LTD. EQ",null,null,670,"16-KERALA",null,null,null,null,null,null,null,null,null,null,"INE0IHT01018","ZOMATO LOCAL SERVICES PRIVATE LIMITED"]
[null,null,null,null,null,null,null,null,"1670-NORTHERN MARIANA ISLANDS",null,"08006-Renting of office machinery and equipment ",null,null,null,null,null,null,null,null,null,null,null,null,null,null,null,"NORWAY:47",null,"NORWAY:47",null,null,null,null,null,"AKJB0000025","MAHB0001258","HDFC0001780","NMGB0000053","SBIN0016770",null,null,"47-NORWAY",null,null,null,null,null,null,null,null,null,null,"SAHEBRAO DESHMUKH COOPERATIVE BANK LIMITED","SAHE",null,null,null,null,null,null,null,null,null,null,null,null,null,null,null,null,null,null,null,null,null,null,"08007-Renting of other machinery and equipment n.e.c.  ",null,null,null,null,null,null,null,null,"INE027Q01011","MONICA REALATORS & INVESTMENTS PRIVATE LTD. EQ",null,null,695,"16-KERALA",null,null,null,null,null,null,null,null,null,null,"INE199W08037","ATRIA WIND PRIVATE LIMITED"]
[null,null,null,null,null,null,null,null,"47-NORWAY",null,"08007-Renting of other machinery and equipment n.e.c.  ",null,null,null,null,null,null,null,null,null,null,null,null,null,null,null,"OMAN:968",null,"OMAN:968",null,null,null,null,null,"AKJB0000024","MAHB0001259","HDFC0001779","NMGB0000054","SBIN0016769",null,null,"968-OMAN",null,null,null,null,null,null,null,null,null,null,"SANT SOPANKAKA SAHAKARI BANK LTD","SANT",null,null,null,null,null,null,null,null,null,null,null,null,null,null,null,null,null,null,null,null,null,null,"08008-Renting of personal and household goods n.e.c.  ",null,null,null,null,null,null,null,null,"INE028Q01019","GVR NAGAUR BIKANER TOLLWAY PRIVATE LIMITED EQ",null,null,679,"16-KERALA",null,null,null,null,null,null,null,null,null,null,"INE233L07054","GVK ENERGY LIMITED"]
[null,null,null,null,null,null,null,null,"968-OMAN",null,"08008-Renting of personal and household goods n.e.c.  ",null,null,null,null,null,null,null,null,null,null,null,null,null,null,null,"PAKISTAN:92",null,"PAKISTAN:92",null,null,null,null,null,"AKJB0000023","MAHB0001260","HDFC0001778","NMGB0000055","SBIN0016768",null,null,"92-PAKISTAN",null,null,null,null,null,null,null,null,null,null,"STATE BANK OF INDIA","SBIN",null,null,null,null,null,null,null,null,null,null,null,null,null,null,null,null,null,null,null,null,null,null,"08009-Renting of other machinery n.e.c.",null,null,null,null,null,null,null,null,"INE029Q01017","BAHETI METAL AND FERRO ALLOYS LIMITED EQ",null,null,689,"16-KERALA",null,null,null,null,null,null,null,null,null,null,"INE511N01011","MAX LIFE INSURANCE COMPANY LIMITED"]
[null,null,null,null,null,null,null,null,"92-PAKISTAN",null,"08009-Renting of other machinery n.e.c. ",null,null,null,null,null,null,null,null,null,null,null,null,null,null,null,"PALAU:680",null,"PALAU:680",null,null,null,null,null,"AKJB0000022","MAHB0001261","HDFC0001777","NMGB0000056","SBIN0016767",null,null,"680-PALAU",null,null,null,null,null,null,null,null,null,null,"SAMARTH SAHAKARI BANK LTD","SBLS",null,null,null,null,null,null,null,null,null,null,null,null,null,null,null,null,null,null,null,null,null,null,"09001-Wholesale and retail sale of motor vehicles ",null,null,null,null,null,null,null,null,"INE327Q15023","ALKE IFMR CAPITAL 2014 SR-A2 PTC 28FB14",null,null,676,"16-KERALA",null,null,null,null,null,null,null,null,null,null,"INE572O07HA3","ECAP EQUITIES LIMITED"]
[null,null,null,null,null,null,null,null,"680-PALAU",null,"09001-Wholesale and retail sale of motor vehicles ",null,null,null,null,null,null,null,null,null,null,null,null,null,null,null,"PALESTINE, STATE OF:970",null,"PALESTINE, STATE OF:970",null,null,null,null,null,"AKJB0000021","MAHB0001262","HDFC0001776","NMGB0000057","SBIN0016766",null,null,"970-PALESTINE, STATE OF",null,null,null,null,null,null,null,null,null,null,"STANDARD CHARTERED BANK","SCBL",null,null,null,null,null,null,null,null,null,null,null,null,null,null,null,null,null,null,null,null,null,null,"09002-Repair and maintenance of motor vehicles ",null,null,null,null,null,null,null,null,"INE013A08317","RELIANCE CAPITAL LIMITED SR-T 10.19 LOA 25NV23 FVRS10LAC",null,null,690,"16-KERALA",null,null,null,null,null,null,null,null,null,null,"INE572O07HB1","ECAP EQUITIES LIMITED"]
[null,null,null,null,null,null,null,null,"970-PALESTINE, STATE OF",null,"09002-Repair and maintenance of motor vehicles ",null,null,null,null,null,null,null,null,null,null,null,null,null,null,null,"PANAMA:507",null,"PANAMA:507",null,null,null,null,null,"AKJB0000020","MAHB0001263","HDFC0001775","NMGB0000058","SBIN0016765",null,null,"507-PANAMA",null,null,null,null,null,null,null,null,null,null,"THE SURAT DISTRICT COOPERATIVE BANK LIMITED","SDCB",null,null,null,null,null,null,null,null,null,null,null,null,null,null,null,null,null,null,null,null,null,null,"09003-Sale of motor parts and accessories- wholesale and retail ",null,null,null,null,null,null,null,null,"INF663L01DZ4","PGIM INDIA MUTUAL FUND MIDCAP OPPORTUNITIES FUND REGULAR GROWTH OPEN",null,null,671,"16-KERALA",null,null,null,null,null,null,null,null,null,null,"INF760K01JZ7","CANARA ROBECO MUTUAL FUND"]
[null,null,null,null,null,null,null,null,"507-PANAMA",null,"09003-Sale of motor parts and accessories- wholesale and retail ",null,null,null,null,null,null,null,null,null,null,null,null,null,null,null,"PAPUA NEW GUINEA:675",null,"PAPUA NEW GUINEA:675",null,null,null,null,null,"AKJB0000019","MAHB0001264","HDFC0001774","NMGB0000059","SBIN0016764",null,null,"675-PAPUA NEW GUINEA",null,null,null,null,null,null,null,null,null,null,"SHINHAN BANK","SHBK",null,null,null,null,null,null,null,null,null,null,null,null,null,null,null,null,null,null,null,null,null,null,"09004-Retail sale of automotive fuel ",null,null,null,null,null,null,null,null,"INF663L01EA5","PGIM INDIA MUTUAL FUND MIDCAP OPPORTUNITIES FUND REGULAR DIVI PAY OP",null,null,691,"16-KERALA",null,null,null,null,null,null,null,null,null,null,"INE0BAM03027","UPGRAD EDUCATION PRIVATE LIMITED"]
[null,null,null,null,null,null,null,null,"675-PAPUA NEW GUINEA",null,"09004-Retail sale of automotive fuel ",null,null,null,null,null,null,null,null,null,null,null,null,null,null,null,"PARAGUAY:595",null,"PARAGUAY:595",null,null,null,null,null,"AKJB0000018","MAHB0001265","HDFC0001773","NMGB0000060","SBIN0016763",null,null,"595-PARAGUAY",null,null,null,null,null,null,null,null,null,null,"SOUTH INDIAN BANK","SIBL",null,null,null,null,null,null,null,null,null,null,null,null,null,null,null,null,null,null,null,null,null,null,"09006-Wholesale of agricultural raw material  ",null,null,null,null,null,null,null,null,"INF663L01DV3","PGIM INDIA MUTUAL FUND MIDCAP OPPORTUNITIES FUND DIRECT GROWTH OPEN",null,null,678,"16-KERALA",null,null,null,null,null,null,null,null,null,null,"INE0D2K03024","GOSTOPS HOSPITALITY PRIVATE LIMITED"]
[null,null,null,null,null,null,null,null,"595-PARAGUAY",null,"09005-General commission agents, commodity brokers and auctioneers ",null,null,null,null,null,null,null,null,null,null,null,null,null,null,null,"PERU:51",null,"PERU:51",null,null,null,null,null,"AKJB0000017","MAHB0001266","HDFC0001772","NMGB0000061","SBIN0016762",null,null,"51-PERU",null,null,null,null,null,null,null,null,null,null,"SMALL INDUSTRIES DEVELOPMENT BANK OF INDIA","SIDB",null,null,null,null,null,null,null,null,null,null,null,null,null,null,null,null,null,null,null,null,null,null,"09007-Wholesale of food & beverages and tobacco ",null,null,null,null,null,null,null,null,"INF663L01DW1","PGIM INDIA MUTUAL FUND MIDCAP OPPORTUNITIES FUND DIRECT DIVI PAY OP",null,null,194,"37-LADAKH",null,null,null,null,null,null,null,null,null,null,"INE857Q07323","TATA CLEANTECH CAPITAL LIMITED"]
[null,null,null,null,null,null,null,null,"51-PERU",null,"09006-Wholesale of agricultural raw material  ",null,null,null,null,null,null,null,null,null,null,null,null,null,null,null,"PHILIPPINES:63",null,"PHILIPPINES:63",null,null,null,null,null,"AKJB0000016","MAHB0001267","HDFC0001771","NMGB0000062","SBIN0016761",null,null,"63-PHILIPPINES",null,null,null,null,null,null,null,null,null,null,"THE SINDHUDURG DISTRICT CENTRAL COOP BANK LTD","SIDC",null,null,null,null,null,null,null,null,null,null,null,null,null,null,null,null,null,null,null,null,null,null,"09008-Wholesale of household goods ",null,null,null,null,null,null,null,null,"INF663L01DX9","PGIM INDIA MUTUAL FUND MIDCAP OPPORTUNITIES FUND DIRECT DIVI REIN OP",null,null,480,"18-MADHYA PRADESH",null,null,null,null,null,null,null,null,null,null,"INF204K01GF4","NIPPON INDIA MUTUAL FUND"]
[null,null,null,null,null,null,null,null,"63-PHILIPPINES",null,"09007-Wholesale of food & beverages and tobacco ",null,null,null,null,null,null,null,null,null,null,null,null,null,null,null,"PITCAIRN:1011",null,"PITCAIRN:1011",null,null,null,null,null,"AKJB0000015","MAHB0001268","HDFC0001770","NMGB0000063","SBIN0016760",null,null,"1011-PITCAIRN",null,null,null,null,null,null,null,null,null,null,"SOLAPUR JANATA SAHAKARI BANK LIMITED","SJSB",null,null,null,null,null,null,null,null,null,null,null,null,null,null,null,null,null,null,null,null,null,null,"09009-Wholesale of metals and metal ores ",null,null,null,null,null,null,null,null,"INF663L01EB3","PGIM INDIA MUTUAL FUND MIDCAP OPPORTUNITIES FUND REGULAR DIVI REI OP",null,null,464,"18-MADHYA PRADESH",null,null,null,null,null,null,null,null,null,null,"IN0020190081","CENTRAL GOVERNMENT LOAN"]
[null,null,null,null,null,null,null,null,"1011-PITCAIRN",null,"09008-Wholesale of household goods ",null,null,null,null,null,null,null,null,null,null,null,null,null,null,null,"POLAND:48",null,"POLAND:48",null,null,null,null,null,"AKJB0000014","MAHB0001269","HDFC0001769","NMGB0000064","SBIN0016759",null,null,"48-POLAND",null,null,null,null,null,null,null,null,null,null,"SHIKSHAK SAHAKARI BANK LIMITED","SKSB",null,null,null,null,null,null,null,null,null,null,null,null,null,null,null,null,null,null,null,null,null,null,"09010-Wholesale of household goods ",null,null,null,null,null,null,null,null,"INF663L01EC1","PGIM INDIA MUTUAL FUND MIDCAP OPPORTUNITIES FUND REGULAR DIV TRAF OP",null,null,466,"18-MADHYA PRADESH",null,null,null,null,null,null,null,null,null,null,"INE093JA7R45","ANAND RATHI GLOBAL FINANCE LIMITED"]
[null,null,null,null,null,null,null,null,"48-POLAND",null,"09009-Wholesale of metals and metal ores ",null,null,null,null,null,null,null,null,null,null,null,null,null,null,null,"PORTUGAL:14",null,"PORTUGAL:14",null,null,null,null,null,"AKJB0000013","MAHB0001270","HDFC0001768","NMGB0000065","SBIN0016758",null,null,"14-PORTUGAL",null,null,null,null,null,null,null,null,null,null,"SUMITOMO MITSUI BANKING CORPORATION","SMBC",null,null,null,null,null,null,null,null,null,null,null,null,null,null,null,null,null,null,null,null,null,null,"09011-Wholesale of construction material ",null,null,null,null,null,null,null,null,"IN3120130130","STATE DEVELOPMENT LOAN 16544 TN 06NV23 9.37 FV RS 100",null,null,454,"18-MADHYA PRADESH",null,null,null,null,null,null,null,null,null,null,"INE0HVN01014","ARVIND GOODHILL SUIT MANUFACTURING PRIVATE LIMITED"]
[null,null,null,null,null,null,null,null,"14-PORTUGAL",null,"09010-Wholesale of household goods ",null,null,null,null,null,null,null,null,null,null,null,null,null,null,null,"PUERTO RICO:1787",null,"PUERTO RICO:1787",null,null,null,null,null,"AKJB0000012","MAHB0001271","HDFC0001767","NMGB0000066","SBIN0016757",null,null,"1787-PUERTO RICO",null,null,null,null,null,null,null,null,null,null,"SHIVALIK MERCANTILE CO OPERATIVE BANK LTD","SMCB",null,null,null,null,null,null,null,null,null,null,null,null,null,null,null,null,null,null,null,null,null,null,"09012-Wholesale of hardware and sanitary fittings ",null,null,null,null,null,null,null,null,"INE031A07AA4","HOUSING AND URBAN DEVELOPMENT CORPORATION LIMITED SR-2BTRCH-II8.83BD13JN29FVRS1000LOAUPTO3AP14",null,null,482,"18-MADHYA PRADESH",null,null,null,null,null,null,null,null,null,null,"INE0HVP01019","IMIT INTERNATIONAL MEDIA AND INFORMATIONTECHNOLOGY PARK LIMITED"]
[null,null,null,null,null,null,null,null,"1787-PUERTO RICO",null,"09011-Wholesale of construction material ",null,null,null,null,null,null,null,null,null,null,null,null,null,null,null,"QATAR:974",null,"QATAR:974",null,null,null,null,null,"AKJB0000011","MAHB0001272","HDFC0001766","NMGB0000067","SBIN0016756",null,null,"974-QATAR",null,null,null,null,null,null,null,null,null,null,"SOCIETE GENERALE","SOGE",null,null,null,null,null,null,null,null,null,null,null,null,null,null,null,null,null,null,null,null,null,null,"09013-Wholesale of cotton and jute ",null,null,null,null,null,null,null,null,"INE031A07AB2","HOUSING AND URBAN DEVELOPMENT CORPORATION LIMITED SR-3BTRCH-II9.01BD13JN34 FVRS1000LOAUPTO3AP14",null,null,451,"18-MADHYA PRADESH",null,null,null,null,null,null,null,null,null,null,"INF00XX01AP8","ITI MUTUAL FUND"]
[null,null,null,null,null,null,null,null,"974-QATAR",null,"09012-Wholesale of hardware and sanitary fittings ",null,null,null,null,null,null,null,null,null,null,null,null,null,null,null,"REUNION:262",null,"REUNION:262",null,null,null,null,null,"AKJB0000010","MAHB0001273","HDFC0001765","NMGB0000068","SBIN0016755",null,null,"262-REUNION",null,null,null,null,null,null,null,null,null,null,"THE SURATH PEOPLES COOPERATIVE BANK LIMITED","SPCB",null,null,null,null,null,null,null,null,null,null,null,null,null,null,null,null,null,null,null,null,null,null,"09014-Wholesale of raw wool and raw silk ",null,null,null,null,null,null,null,null,"INE031A07964","HOUSING AND URBAN DEVELOPMENT CORPORATION LIMITED SR1ATRCHII8.51 BD13JN24 FVRS1000LOA UPTO3AP14",null,null,465,"18-MADHYA PRADESH",null,null,null,null,null,null,null,null,null,null,"INE0CL708038","MESINDUS VENTURES PRIVATE LIMITED"]
[null,null,null,null,null,null,null,null,"262-REUNION",null,"09013-Wholesale of cotton and jute ",null,null,null,null,null,null,null,null,null,null,null,null,null,null,null,"ROMANIA:40",null,"ROMANIA:40",null,null,null,null,null,"AKJB0000009","MAHB0001274","HDFC0001764","NMGB0000069","SBIN0016754",null,null,"40-ROMANIA",null,null,null,null,null,null,null,null,null,null,"SARASWAT COOPERATIVE BANK LIMITED","SRCB",null,null,null,null,null,null,null,null,null,null,null,null,null,null,null,null,null,null,null,null,null,null,"09015-Wholesale of other textile fibres ",null,null,null,null,null,null,null,null,"INE031A07972","HOUSING AND URBAN DEVELOPMENT CORPORATION LIMITED SR2ATRCHII8.58 BD13JN29 FVRS1000 LOAUPTO3AP14",null,null,483,"18-MADHYA PRADESH",null,null,null,null,null,null,null,null,null,null,"INE05CL07695","DBFS FINANCE AND LEASING (INDIA) LIMITED"]
[null,null,null,null,null,null,null,null,"40-ROMANIA",null,"09014-Wholesale of raw wool and raw silk ",null,null,null,null,null,null,null,null,null,null,null,null,null,null,null,"RUSSIAN FEDERATION:8",null,"RUSSIAN FEDERATION:8",null,null,null,null,null,"AKJB0000008","MAHB0001275","HDFC0001763","NMGB0000070","SBIN0016753",null,null,"8-RUSSIAN FEDERATION",null,null,null,null,null,null,null,null,null,null,"SBM BANK INDIA LIMITED","STCB",null,null,null,null,null,null,null,null,null,null,null,null,null,null,null,null,null,null,null,null,null,null,"09016-Wholesale of industrial chemicals ",null,null,null,null,null,null,null,null,"INE031A07980","HOUSING AND URBAN DEVELOPMENT CORPORATION LIMITED SR-3A TRCH-II8.76BD13JN34FVRS1000LOAUPTO3AP14",null,null,481,"18-MADHYA PRADESH",null,null,null,null,null,null,null,null,null,null,"INE093JA7M81","ANAND RATHI GLOBAL FINANCE LIMITED"]
[null,null,null,null,null,null,null,null,"8-RUSSIAN FEDERATION",null,"09015-Wholesale of other textile fibres ",null,null,null,null,null,null,null,null,null,null,null,null,null,null,null,"RWANDA:250",null,"RWANDA:250",null,null,null,null,null,"AKJB0000007","MAHB0001276","HDFC0001762","NMGB0000071","SBIN0016752",null,null,"250-RWANDA",null,null,null,null,null,null,null,null,null,null,"SURAT NATIONAL COOPERATIVE BANK LIMITED","SUNB",null,null,null,null,null,null,null,null,null,null,null,null,null,null,null,null,null,null,null,null,null,null,"09017-Wholesale of fertilizers and pesticides ",null,null,null,null,null,null,null,null,"INE031A07998","HOUSING AND URBAN DEVELOPMENT CORPORATION LIMITED SR-1BTRCHII8.76BD13JN24FVRS1000 LOA UPTO3AP14",null,null,472,"18-MADHYA PRADESH",null,null,null,null,null,null,null,null,null,null,"INE0ANL07025","ENERRGIA SKYI PROPERTIES PRIVATE LIMITED"]
[null,null,null,null,null,null,null,null,"250-RWANDA",null,"09016-Wholesale of industrial chemicals ",null,null,null,null,null,null,null,null,null,null,null,null,null,null,null,"SAINT BARTHELEMY:1006",null,"SAINT BARTHELEMY:1006",null,null,null,null,null,"AKJB0000006","MAHB0001277","HDFC0001761","NMGB0000072","SBIN0016751",null,null,"1006-SAINT BARTHELEMY",null,null,null,null,null,null,null,null,null,null,"SURYODAY SMALL FINANCE BANK LIMITED","SURY",null,null,null,null,null,null,null,null,null,null,null,null,null,null,null,null,null,null,null,null,null,null,"09018-Wholesale of electronic parts & equipment ",null,null,null,null,null,null,null,null,"INE631L03017","PROLIFICS CORPORATION LIMITED 0.001% SR A PREF 18SP32",null,null,461,"18-MADHYA PRADESH",null,null,null,null,null,null,null,null,null,null,"INE0HIZ01015","SUR-MAN INVESTMENT LIMITED"]
[null,null,null,null,null,null,null,null,"1006-SAINT BARTHELEMY",null,"09017-Wholesale of fertilizers and pesticides ",null,null,null,null,null,null,null,null,null,null,null,null,null,null,null,"SAINT HELENA, ASCENSION AND TRISTAN DA CUNHA:290",null,"SAINT HELENA, ASCENSION AND TRISTAN DA CUNHA:290",null,null,null,null,null,"AKJB0000005","MAHB0001278","HDFC0001760","NMGB0000073","SBIN0016750",null,null,"290-SAINT HELENA, ASCENSION AND TRISTAN DA CUNHA",null,null,null,null,null,null,null,null,null,null,"SUTEX COOPERATIVE BANK LIMITED","SUTB",null,null,null,null,null,null,null,null,null,null,null,null,null,null,null,null,null,null,null,null,null,null,"09019-Wholesale of other machinery, equipment and supplies ",null,null,null,null,null,null,null,null,"INE631L03025","PROLIFICS CORPORATION LIMITED 0.001% SR B PREF 18SP32",null,null,487,"18-MADHYA PRADESH",null,null,null,null,null,null,null,null,null,null,"INE0HJ001011","CORAL INFOTECH PRIVATE LIMITED"]
[null,null,null,null,null,null,null,null,"290-SAINT HELENA, ASCENSION AND TRISTAN DA CUNHA",null,"09018-Wholesale of electronic parts & equipment ",null,null,null,null,null,null,null,null,null,null,null,null,null,null,null,"SAINT KITTS AND NEVIS:1869",null,"SAINT KITTS AND NEVIS:1869",null,null,null,null,null,"AKJB0000004","MAHB0001279","HDFC0001759","NMGB0000074","SBIN0016748",null,null,"1869-SAINT KITTS AND NEVIS",null,null,null,null,null,null,null,null,null,null,"THE SEVA VIKAS COOPERATIVE BANK LIMITED","SVBL",null,null,null,null,null,null,null,null,null,null,null,null,null,null,null,null,null,null,null,null,null,null,"09020-Wholesale of waste, scrap & materials for re-cycling ",null,null,null,null,null,null,null,null,"INE955P01015","DYNAMIX TRADING TECHNOLOGIES LIMITED EQ",null,null,471,"18-MADHYA PRADESH",null,null,null,null,null,null,null,null,null,null,"INE0HJH18015","PEGASUS GROUP THIRTY NINE TRUST 1"]
[null,null,null,null,null,null,null,null,"1869-SAINT KITTS AND NEVIS",null,"09019-Wholesale of other machinery, equipment and supplies ",null,null,null,null,null,null,null,null,null,null,null,null,null,null,null,"SAINT LUCIA:1758",null,"SAINT LUCIA:1758",null,null,null,null,null,"AKJB0000003","MAHB0001280","HDFC0001758","NMGB0000075","SBIN0016747",null,null,"1758-SAINT LUCIA",null,null,null,null,null,null,null,null,null,null,"THE SHAMRAO VITHAL COOPERATIVE BANK","SVCB",null,null,null,null,null,null,null,null,null,null,null,null,null,null,null,null,null,null,null,null,null,null,"09021-Retail sale of food, beverages and tobacco in specialized stores ",null,null,null,null,null,null,null,null,"INE956P01013","CHOWRINGHEE RESIDENCY PRIVATE LIMITED EQ",null,null,470,"18-MADHYA PRADESH",null,null,null,null,null,null,null,null,null,null,"INF00XX01AL7","ITI MUTUAL FUND"]
[null,null,null,null,null,null,null,null,"1758-SAINT LUCIA",null,"09020-Wholesale of waste, scrap & materials for re-cycling ",null,null,null,null,null,null,null,null,null,null,null,null,null,null,null,"SAINT MARTIN (FRENCH PART):1007",null,"SAINT MARTIN (FRENCH PART):1007",null,null,null,null,null,"AKJB0000002","MAHB0001281","HDFC0001757","NMGB0000076","SBIN0016746",null,null,"1007-SAINT MARTIN (FRENCH PART)",null,null,null,null,null,null,null,null,null,null,"Shri Veershaiv Co Op Bank Ltd","SVSH",null,null,null,null,null,null,null,null,null,null,null,null,null,null,null,null,null,null,null,null,null,null,"09022-Retail sale of other goods in specialized stores ",null,null,null,null,null,null,null,null,"INE947P01012","GRACEWORKS REALTY & LEISURE PRIVATE LIMITED EQ",null,null,486,"18-MADHYA PRADESH",null,null,null,null,null,null,null,null,null,null,"INE041W01028","GMR HYDERABAD AEROTROPOLIS LIMITED"]
[null,null,null,null,null,null,null,null,"1007-SAINT MARTIN (FRENCH PART)",null,"09021-Retail sale of food, beverages and tobacco in specialized stores ",null,null,null,null,null,null,null,null,null,null,null,null,null,null,null,"SAINT PIERRE AND MIQUELON:508",null,"SAINT PIERRE AND MIQUELON:508",null,null,null,null,null,"AKJB0000001","MAHB0001282","HDFC0001756","NMGB0000077","SBIN0016745",null,null,"508-SAINT PIERRE AND MIQUELON",null,null,null,null,null,null,null,null,null,null,"SYNDICATE BANK","SYNB",null,null,null,null,null,null,null,null,null,null,null,null,null,null,null,null,null,null,null,null,null,null,"09023-Retail sale in non-specialized stores ",null,null,null,null,null,null,null,null,"INE951P01014","MAHINDRA CONVEYOR SYSTEMS PRIVATE LIMITED EQ",null,null,460,"18-MADHYA PRADESH",null,null,null,null,null,null,null,null,null,null,"INE0JGD01012","RT E-DEAL PRIVATE LIMITED"]
[null,null,null,null,null,null,null,null,"508-SAINT PIERRE AND MIQUELON",null,"09022-Retail sale of other goods in specialized stores ",null,null,null,null,null,null,null,null,null,null,null,null,null,null,null,"SAINT VINCENT AND THE GRENADINES:1784",null,"SAINT VINCENT AND THE GRENADINES:1784",null,null,null,null,null,"ALLA0AU1663","MAHB0001283","HDFC0001755","NMGB0000078","SBIN0016744",null,null,"1784-SAINT VINCENT AND THE GRENADINES",null,null,null,null,null,null,null,null,null,null,"THE THANE BHARAT SAHAKARI BANK LIMITED","TBSB",null,null,null,null,null,null,null,null,null,null,null,null,null,null,null,null,null,null,null,null,null,null,"09024-Retail sale of textiles, apparel, footwear, leather goods ",null,null,null,null,null,null,null,null,"INE963P01019","IDFC TRUSTEE COMPANY LIMITED EQ",null,null,463,"18-MADHYA PRADESH",null,null,null,null,null,null,null,null,null,null,"INE742F07510","ADANI PORTS AND SPECIAL ECONOMIC ZONE LIMITED"]
[null,null,null,null,null,null,null,null,"1784-SAINT VINCENT AND THE GRENADINES",null,"09023-Retail sale in non-specialized stores ",null,null,null,null,null,null,null,null,null,null,null,null,null,null,null,"SAMOA:685",null,"SAMOA:685",null,null,null,null,null,"ALLA0AU1662","MAHB0001284","HDFC0001754","NMGB0000079","SBIN0016743",null,null,"685-SAMOA",null,null,null,null,null,null,null,null,null,null,"THE THANE DISTRICT CENTRAL COOPERATIVE BANK LIMITED","TDCB",null,null,null,null,null,null,null,null,null,null,null,null,null,null,null,null,null,null,null,null,null,null,"09025-Retail sale of other household appliances ",null,null,null,null,null,null,null,null,"INE964P01017","IDFC PROJECTS LIMITED EQ",null,null,462,"18-MADHYA PRADESH",null,null,null,null,null,null,null,null,null,null,"INE833U03648","B9 BEVERAGES PRIVATE LIMITED"]
[null,null,null,null,null,null,null,null,"685-SAMOA",null,"09024-Retail sale of textiles, apparel, footwear, leather goods ",null,null,null,null,null,null,null,null,null,null,null,null,null,null,null,"SAN MARINO:378",null,"SAN MARINO:378",null,null,null,null,null,"ALLA0AU1661","MAHB0001285","HDFC0001753","NMGB0000080","SBIN0016742",null,null,"378-SAN MARINO",null,null,null,null,null,null,null,null,null,null,"TUMKUR GRAIN MERCHANTS COOPERATIVE BANK LIMITED","TGMB",null,null,null,null,null,null,null,null,null,null,null,null,null,null,null,null,null,null,null,null,null,null,"09026-Retail sale of hardware, paint and glass ",null,null,null,null,null,null,null,null,"INE020B07HU8","RURAL ELECTRIFICATION CORPORATION LIMITED SR-4A 8.18 BD 11OT23 FVRS10LAC",null,null,455,"18-MADHYA PRADESH",null,null,null,null,null,null,null,null,null,null,"INE941D14121","SIKKA PORTS & TERMINALS LIMITED"]
[null,null,null,null,null,null,null,null,"378-SAN MARINO",null,"09025-Retail sale of other household appliances ",null,null,null,null,null,null,null,null,null,null,null,null,null,null,null,"SAO TOME AND PRINCIPE:239",null,"SAO TOME AND PRINCIPE:239",null,null,null,null,null,"ALLA0AU1660","MAHB0001286","HDFC0001752","NMGB0000081","SBIN0016741",null,null,"239-SAO TOME AND PRINCIPE",null,null,null,null,null,null,null,null,null,null,"THRISSUR DISTRICT CO-OPERATIVE BANK LTD","THRS",null,null,null,null,null,null,null,null,null,null,null,null,null,null,null,null,null,null,null,null,null,null,"09027-Wholesale of other products n.e.c ",null,null,null,null,null,null,null,null,"INE020B07HV6","RURAL ELECTRIFICATION CORPORATION LIMITED SR-4B 8.54 BD 11OT28 FVRS10LAC",null,null,488,"18-MADHYA PRADESH",null,null,null,null,null,null,null,null,null,null,"INE07J803071","BEWAKOOF BRANDS PRIVATE LIMITED"]
[null,null,null,null,null,null,null,null,"239-SAO TOME AND PRINCIPE",null,"09026-Retail sale of hardware, paint and glass ",null,null,null,null,null,null,null,null,null,null,null,null,null,null,null,"SAUDI ARABIA:966",null,"SAUDI ARABIA:966",null,null,null,null,null,"ALLA0AU1659","MAHB0001287","HDFC0001751","NMGB0000082","SBIN0016740",null,null,"966-SAUDI ARABIA",null,null,null,null,null,null,null,null,null,null,"TJSB SAHAKARI BANK LTD","TJSB",null,null,null,null,null,null,null,null,null,null,null,null,null,null,null,null,null,null,null,null,null,null,"09028-Retail sale of other products n.e.c",null,null,null,null,null,null,null,null,"INE372P01013","R. K. INFRATEL LIMITED EQ",null,null,474,"18-MADHYA PRADESH",null,null,null,null,null,null,null,null,null,null,"INE0A1G01013","GLOBUS AGRI WAREHOUSING PRIVATE LIMITED"]
[null,null,null,null,null,null,null,null,"966-SAUDI ARABIA",null,"09027-Wholesale of other products n.e.c ",null,null,null,null,null,null,null,null,null,null,null,null,null,null,null,"SENEGAL:221",null,"SENEGAL:221",null,null,null,null,null,"ALLA0AU1658","MAHB0001288","HDFC0001750","NMGB0000083","SBIN0016739",null,null,"221-SENEGAL",null,null,null,null,null,null,null,null,null,null,"TJSB SAHAKARI BANK LIMITED","TJSB",null,null,null,null,null,null,null,null,null,null,null,null,null,null,null,null,null,null,null,null,null,null,"10001-Hotels – Star rated  ",null,null,null,null,null,null,null,null,"INE450L01024","CENTRON INDUSTRIAL ALLIANCE LIMITED EQ NEW FV Re. 1/-",null,null,475,"18-MADHYA PRADESH",null,null,null,null,null,null,null,null,null,null,"INE0BUS07023","INDEL MONEY  LIMITED"]
[null,null,null,null,null,null,null,null,"221-SENEGAL",null,"09028-Retail sale of other products n.e.c ",null,null,null,null,null,null,null,null,null,null,null,null,null,null,null,"SERBIA:381",null,"SERBIA:381",null,null,null,null,null,"ALLA0AU1657","MAHB0001289","HDFC0001749","NMGB0000084","SBIN0016738",null,null,"381-SERBIA",null,null,null,null,null,null,null,null,null,null,"TAMILNAD MERCANTILE BANK LIMITED","TMBL",null,null,null,null,null,null,null,null,null,null,null,null,null,null,null,null,null,null,null,null,null,null,"10002-Hotels – Non-star rated ",null,null,null,null,null,null,null,null,"INE499P01014","ABHIJEET FERROTECH LIMITED EQ",null,null,450,"18-MADHYA PRADESH",null,null,null,null,null,null,null,null,null,null,"INE0BUS07080","INDEL MONEY  LIMITED"]
[null,null,null,null,null,null,null,null,"381-SERBIA",null,"10001-Hotels – Star rated  ",null,null,null,null,null,null,null,null,null,null,null,null,null,null,null,"SEYCHELLES:248",null,"SEYCHELLES:248",null,null,null,null,null,"ALLA0AU1656","MAHB0001290","HDFC0001748","NMGB0000085","SBIN0016737",null,null,"248-SEYCHELLES",null,null,null,null,null,null,null,null,null,null,"THE TAMIL NADU STATE APEX COOPERATIVE BANK","TNSC",null,null,null,null,null,null,null,null,null,null,null,null,null,null,null,null,null,null,null,null,null,null,"10003-Motels, Inns and Dharmshalas ",null,null,null,null,null,null,null,null,"INE600P01017","GUJARAT INTERNATIONAL FINANCE TEC-CITY CO LTD EQ",null,null,477,"18-MADHYA PRADESH",null,null,null,null,null,null,null,null,null,null,"INE0JYI18018","ARCIL-AST-072-I-TRUST"]
[null,null,null,null,null,null,null,null,"248-SEYCHELLES",null,"10002-Hotels – Non-star rated ",null,null,null,null,null,null,null,null,null,null,null,null,null,null,null,"SIERRA LEONE:232",null,"SIERRA LEONE:232",null,null,null,null,null,"ALLA0AU1655","MAHB0001291","HDFC0001747","NMGB0000086","SBIN0016736",null,null,"232-SIERRA LEONE",null,null,null,null,null,null,null,null,null,null,"TELANGANA STATE COOP APEX BANK","TSAB",null,null,null,null,null,null,null,null,null,null,null,null,null,null,null,null,null,null,null,null,null,null,"10004-Guest houses and circuit houses ",null,null,null,null,null,null,null,null,"INE601P01015","DUET INDIA HOTELS (BENGALURU CYBERCITY) PRIVATE LIMITED EQ",null,null,484,"18-MADHYA PRADESH",null,null,null,null,null,null,null,null,null,null,"INE0B4P07105","LOANTAP CREDIT PRODUCTS PRIVATE LIMITED"]
[null,null,null,null,null,null,null,null,"232-SIERRA LEONE",null,"10003-Motels, Inns and Dharmshalas ",null,null,null,null,null,null,null,null,null,null,null,null,null,null,null,"SINGAPORE:65",null,"SINGAPORE:65",null,null,null,null,null,"ALLA0AU1654","MAHB0001292","HDFC0001746","NMGB0000087","SBIN0016735",null,null,"65-SINGAPORE",null,null,null,null,null,null,null,null,null,null,"TEXTILE TRADERS CO-OPERATIVE BANK LIMITED","TTCB",null,null,null,null,null,null,null,null,null,null,null,null,null,null,null,null,null,null,null,null,null,null,"10005-Dormitories and hostels at educational institutions ",null,null,null,null,null,null,null,null,"INE202B07951","DEWAN HOUSING FINANCE CORPORATION LIMITED SR-XII (TR-12) 10.7 NCD 05FB21 FVRS10LAC",null,null,458,"18-MADHYA PRADESH",null,null,null,null,null,null,null,null,null,null,"INE0CP107039","KIFS HOUSING FINANCE  LIMITED"]
[null,null,null,null,null,null,null,null,"65-SINGAPORE",null,"10004-Guest houses and circuit houses ",null,null,null,null,null,null,null,null,null,null,null,null,null,null,null,"SINT MAARTEN (DUTCH PART):1721",null,"SINT MAARTEN (DUTCH PART):1721",null,null,null,null,null,"ALLA0AU1653","MAHB0001293","HDFC0001745","NMGB0000088","SBIN0016734",null,null,"1721-SINT MAARTEN (DUTCH PART)",null,null,null,null,null,null,null,null,null,null,"TEXTILE TRADERS CO OPERATIVE BANK LTD","TTCB",null,null,null,null,null,null,null,null,null,null,null,null,null,null,null,null,null,null,null,null,null,null,"10006-Short stay accommodations n.e.c. ",null,null,null,null,null,null,null,null,"INE202B07936","DEWAN HOUSING FINANCE CORPORATION LIMITED SR-XII (TR-10) 10.8 NCD 05FB29 FVRS10LAC",null,null,457,"18-MADHYA PRADESH",null,null,null,null,null,null,null,null,null,null,"INE0GIW01022","VSK CITY BUS OPERATIONS PRIVATE LIMITED"]
[null,null,null,null,null,null,null,null,"1721-SINT MAARTEN (DUTCH PART)",null,"10005-Dormitories and hostels at educational institutions ",null,null,null,null,null,null,null,null,null,null,null,null,null,null,null,"SLOVAKIA:421",null,"SLOVAKIA:421",null,null,null,null,null,"ALLA0AU1652","MAHB0001294","HDFC0001744","NMGB0000089","SBIN0016733",null,null,"421-SLOVAKIA",null,null,null,null,null,null,null,null,null,null,"UNION BANK OF INDIA","UBIN",null,null,null,null,null,null,null,null,null,null,null,null,null,null,null,null,null,null,null,null,null,null,"10007-Restaurants – with bars  ",null,null,null,null,null,null,null,null,"INE202B07944","DEWAN HOUSING FINANCE CORPORATION LIMITED SR-XII (TR-11) 10.7 NCD 05FB24 FVRS10LAC",null,null,476,"18-MADHYA PRADESH",null,null,null,null,null,null,null,null,null,null,"INE0JD803014","GREEN POWER SUGARS LIMITED"]
[null,null,null,null,null,null,null,null,"421-SLOVAKIA",null,"10006-Short stay accommodations n.e.c. ",null,null,null,null,null,null,null,null,null,null,null,null,null,null,null,"SLOVENIA:386",null,"SLOVENIA:386",null,null,null,null,null,"ALLA0AU1651","MAHB0001295","HDFC0001743","NMGB0000090","SBIN0016732",null,null,"386-SLOVENIA",null,null,null,null,null,null,null,null,null,null,"UCO BANK","UCBA",null,null,null,null,null,null,null,null,null,null,null,null,null,null,null,null,null,null,null,null,null,null,"10008-Restaurants – without bars ",null,null,null,null,null,null,null,null,"INF205K01F29","INVESCO MUTUAL FUND FMP SR 23 I DIRECT GROWTH 28AP15",null,null,473,"18-MADHYA PRADESH",null,null,null,null,null,null,null,null,null,null,"INE0JYY01011","MANGALAM WORLDWIDE PRIVATE LIMITED"]
[null,null,null,null,null,null,null,null,"386-SLOVENIA",null,"10007-Restaurants – with bars  ",null,null,null,null,null,null,null,null,null,null,null,null,null,null,null,"SOLOMON ISLANDS:677",null,"SOLOMON ISLANDS:677",null,null,null,null,null,"ALLA0AU1650","MAHB0001296","HDFC0001742","NMGB0000091","SBIN0016731",null,null,"677-SOLOMON ISLANDS",null,null,null,null,null,null,null,null,null,null,"Ujjivan Small Finance Bank Limited","UJVN",null,null,null,null,null,null,null,null,null,null,null,null,null,null,null,null,null,null,null,null,null,null,"10009-Canteens ",null,null,null,null,null,null,null,null,"INF205K01F78","INVESCO MUTUAL FUND FMP SR 23 K REGULAR DIVI PAY 12MY15",null,null,485,"18-MADHYA PRADESH",null,null,null,null,null,null,null,null,null,null,"INE0K0I01019","PREM N KAPUR ASSOCIATES PRIVATE LIMITED"]
[null,null,null,null,null,null,null,null,"677-SOLOMON ISLANDS",null,"10008-Restaurants – without bars ",null,null,null,null,null,null,null,null,null,null,null,null,null,null,null,"SOMALIA:252",null,"SOMALIA:252",null,null,null,null,null,"ALLA0AU1649","MAHB0001297","HDFC0001741","NMGB0000092","SBIN0016730",null,null,"252-SOMALIA",null,null,null,null,null,null,null,null,null,null,"UNITED OVERSEAS BANK LIMITED","UOVB",null,null,null,null,null,null,null,null,null,null,null,null,null,null,null,null,null,null,null,null,null,null,"10010-Independent caterers ",null,null,null,null,null,null,null,null,"INF205K01F86","INVESCO MUTUAL FUND FMP SR 23 K REGULAR GROWTH 12MY15",null,null,453,"18-MADHYA PRADESH",null,null,null,null,null,null,null,null,null,null,"INE0K0M01011","INTEGROW ASSET MANAGEMENT PRIVATE LIMITED"]
[null,null,null,null,null,null,null,null,"252-SOMALIA",null,"10009-Canteens ",null,null,null,null,null,null,null,null,null,null,null,null,null,null,null,"SOUTH AFRICA:28",null,"SOUTH AFRICA:28",null,null,null,null,null,"ALLA0AU1648","MAHB0001298","HDFC0001740","NMGB0000093","SBIN0016729",null,null,"28-SOUTH AFRICA",null,null,null,null,null,null,null,null,null,null,"THE URBAN CO OPERATIVE BANK Ltd No ONE SEVEN FIVE EIGHT PERINTHALMANNA","URBN",null,null,null,null,null,null,null,null,null,null,null,null,null,null,null,null,null,null,null,null,null,null,"10011-Casinos and other games of chance ",null,null,null,null,null,null,null,null,"INF205K01G02","INVESCO MUTUAL FUND FMP SR 23 K DIRECT GROWTH 12MY15",null,null,452,"18-MADHYA PRADESH",null,null,null,null,null,null,null,null,null,null,"INE0K0O01017","TITANIUM FORTUNE FINANCIAL SERVICES PRIVATE LIMITED"]
[null,null,null,null,null,null,null,null,"28-SOUTH AFRICA",null,"10010-Independent caterers ",null,null,null,null,null,null,null,null,null,null,null,null,null,null,null,"SOUTH GEORGIA AND THE SOUTH SANDWICH ISLANDS:1008",null,"SOUTH GEORGIA AND THE SOUTH SANDWICH ISLANDS:1008",null,null,null,null,null,"ALLA0AU1647","MAHB0001299","HDFC0001739","NMGB0000094","SBIN0016728",null,null,"1008-SOUTH GEORGIA AND THE SOUTH SANDWICH ISLANDS",null,null,null,null,null,null,null,null,null,null,"UNITED BANK OF INDIA","UTBI",null,null,null,null,null,null,null,null,null,null,null,null,null,null,null,null,null,null,null,null,null,null,"10012-Other hospitality services n.e.c.",null,null,null,null,null,null,null,null,"INF205K01G10","INVESCO MUTUAL FUND FMP SR 23 L REGULAR DIVI PAY 04MY15",null,null,456,"18-MADHYA PRADESH",null,null,null,null,null,null,null,null,null,null,"INE0K0S01018","CLEAN MAX KHANAK PRIVATE LIMITED"]
[null,null,null,null,null,null,null,null,"1008-SOUTH GEORGIA AND THE SOUTH SANDWICH ISLANDS",null,"10011-Casinos and other games of chance ",null,null,null,null,null,null,null,null,null,null,null,null,null,null,null,"SOUTH SUDAN:211",null,"SOUTH SUDAN:211",null,null,null,null,null,"ALLA0AU1646","MAHB0001300","HDFC0001738","NMGB0000095","SBIN0016727",null,null,"211-SOUTH SUDAN",null,null,null,null,null,null,null,null,null,null,"AXIS BANK","UTIB",null,null,null,null,null,null,null,null,null,null,null,null,null,null,null,null,null,null,null,null,null,null,"11001-Travel agencies and tour operators ",null,null,null,null,null,null,null,null,"INF205K01G28","INVESCO MUTUAL FUND FMP SR 23 L REGULAR GROWTH 04MY15",null,null,413,"19-MAHARASHTRA",null,null,null,null,null,null,null,null,null,null,"INE535U03490","THINK & LEARN PRIVATE LIMITED"]
[null,null,null,null,null,null,null,null,"211-SOUTH SUDAN",null,"10012-Other hospitality services n.e.c. ",null,null,null,null,null,null,null,null,null,null,null,null,null,null,null,"SPAIN:35",null,"SPAIN:35",null,null,null,null,null,"ALLA0AU1645","MAHB0001301","HDFC0001737","NMGB0000096","SBIN0016726",null,null,"35-SPAIN",null,null,null,null,null,null,null,null,null,null,"UTKARSH SMALL FINANCE BANK","UTKS",null,null,null,null,null,null,null,null,null,null,null,null,null,null,null,null,null,null,null,null,null,null,"11002-Packers and movers ",null,null,null,null,null,null,null,null,"INF205K01G36","INVESCO MUTUAL FUND FMP SR 23 L DIRECT DIVI PAY 04MY15",null,null,445,"19-MAHARASHTRA",null,null,null,null,null,null,null,null,null,null,"INE02FN14028","IGH HOLDINGS PRIVATE LIMITED"]
[null,null,null,null,null,null,null,null,"35-SPAIN",null,"11001-Travel agencies and tour operators ",null,null,null,null,null,null,null,null,null,null,null,null,null,null,null,"SRI LANKA:94",null,"SRI LANKA:94",null,null,null,null,null,"ALLA0AU1644","MAHB0001302","HDFC0001736","NMGB0000097","SBIN0016725",null,null,"94-SRI LANKA",null,null,null,null,null,null,null,null,null,null,"THE VARACHHA COOPERATIVE BANK LIMITED","VARA",null,null,null,null,null,null,null,null,null,null,null,null,null,null,null,null,null,null,null,null,null,null,"11003-Passenger land transport ",null,null,null,null,null,null,null,null,"INF205K01G44","INVESCO MUTUAL FUND FMP SR 23 L DIRECT GROWTH 04MY15",null,null,414,"19-MAHARASHTRA",null,null,null,null,null,null,null,null,null,null,"INE08RL01013","LA VIE BIOLOGICALS PRIVATE LIMITED"]
[null,null,null,null,null,null,null,null,"94-SRI LANKA",null,"11002-Packers and movers ",null,null,null,null,null,null,null,null,null,null,null,null,null,null,null,"SUDAN:249",null,"SUDAN:249",null,null,null,null,null,"ALLA0AU1643","MAHB0001303","HDFC0001735","NMGB0000098","SBIN0016724",null,null,"249-SUDAN",null,null,null,null,null,null,null,null,null,null,"VASAI JANATA SAHAKARI BANK LTD","VASJ",null,null,null,null,null,null,null,null,null,null,null,null,null,null,null,null,null,null,null,null,null,null,"11004-Air transport ",null,null,null,null,null,null,null,null,"INF205K01G51","INVESCO MUTUAL FUND FMP SR 23 M REGULAR DIVI PAY 26MY15",null,null,431,"19-MAHARASHTRA",null,null,null,null,null,null,null,null,null,null,"IN0020190388","CENTRAL GOVERNMENT LOAN"]
[null,null,null,null,null,null,null,null,"249-SUDAN",null,"11003-Passenger land transport ",null,null,null,null,null,null,null,null,null,null,null,null,null,null,null,"SURINAME:597",null,"SURINAME:597",null,null,null,null,null,"ALLA0AU1642","MAHB0001304","HDFC0001734","NMGB0000099","SBIN0016723",null,null,"597-SURINAME",null,null,null,null,null,null,null,null,null,null,"The Vijay Co Operative Bank Limited","VCOB",null,null,null,null,null,null,null,null,null,null,null,null,null,null,null,null,null,null,null,null,null,null,"11005-Transport by urban/sub-urban railways ",null,null,null,null,null,null,null,null,"INF205K01G69","INVESCO MUTUAL FUND FMP SR 23 M REGULAR GROWTH 26MY15",null,null,444,"19-MAHARASHTRA",null,null,null,null,null,null,null,null,null,null,"IN8715B01020","THE ANDHRA SUGARS LIMITED"]
[null,null,null,null,null,null,null,null,"597-SURINAME",null,"11004-Air transport ",null,null,null,null,null,null,null,null,null,null,null,null,null,null,null,"SVALBARD AND JAN MAYEN:1012",null,"SVALBARD AND JAN MAYEN:1012",null,null,null,null,null,"ALLA0AU1641","MAHB0001305","HDFC0001733","NMGB0000100","SBIN0016722",null,null,"1012-SVALBARD AND JAN MAYEN",null,null,null,null,null,null,null,null,null,null,"VIJAYA BANK","VIJB",null,null,null,null,null,null,null,null,null,null,null,null,null,null,null,null,null,null,null,null,null,null,"11006-Inland water transport ",null,null,null,null,null,null,null,null,"INF205K01G85","INVESCO MUTUAL FUND FMP SR 23 M DIRECT GROWTH 26MY15",null,null,441,"19-MAHARASHTRA",null,null,null,null,null,null,null,null,null,null,"INE018E08284","SBI CARDS AND  PAYMENT SERVICES  LIMITED"]
[null,null,null,null,null,null,null,null,"1012-SVALBARD AND JAN MAYEN",null,"11005-Transport by urban/sub-urban railways ",null,null,null,null,null,null,null,null,null,null,null,null,null,null,null,"SWAZILAND:268",null,"SWAZILAND:268",null,null,null,null,null,"ALLA0AU1640","MAHB0001306","HDFC0001732","NMGB0000101","SBIN0016721",null,null,"268-SWAZILAND",null,null,null,null,null,null,null,null,null,null,"THE VISHWESHWAR SAHAKARI BANK LIMITED","VSBL",null,null,null,null,null,null,null,null,null,null,null,null,null,null,null,null,null,null,null,null,null,null,"11007-Sea and coastal water transport ",null,null,null,null,null,null,null,null,"INF205K01G93","INVESCO MUTUAL FUND FMP SR 23 N REGULAR DIVI PAY 19JU15",null,null,442,"19-MAHARASHTRA",null,null,null,null,null,null,null,null,null,null,"INE01CY07TJ1","ICL FINCORP LIMITED"]
[null,null,null,null,null,null,null,null,"268-SWAZILAND",null,"11006-Inland water transport ",null,null,null,null,null,null,null,null,null,null,null,null,null,null,null,"SWEDEN:46",null,"SWEDEN:46",null,null,null,null,null,"ALLA0AU1639","MAHB0001307","HDFC0001731","NMGB0000102","SBIN0016720",null,null,"46-SWEDEN",null,null,null,null,null,null,null,null,null,null,"VASAI VIKAS SAHAKARI BANK LIMITED","VVSB",null,null,null,null,null,null,null,null,null,null,null,null,null,null,null,null,null,null,null,null,null,null,"11008-Freight transport by road ",null,null,null,null,null,null,null,null,"INF205K01H35","INVESCO MUTUAL FUND FMP SR 23 O REGULAR DIVI PAY 08JL15",null,null,443,"19-MAHARASHTRA",null,null,null,null,null,null,null,null,null,null,"INE01CY07TL7","ICL FINCORP LIMITED"]
[null,null,null,null,null,null,null,null,"46-SWEDEN",null,"11007-Sea and coastal water transport ",null,null,null,null,null,null,null,null,null,null,null,null,null,null,null,"SWITZERLAND:41",null,"SWITZERLAND:41",null,null,null,null,null,"ALLA0AU1638","MAHB0001308","HDFC0001730","NMGB0000103","SBIN0016719",null,null,"41-SWITZERLAND",null,null,null,null,null,null,null,null,null,null,"VASAI VIKAS SAHAKARI BANK LTD","VVSB",null,null,null,null,null,null,null,null,null,null,null,null,null,null,null,null,null,null,null,null,null,null,"11009-Freight transport by railways ",null,null,null,null,null,null,null,null,"INF205K01H43","INVESCO MUTUAL FUND FMP SR 23 O REGULAR GROWTH 08JL15",null,null,415,"19-MAHARASHTRA",null,null,null,null,null,null,null,null,null,null,"INE0GNP08013","INDOSPACE MET LOGISTICS PARK FARUKHNAGAR PRIVATE LIMITED"]
[null,null,null,null,null,null,null,null,"41-SWITZERLAND",null,"11008-Freight transport by road ",null,null,null,null,null,null,null,null,null,null,null,null,null,null,null,"SYRIAN ARAB REPUBLIC:963",null,"SYRIAN ARAB REPUBLIC:963",null,null,null,null,null,"ALLA0AU1637","MAHB0001309","HDFC0001729","NMGB0000104","SBIN0016718",null,null,"963-SYRIAN ARAB REPUBLIC",null,null,null,null,null,null,null,null,null,null,"THE WEST BENGAL STATE COOPERATIVE BANK","WBSC",null,null,null,null,null,null,null,null,null,null,null,null,null,null,null,null,null,null,null,null,null,null,"11010-Forwarding of freight ",null,null,null,null,null,null,null,null,"INE508U03026","RAJGREEN HOSPITALITY LIMITED 0.01% PREF 09NV19",null,null,416,"19-MAHARASHTRA",null,null,null,null,null,null,null,null,null,null,"INE0K4I15011","SANSAR TRUST DEC 2021 III"]
[null,null,null,null,null,null,null,null,"963-SYRIAN ARAB REPUBLIC",null,"11009-Freight transport by railways ",null,null,null,null,null,null,null,null,null,null,null,null,null,null,null,"TAIWAN, PROVINCE OF CHINA[A]:886",null,"TAIWAN, PROVINCE OF CHINA[A]:886",null,null,null,null,null,"ALLA0AU1636","MAHB0001310","HDFC0001728","NMGB0000105","SBIN0016717",null,null,"886-TAIWAN, PROVINCE OF CHINA[A]",null,null,null,null,null,null,null,null,null,null,"WESTPAC BANKING CORPORATION","WPAC",null,null,null,null,null,null,null,null,null,null,null,null,null,null,null,null,null,null,null,null,null,null,"11011-Receiving and acceptance of freight ",null,null,null,null,null,null,null,null,"INF917K01OD0","L & T MUTUAL FUND FMP SR X PLAN J DIR DIVIDEND PAYOUT 19FB15",null,null,412,"19-MAHARASHTRA",null,null,null,null,null,null,null,null,null,null,"INE532F07CT6","EDELWEISS FINANCIAL SERVICES LIMITED"]
[null,null,null,null,null,null,null,null,"886-TAIWAN, PROVINCE OF CHINA[A]",null,"11010-Forwarding of freight ",null,null,null,null,null,null,null,null,null,null,null,null,null,null,null,"TAJIKISTAN:992",null,"TAJIKISTAN:992",null,null,null,null,null,"ALLA0AU1635","MAHB0001311","HDFC0001727","NMGB0000106","SBIN0016716",null,null,"992-TAJIKISTAN",null,null,null,null,null,null,null,null,null,null,"YES BANK","YESB",null,null,null,null,null,null,null,null,null,null,null,null,null,null,null,null,null,null,null,null,null,null,"11012-Cargo handling ",null,null,null,null,null,null,null,null,"INF917K01OE8","L & T MUTUAL FUND FMP SR X PLAN J DIR GROWTH 19FB15",null,null,424,"19-MAHARASHTRA",null,null,null,null,null,null,null,null,null,null,"INE689M01025","POLO QUEEN INDUSTRIAL AND FINTECH LIMITED"]
[null,null,null,null,null,null,null,null,"992-TAJIKISTAN",null,"11011-Receiving and acceptance of freight ",null,null,null,null,null,null,null,null,null,null,null,null,null,null,null,"TANZANIA, UNITED REPUBLIC OF:255",null,"TANZANIA, UNITED REPUBLIC OF:255",null,null,null,null,null,"ALLA0AU1634","MAHB0001312","HDFC0001726","NMGB0000107","SBIN0016715",null,null,"255-TANZANIA, UNITED REPUBLIC OF",null,null,null,null,null,null,null,null,null,null,"THE ZOROASTRIAN COOPERATIVE BANK LIMITED","ZCBL",null,null,null,null,null,null,null,null,null,null,null,null,null,null,null,null,null,null,null,null,null,null,"11013-Storage and warehousing ",null,null,null,null,null,null,null,null,"INF917K01OF5","L & T MUTUAL FUND FMP SR X PLAN J  DIVIDEND PAY 19FB15",null,null,425,"19-MAHARASHTRA",null,null,null,null,null,null,null,null,null,null,"INF903JA1JR8","SUNDARAM MUTUAL FUND"]
[null,null,null,null,null,null,null,null,"255-TANZANIA, UNITED REPUBLIC OF",null,"11012-Cargo handling ",null,null,null,null,null,null,null,null,null,null,null,null,null,null,null,"THAILAND:66",null,"THAILAND:66",null,null,null,null,null,"ALLA0AU1633","MAHB0001313","HDFC0001725","NMGB0000108","SBIN0016714",null,null,"66-THAILAND",null,null,null,null,null,null,null,null,null,null,"ZILA SAHAKRI BANK LIMITED GHAZIABAD","ZSBL",null,null,null,null,null,null,null,null,null,null,null,null,null,null,null,null,null,null,null,null,null,null,"11014-Transport via pipelines (transport of gases, liquids, slurry and other commodities) ",null,null,null,null,null,null,null,null,"INF917K01OG3","L & T MUTUAL FUND FMP SR X PLAN J  GROWTH 19FB15",null,null,423,"19-MAHARASHTRA",null,null,null,null,null,null,null,null,null,null,"INF903JA1JW8","SUNDARAM MUTUAL FUND"]
[null,null,null,null,null,null,null,null,"66-THAILAND",null,"11013-Storage and warehousing ",null,null,null,null,null,null,null,null,null,null,null,null,null,null,null,"TIMOR-LESTE(EAST TIMOR):670",null,"TIMOR-LESTE(EAST TIMOR):670",null,null,null,null,null,"ALLA0AU1632","MAHB0001314","HDFC0001724","NMGB0000109","SBIN0016713",null,null,"670-TIMOR-LESTE(EAST TIMOR)",null,null,null,null,null,null,null,null,null,null,"THE KERALA STATE CO OPERATIVE BANK LTD ","KSBK",null,null,null,null,null,null,null,null,null,null,null,null,null,null,null,null,null,null,null,null,null,null,"11015-Other Transport & Logistics services n.e.c",null,null,null,null,null,null,null,null,"INF917K01OH1","L & T MUTUAL FUND FMP SR X PLAN K DIR DIVIDEND PAYOUT 19MY14",null,null,422,"19-MAHARASHTRA",null,null,null,null,null,null,null,null,null,null,"INF903JA1JY4","SUNDARAM MUTUAL FUND"]
[null,null,null,null,null,null,null,null,"670-TIMOR-LESTE(EAST TIMOR)",null,"11014-Transport via pipelines (transport of gases, liquids, slurry and other commodities) ",null,null,null,null,null,null,null,null,null,null,null,null,null,null,null,"TOGO:228",null,"TOGO:228",null,null,null,null,null,"ALLA0AU1631","MAHB0001315","HDFC0001723","NMGB0000110","SBIN0016712",null,null,"228-TOGO",null,null,null,null,null,null,null,null,null,null,null,null,null,null,null,null,null,null,null,null,null,null,null,null,null,null,null,null,null,null,null,null,null,null,"12001-Post and courier activities  ",null,null,null,null,null,null,null,null,"INF917K01OI9","L & T MUTUAL FUND FMP SR X PLAN K DIR GROWTH 19MY14",null,null,400,"19-MAHARASHTRA",null,null,null,null,null,null,null,null,null,null,"INE0HET07022","LIVFIN INDIA PRIVATE LIMITED"]
[null,null,null,null,null,null,null,null,"228-TOGO",null,"11015-Other Transport & Logistics services n.e.c ",null,null,null,null,null,null,null,null,null,null,null,null,null,null,null,"TOKELAU:690",null,"TOKELAU:690",null,null,null,null,null,"ALLA0AU1630","MAHB0001316","HDFC0001722","NMGB0000111","SBIN0016711",null,null,"690-TOKELAU",null,null,null,null,null,null,null,null,null,null,null,null,null,null,null,null,null,null,null,null,null,null,null,null,null,null,null,null,null,null,null,null,null,null,"12002-Basic telecom services ",null,null,null,null,null,null,null,null,"INF917K01NZ5","L & T MUTUAL FUND FMP SR X PLAN I DIR DIVIDEND PAYOUT 16FB15",null,null,410,"19-MAHARASHTRA",null,null,null,null,null,null,null,null,null,null,"INE0JZW01012","DESI TEA TIME PRIVATE LIMITED"]
[null,null,null,null,null,null,null,null,"690-TOKELAU",null,"12001-Post and courier activities  ",null,null,null,null,null,null,null,null,null,null,null,null,null,null,null,"TONGA:676",null,"TONGA:676",null,null,null,null,null,"ALLA0AU1629","MAHB0001317","HDFC0001721","NMGB0000112","SBIN0016710",null,null,"676-TONGA",null,null,null,null,null,null,null,null,null,null,null,null,null,null,null,null,null,null,null,null,null,null,null,null,null,null,null,null,null,null,null,null,null,null,"12003-Value added telecom services ",null,null,null,null,null,null,null,null,"INF917K01OA6","L & T MUTUAL FUND FMP SR X PLAN I DIR GROWTH 16FB15",null,null,402,"19-MAHARASHTRA",null,null,null,null,null,null,null,null,null,null,"INE0K3Z01017","ABHIMANYU INFRADEVELOPERS PRIVATE LIMITED"]
[null,null,null,null,null,null,null,null,"676-TONGA",null,"12002-Basic telecom services ",null,null,null,null,null,null,null,null,null,null,null,null,null,null,null,"TRINIDAD AND TOBAGO:1868",null,"TRINIDAD AND TOBAGO:1868",null,null,null,null,null,"ALLA0AU1628","MAHB0001318","HDFC0001720","NMGB0000113","SBIN0016709",null,null,"1868-TRINIDAD AND TOBAGO",null,null,null,null,null,null,null,null,null,null,null,null,null,null,null,null,null,null,null,null,null,null,null,null,null,null,null,null,null,null,null,null,null,null,"12004-Maintenance of telecom network ",null,null,null,null,null,null,null,null,"INF917K01OB4","L & T MUTUAL FUND FMP SR X PLAN I  DIVIDEND PAY 16FB15",null,null,411,"19-MAHARASHTRA",null,null,null,null,null,null,null,null,null,null,"INE392A13018","VISAKA INDUSTRIES LIMITED"]
[null,null,null,null,null,null,null,null,"1868-TRINIDAD AND TOBAGO",null,"12003-Value added telecom services ",null,null,null,null,null,null,null,null,null,null,null,null,null,null,null,"TUNISIA:216",null,"TUNISIA:216",null,null,null,null,null,"ALLA0AU1627","MAHB0001319","HDFC0001719","NMGB0000114","SBIN0016708",null,null,"216-TUNISIA",null,null,null,null,null,null,null,null,null,null,null,null,null,null,null,null,null,null,null,null,null,null,null,null,null,null,null,null,null,null,null,null,null,null,"12005-Activities of the cable operators ",null,null,null,null,null,null,null,null,"INF917K01OC2","L & T MUTUAL FUND FMP SR X PLAN I  GROWTH 16FB15",null,null,421,"19-MAHARASHTRA",null,null,null,null,null,null,null,null,null,null,"INE438C01010","PRO CLB GLOBAL LIMITED"]
[null,null,null,null,null,null,null,null,"216-TUNISIA",null,"12004-Maintenance of telecom network ",null,null,null,null,null,null,null,null,null,null,null,null,null,null,null,"TURKEY:90",null,"TURKEY:90",null,null,null,null,null,"ALLA0AU1626","MAHB0001320","HDFC0001718","NMGB0000115","SBIN0016707",null,null,"90-TURKEY",null,null,null,null,null,null,null,null,null,null,null,null,null,null,null,null,null,null,null,null,null,null,null,null,null,null,null,null,null,null,null,null,null,null,"12006-Other Post & Telecommunication services n.e.c",null,null,null,null,null,null,null,null,"INF209KA1GX0","ADITYA BIRLA SUN LIFE MUTUAL FUND FTP SR LD(730D) REGULAR QTRLY DIVPAY 13AP16",null,null,440,"19-MAHARASHTRA",null,null,null,null,null,null,null,null,null,null,"INE723X14AS6","TRUST INVESTMENT ADVISORS PRIVATE LIMITED"]
[null,null,null,null,null,null,null,null,"90-TURKEY",null,"12005-Activities of the cable operators ",null,null,null,null,null,null,null,null,null,null,null,null,null,null,null,"TURKMENISTAN:993",null,"TURKMENISTAN:993",null,null,null,null,null,"ALLA0AU1625","MAHB0001321","HDFC0001717","NMGB0000116","SBIN0016706",null,null,"993-TURKMENISTAN",null,null,null,null,null,null,null,null,null,null,null,null,null,null,null,null,null,null,null,null,null,null,null,null,null,null,null,null,null,null,null,null,null,null,"13001-Commercial banks, saving banks and discount houses ",null,null,null,null,null,null,null,null,"INF209KA1GZ5","ADITYA BIRLA SUN LIFE MUTUAL FUND FTP SR LD(730D) DIRECT NORM DIVI PAY 13AP16",null,null,401,"19-MAHARASHTRA",null,null,null,null,null,null,null,null,null,null,"INE037708026","ESR JHAJJAR WAREHOUSING AND INDUSTRIAL PARK PRIVATE LIMITED"]
[null,null,null,null,null,null,null,null,"993-TURKMENISTAN",null,"12006-Other Post & Telecommunication services n.e.c ",null,null,null,null,null,null,null,null,null,null,null,null,null,null,null,"TURKS AND CAICOS ISLANDS:1649",null,"TURKS AND CAICOS ISLANDS:1649",null,null,null,null,null,"ALLA0AU1624","MAHB0001322","HDFC0001716","NMGB0000117","SBIN0016705",null,null,"1649-TURKS AND CAICOS ISLANDS",null,null,null,null,null,null,null,null,null,null,null,null,null,null,null,null,null,null,null,null,null,null,null,null,null,null,null,null,null,null,null,null,null,null,"13002-Specialised institutions granting credit ",null,null,null,null,null,null,null,null,"INF209KA1HA6","ADITYA BIRLA SUN LIFE MUTUAL FUND FTP SR LD(730D) DIRECT QTRLY DIV PAY 13AP16",null,null,795,"20-MANIPUR",null,null,null,null,null,null,null,null,null,null,"INE06EY07023","CHINTAMANI FINLEASE LIMITED"]
[null,null,null,null,null,null,null,null,"1649-TURKS AND CAICOS ISLANDS",null,"13001-Commercial banks, saving banks and discount houses ",null,null,null,null,null,null,null,null,null,null,null,null,null,null,null,"TUVALU:688",null,"TUVALU:688",null,null,null,null,null,"ALLA0AU1623","MAHB0001323","HDFC0001715","NMGB0000118","SBIN0016704",null,null,"688-TUVALU",null,null,null,null,null,null,null,null,null,null,null,null,null,null,null,null,null,null,null,null,null,null,null,null,null,null,null,null,null,null,null,null,null,null,"13003-Financial leasing ",null,null,null,null,null,null,null,null,"IN1020130176","STATE DEVELOPMENT LOAN 16814 AP 26MR24 9.48 FV RS 100",null,null,793,"21-MEGHALAYA",null,null,null,null,null,null,null,null,null,null,"INE0KBO01018","CAPTO BIOTECH AND INFRA LIMITED"]
[null,null,null,null,null,null,null,null,"688-TUVALU",null,"13002-Specialised institutions granting credit ",null,null,null,null,null,null,null,null,null,null,null,null,null,null,null,"UGANDA:256",null,"UGANDA:256",null,null,null,null,null,"ALLA0AU1622","MAHB0001324","HDFC0001714","NMGB0000119","SBIN0016703",null,null,"256-UGANDA",null,null,null,null,null,null,null,null,null,null,null,null,null,null,null,null,null,null,null,null,null,null,null,null,null,null,null,null,null,null,null,null,null,null,"13004-Hire-purchase financing ",null,null,null,null,null,null,null,null,"IN3420130194","STATE DEVELOPMENT LOAN 16768 WB 26FB24 9.85 FV RS 100",null,null,794,"21-MEGHALAYA",null,null,null,null,null,null,null,null,null,null,"INE405N07179","PHF LEASING LIMITED"]
[null,null,null,null,null,null,null,null,"256-UGANDA",null,"13003-Financial leasing ",null,null,null,null,null,null,null,null,null,null,null,null,null,null,null,"UKRAINE:380",null,"UKRAINE:380",null,null,null,null,null,"ALLA0AU1621","MAHB0001325","HDFC0001713","NMGB0000120","SBIN0016702",null,null,"380-UKRAINE",null,null,null,null,null,null,null,null,null,null,null,null,null,null,null,null,null,null,null,null,null,null,null,null,null,null,null,null,null,null,null,null,null,null,"13005-Housing finance activities ",null,null,null,null,null,null,null,null,"INE439Q07015","BCIL ZED RIA PROPERTIES PRIVATE LIMITED 18 LOA 01OT17 FVRS100",null,null,796,"22-MIZORAM",null,null,null,null,null,null,null,null,null,null,"INE516Y14BQ4","PIRAMAL CAPITAL & HOUSING FINANCE LIMITED"]
[null,null,null,null,null,null,null,null,"380-UKRAINE",null,"13004-Hire-purchase financing ",null,null,null,null,null,null,null,null,null,null,null,null,null,null,null,"UNITED ARAB EMIRATES:971",null,"UNITED ARAB EMIRATES:971",null,null,null,null,null,"ALLA0AU1620","MAHB0001326","HDFC0001712","NMGB0000121","SBIN0016701",null,null,"971-UNITED ARAB EMIRATES",null,null,null,null,null,null,null,null,null,null,null,null,null,null,null,null,null,null,null,null,null,null,null,null,null,null,null,null,null,null,null,null,null,null,"13006-Commercial loan activities ",null,null,null,null,null,null,null,null,"INE599Q15019","WARDAR AHF IFMR CAPITAL 2014 SR-A1 PTC 31MR14",null,null,797,"23-NAGALAND",null,null,null,null,null,null,null,null,null,null,"INF204KC1345","NIPPON INDIA MUTUAL FUND"]
[null,null,null,null,null,null,null,null,"971-UNITED ARAB EMIRATES",null,"13005-Housing finance activities ",null,null,null,null,null,null,null,null,null,null,null,null,null,null,null,"UNITED KINGDOM OF GREAT BRITAIN AND NORTHERN IRELAND:44",null,"UNITED KINGDOM OF GREAT BRITAIN AND NORTHERN IRELAND:44",null,null,null,null,null,"ALLA0AU1619","MAHB0001327","HDFC0001711","NMGB0000122","SBIN0016700",null,null,"44-UNITED KINGDOM OF GREAT BRITAIN AND NORTHERN IRELAND",null,null,null,null,null,null,null,null,null,null,null,null,null,null,null,null,null,null,null,null,null,null,null,null,null,null,null,null,null,null,null,null,null,null,"13007-Credit cards ",null,null,null,null,null,null,null,null,"INE599Q15027","WARDAR AHF IFMR CAPITAL 2014 SR-A2 PTC 31MR14",null,null,798,"23-NAGALAND",null,null,null,null,null,null,null,null,null,null,"INE09BC08027","KAIROS PROPERTY MANAGERS PRIVATE LIMITED"]
[null,null,null,null,null,null,null,null,"44-UNITED KINGDOM OF GREAT BRITAIN AND NORTHERN IRELAND",null,"13006-Commercial loan activities ",null,null,null,null,null,null,null,null,null,null,null,null,null,null,null,"UNITED STATES OF AMERICA:2",null,"UNITED STATES OF AMERICA:2",null,null,null,null,null,"ALLA0AU1618","MAHB0001328","HDFC0001710","NMGB0000123","SBIN0016699",null,null,"2-UNITED STATES OF AMERICA",null,null,null,null,null,null,null,null,null,null,null,null,null,null,null,null,null,null,null,null,null,null,null,null,null,null,null,null,null,null,null,null,null,null,"13008-Mutual funds ",null,null,null,null,null,null,null,null,"INE600Q18019","ASREC - PS 05/2013-14 TRUST SECURITY RECEIPTS 26MR14",null,null,759,"24-ODISHA",null,null,null,null,null,null,null,null,null,null,"INE0JQA01017","BIERMANS CARD CO PVT LTD"]
[null,null,null,null,null,null,null,null,"2-UNITED STATES OF AMERICA",null,"13007-Credit cards ",null,null,null,null,null,null,null,null,null,null,null,null,null,null,null,"UNITED STATES MINOR OUTLYING ISLANDS:1009",null,"UNITED STATES MINOR OUTLYING ISLANDS:1009",null,null,null,null,null,"ALLA0AU1617","MAHB0001329","HDFC0001709","NMGB0000124","SBIN0016698",null,null,"1009-UNITED STATES MINOR OUTLYING ISLANDS",null,null,null,null,null,null,null,null,null,null,null,null,null,null,null,null,null,null,null,null,null,null,null,null,null,null,null,null,null,null,null,null,null,null,"13009-Chit fund  ",null,null,null,null,null,null,null,null,"INE582Q18019","PARAS - IOBPF - 027 TRUST SECURITY RECEIPT 29MR14",null,null,755,"24-ODISHA",null,null,null,null,null,null,null,null,null,null,"INE998Y07048","BERAR FINANCE LIMITED"]
[null,null,null,null,null,null,null,null,"1009-UNITED STATES MINOR OUTLYING ISLANDS",null,"13008-Mutual funds ",null,null,null,null,null,null,null,null,null,null,null,null,null,null,null,"URUGUAY:598",null,"URUGUAY:598",null,null,null,null,null,"ALLA0AU1616","MAHB0001330","HDFC0001708","NMGB0000125","SBIN0016695",null,null,"598-URUGUAY",null,null,null,null,null,null,null,null,null,null,null,null,null,null,null,null,null,null,null,null,null,null,null,null,null,null,null,null,null,null,null,null,null,null,"13010-Investment activities ",null,null,null,null,null,null,null,null,"INE584Q18015","PARAS - VJBPF - 028 TRUST SECURITY RECEIPT 29MR14",null,null,754,"24-ODISHA",null,null,null,null,null,null,null,null,null,null,"INE998Y07063","BERAR FINANCE LIMITED"]
[null,null,null,null,null,null,null,null,"598-URUGUAY",null,"13009-Chit fund  ",null,null,null,null,null,null,null,null,null,null,null,null,null,null,null,"UZBEKISTAN:998",null,"UZBEKISTAN:998",null,null,null,null,null,"ALLA0AU1615","MAHB0001331","HDFC0001707","NMGB0000126","SBIN0016694",null,null,"998-UZBEKISTAN",null,null,null,null,null,null,null,null,null,null,null,null,null,null,null,null,null,null,null,null,null,null,null,null,null,null,null,null,null,null,null,null,null,null,"13011-Life insurance ",null,null,null,null,null,null,null,null,"INF789F016Q3","UTI MUTUAL FUND FTI SR XVII-IV (531D) DIR ANL DIVPAY 08JU15",null,null,752,"24-ODISHA",null,null,null,null,null,null,null,null,null,null,"INE998Y07089","BERAR FINANCE LIMITED"]
[null,null,null,null,null,null,null,null,"998-UZBEKISTAN",null,"13010-Investment activities ",null,null,null,null,null,null,null,null,null,null,null,null,null,null,null,"VANUATU:678",null,"VANUATU:678",null,null,null,null,null,"ALLA0AU1614","MAHB0001332","HDFC0001706","NMGB0000129","SBIN0016693",null,null,"678-VANUATU",null,null,null,null,null,null,null,null,null,null,null,null,null,null,null,null,null,null,null,null,null,null,null,null,null,null,null,null,null,null,null,null,null,null,"13012-Pension funding ",null,null,null,null,null,null,null,null,"INF789F017P3","UTI MUTUAL FUND FTI SR XVII-IV (531D) REG QTLYDIVREN 08JU15",null,null,753,"24-ODISHA",null,null,null,null,null,null,null,null,null,null,"INF200KA17B0","SBI MUTUAL FUND"]
[null,null,null,null,null,null,null,null,"678-VANUATU",null,"13011-Life insurance ",null,null,null,null,null,null,null,null,null,null,null,null,null,null,null,"VENEZUELA (BOLIVARIAN REPUBLIC OF):58",null,"VENEZUELA (BOLIVARIAN REPUBLIC OF):58",null,null,null,null,null,"ALLA0AU1613","MAHB0001333","HDFC0001705","NMGB0000130","SBIN0016692",null,null,"58-VENEZUELA (BOLIVARIAN REPUBLIC OF)",null,null,null,null,null,null,null,null,null,null,null,null,null,null,null,null,null,null,null,null,null,null,null,null,null,null,null,null,null,null,null,null,null,null,"13013-Non-life insurance ",null,null,null,null,null,null,null,null,"INE248Y18011","EARC TRUST - SC 285 SEREIES I SECURITY RECEIPTS 28JU17",null,null,768,"24-ODISHA",null,null,null,null,null,null,null,null,null,null,"INF846K010E6","AXIS MUTUAL FUND"]
[null,null,null,null,null,null,null,null,"58-VENEZUELA (BOLIVARIAN REPUBLIC OF)",null,"13012-Pension funding ",null,null,null,null,null,null,null,null,null,null,null,null,null,null,null,"VIET NAM:84",null,"VIET NAM:84",null,null,null,null,null,"ALLA0AU1612","MAHB0001334","HDFC0001704","NMGB0000131","SBIN0016691",null,null,"84-VIET NAM",null,null,null,null,null,null,null,null,null,null,null,null,null,null,null,null,null,null,null,null,null,null,null,null,null,null,null,null,null,null,null,null,null,null,"13014-Administration of financial markets ",null,null,null,null,null,null,null,null,"INE195Y01010","SECUR CREDENTIALS LTD EQ",null,null,751,"24-ODISHA",null,null,null,null,null,null,null,null,null,null,"INE092J01010","PALLAZZIO HOTELS & LEISURE LIMITED"]
[null,null,null,null,null,null,null,null,"84-VIET NAM",null,"13013-Non-life insurance ",null,null,null,null,null,null,null,null,null,null,null,null,null,null,null,"VIRGIN ISLANDS (BRITISH):1284",null,"VIRGIN ISLANDS (BRITISH):1284",null,null,null,null,null,"ALLA0AU1611","MAHB0001335","HDFC0001703","NMGB0000132","SBIN0016689",null,null,"1284-VIRGIN ISLANDS (BRITISH)",null,null,null,null,null,null,null,null,null,null,null,null,null,null,null,null,null,null,null,null,null,null,null,null,null,null,null,null,null,null,null,null,null,null,"13015-Stock brokers, sub-brokers and related activities ",null,null,null,null,null,null,null,null,"INE542Q15019","HDFC TRUST 2014 PTC 28MR14",null,null,767,"24-ODISHA",null,null,null,null,null,null,null,null,null,null,"INE0AZV03019","IBS FINTECH INDIA PRIVATE LIMITED"]
[null,null,null,null,null,null,null,null,"1284-VIRGIN ISLANDS (BRITISH)",null,"13014-Administration of financial markets ",null,null,null,null,null,null,null,null,null,null,null,null,null,null,null,"VIRGIN ISLANDS (U.S.):1340",null,"VIRGIN ISLANDS (U.S.):1340",null,null,null,null,null,"ALLA0AU1610","MAHB0001336","HDFC0001702","NMGB0000133","SBIN0016688",null,null,"1340-VIRGIN ISLANDS (U.S.)",null,null,null,null,null,null,null,null,null,null,null,null,null,null,null,null,null,null,null,null,null,null,null,null,null,null,null,null,null,null,null,null,null,null,"13016-Financial advisers, mortgage advisers and brokers ",null,null,null,null,null,null,null,null,"INE976P01011","MICRO CLINIC INDIA PRIVATE LIMITED EQ",null,null,756,"24-ODISHA",null,null,null,null,null,null,null,null,null,null,"INE124N07325","SK FINANCE LIMITED"]
[null,null,null,null,null,null,null,null,"1340-VIRGIN ISLANDS (U.S.)",null,"13015-Stock brokers, sub-brokers and related activities ",null,null,null,null,null,null,null,null,null,null,null,null,null,null,null,"WALLIS AND FUTUNA:681",null,"WALLIS AND FUTUNA:681",null,null,null,null,null,"ALLA0AU1609","MAHB0001337","HDFC0001701","NMGB0000135","SBIN0016687",null,null,"681-WALLIS AND FUTUNA",null,null,null,null,null,null,null,null,null,null,null,null,null,null,null,null,null,null,null,null,null,null,null,null,null,null,null,null,null,null,null,null,null,null,"13017-Foreign exchange services ",null,null,null,null,null,null,null,null,"INE981P01011","IDFC ALTERNATIVES LIMITED EQ",null,null,758,"24-ODISHA",null,null,null,null,null,null,null,null,null,null,"INE124N08042","SK FINANCE LIMITED"]
[null,null,null,null,null,null,null,null,"681-WALLIS AND FUTUNA",null,"13016-Financial advisers, mortgage advisers and brokers ",null,null,null,null,null,null,null,null,null,null,null,null,null,null,null,"WESTERN SAHARA:1013",null,"WESTERN SAHARA:1013",null,null,null,null,null,"ALLA0AU1608","MAHB0001338","HDFC0001700","NMGB0000137","SBIN0016686",null,null,"1013-WESTERN SAHARA",null,null,null,null,null,null,null,null,null,null,null,null,null,null,null,null,null,null,null,null,null,null,null,null,null,null,null,null,null,null,null,null,null,null,"13018-Other financial intermediation services n.e.c.",null,null,null,null,null,null,null,null,"INE982P18013","PHOENIX ARF SCHEME 13 SECURITY RECEIPTS 19DC13",null,null,762,"24-ODISHA",null,null,null,null,null,null,null,null,null,null,"INE549K07AX6","MUTHOOT FINCORP LIMITED"]
[null,null,null,null,null,null,null,null,"1013-WESTERN SAHARA",null,"13017-Foreign exchange services ",null,null,null,null,null,null,null,null,null,null,null,null,null,null,null,"YEMEN:967",null,"YEMEN:967",null,null,null,null,null,"ALLA0AU1607","MAHB0001339","HDFC0001699","NMGB0000139","SBIN0016685",null,null,"967-YEMEN",null,null,null,null,null,null,null,null,null,null,null,null,null,null,null,null,null,null,null,null,null,null,null,null,null,null,null,null,null,null,null,null,null,null,"14007-Cyber café ",null,null,null,null,null,null,null,null,"INE983P18011","PHOENIX ARF SCHEME 14 SECURITY RECEIPTS 18DC13",null,null,757,"24-ODISHA",null,null,null,null,null,null,null,null,null,null,"INE549K08293","MUTHOOT FINCORP LIMITED"]
[null,null,null,null,null,null,null,null,"967-YEMEN",null,"13018-Other financial intermediation services n.e.c. ",null,null,null,null,null,null,null,null,null,null,null,null,null,null,null,"ZAMBIA:260",null,"ZAMBIA:260",null,null,null,null,null,"ALLA0AU1606","MAHB0001340","HDFC0001698","NMGB0000142","SBIN0016684",null,null,"260-ZAMBIA",null,null,null,null,null,null,null,null,null,null,null,null,null,null,null,null,null,null,null,null,null,null,null,null,null,null,null,null,null,null,null,null,null,null,"14009-Computer training and educational institutes ",null,null,null,null,null,null,null,null,"INE987P01018","OPGS POWER GUJARAT PRIVATE LIMITED EQ CLASS B",null,null,766,"24-ODISHA",null,null,null,null,null,null,null,null,null,null,"INE643J01028","PAWAN IMPEX PRIVATE LIMITED"]
[null,null,null,null,null,null,null,null,"260-ZAMBIA",null,"14001-Software development ",null,null,null,null,null,null,null,null,null,null,null,null,null,null,null,"ZIMBABWE:263",null,"ZIMBABWE:263",null,null,null,null,null,"ALLA0AU1605","MAHB0001341","HDFC0001697","NMGB0000143","SBIN0016683",null,null,"263-ZIMBABWE",null,null,null,null,null,null,null,null,null,null,null,null,null,null,null,null,null,null,null,null,null,null,null,null,null,null,null,null,null,null,null,null,null,null,"14010-Other computation related services n.e.c.",null,null,null,null,null,null,null,null,"INF209KA1656","ADITYA BIRLA SUN LIFE MUTUAL FUND FTP CORP BOND SR B (1168D) DIR GROWTH 12AP17",null,null,761,"24-ODISHA",null,null,null,null,null,null,null,null,null,null,"INF846K010D8","AXIS MUTUAL FUND"]
[null,null,null,null,null,null,null,null,"263-ZIMBABWE",null,"14002-Other software consultancy  ",null,null,null,null,null,null,null,null,null,null,null,null,null,null,null,"OTHERS:9999",null,"OTHERS:9999",null,null,null,null,null,"ALLA0AU1604","MAHB0001342","HDFC0001696","NMGB0000145","SBIN0016682",null,null,"9999-OTHERS",null,null,null,null,null,null,null,null,null,null,null,null,null,null,null,null,null,null,null,null,null,null,null,null,null,null,null,null,null,null,null,null,null,null,"15001-Natural sciences and engineering ",null,null,null,null,null,null,null,null,"INF209KA1664","ADITYA BIRLA SUN LIFE MUTUAL FUND FTP CORP BOND SR B (1168D) DIR DIVIPAY 12AP17",null,null,760,"24-ODISHA",null,null,null,null,null,null,null,null,null,null,"INE01I507463","KLM AXIVA FINVEST LIMITED"]
[null,null,null,null,null,null,null,null,null,null,null,null,null,null,null,null,null,null,null,null,null,null,null,null,null,null,null,null,null,null,null,null,null,null,"ALLA0210055","MAHB0001622","HDFC0001413","ORBC0102249","SBIN0016403",null,null,null,null,null,null,null,null,null,null,null,null,null,null,null,null,null,null,null,null,null,null,null,null,null,null,null,null,null,null,null,null,null,null,null,null,null,null,null,null,null,null,null,null,null,null,"INE867P01012","INDIAN AGRO AND FOOD INDUSTRIES LIMITED EQ",null,null,null,null,null,null,null,null,null,null,null,null,null,null,"INF200KA1W18","SBI MUTUAL FUND"]
[null,null,null,null,null,null,null,null,null,null,null,null,null,null,null,null,null,null,null,null,null,null,null,null,null,null,null,null,null,null,null,null,null,null,"ALLA0210328","MAHB0001887","HDFC0001083","ORBC0101984","SBIN0016130",null,null,null,null,null,null,null,null,null,null,null,null,null,null,null,null,null,null,null,null,null,null,null,null,null,null,null,null,null,null,null,null,null,null,null,null,null,null,null,null,null,null,null,null,null,null,"INF789FA16I9","UTI MUTUAL FUND FTI SR XVI-IX(745D) REG MTRYDIVPAY 10NV16",null,null,null,null,null,null,null,null,null,null,null,null,null,null,"IN9575E01013","HUNGAMA DIGITAL MEDIA ENTERTAINMENT PRIVATE LIMITED"]
[null,null,null,null,null,null,null,null,null,null,null,null,null,null,null,null,null,null,null,null,null,null,null,null,null,null,null,null,null,null,null,null,null,null,"ALLA0210709","CNRB0008651","HDFC0000665","ORBC0101618","SBIN0015727",null,null,null,null,null,null,null,null,null,null,null,null,null,null,null,null,null,null,null,null,null,null,null,null,null,null,null,null,null,null,null,null,null,null,null,null,null,null,null,null,null,null,null,null,null,null,"INF789FA1V86","UTI MUTUAL FUND CR RSK FD REG FLX DIVI PAY",null,null,null,null,null,null,null,null,null,null,null,null,null,null,"IN8660A07043","SUNDARAM FINANCE LIMITED"]
[null,null,null,null,null,null,null,null,null,null,null,null,null,null,null,null,null,null,null,null,null,null,null,null,null,null,null,null,null,null,null,null,null,null,"ALLA0211147","CNRB0006476","HDFC0000212","ORBC0101205","SBIN0015298",null,null,null,null,null,null,null,null,null,null,null,null,null,null,null,null,null,null,null,null,null,null,null,null,null,null,null,null,null,null,null,null,null,null,null,null,null,null,null,null,null,null,null,null,null,null,"INF209K01P23","ADITYA BIRLA SUN LIFE MUTUAL FUND TAX RELIEF96 FUND (ELSS) DIRECT DIVI PAY",null,null,null,null,null,null,null,null,null,null,null,null,null,null,"IN8348N01033","UNIMODE OVERSEAS LIMITED"]
[null,null,null,null,null,null,null,null,null,null,null,null,null,null,null,null,null,null,null,null,null,null,null,null,null,null,null,null,null,null,null,null,null,null,"ALLA0211703","CNRB0005905","ICIC00SMSBL","ORBC0100687","SBIN0014694",null,null,null,null,null,null,null,null,null,null,null,null,null,null,null,null,null,null,null,null,null,null,null,null,null,null,null,null,null,null,null,null,null,null,null,null,null,null,null,null,null,null,null,null,null,null,"INE170R01017","ENN TEE INTERNATIONAL LIMITED  EQ",null,null,null,null,null,null,null,null,null,null,null,null,null,null,"INE00QZ08033","PHELAN ENERGY INDIA RJ PRIVATE LIMITED"]
[null,null,null,null,null,null,null,null,null,null,null,null,null,null,null,null,null,null,null,null,null,null,null,null,null,null,null,null,null,null,null,null,null,null,"ALLA0211752","CNRB0005864","ICIC00MUZAF","ORBC0100646","SBIN0014648",null,null,null,null,null,null,null,null,null,null,null,null,null,null,null,null,null,null,null,null,null,null,null,null,null,null,null,null,null,null,null,null,null,null,null,null,null,null,null,null,null,null,null,null,null,null,"INF740K01K65","DSP MUTUAL FUND DYNAMIC ASSET ALLOCATION FD REGMNTHLY DIVIPAY",null,null,null,null,null,null,null,null,null,null,null,null,null,null,"INE013A079F0","RELIANCE CAPITAL LIMITED"]
[null,null,null,null,null,null,null,null,null,null,null,null,null,null,null,null,null,null,null,null,null,null,null,null,null,null,null,null,null,null,null,null,null,null,"ALLA0212194","CNRB0005473","ICIC0006745","ORBC0100269","SBIN0014180",null,null,null,null,null,null,null,null,null,null,null,null,null,null,null,null,null,null,null,null,null,null,null,null,null,null,null,null,null,null,null,null,null,null,null,null,null,null,null,null,null,null,null,null,null,null,"INF846K01IR3","AXIS MUTUAL FUND FTP SR 47 (483D) DIRECT DIVI PAY 12MY15",null,null,null,null,null,null,null,null,null,null,null,null,null,null,"INE03D101013","SHREE VENKATESH INTERNATIONAL LIMITED"]
[null,null,null,null,null,null,null,null,null,null,null,null,null,null,null,null,null,null,null,null,null,null,null,null,null,null,null,null,null,null,null,null,null,null,"ALLA0212885","CNRB0004759","ICIC0004259","PKGB0010783","SBIN0013373",null,null,null,null,null,null,null,null,null,null,null,null,null,null,null,null,null,null,null,null,null,null,null,null,null,null,null,null,null,null,null,null,null,null,null,null,null,null,null,null,null,null,null,null,null,null,"INE903L03085","NOVA MEDICAL CENTERS PRIVATE LIMITED 0.02% CLASS B PREF 25AG24",null,null,null,null,null,null,null,null,null,null,null,null,null,null,"INE093J076F0","ANAND RATHI GLOBAL FINANCE LIMITED"]
[null,null,null,null,null,null,null,null,null,null,null,null,null,null,null,null,null,null,null,null,null,null,null,null,null,null,null,null,null,null,null,null,null,null,"ALLA0213012","CNRB0004636","ICIC0004122","PKGB0010664","SBIN0013250",null,null,null,null,null,null,null,null,null,null,null,null,null,null,null,null,null,null,null,null,null,null,null,null,null,null,null,null,null,null,null,null,null,null,null,null,null,null,null,null,null,null,null,null,null,null,"INF174K01WC3","KOTAK MAHINDRA MUTUAL FUND FMP SR 147 (384D) DIRECT DIVI PAY 08AP15",null,null,null,null,null,null,null,null,null,null,null,null,null,null,"INE099701018","BRITISH SCAFFOLDING INTERNATIONAL LIMITED"]
[null,null,null,null,null,null,null,null,null,null,null,null,null,null,null,null,null,null,null,null,null,null,null,null,null,null,null,null,null,null,null,null,null,null,"ALLA0AU1065","CNRB0004088","ICIC0003561","PRTH0013006","SBIN0012674",null,null,null,null,null,null,null,null,null,null,null,null,null,null,null,null,null,null,null,null,null,null,null,null,null,null,null,null,null,null,null,null,null,null,null,null,null,null,null,null,null,null,null,null,null,null,"INE625R01010","CONTINENTAL HOSPITALS LIMITED EQ",null,null,null,null,null,null,null,null,null,null,null,null,null,null,"INE115A07OL3","LIC HOUSING FINANCE LIMITED"]
[null,null,null,null,null,null,null,null,null,null,null,null,null,null,null,null,null,null,null,null,null,null,null,null,null,null,null,null,null,null,null,null,null,null,"AUCB0000031","CNRB0003723","ICIC0003196","PSIB0021450","SBIN0012314",null,null,null,null,null,null,null,null,null,null,null,null,null,null,null,null,null,null,null,null,null,null,null,null,null,null,null,null,null,null,null,null,null,null,null,null,null,null,null,null,null,null,null,null,null,null,"IN1020130143","STATE DEVELOPMENT LOAN 16729 AP 12FB24 9.63 FV RS 100",null,null,null,null,null,null,null,null,null,null,null,null,null,null,"INE220D01010","MUDIT FINLEASE LIMITED"]
[null,null,null,null,null,null,null,null,null,null,null,null,null,null,null,null,null,null,null,null,null,null,null,null,null,null,null,null,null,null,null,null,null,null,"ANDB0002905","CNRB0003258","ICIC0002745","PSIB0021000","SBIN0011839",null,null,null,null,null,null,null,null,null,null,null,null,null,null,null,null,null,null,null,null,null,null,null,null,null,null,null,null,null,null,null,null,null,null,null,null,null,null,null,null,null,null,null,null,null,null,"INE721A07GN0","SHRIRAM TRANSPORT FINANCE COMPANY LIMITED SR-D003 10.75 NCD 30SP23 FVRS10LAC",null,null,null,null,null,null,null,null,null,null,null,null,null,null,"INE382Y03051","BUSYBEES LOGISTICS SOLUTIONS PRIVATE LIMITED"]
[null,null,null,null,null,null,null,null,null,null,null,null,null,null,null,null,null,null,null,null,null,null,null,null,null,null,null,null,null,null,null,null,null,null,"ANDB0002756","CNRB0003082","ICIC0002593","PSIB0000856","SBIN0011687",null,null,null,null,null,null,null,null,null,null,null,null,null,null,null,null,null,null,null,null,null,null,null,null,null,null,null,null,null,null,null,null,null,null,null,null,null,null,null,null,null,null,null,null,null,null,"INE660A08BR0","SUNDARAM FINANCE LIMITED SR-N 51 9.8 NCD 12NV24 FVRS10LAC",null,null,null,null,null,null,null,null,null,null,null,null,null,null,"INE433F01014","FIAT SUNDARAM AUTO FINANCE LIMITED"]
[null,null,null,null,null,null,null,null,null,null,null,null,null,null,null,null,null,null,null,null,null,null,null,null,null,null,null,null,null,null,null,null,null,null,"ANDB0002366","CNRB0002676","ICIC0002210","PSIB0000466","SBIN0011294",null,null,null,null,null,null,null,null,null,null,null,null,null,null,null,null,null,null,null,null,null,null,null,null,null,null,null,null,null,null,null,null,null,null,null,null,null,null,null,null,null,null,null,null,null,null,"INE493N01012","HARIA APPARELS LIMITED EQ",null,null,null,null,null,null,null,null,null,null,null,null,null,null,"INE557F07090","NATIONAL HOUSING BANK"]
[null,null,null,null,null,null,null,null,null,null,null,null,null,null,null,null,null,null,null,null,null,null,null,null,null,null,null,null,null,null,null,null,null,null,"ANDB0001958","CNRB0002162","ICIC0001753","PSIB0000060","SBIN0010888",null,null,null,null,null,null,null,null,null,null,null,null,null,null,null,null,null,null,null,null,null,null,null,null,null,null,null,null,null,null,null,null,null,null,null,null,null,null,null,null,null,null,null,null,null,null,"IN1020110137","STATE DEVELOPMENT LOAN 12247 AP 07MR22 8.97 FV RS 100",null,null,null,null,null,null,null,null,null,null,null,null,null,null,"INE701R03031","NSL KRISHNAVENI SUGARS LIMITED"]
[null,null,null,null,null,null,null,null,null,null,null,null,null,null,null,null,null,null,null,null,null,null,null,null,null,null,null,null,null,null,null,null,null,null,"ANDB0001684","CNRB0001872","ICIC0001485","PUNB0976300","SBIN0010622",null,null,null,null,null,null,null,null,null,null,null,null,null,null,null,null,null,null,null,null,null,null,null,null,null,null,null,null,null,null,null,null,null,null,null,null,null,null,null,null,null,null,null,null,null,null,"INE648B01024","SMS TECHSOFT (INDIA) LIMITED EQ NEW FV Re.1/-",null,null,null,null,null,null,null,null,null,null,null,null,null,null,"INE791D01010","DALMIA LAMINATORS LIMITED"]
[null,null,null,null,null,null,null,null,null,null,null,null,null,null,null,null,null,null,null,null,null,null,null,null,null,null,null,null,null,null,null,null,null,null,"ANDB0001151","CNRB0001335","ICIC0000963","PUNB0790000","SBIN0010079",null,null,null,null,null,null,null,null,null,null,null,null,null,null,null,null,null,null,null,null,null,null,null,null,null,null,null,null,null,null,null,null,null,null,null,null,null,null,null,null,null,null,null,null,null,null,"INE385B07095","REI AGRO LIMITED 13 LOA 29MR15 FVRS1LAC",null,null,null,null,null,null,null,null,null,null,null,null,null,null,"INE941D07133","SIKKA PORTS & TERMINALS LIMITED"]
[null,null,null,null,null,null,null,null,null,null,null,null,null,null,null,null,null,null,null,null,null,null,null,null,null,null,null,null,null,null,null,null,null,null,"ANDB0000588","CNRB0000816","ICIC0000449","PUNB0736100","SBIN0009506",null,null,null,null,null,null,null,null,null,null,null,null,null,null,null,null,null,null,null,null,null,null,null,null,null,null,null,null,null,null,null,null,null,null,null,null,null,null,null,null,null,null,null,null,null,null,"INE252N01012","OMNI REALTORS PRIVATE LIMITED EQ",null,null,null,null,null,null,null,null,null,null,null,null,null,null,"INF179KA1R11","HDFC MUTUAL FUND"]
[null,null,null,null,null,null,null,null,null,null,null,null,null,null,null,null,null,null,null,null,null,null,null,null,null,null,null,null,null,null,null,null,null,null,"ANDB0000278","CNRB0000509","ICIC0000084","PUNB0704100","SBIN0009154",null,null,null,null,null,null,null,null,null,null,null,null,null,null,null,null,null,null,null,null,null,null,null,null,null,null,null,null,null,null,null,null,null,null,null,null,null,null,null,null,null,null,null,null,null,null,"INE039A09OX6","IFCI LIMITED SRV OPIV 8.72BD 31MR27 FVRS5000LOA UPTO17JL12",null,null,null,null,null,null,null,null,null,null,null,null,null,null,"INF204KA1W51","NIPPON INDIA MUTUAL FUND"]
[null,null,null,null,null,null,null,null,null,null,null,null,null,null,null,null,null,null,null,null,null,null,null,null,null,null,null,null,null,null,null,null,null,null,"APGB0003203","CLBL0000076","IBKL0478VSB","PUNB0651500","SBIN0008646",null,null,null,null,null,null,null,null,null,null,null,null,null,null,null,null,null,null,null,null,null,null,null,null,null,null,null,null,null,null,null,null,null,null,null,null,null,null,null,null,null,null,null,null,null,null,"INF789F01KZ4","UTI MUTUAL FUND FTI FUND SR XI- I (369D) DIVI REINV 04MR13",null,null,null,null,null,null,null,null,null,null,null,null,null,null,"INF767K01EL3","LIC MUTUAL FUND"]
[null,null,null,null,null,null,null,null,null,null,null,null,null,null,null,null,null,null,null,null,null,null,null,null,null,null,null,null,null,null,null,null,null,null,"APGB0002166","CSBK0000437","IBKL0340K24","PUNB0630600","SBIN0008492",null,null,null,null,null,null,null,null,null,null,null,null,null,null,null,null,null,null,null,null,null,null,null,null,null,null,null,null,null,null,null,null,null,null,null,null,null,null,null,null,null,null,null,null,null,null,"INF767K01329","LIC MUTUAL FUND  INTERVAL FUND SR 1 ANNUAL PL DIVIDEND PAYOUT",null,null,null,null,null,null,null,null,null,null,null,null,null,null,"INF789FC16M7","UTI MUTUAL FUND"]
[null,null,null,null,null,null,null,null,null,null,null,null,null,null,null,null,null,null,null,null,null,null,null,null,null,null,null,null,null,null,null,null,null,null,"AUBL0002297","CSBK0000024","IBKL0046T70","PUNB0546600","SBIN0008074",null,null,null,null,null,null,null,null,null,null,null,null,null,null,null,null,null,null,null,null,null,null,null,null,null,null,null,null,null,null,null,null,null,null,null,null,null,null,null,null,null,null,null,null,null,null,"INF109K01IW6","ICICI PRUDENTIAL MUTUAL FUND REGULAR SAVINGS FD HALF YEARLY DIVIDEND PAY",null,null,null,null,null,null,null,null,null,null,null,null,null,null,"INE207X07012","ACE CREATIVE LEARNING PRIVATE LIMITED"]
[null,null,null,null,null,null,null,null,null,null,null,null,null,null,null,null,null,null,null,null,null,null,null,null,null,null,null,null,null,null,null,null,null,null,"UTIB0SHUCBH","CBIN0284796","IBKL0001968","PUNB0470000","SBIN0007669",null,null,null,null,null,null,null,null,null,null,null,null,null,null,null,null,null,null,null,null,null,null,null,null,null,null,null,null,null,null,null,null,null,null,null,null,null,null,null,null,null,null,null,null,null,null,"INE701B07077","PUNJ LLOYD LIMITED 10.5 NCD 15OT15 FVRS10LAC LOA UPTO 02FB11",null,null,null,null,null,null,null,null,null,null,null,null,null,null,"INE081A14BO4","TATA STEEL LIMITED"]
[null,null,null,null,null,null,null,null,null,null,null,null,null,null,null,null,null,null,null,null,null,null,null,null,null,null,null,null,null,null,null,null,null,null,"UTIB0003700","CBIN0284528","IBKL0001730","PUNB0444400","SBIN0007430",null,null,null,null,null,null,null,null,null,null,null,null,null,null,null,null,null,null,null,null,null,null,null,null,null,null,null,null,null,null,null,null,null,null,null,null,null,null,null,null,null,null,null,null,null,null,"INE154G01022","VENMAX DRUGS AND PHARMACEUTICALS LTD EQ",null,null,null,null,null,null,null,null,null,null,null,null,null,null,"IN1620160086","STATE DEVELOPMENT LOAN"]
[null,null,null,null,null,null,null,null,null,null,null,null,null,null,null,null,null,null,null,null,null,null,null,null,null,null,null,null,null,null,null,null,null,null,"UTIB0003138","CBIN0283894","IBKL0001171","PUNB0373700","SBIN0006854",null,null,null,null,null,null,null,null,null,null,null,null,null,null,null,null,null,null,null,null,null,null,null,null,null,null,null,null,null,null,null,null,null,null,null,null,null,null,null,null,null,null,null,null,null,null,"INF903J01BS7","SUNDARAM MUTUAL FUND FIXED INCOME INTV- QTRLY SR PL A REG GROWTH",null,null,null,null,null,null,null,null,null,null,null,null,null,null,"INE0J9W01014","WOCKHARDT BIOLOGICS LIMITED"]
[null,null,null,null,null,null,null,null,null,null,null,null,null,null,null,null,null,null,null,null,null,null,null,null,null,null,null,null,null,null,null,null,null,null,"UTIB0002581","CBIN0283354","IBKL0000578","PUNB0314700","SBIN0006319",null,null,null,null,null,null,null,null,null,null,null,null,null,null,null,null,null,null,null,null,null,null,null,null,null,null,null,null,null,null,null,null,null,null,null,null,null,null,null,null,null,null,null,null,null,null,"INE663P01015","A. F. ENTERPRISES LIMITED EQ",null,null,null,null,null,null,null,null,null,null,null,null,null,null,"INE0GMI01015","G AND B CONTRACTING LIMITED"]
[null,null,null,null,null,null,null,null,null,null,null,null,null,null,null,null,null,null,null,null,null,null,null,null,null,null,null,null,null,null,null,null,null,null,"UTIB0002308","CBIN0283075","IBKL0000304","PUNB0283500","SBIN0006037",null,null,null,null,null,null,null,null,null,null,null,null,null,null,null,null,null,null,null,null,null,null,null,null,null,null,null,null,null,null,null,null,null,null,null,null,null,null,null,null,null,null,null,null,null,null,"INE519P01019","EASYACCESS FINANCIAL SERVICES LIMITED EQ",null,null,null,null,null,null,null,null,null,null,null,null,null,null,"INE0IBO01012","AURS MULTITRADE INDIA LIMITED"]
[null,null,null,null,null,null,null,null,null,null,null,null,null,null,null,null,null,null,null,null,null,null,null,null,null,null,null,null,null,null,null,null,null,null,"UTIB0002168","CBIN0282927","IBKL0000163","PUNB0269100","SBIN0005895",null,null,null,null,null,null,null,null,null,null,null,null,null,null,null,null,null,null,null,null,null,null,null,null,null,null,null,null,null,null,null,null,null,null,null,null,null,null,null,null,null,null,null,null,null,null,"INF789F01K72","UTI MUTUAL FUND FMP YEARLY SR 0413 REGULAR DIVI REINV 30MY14",null,null,null,null,null,null,null,null,null,null,null,null,null,null,"INE0FZ801016","PANCHGANGA SCHOOLS LIMITED"]
[null,null,null,null,null,null,null,null,null,null,null,null,null,null,null,null,null,null,null,null,null,null,null,null,null,null,null,null,null,null,null,null,null,null,"UTIB0001653","CBIN0282394","IDIB000V002","PUNB0213800","SBIN0005373",null,null,null,null,null,null,null,null,null,null,null,null,null,null,null,null,null,null,null,null,null,null,null,null,null,null,null,null,null,null,null,null,null,null,null,null,null,null,null,null,null,null,null,null,null,null,"INE509P01010","ASHIANA LANDCRAFT REALTY PRIVATE LIMITED EQ CLASS A",null,null,null,null,null,null,null,null,null,null,null,null,null,null,"IN8630A01015","SESHASAYEE PAPER AND BOARDS LIMITED"]
[null,null,null,null,null,null,null,null,null,null,null,null,null,null,null,null,null,null,null,null,null,null,null,null,null,null,null,null,null,null,null,null,null,null,"UTIB0001277","CBIN0282015","IDIB000S108","PUNB0172100","SBIN0004904",null,null,null,null,null,null,null,null,null,null,null,null,null,null,null,null,null,null,null,null,null,null,null,null,null,null,null,null,null,null,null,null,null,null,null,null,null,null,null,null,null,null,null,null,null,null,"INF846K01OK6","AXIS MUTUAL FUND FTP SR 65 (693D) REGULAR GROWTH 06AP16",null,null,null,null,null,null,null,null,null,null,null,null,null,null,"INE010Q01017","SHUBHI AGRO INDUSTRIES LIMITED"]
[null,null,null,null,null,null,null,null,null,null,null,null,null,null,null,null,null,null,null,null,null,null,null,null,null,null,null,null,null,null,null,null,null,null,"UTIB0000769","CBIN0281597","IDIB000P027","PUNB0130100","SBIN0004491",null,null,null,null,null,null,null,null,null,null,null,null,null,null,null,null,null,null,null,null,null,null,null,null,null,null,null,null,null,null,null,null,null,null,null,null,null,null,null,null,null,null,null,null,null,null,"INE905G01027","INDUS- LEAGUE CLOTHING LIMITED EQ NEW FV RE. 1/-",null,null,null,null,null,null,null,null,null,null,null,null,null,null,"INE03CO07181","PUNJAB KASHMIR FINANCE LIMITED"]
[null,null,null,null,null,null,null,null,null,null,null,null,null,null,null,null,null,null,null,null,null,null,null,null,null,null,null,null,null,null,null,null,null,null,"UTIB0000569","CBIN0281393","IDIB000M318","PUNB0109600","SBIN0004267",null,null,null,null,null,null,null,null,null,null,null,null,null,null,null,null,null,null,null,null,null,null,null,null,null,null,null,null,null,null,null,null,null,null,null,null,null,null,null,null,null,null,null,null,null,null,"INF109KA1KS3","ICICI PRUDENTIAL MUTUAL FUND FMP SR 72 366D PL C DIR DIVI PAY 15JN15",null,null,null,null,null,null,null,null,null,null,null,null,null,null,"INE052701013","CIGNEX DATAMATICS TECHNOLOGIES PRIVATE LIMITED"]
[null,null,null,null,null,null,null,null,null,null,null,null,null,null,null,null,null,null,null,null,null,null,null,null,null,null,null,null,null,null,null,null,null,null,"BDBL0001889","CBIN0280789","IDIB000K039","PUNB0050400","SBIN0003630",null,null,null,null,null,null,null,null,null,null,null,null,null,null,null,null,null,null,null,null,null,null,null,null,null,null,null,null,null,null,null,null,null,null,null,null,null,null,null,null,null,null,null,null,null,null,"INF209K014G4","ADITYA BIRLA SUN LIFE MUTUAL FUND FTP SR IC (368D) DIRECT NORM DIVI PAY 22SP14",null,null,null,null,null,null,null,null,null,null,null,null,null,null,"INE093J07VA1","ANAND RATHI GLOBAL FINANCE LIMITED"]
[null,null,null,null,null,null,null,null,null,null,null,null,null,null,null,null,null,null,null,null,null,null,null,null,null,null,null,null,null,null,null,null,null,null,"BDBL0001739","CBIN0280640","IDIB000I032","PUNB0035000","SBIN0003479",null,null,null,null,null,null,null,null,null,null,null,null,null,null,null,null,null,null,null,null,null,null,null,null,null,null,null,null,null,null,null,null,null,null,null,null,null,null,null,null,null,null,null,null,null,null,"INF200K01VT2","SBI MUTUAL FUND ETF SENSEX OPEN ENDED",null,null,null,null,null,null,null,null,null,null,null,null,null,null,"INE0A5C01013","SAI BANDHAN INFINIUM PRIVATE LIMITED"]
[null,null,null,null,null,null,null,null,null,null,null,null,null,null,null,null,null,null,null,null,null,null,null,null,null,null,null,null,null,null,null,null,null,null,"BDBL0001130","CBIN0280024","IDIB000B036","RATN0000037","SBIN0002859",null,null,null,null,null,null,null,null,null,null,null,null,null,null,null,null,null,null,null,null,null,null,null,null,null,null,null,null,null,null,null,null,null,null,null,null,null,null,null,null,null,null,null,null,null,null,"INF209KA1920","ADITYA BIRLA SUN LIFE MUTUAL FUND FTP SR JX(427D) DIRECT QTRLY DIV PAY 06AP15",null,null,null,null,null,null,null,null,null,null,null,null,null,null,"INE155J01015","OFFSHORE INFRASTRUCTURES LIMITED"]
[null,null,null,null,null,null,null,null,null,null,null,null,null,null,null,null,null,null,null,null,null,null,null,null,null,null,null,null,null,null,null,null,null,null,"BARB0WHLRAI","CIUB0000506","IDIB000A042","SRCB0000454","SBIN0002683",null,null,null,null,null,null,null,null,null,null,null,null,null,null,null,null,null,null,null,null,null,null,null,null,null,null,null,null,null,null,null,null,null,null,null,null,null,null,null,null,null,null,null,null,null,null,"INF209K01A87","ADITYA BIRLA SUN LIFE MUTUAL FUND FTP SR GM (367D) REGULAR NORM DIV PAY 13FB14",null,null,null,null,null,null,null,null,null,null,null,null,null,null,"INE208E01013","SECURITIES DEVELOPMENT (INDIA) LTD"]
[null,null,null,null,null,null,null,null,null,null,null,null,null,null,null,null,null,null,null,null,null,null,null,null,null,null,null,null,null,null,null,null,null,null,"BARB0TALAIN","CORP0008985","IOBA0003270","SIBL0000897","SBIN0002154",null,null,null,null,null,null,null,null,null,null,null,null,null,null,null,null,null,null,null,null,null,null,null,null,null,null,null,null,null,null,null,null,null,null,null,null,null,null,null,null,null,null,null,null,null,null,"INF178L01CC4","KOTAK MAHINDRA MUTUAL FUND CORPORATE BOND FD DIRECT QTRLY DIVI PAY",null,null,null,null,null,null,null,null,null,null,null,null,null,null,"INE396N08012","GMR BAJOLI HOLI HYDROPOWER PRIVATE LIMITED"]
[null,null,null,null,null,null,null,null,null,null,null,null,null,null,null,null,null,null,null,null,null,null,null,null,null,null,null,null,null,null,null,null,null,null,"BARB0SHAALL","CORP0003210","IOBA0002862","SIBL0000526","SBIN0001795",null,null,null,null,null,null,null,null,null,null,null,null,null,null,null,null,null,null,null,null,null,null,null,null,null,null,null,null,null,null,null,null,null,null,null,null,null,null,null,null,null,null,null,null,null,null,"INE662O01010","TRIKAAL LEASING & FINANCE LIMITED EQ",null,null,null,null,null,null,null,null,null,null,null,null,null,null,"INE518U01011","ROSE ENGINEERED PRODUCTS INDIA PRIVATE LIMITED"]
[null,null,null,null,null,null,null,null,null,null,null,null,null,null,null,null,null,null,null,null,null,null,null,null,null,null,null,null,null,null,null,null,null,null,"BARB0RAMNGR","CORP0001954","IOBA0002402","SIBL0000073","SBIN0001355",null,null,null,null,null,null,null,null,null,null,null,null,null,null,null,null,null,null,null,null,null,null,null,null,null,null,null,null,null,null,null,null,null,null,null,null,null,null,null,null,null,null,null,null,null,null,"INF789F018T3","UTI MUTUAL FUND FTI SR XVII-VI (366D) DIR ANL DIVPAY 08JN15",null,null,null,null,null,null,null,null,null,null,null,null,null,null,"INE670E07201","SSNNL SR-3 OPT1"]
[null,null,null,null,null,null,null,null,null,null,null,null,null,null,null,null,null,null,null,null,null,null,null,null,null,null,null,null,null,null,null,null,null,null,"BARB0POOCTY","CORP0001768","IOBA0002227","SCBL0036005","SBIN0001182",null,null,null,null,null,null,null,null,null,null,null,null,null,null,null,null,null,null,null,null,null,null,null,null,null,null,null,null,null,null,null,null,null,null,null,null,null,null,null,null,null,null,null,null,null,null,"INE870H01013","NETWORK18 MEDIA & INVESTMENTS LTD. EQ",null,null,null,null,null,null,null,null,null,null,null,null,null,null,"INE725F08018","AMRUTANJAN FINANCE LTD"]
[null,null,null,null,null,null,null,null,null,null,null,null,null,null,null,null,null,null,null,null,null,null,null,null,null,null,null,null,null,null,null,null,null,null,"BARB0MUBARA","CORP0001143","IOBA0001492","SBIN0070715","SBIN0000574",null,null,null,null,null,null,null,null,null,null,null,null,null,null,null,null,null,null,null,null,null,null,null,null,null,null,null,null,null,null,null,null,null,null,null,null,null,null,null,null,null,null,null,null,null,null,"INE294A07075","BALLARPUR INDUSTRIES LIMITED 10 NCD 21AP06 FV RS 100",null,null,null,null,null,null,null,null,null,null,null,null,null,null,"INE896R07097","GREENS FARM TECH PRIVATE LIMITED"]
[null,null,null,null,null,null,null,null,null,null,null,null,null,null,null,null,null,null,null,null,null,null,null,null,null,null,null,null,null,null,null,null,null,null,"BARB0MEDINI","CORP0000866","IOBA0001328","SBIN0070557","SBIN0000426",null,null,null,null,null,null,null,null,null,null,null,null,null,null,null,null,null,null,null,null,null,null,null,null,null,null,null,null,null,null,null,null,null,null,null,null,null,null,null,null,null,null,null,null,null,null,"INE789G01025","JAYANT MERCANTILE CO LTD EQ NEW FV RE.1/-",null,null,null,null,null,null,null,null,null,null,null,null,null,null,"INE943F04024","PIRAMAL ESTATES PRIVATE LIMITED"]
[null,null,null,null,null,null,null,null,null,null,null,null,null,null,null,null,null,null,null,null,null,null,null,null,null,null,null,null,null,null,null,null,null,null,"BARB0MAHABU","CORP0000525","IOBA0001026","SBIN0070283","SBIN0000156",null,null,null,null,null,null,null,null,null,null,null,null,null,null,null,null,null,null,null,null,null,null,null,null,null,null,null,null,null,null,null,null,null,null,null,null,null,null,null,null,null,null,null,null,null,null,"INE826H01015","ESSAR LOGISTICS LIMITED EQ",null,null,null,null,null,null,null,null,null,null,null,null,null,null,"INF109K015N8","ICICI PRUDENTIAL MUTUAL FUND"]
[null,null,null,null,null,null,null,null,null,null,null,null,null,null,null,null,null,null,null,null,null,null,null,null,null,null,null,null,null,null,null,null,null,null,"BARB0KARIRI","CORP0000013","IOBA0000466","SBIN0060334","SYNB0009436",null,null,null,null,null,null,null,null,null,null,null,null,null,null,null,null,null,null,null,null,null,null,null,null,null,null,null,null,null,null,null,null,null,null,null,null,null,null,null,null,null,null,null,null,null,null,"INE106F01016","ORBIT INDS. LTD EQ",null,null,null,null,null,null,null,null,null,null,null,null,null,null,"INF204K01ZF4","NIPPON INDIA MUTUAL FUND"]
[null,null,null,null,null,null,null,null,null,null,null,null,null,null,null,null,null,null,null,null,null,null,null,null,null,null,null,null,null,null,null,null,null,null,"BARB0HATHID","BKDN0910986","INDB0SCSC02","SBIN0051342","SYNB0008736",null,null,null,null,null,null,null,null,null,null,null,null,null,null,null,null,null,null,null,null,null,null,null,null,null,null,null,null,null,null,null,null,null,null,null,null,null,null,null,null,null,null,null,null,null,null,"INE410G01010","DIVYASHAKTI GRANITES LTD EQ",null,null,null,null,null,null,null,null,null,null,null,null,null,null,"INF760K01JJ1","CANARA ROBECO MUTUAL FUND"]
[null,null,null,null,null,null,null,null,null,null,null,null,null,null,null,null,null,null,null,null,null,null,null,null,null,null,null,null,null,null,null,null,null,null,"BARB0GAMBHI","BKDN0721818","INDB0000914","SBIN0050967","SYNB0008352",null,null,null,null,null,null,null,null,null,null,null,null,null,null,null,null,null,null,null,null,null,null,null,null,null,null,null,null,null,null,null,null,null,null,null,null,null,null,null,null,null,null,null,null,null,null,"IN9285A01025","ELGI EQUIPMENTS LIMITED PP RS.0.10",null,null,null,null,null,null,null,null,null,null,null,null,null,null,"INF903JA1BI4","SUNDARAM MUTUAL FUND"]
[null,null,null,null,null,null,null,null,null,null,null,null,null,null,null,null,null,null,null,null,null,null,null,null,null,null,null,null,null,null,null,null,null,null,"BARB0EXTCOL","BKDN0711571","INDB0000809","SBIN0050776","SYNB0008237",null,null,null,null,null,null,null,null,null,null,null,null,null,null,null,null,null,null,null,null,null,null,null,null,null,null,null,null,null,null,null,null,null,null,null,null,null,null,null,null,null,null,null,null,null,null,"INE803A01027","ATN INTERNATIONAL LIMITED EQ NEW FV RS.4/-",null,null,null,null,null,null,null,null,null,null,null,null,null,null,"INE973Z07105","GOSREE FINANCE LIMITED"]
[null,null,null,null,null,null,null,null,null,null,null,null,null,null,null,null,null,null,null,null,null,null,null,null,null,null,null,null,null,null,null,null,null,null,"BARB0CHANDN","BKDN0470706","INDB0000290","SBIN0050255","SYNB0007331",null,null,null,null,null,null,null,null,null,null,null,null,null,null,null,null,null,null,null,null,null,null,null,null,null,null,null,null,null,null,null,null,null,null,null,null,null,null,null,null,null,null,null,null,null,null,"INE086B01019","INV. RESEARCH EQ",null,null,null,null,null,null,null,null,null,null,null,null,null,null,"INE0K1Y07011","RRB REALTORS PRIVATE LIMITED"]
[null,null,null,null,null,null,null,null,null,null,null,null,null,null,null,null,null,null,null,null,null,null,null,null,null,null,null,null,null,null,null,null,null,null,"BARB0BHITAR","BKDN0311273","JJSB0000037","SBIN0041189","SYNB0006291",null,null,null,null,null,null,null,null,null,null,null,null,null,null,null,null,null,null,null,null,null,null,null,null,null,null,null,null,null,null,null,null,null,null,null,null,null,null,null,null,null,null,null,null,null,null,"INE159C01012","SALGUTI INDUSTRIES LIMITED EQ",null,null,null,null,null,null,null,null,null,null,null,null,null,null,"IN3120160491","STATE DEVELOPMENT LOAN"]
[null,null,null,null,null,null,null,null,null,null,null,null,null,null,null,null,null,null,null,null,null,null,null,null,null,null,null,null,null,null,null,null,null,null,"BARB0ARAVAK","DBSS0IN0828","JAKA0KHANNA","SBIN0040611","SYNB0004412",null,null,null,null,null,null,null,null,null,null,null,null,null,null,null,null,null,null,null,null,null,null,null,null,null,null,null,null,null,null,null,null,null,null,null,null,null,null,null,null,null,null,null,null,null,null,"INE595F01010","BHAVARI STARCH EQ",null,null,null,null,null,null,null,null,null,null,null,null,null,null,"INE0CP107021","KIFS HOUSING FINANCE  LIMITED"]
[null,null,null,null,null,null,null,null,null,null,null,null,null,null,null,null,null,null,null,null,null,null,null,null,null,null,null,null,null,null,null,null,null,null,"BKID00KSBCL","DLXB0000049","JAKA0DESERT","SBIN0040360","SYNB0003707",null,null,null,null,null,null,null,null,null,null,null,null,null,null,null,null,null,null,null,null,null,null,null,null,null,null,null,null,null,null,null,null,null,null,null,null,null,null,null,null,null,null,null,null,null,null,"INE194C01019","INDAGE VINTNERS LIMITED EQ",null,null,null,null,null,null,null,null,null,null,null,null,null,null,"INE0BS101014","ISTHARA PARKS PRIVATE LIMITED"]
[null,null,null,null,null,null,null,null,null,null,null,null,null,null,null,null,null,null,null,null,null,null,null,null,null,null,null,null,null,null,null,null,null,null,"BKID0009216","ESFB0001065","KARB0000964","SBIN0032421","SYNB0003001",null,null,null,null,null,null,null,null,null,null,null,null,null,null,null,null,null,null,null,null,null,null,null,null,null,null,null,null,null,null,null,null,null,null,null,null,null,null,null,null,null,null,null,null,null,null,"INE902C01015","MORGAN VENTURES LIMITED EQ",null,null,null,null,null,null,null,null,null,null,null,null,null,null,"INE607M14632","TATA POWER RENEWABLE ENERGY LIMITED"]
[null,null,null,null,null,null,null,null,null,null,null,null,null,null,null,null,null,null,null,null,null,null,null,null,null,null,null,null,null,null,null,null,null,null,"BKID0008979","FDRL0002230","KARB0000737","SBIN0032258","SYNB0001567",null,null,null,null,null,null,null,null,null,null,null,null,null,null,null,null,null,null,null,null,null,null,null,null,null,null,null,null,null,null,null,null,null,null,null,null,null,null,null,null,null,null,null,null,null,null,"INE942E01017","MARG PROJECTS AND INFRASTRUCTURE LIMITED EQ",null,null,null,null,null,null,null,null,null,null,null,null,null,null,"INE134E07BA6","POWER FINANCE CORPORATION LTD."]
[null,null,null,null,null,null,null,null,null,null,null,null,null,null,null,null,null,null,null,null,null,null,null,null,null,null,null,null,null,null,null,null,null,null,"BKID0008102","FDRL0001578","KARB0000008","SBIN0031470","SYNB0000183",null,null,null,null,null,null,null,null,null,null,null,null,null,null,null,null,null,null,null,null,null,null,null,null,null,null,null,null,null,null,null,null,null,null,null,null,null,null,null,null,null,null,null,null,null,null,"INE731H01025","ACTION CONSTRUCTION EQUIPMENT LTD EQ NEW RS. 2/-",null,null,null,null,null,null,null,null,null,null,null,null,null,null,"IN8775B01016","KWALITY LIMITED"]
[null,null,null,null,null,null,null,null,null,null,null,null,null,null,null,null,null,null,null,null,null,null,null,null,null,null,null,null,null,null,null,null,null,null,"BKID0007751","FDRL0001439","KVGB0007208","SBIN0031337","TMBL0000476",null,null,null,null,null,null,null,null,null,null,null,null,null,null,null,null,null,null,null,null,null,null,null,null,null,null,null,null,null,null,null,null,null,null,null,null,null,null,null,null,null,null,null,null,null,null,"INE569D01028","PRANAVADITYA SPINNING MILLS LIMITED EQ NEW RS.10/-",null,null,null,null,null,null,null,null,null,null,null,null,null,null,"IN8977E01012","FRONTIER CAPITAL LIMITED"]
[null,null,null,null,null,null,null,null,null,null,null,null,null,null,null,null,null,null,null,null,null,null,null,null,null,null,null,null,null,null,null,null,null,null,"BKID0006834","FINO0001156","KVBL0004876","SBIN0030284","TSAB0022020",null,null,null,null,null,null,null,null,null,null,null,null,null,null,null,null,null,null,null,null,null,null,null,null,null,null,null,null,null,null,null,null,null,null,null,null,null,null,null,null,null,null,null,null,null,null,"INE925I04033","S C JOHNSON PRODUCTS PVT. LTD. 8 PREF. 25MY25",null,null,null,null,null,null,null,null,null,null,null,null,null,null,"INE02YH01010","JUPITER SATELLITE INDIA PRIVATE  LIMITED"]
[null,null,null,null,null,null,null,null,null,null,null,null,null,null,null,null,null,null,null,null,null,null,null,null,null,null,null,null,null,null,null,null,null,null,"BKID0006535","GGBK0001209","KVBL0001824","SBIN0030029","TSAB0015004",null,null,null,null,null,null,null,null,null,null,null,null,null,null,null,null,null,null,null,null,null,null,null,null,null,null,null,null,null,null,null,null,null,null,null,null,null,null,null,null,null,null,null,null,null,null,"INE130C07077","AMTEK AUTO LIMITED 11.25 NCD 04NV15 FVRS10LAC",null,null,null,null,null,null,null,null,null,null,null,null,null,null,"INE04QV01013","OSWAL DIE CASTERS PVT LTD"]
[null,null,null,null,null,null,null,null,null,null,null,null,null,null,null,null,null,null,null,null,null,null,null,null,null,null,null,null,null,null,null,null,null,null,"BKID0005721","HDFC0CPRAGT","KVBL0001170","SBIN0021572","APBL0000013",null,null,null,null,null,null,null,null,null,null,null,null,null,null,null,null,null,null,null,null,null,null,null,null,null,null,null,null,null,null,null,null,null,null,null,null,null,null,null,null,null,null,null,null,null,null,"INF789F01125","UTI MUTUAL FUND UNITS-UTI FTIF SRV PLX SUPER INSTI DIV PAY CL",null,null,null,null,null,null,null,null,null,null,null,null,null,null,"INE090A08SV6","ICICI BANK LIMITED"]
[null,null,null,null,null,null,null,null,null,null,null,null,null,null,null,null,null,null,null,null,null,null,null,null,null,null,null,null,null,null,null,null,null,null,"BKID0005466","HDFC0CKUB22","KLGB0040594","SBIN0021359","COSB0000065",null,null,null,null,null,null,null,null,null,null,null,null,null,null,null,null,null,null,null,null,null,null,null,null,null,null,null,null,null,null,null,null,null,null,null,null,null,null,null,null,null,null,null,null,null,null,"INF789F01CQ0","UTI MUTUAL FUND YFMP 08-10 INSTITUTINOAL PL DIVI PY 23SP11",null,null,null,null,null,null,null,null,null,null,null,null,null,null,"INE09ZA01017","SANVIRA INDUSTRIES LIMITED"]
[null,null,null,null,null,null,null,null,null,null,null,null,null,null,null,null,null,null,null,null,null,null,null,null,null,null,null,null,null,null,null,null,null,null,"BKID0004664","HDFC0009082","KKBK0SCBU01","SBIN0020738","KUCB0488061",null,null,null,null,null,null,null,null,null,null,null,null,null,null,null,null,null,null,null,null,null,null,null,null,null,null,null,null,null,null,null,null,null,null,null,null,null,null,null,null,null,null,null,null,null,null,"INF769K01036","MIRAE ASSET MUTUAL FUND LARGE CAP FUND REG PLAN DIVIPAYOUT OPEN ED",null,null,null,null,null,null,null,null,null,null,null,null,null,null,"INE145K04018","GLOBAL GREEN COMPANY LIMITED"]
[null,null,null,null,null,null,null,null,null,null,null,null,null,null,null,null,null,null,null,null,null,null,null,null,null,null,null,null,null,null,null,null,null,null,"BKID0004509","HDFC0004829","KKBK0009296","SBIN0020581","KSCB0001002",null,null,null,null,null,null,null,null,null,null,null,null,null,null,null,null,null,null,null,null,null,null,null,null,null,null,null,null,null,null,null,null,null,null,null,null,null,null,null,null,null,null,null,null,null,null,"INF194K01946","IDFC MUTUAL FUND NIFTY FUND REG PL DIVI REINVESTMENT OP END",null,null,null,null,null,null,null,null,null,null,null,null,null,null,"INE199C01026","ADVANI HOTELS & RESORTS (INDIA)LTD"]
[null,null,null,null,null,null,null,null,null,null,null,null,null,null,null,null,null,null,null,null,null,null,null,null,null,null,null,null,null,null,null,null,null,null,"BKID0002831","HDFC0004024","KKBK0004587","SBIN0019230","RSCB0030004",null,null,null,null,null,null,null,null,null,null,null,null,null,null,null,null,null,null,null,null,null,null,null,null,null,null,null,null,null,null,null,null,null,null,null,null,null,null,null,null,null,null,null,null,null,null,"INE581K01010","REGENCY HOSPITAL LIMITED EQ",null,null,null,null,null,null,null,null,null,null,null,null,null,null,"INE419W01018","LAMBDA THERAPEUTIC RESEARCH LIMITED"]
[null,null,null,null,null,null,null,null,null,null,null,null,null,null,null,null,null,null,null,null,null,null,null,null,null,null,null,null,null,null,null,null,null,null,"BKID0002103","HDFC0003853","KKBK0003019","SBIN0019061","RSCB0021001",null,null,null,null,null,null,null,null,null,null,null,null,null,null,null,null,null,null,null,null,null,null,null,null,null,null,null,null,null,null,null,null,null,null,null,null,null,null,null,null,null,null,null,null,null,null,"INE008A08S88","IDBI BANK LIMITED 8.57 BD 08JL25 FVRS10LAC",null,null,null,null,null,null,null,null,null,null,null,null,null,null,"INE466J01016","APPU GHAR ENTERTAINMENT PRIVATE LIMITED"]
[null,null,null,null,null,null,null,null,null,null,null,null,null,null,null,null,null,null,null,null,null,null,null,null,null,null,null,null,null,null,null,null,null,null,"BKID0000715","HDFC0003351","KKBK0000328","SBIN0018515","SVCB0003999",null,null,null,null,null,null,null,null,null,null,null,null,null,null,null,null,null,null,null,null,null,null,null,null,null,null,null,null,null,null,null,null,null,null,null,null,null,null,null,null,null,null,null,null,null,null,"INF204K01F79","NIPPON INDIA MUTUAL FUND MID AND SMALL CAP FD DIRECT PLAN DIVI PAY",null,null,null,null,null,null,null,null,null,null,null,null,null,null,"INE636Y01013","STAREX DEVELOPERS PRIVATE LIMITED"]
[null,null,null,null,null,null,null,null,null,null,null,null,null,null,null,null,null,null,null,null,null,null,null,null,null,null,null,null,null,null,null,null,null,null,"BKID0000048","HDFC0003071","LAVB0000750","SBIN0018207","SDCB0000057",null,null,null,null,null,null,null,null,null,null,null,null,null,null,null,null,null,null,null,null,null,null,null,null,null,null,null,null,null,null,null,null,null,null,null,null,null,null,null,null,null,null,null,null,null,null,"INE225P18017","ARCIL SBPS-029-I TRUST SERIES I SECURITY RECEIPT 30MR13",null,null,null,null,null,null,null,null,null,null,null,null,null,null,"INE734U01014","SV CORPORATION PRIVATE LIMITED"]
[null,null,null,null,null,null,null,null,null,null,null,null,null,null,null,null,null,null,null,null,null,null,null,null,null,null,null,null,null,null,null,null,null,null,"MAHB0000478","HDFC0002557","MCBL0960015","SBIN0017622","VARA0289008",null,null,null,null,null,null,null,null,null,null,null,null,null,null,null,null,null,null,null,null,null,null,null,null,null,null,null,null,null,null,null,null,null,null,null,null,null,null,null,null,null,null,null,null,null,null,"INF194K01WJ6","IDFC MUTUAL FUND  CASH FUND -REG PL -WEEKLY DIV SWEEP OPEN EN",null,null,null,null,null,null,null,null,null,null,null,null,null,null,"INE905Y07027","KOTAK INFRASTRUCTURE DEBT FUND LIMITED"]
[null,null,null,null,null,null,null,null,null,null,null,null,null,null,null,null,null,null,null,null,null,null,null,null,null,null,null,null,null,null,null,null,null,null,"MAHB0000657","HDFC0002380","MAHG0004545","SBIN0017424","WBSC0JCCB20",null,null,null,null,null,null,null,null,null,null,null,null,null,null,null,null,null,null,null,null,null,null,null,null,null,null,null,null,null,null,null,null,null,null,null,null,null,null,null,null,null,null,null,null,null,null,"INF789F014C8","UTI MUTUAL FUND FTI SR XVI-IV (369D) DIR MTRYDIVPAY 15SP14",null,null,null,null,null,null,null,null,null,null,null,null,null,null,"INE964L01016","COMFORT SECURITIES LIMITED"]
[null,null,null,null,null,null,null,null,null,null,null,null,null,null,null,null,null,null,null,null,null,null,null,null,null,null,null,null,null,null,null,null,null,null,"MAHB0000895","HDFC0002140","MAHG0004111","SBIN0017160","UCBA0003300",null,null,null,null,null,null,null,null,null,null,null,null,null,null,null,null,null,null,null,null,null,null,null,null,null,null,null,null,null,null,null,null,null,null,null,null,null,null,null,null,null,null,null,null,null,null,"INF204K01Y43","NIPPON INDIA MUTUAL FUND FIXED HORIZON FD XXIII SR 3 DIR GROWTH 03AP14",null,null,null,null,null,null,null,null,null,null,null,null,null,null,"INF109KA14J3","ICICI PRUDENTIAL MUTUAL FUND"]
[null,null,null,null,null,null,null,null,null,null,null,null,null,null,null,null,null,null,null,null,null,null,null,null,null,null,null,null,null,null,null,null,null,null,null,null,null,null,"UCBA0002777",null,null,null,null,null,null,null,null,null,null,null,null,null,null,null,null,null,null,null,null,null,null,null,null,null,null,null,null,null,null,null,null,null,null,null,null,null,null,null,null,null,null,null,null,null,null,"INF200K01OA7","SBI MUTUAL FUND DEBT FUND SERIES 90 DAYS - 69 DIVI PAY 26NV12",null,null,null,null,null,null,null,null,null,null,null,null,null,null,"INF209K01KA6","ADITYA BIRLA SUN LIFE MUTUAL FUND"]
[null,null,null,null,null,null,null,null,null,null,null,null,null,null,null,null,null,null,null,null,null,null,null,null,null,null,null,null,null,null,null,null,null,null,null,null,null,null,"UCBA0002459",null,null,null,null,null,null,null,null,null,null,null,null,null,null,null,null,null,null,null,null,null,null,null,null,null,null,null,null,null,null,null,null,null,null,null,null,null,null,null,null,null,null,null,null,null,null,"INF209K010C1","ADITYA BIRLA SUN LIFE MUTUAL FUND FTP SR HR (1096D) DIRECT NORM DIVI PAY 05SP16",null,null,null,null,null,null,null,null,null,null,null,null,null,null,"INF582M01CX1","UNION MUTUAL FUND"]
[null,null,null,null,null,null,null,null,null,null,null,null,null,null,null,null,null,null,null,null,null,null,null,null,null,null,null,null,null,null,null,null,null,null,null,null,null,null,"UCBA0001886",null,null,null,null,null,null,null,null,null,null,null,null,null,null,null,null,null,null,null,null,null,null,null,null,null,null,null,null,null,null,null,null,null,null,null,null,null,null,null,null,null,null,null,null,null,null,"INE896M01018","SONA ALLOYS PRIVATE LIMITED EQ",null,null,null,null,null,null,null,null,null,null,null,null,null,null,"INE0E6V01017","WELSPUN DI PIPES LIMITED"]
[null,null,null,null,null,null,null,null,null,null,null,null,null,null,null,null,null,null,null,null,null,null,null,null,null,null,null,null,null,null,null,null,null,null,null,null,null,null,"UCBA0001338",null,null,null,null,null,null,null,null,null,null,null,null,null,null,null,null,null,null,null,null,null,null,null,null,null,null,null,null,null,null,null,null,null,null,null,null,null,null,null,null,null,null,null,null,null,null,"INF209K015B2","ADITYA BIRLA SUN LIFE MUTUAL FUND FTP SR HP (30D) DIRECT DIVI PAY 26SP13",null,null,null,null,null,null,null,null,null,null,null,null,null,null,"INE088F01024","PARADEEP PHOSPHATES LIMITED"]
[null,null,null,null,null,null,null,null,null,null,null,null,null,null,null,null,null,null,null,null,null,null,null,null,null,null,null,null,null,null,null,null,null,null,null,null,null,null,"UCBA0001010",null,null,null,null,null,null,null,null,null,null,null,null,null,null,null,null,null,null,null,null,null,null,null,null,null,null,null,null,null,null,null,null,null,null,null,null,null,null,null,null,null,null,null,null,null,null,"INF397L01646","IDBI MUTUAL FUND DYNAMIC BOND FD ANNUAL DIVIDEND REINVES OPEN",null,null,null,null,null,null,null,null,null,null,null,null,null,null,"IN3120160525","STATE DEVELOPMENT LOAN"]
[null,null,null,null,null,null,null,null,null,null,null,null,null,null,null,null,null,null,null,null,null,null,null,null,null,null,null,null,null,null,null,null,null,null,null,null,null,null,"UCBA0000859",null,null,null,null,null,null,null,null,null,null,null,null,null,null,null,null,null,null,null,null,null,null,null,null,null,null,null,null,null,null,null,null,null,null,null,null,null,null,null,null,null,null,null,null,null,null,"INF178L01AR6","PINEBRIDGE MUTUAL FUND INDIA LIQUID FUND DIRECT MNTLY DIVI PAY OP",null,null,null,null,null,null,null,null,null,null,null,null,null,null,"IN2020150024","STATE DEVELOPMENT LOAN"]
[null,null,null,null,null,null,null,null,null,null,null,null,null,null,null,null,null,null,null,null,null,null,null,null,null,null,null,null,null,null,null,null,null,null,null,null,null,null,"UCBA0000330",null,null,null,null,null,null,null,null,null,null,null,null,null,null,null,null,null,null,null,null,null,null,null,null,null,null,null,null,null,null,null,null,null,null,null,null,null,null,null,null,null,null,null,null,null,null,"INF277K01EG3","TATA MUTUAL FUND LARGE CAP FD REG DIVIDEND PAYOUT",null,null,null,null,null,null,null,null,null,null,null,null,null,null,"INF277KA1067","TATA MUTUAL FUND"]
[null,null,null,null,null,null,null,null,null,null,null,null,null,null,null,null,null,null,null,null,null,null,null,null,null,null,null,null,null,null,null,null,null,null,null,null,null,null,"UCBA0000048",null,null,null,null,null,null,null,null,null,null,null,null,null,null,null,null,null,null,null,null,null,null,null,null,null,null,null,null,null,null,null,null,null,null,null,null,null,null,null,null,null,null,null,null,null,null,"INF903J01EI2","SUNDARAM MUTUAL FUND ULTRA SHORT TERM INST DAILY DIVI REINVEST OP",null,null,null,null,null,null,null,null,null,null,null,null,null,null,"INE264K08059","RMZ GALLERIA (INDIA) PRIVATE LTD"]
[null,null,null,null,null,null,null,null,null,null,null,null,null,null,null,null,null,null,null,null,null,null,null,null,null,null,null,null,null,null,null,null,null,null,null,null,null,null,"UBIN0575313",null,null,null,null,null,null,null,null,null,null,null,null,null,null,null,null,null,null,null,null,null,null,null,null,null,null,null,null,null,null,null,null,null,null,null,null,null,null,null,null,null,null,null,null,null,null,"INF084M01AF9","ADITYA BIRLA SUN LIFE MUTUAL FUND ASSET ALLCTR MULTI MGR FOF SCH DIVPAY",null,null,null,null,null,null,null,null,null,null,null,null,null,null,"INE535U03532","THINK & LEARN PRIVATE LIMITED"]
[null,null,null,null,null,null,null,null,null,null,null,null,null,null,null,null,null,null,null,null,null,null,null,null,null,null,null,null,null,null,null,null,null,null,null,null,null,null,"UBIN0574627",null,null,null,null,null,null,null,null,null,null,null,null,null,null,null,null,null,null,null,null,null,null,null,null,null,null,null,null,null,null,null,null,null,null,null,null,null,null,null,null,null,null,null,null,null,null,"IN3120100117","STATE DEVELOPMENT LOAN 11232 TN 17FB21 8.50 FV RS 100",null,null,null,null,null,null,null,null,null,null,null,null,null,null,"INE0FPF03087","AGSTACK TECHNOLOGIES PVT LTD"]
[null,null,null,null,null,null,null,null,null,null,null,null,null,null,null,null,null,null,null,null,null,null,null,null,null,null,null,null,null,null,null,null,null,null,null,null,null,null,"UBIN0568643",null,null,null,null,null,null,null,null,null,null,null,null,null,null,null,null,null,null,null,null,null,null,null,null,null,null,null,null,null,null,null,null,null,null,null,null,null,null,null,null,null,null,null,null,null,null,"INF277K01DN1","TATA MUTUAL FUND GILT SEC. FUND - REG DIVI PAYOUT- OPEN",null,null,null,null,null,null,null,null,null,null,null,null,null,null,"IN8982A01010","KILLICK NIXON LIMITED"]
[null,null,null,null,null,null,null,null,null,null,null,null,null,null,null,null,null,null,null,null,null,null,null,null,null,null,null,null,null,null,null,null,null,null,null,null,null,null,"UBIN0564001",null,null,null,null,null,null,null,null,null,null,null,null,null,null,null,null,null,null,null,null,null,null,null,null,null,null,null,null,null,null,null,null,null,null,null,null,null,null,null,null,null,null,null,null,null,null,"INE984S18013","JMFARC - AXIS BANK CEMENT MARCH 2015 -TRUST SERIES I SECURITY RECEIPT 27MR15",null,null,null,null,null,null,null,null,null,null,null,null,null,null,"INE02LL01019","ACE BIO MED PRIVATE LIMITED"]
[null,null,null,null,null,null,null,null,null,null,null,null,null,null,null,null,null,null,null,null,null,null,null,null,null,null,null,null,null,null,null,null,null,null,null,null,null,null,"UBIN0560502",null,null,null,null,null,null,null,null,null,null,null,null,null,null,null,null,null,null,null,null,null,null,null,null,null,null,null,null,null,null,null,null,null,null,null,null,null,null,null,null,null,null,null,null,null,null,"INF789FB1L37","UTI MUTUAL FUND FTI SR XIX-XI(1100D) REG QTLYDIVPAY 12JL17",null,null,null,null,null,null,null,null,null,null,null,null,null,null,"INE053F07AO8","INDIAN RAILWAY FINANCE CORPORATION LIMITED"]
[null,null,null,null,null,null,null,null,null,null,null,null,null,null,null,null,null,null,null,null,null,null,null,null,null,null,null,null,null,null,null,null,null,null,null,null,null,null,"UBIN0559016",null,null,null,null,null,null,null,null,null,null,null,null,null,null,null,null,null,null,null,null,null,null,null,null,null,null,null,null,null,null,null,null,null,null,null,null,null,null,null,null,null,null,null,null,null,null,"IN4520150066","STATE DEVELOPMENT LOAN 17820 TLG 12AG25 8.26 FV RS 100",null,null,null,null,null,null,null,null,null,null,null,null,null,null,"INE069D01011","GUJARAT OPTICAL COMMUNICATION LTD"]
[null,null,null,null,null,null,null,null,null,null,null,null,null,null,null,null,null,null,null,null,null,null,null,null,null,null,null,null,null,null,null,null,null,null,null,null,null,null,"UBIN0554197",null,null,null,null,null,null,null,null,null,null,null,null,null,null,null,null,null,null,null,null,null,null,null,null,null,null,null,null,null,null,null,null,null,null,null,null,null,null,null,null,null,null,null,null,null,null,"INE290R03019","AGROH BIAORA TOLLWAYS PRIVATE LIMITED 5% PREF 30MR34",null,null,null,null,null,null,null,null,null,null,null,null,null,null,"INE09GI01010","SILVO LIACAL CHEMICALS PVT. LTD."]
[null,null,null,null,null,null,null,null,null,null,null,null,null,null,null,null,null,null,null,null,null,null,null,null,null,null,null,null,null,null,null,null,null,null,null,null,null,null,"UBIN0550191",null,null,null,null,null,null,null,null,null,null,null,null,null,null,null,null,null,null,null,null,null,null,null,null,null,null,null,null,null,null,null,null,null,null,null,null,null,null,null,null,null,null,null,null,null,null,"INE682S01019","RUBAMIN PRIVATE LIMITED  EQ",null,null,null,null,null,null,null,null,null,null,null,null,null,null,"INE0BUF03037","LOANTAP FINANCIAL TECHNOLOGIES PRIVATE LIMITED"]
[null,null,null,null,null,null,null,null,null,null,null,null,null,null,null,null,null,null,null,null,null,null,null,null,null,null,null,null,null,null,null,null,null,null,null,null,null,null,"UBIN0546747",null,null,null,null,null,null,null,null,null,null,null,null,null,null,null,null,null,null,null,null,null,null,null,null,null,null,null,null,null,null,null,null,null,null,null,null,null,null,null,null,null,null,null,null,null,null,"INE203S07078","RADIUS ESTATES AND DEVELOPERS PRIVATE LIMITED 16 NCD 31DC19 FVRS10LAC",null,null,null,null,null,null,null,null,null,null,null,null,null,null,"INE119K01019","NEXUS ELECTRO STEEL LIMITED"]
[null,null,null,null,null,null,null,null,null,null,null,null,null,null,null,null,null,null,null,null,null,null,null,null,null,null,null,null,null,null,null,null,null,null,null,null,null,null,"UBIN0542431",null,null,null,null,null,null,null,null,null,null,null,null,null,null,null,null,null,null,null,null,null,null,null,null,null,null,null,null,null,null,null,null,null,null,null,null,null,null,null,null,null,null,null,null,null,null,"INE103D01018","BHARAT SANCHAR NIGAM LIMITED EQ",null,null,null,null,null,null,null,null,null,null,null,null,null,null,"INE223L03039","ESSAR POWER (ORISSA) LIMITED"]
[null,null,null,null,null,null,null,null,null,null,null,null,null,null,null,null,null,null,null,null,null,null,null,null,null,null,null,null,null,null,null,null,null,null,null,null,null,null,"UBIN0535583",null,null,null,null,null,null,null,null,null,null,null,null,null,null,null,null,null,null,null,null,null,null,null,null,null,null,null,null,null,null,null,null,null,null,null,null,null,null,null,null,null,null,null,null,null,null,"INE246E04140","GOBIND SUGAR MILLS LTD. 7% PREF 18NV26",null,null,null,null,null,null,null,null,null,null,null,null,null,null,"INE438A01022","APOLLO TYRES LIMITED"]
[null,null,null,null,null,null,null,null,null,null,null,null,null,null,null,null,null,null,null,null,null,null,null,null,null,null,null,null,null,null,null,null,null,null,null,null,null,null,"UBIN0535109",null,null,null,null,null,null,null,null,null,null,null,null,null,null,null,null,null,null,null,null,null,null,null,null,null,null,null,null,null,null,null,null,null,null,null,null,null,null,null,null,null,null,null,null,null,null,"INF200KA1DA4","SBI MUTUAL FUND EQ SAVINGS FD REG GROWTH OP",null,null,null,null,null,null,null,null,null,null,null,null,null,null,"INE453K18016","JMFARC - BOB - 2008 TRUST"]
[null,null,null,null,null,null,null,null,null,null,null,null,null,null,null,null,null,null,null,null,null,null,null,null,null,null,null,null,null,null,null,null,null,null,null,null,null,null,"UBIN0531324",null,null,null,null,null,null,null,null,null,null,null,null,null,null,null,null,null,null,null,null,null,null,null,null,null,null,null,null,null,null,null,null,null,null,null,null,null,null,null,null,null,null,null,null,null,null,"INF209KA13D6","ADITYA BIRLA SUN LIFE MUTUAL FUND FTP SR JR (1162D)  DIR  QTRLY DIVI PAY 27MR17",null,null,null,null,null,null,null,null,null,null,null,null,null,null,"INE584N01018","SPANCO GREAT IT PRIVATE LIMITED"]
[null,null,null,null,null,null,null,null,null,null,null,null,null,null,null,null,null,null,null,null,null,null,null,null,null,null,null,null,null,null,null,null,null,null,null,null,null,null,"UTBI0RTK781",null,null,null,null,null,null,null,null,null,null,null,null,null,null,null,null,null,null,null,null,null,null,null,null,null,null,null,null,null,null,null,null,null,null,null,null,null,null,null,null,null,null,null,null,null,null,"INE212T18017","EARC TRUST - SC 142 SERIES I SECURITY RECEIPTS 03JL15",null,null,null,null,null,null,null,null,null,null,null,null,null,null,"INE752E07MT2","POWER GRID CORPORATION OF INDIA LIMITED"]
[null,null,null,null,null,null,null,null,null,null,null,null,null,null,null,null,null,null,null,null,null,null,null,null,null,null,null,null,null,null,null,null,null,null,null,null,null,null,"UTBI0MEC162",null,null,null,null,null,null,null,null,null,null,null,null,null,null,null,null,null,null,null,null,null,null,null,null,null,null,null,null,null,null,null,null,null,null,null,null,null,null,null,null,null,null,null,null,null,null,"INF109KB1HB4","ICICI PRUDENTIAL MUTUAL FUND FMP SR 77 1134D PL H CUMULATIVE 16JL18",null,null,null,null,null,null,null,null,null,null,null,null,null,null,"INE895R01019","ALOK DENIMS (INDIA) LIMITED"]
[null,null,null,null,null,null,null,null,null,null,null,null,null,null,null,null,null,null,null,null,null,null,null,null,null,null,null,null,null,null,null,null,null,null,null,null,null,null,"UTBI0JIR986",null,null,null,null,null,null,null,null,null,null,null,null,null,null,null,null,null,null,null,null,null,null,null,null,null,null,null,null,null,null,null,null,null,null,null,null,null,null,null,null,null,null,null,null,null,null,"INF917K01UU1","L & T MUTUAL FUND FMP SR X PLAN M (1520D) DIVI PAY 02MY18",null,null,null,null,null,null,null,null,null,null,null,null,null,null,"INF084M01DL1","ADITYA BIRLA SUN LIFE MUTUAL FUND"]
[null,null,null,null,null,null,null,null,null,null,null,null,null,null,null,null,null,null,null,null,null,null,null,null,null,null,null,null,null,null,null,null,null,null,null,null,null,null,"UTBI0FFZD78",null,null,null,null,null,null,null,null,null,null,null,null,null,null,null,null,null,null,null,null,null,null,null,null,null,null,null,null,null,null,null,null,null,null,null,null,null,null,null,null,null,null,null,null,null,null,"INF579M01944","IIFL MUTUAL FUND FMP SERIES 6 DIRECT PLAN DIVI PAY 06AP16",null,null,null,null,null,null,null,null,null,null,null,null,null,null,"INF174KA1EE6","KOTAK MAHINDRA MUTUAL FUND"]
[null,null,null,null,null,null,null,null,null,null,null,null,null,null,null,null,null,null,null,null,null,null,null,null,null,null,null,null,null,null,null,null,null,null,null,null,null,null,"UTBI0BLRH13",null,null,null,null,null,null,null,null,null,null,null,null,null,null,null,null,null,null,null,null,null,null,null,null,null,null,null,null,null,null,null,null,null,null,null,null,null,null,null,null,null,null,null,null,null,null,"INE490T01015","GRAHATI SOLAR ENERGY PRIVATE LIMITED EQ",null,null,null,null,null,null,null,null,null,null,null,null,null,null,"INF205K01RU7","INVESCO MUTUAL FUND"]
[null,null,null,null,null,null,null,null,null,null,null,null,null,null,null,null,null,null,null,null,null,null,null,null,null,null,null,null,null,null,null,null,null,null,null,null,null,null,"VVSB0000011",null,null,null,null,null,null,null,null,null,null,null,null,null,null,null,null,null,null,null,null,null,null,null,null,null,null,null,null,null,null,null,null,null,null,null,null,null,null,null,null,null,null,null,null,null,null,"IN2620100015","STATE DEVELOPMENT LOAN 09104 NAG 25MY20 8.07 FV RS 100",null,null,null,null,null,null,null,null,null,null,null,null,null,null,"INF680P01059","SHRIRAM MUTUAL FUND"]
[null,null,null,null,null,null,null,null,null,null,null,null,null,null,null,null,null,null,null,null,null,null,null,null,null,null,null,null,null,null,null,null,null,null,null,null,null,null,"VIJB0008331",null,null,null,null,null,null,null,null,null,null,null,null,null,null,null,null,null,null,null,null,null,null,null,null,null,null,null,null,null,null,null,null,null,null,null,null,null,null,null,null,null,null,null,null,null,null,"INE357V18016","ACRE-22-TRUST SECURITY REDEIPT 30JU16",null,null,null,null,null,null,null,null,null,null,null,null,null,null,"INF903J01OQ4","SUNDARAM MUTUAL FUND"]
[null,null,null,null,null,null,null,null,null,null,null,null,null,null,null,null,null,null,null,null,null,null,null,null,null,null,null,null,null,null,null,null,null,null,null,null,null,null,"VIJB0007219",null,null,null,null,null,null,null,null,null,null,null,null,null,null,null,null,null,null,null,null,null,null,null,null,null,null,null,null,null,null,null,null,null,null,null,null,null,null,null,null,null,null,null,null,null,null,"INE922T01017","DYNAMIX VACATION RESORTS PRIVATE LIMITED EQ",null,null,null,null,null,null,null,null,null,null,null,null,null,null,"INE0H5501011","JAINA PROPERTIES AND FINANCE LIMITED"]
[null,null,null,null,null,null,null,null,null,null,null,null,null,null,null,null,null,null,null,null,null,null,null,null,null,null,null,null,null,null,null,null,null,null,null,null,null,null,"VIJB0004148",null,null,null,null,null,null,null,null,null,null,null,null,null,null,null,null,null,null,null,null,null,null,null,null,null,null,null,null,null,null,null,null,null,null,null,null,null,null,null,null,null,null,null,null,null,null,"INE736T18015","EARC TRUST - SC 158 SERIES I SECURITY RECEIPTS 24SP15",null,null,null,null,null,null,null,null,null,null,null,null,null,null,"IN1020140035","STATE DEVELOPMENT LOAN"]
[null,null,null,null,null,null,null,null,null,null,null,null,null,null,null,null,null,null,null,null,null,null,null,null,null,null,null,null,null,null,null,null,null,null,null,null,null,null,"VIJB0002121",null,null,null,null,null,null,null,null,null,null,null,null,null,null,null,null,null,null,null,null,null,null,null,null,null,null,null,null,null,null,null,null,null,null,null,null,null,null,null,null,null,null,null,null,null,null,"INE737C01023","VIVID GLOBAL INDUSTRIES LIMITED EQ NEW FV RS. 5/-",null,null,null,null,null,null,null,null,null,null,null,null,null,null,"INE0GH804011","VENKATESHKRUPA SUGAR MILLS LIMITED"]
[null,null,null,null,null,null,null,null,null,null,null,null,null,null,null,null,null,null,null,null,null,null,null,null,null,null,null,null,null,null,null,null,null,null,null,null,null,null,"VIJB0001386",null,null,null,null,null,null,null,null,null,null,null,null,null,null,null,null,null,null,null,null,null,null,null,null,null,null,null,null,null,null,null,null,null,null,null,null,null,null,null,null,null,null,null,null,null,null,"INE862T01015","AADI BEST CONSORTIUM PRIVATE LIMITED EQ",null,null,null,null,null,null,null,null,null,null,null,null,null,null,"INE0IRU01015","ER CERAMICS PRIVATE LIMITED"]
[null,null,null,null,null,null,null,null,null,null,null,null,null,null,null,null,null,null,null,null,null,null,null,null,null,null,null,null,null,null,null,null,null,null,null,null,null,null,"VIJB0001113",null,null,null,null,null,null,null,null,null,null,null,null,null,null,null,null,null,null,null,null,null,null,null,null,null,null,null,null,null,null,null,null,null,null,null,null,null,null,null,null,null,null,null,null,null,null,"INF903J013X3","SUNDARAM MUTUAL FUND FTP HB REGULAR GROWTH 17DC18",null,null,null,null,null,null,null,null,null,null,null,null,null,null,"INE0FGN01019","PAVNA MARKETING PRIVATE LIMITED"]
[null,null,null,null,null,null,null,null,null,null,null,null,null,null,null,null,null,null,null,null,null,null,null,null,null,null,null,null,null,null,null,null,null,null,null,null,null,null,"YESB0VMCB01",null,null,null,null,null,null,null,null,null,null,null,null,null,null,null,null,null,null,null,null,null,null,null,null,null,null,null,null,null,null,null,null,null,null,null,null,null,null,null,null,null,null,null,null,null,null,"INE320U01012","SHIPRA ESTATE LIMITED EQ",null,null,null,null,null,null,null,null,null,null,null,null,null,null,"INF173K01NB6","SUNDARAM MUTUAL FUND"]
[null,null,null,null,null,null,null,null,null,null,null,null,null,null,null,null,null,null,null,null,null,null,null,null,null,null,null,null,null,null,null,null,null,null,null,null,null,null,"YESB0PUCB19",null,null,null,null,null,null,null,null,null,null,null,null,null,null,null,null,null,null,null,null,null,null,null,null,null,null,null,null,null,null,null,null,null,null,null,null,null,null,null,null,null,null,null,null,null,null,"INE912E14GN3","SBI GLOBAL FACTORS LIMITED 76D CP 31AUG16",null,null,null,null,null,null,null,null,null,null,null,null,null,null,"IN8029L01017","KALYANI INVESTMENT COMPANY LIMITED"]
[null,null,null,null,null,null,null,null,null,null,null,null,null,null,null,null,null,null,null,null,null,null,null,null,null,null,null,null,null,null,null,null,null,null,null,null,null,null,"YESB0KSB003",null,null,null,null,null,null,null,null,null,null,null,null,null,null,null,null,null,null,null,null,null,null,null,null,null,null,null,null,null,null,null,null,null,null,null,null,null,null,null,null,null,null,null,null,null,null,"INE261F07032","NATIONAL BANK FOR AGRICULTURE AND RURAL DEVELOPMENT SR-IIB 7.64 BD23MR31FVRS1000LOAUPTO22MR16",null,null,null,null,null,null,null,null,null,null,null,null,null,null,"IN8578E01018","APL METALS LIMITED"]
[null,null,null,null,null,null,null,null,null,null,null,null,null,null,null,null,null,null,null,null,null,null,null,null,null,null,null,null,null,null,null,null,null,null,null,null,null,null,"YESB0GMUB04",null,null,null,null,null,null,null,null,null,null,null,null,null,null,null,null,null,null,null,null,null,null,null,null,null,null,null,null,null,null,null,null,null,null,null,null,null,null,null,null,null,null,null,null,null,null,"INE939U18013","JMFARC - EXIM IRIS MARCH 2016-TRUST SERIES I SECURITY RECEIPTS 31MR16",null,null,null,null,null,null,null,null,null,null,null,null,null,null,"INE013A074P0","RELIANCE CAPITAL LIMITED"]
[null,null,null,null,null,null,null,null,null,null,null,null,null,null,null,null,null,null,null,null,null,null,null,null,null,null,null,null,null,null,null,null,null,null,null,null,null,null,"YESB0DCBU02",null,null,null,null,null,null,null,null,null,null,null,null,null,null,null,null,null,null,null,null,null,null,null,null,null,null,null,null,null,null,null,null,null,null,null,null,null,null,null,null,null,null,null,null,null,null,"INE931S07066","ADANI TRANSMISSION LIMITED TRANCHE II 9.35 NCD 12MY20 FVRS10LAC",null,null,null,null,null,null,null,null,null,null,null,null,null,null,"INE02NQ01014","AOSL ENERGY SERVICES LIMITED"]
[null,null,null,null,null,null,null,null,null,null,null,null,null,null,null,null,null,null,null,null,null,null,null,null,null,null,null,null,null,null,null,null,null,null,null,null,null,null,"YESB0001024",null,null,null,null,null,null,null,null,null,null,null,null,null,null,null,null,null,null,null,null,null,null,null,null,null,null,null,null,null,null,null,null,null,null,null,null,null,null,null,null,null,null,null,null,null,null,"INE893U01018","WALTON STREET INDIA FINANCE PRIVATE LIMITED  EQ",null,null,null,null,null,null,null,null,null,null,null,null,null,null,"INE077S03018","GREEN INFRA WIND LTD"]
[null,null,null,null,null,null,null,null,null,null,null,null,null,null,null,null,null,null,null,null,null,null,null,null,null,null,null,null,null,null,null,null,null,null,null,null,null,null,"YESB0000617",null,null,null,null,null,null,null,null,null,null,null,null,null,null,null,null,null,null,null,null,null,null,null,null,null,null,null,null,null,null,null,null,null,null,null,null,null,null,null,null,null,null,null,null,null,null,"IN2120140081","STATE DEVELOPMENT LOAN 17328 MP 24DC24 8.24 FV RS 100",null,null,null,null,null,null,null,null,null,null,null,null,null,null,"INE09TF01019","UNIK BAZAR LIMITED"]
[null,null,null,null,null,null,null,null,null,null,null,null,null,null,null,null,null,null,null,null,null,null,null,null,null,null,null,null,null,null,null,null,null,null,null,null,null,null,"YESB0000347",null,null,null,null,null,null,null,null,null,null,null,null,null,null,null,null,null,null,null,null,null,null,null,null,null,null,null,null,null,null,null,null,null,null,null,null,null,null,null,null,null,null,null,null,null,null,"INE438V01010","KEYA FOODS INTERNATIONAL PRIVATE LIMITED EQ",null,null,null,null,null,null,null,null,null,null,null,null,null,null,"INE0CAT01016","ARYAN PRECISIONS PRIVATE LIMITED"]
[null,null,null,null,null,null,null,null,null,null,null,null,null,null,null,null,null,null,null,null,null,null,null,null,null,null,null,null,null,null,null,null,null,null,null,null,null,null,"YESB0000036",null,null,null,null,null,null,null,null,null,null,null,null,null,null,null,null,null,null,null,null,null,null,null,null,null,null,null,null,null,null,null,null,null,null,null,null,null,null,null,null,null,null,null,null,null,null,"INE483V01016","KSK WIND ENERGY MOTHALLI HAVERI PRIVATE LIMITED EQ",null,null,null,null,null,null,null,null,null,null,null,null,null,null,"INE137N01015","PRANSHU AGRI PROPERTIES PRIVATE LIMITED"]
[null,null,null,null,null,null,null,null,null,null,null,null,null,null,null,null,null,null,null,null,null,null,null,null,null,null,null,null,null,null,null,null,null,null,null,null,null,null,null,null,null,null,null,null,null,null,null,null,null,null,null,null,null,null,null,null,null,null,null,null,null,null,null,null,null,null,null,null,null,null,null,null,null,null,null,null,null,null,null,null,null,null,null,null,null,"INF179KB1M48","HDFC MUTUAL FUND FMP 371D FEB 14(2)SR 29 DIR QTRDIVPY 25MY20",null,null,null,null,null,null,null,null,null,null,null,null,null,null,"INE291N01010","BHOSALE DAIRY LIMITED"]
[null,null,null,null,null,null,null,null,null,null,null,null,null,null,null,null,null,null,null,null,null,null,null,null,null,null,null,null,null,null,null,null,null,null,null,null,null,null,null,null,null,null,null,null,null,null,null,null,null,null,null,null,null,null,null,null,null,null,null,null,null,null,null,null,null,null,null,null,null,null,null,null,null,null,null,null,null,null,null,null,null,null,null,null,null,"INE159D04360","SISTEMA SMART TECHNOLOGIES LIMITED 0.01% PREF 04JUN27",null,null,null,null,null,null,null,null,null,null,null,null,null,null,"INE359I01015","PALIWAL REAL ESTATE LIMITED"]
[null,null,null,null,null,null,null,null,null,null,null,null,null,null,null,null,null,null,null,null,null,null,null,null,null,null,null,null,null,null,null,null,null,null,null,null,null,null,null,null,null,null,null,null,null,null,null,null,null,null,null,null,null,null,null,null,null,null,null,null,null,null,null,null,null,null,null,null,null,null,null,null,null,null,null,null,null,null,null,null,null,null,null,null,null,"INF109KB16S7","ICICI PRUDENTIAL MUTUAL FUND VALUE FD SR 15 CUM 04FB21",null,null,null,null,null,null,null,null,null,null,null,null,null,null,"INE526S07288","HAZARIBAGH RANCHI EXPRESSWAY LIMITED"]
[null,null,null,null,null,null,null,null,null,null,null,null,null,null,null,null,null,null,null,null,null,null,null,null,null,null,null,null,null,null,null,null,null,null,null,null,null,null,null,null,null,null,null,null,null,null,null,null,null,null,null,null,null,null,null,null,null,null,null,null,null,null,null,null,null,null,null,null,null,null,null,null,null,null,null,null,null,null,null,null,null,null,null,null,null,"INE188U07069","RIVER VIEW PROPERTIES PRIVATE LIMITED SR-B 10 NCD 30SP21 PPRS5830000",null,null,null,null,null,null,null,null,null,null,null,null,null,null,"INE619Y03015","UNILOG CONTENT SOLUTIONS PRIVATE LIMITED"]
[null,null,null,null,null,null,null,null,null,null,null,null,null,null,null,null,null,null,null,null,null,null,null,null,null,null,null,null,null,null,null,null,null,null,null,null,null,null,null,null,null,null,null,null,null,null,null,null,null,null,null,null,null,null,null,null,null,null,null,null,null,null,null,null,null,null,null,null,null,null,null,null,null,null,null,null,null,null,null,null,null,null,null,null,null,"INE124X01012","HCY INDUSTRIAL PARKS PRIVATE LIMITED EQ",null,null,null,null,null,null,null,null,null,null,null,null,null,null,"INE804IA7014","ECL FINANCE LIMITED"]
[null,null,null,null,null,null,null,null,null,null,null,null,null,null,null,null,null,null,null,null,null,null,null,null,null,null,null,null,null,null,null,null,null,null,null,null,null,null,null,null,null,null,null,null,null,null,null,null,null,null,null,null,null,null,null,null,null,null,null,null,null,null,null,null,null,null,null,null,null,null,null,null,null,null,null,null,null,null,null,null,null,null,null,null,null,"INF397L01JF8","IDBI MUTUAL FUND HYBRID EQUITY FUND REG DIVI SWEEP OP",null,null,null,null,null,null,null,null,null,null,null,null,null,null,"INE823X18021","RAYTHEON ARC 003 TRUST"]
[null,null,null,null,null,null,null,null,null,null,null,null,null,null,null,null,null,null,null,null,null,null,null,null,null,null,null,null,null,null,null,null,null,null,null,null,null,null,null,null,null,null,null,null,null,null,null,null,null,null,null,null,null,null,null,null,null,null,null,null,null,null,null,null,null,null,null,null,null,null,null,null,null,null,null,null,null,null,null,null,null,null,null,null,null,"INF179KB1E63","HDFC MUTUAL FUND CHARITY FD CANCER CURE ARBTPL RG50%DVP 05MY20",null,null,null,null,null,null,null,null,null,null,null,null,null,null,"INF090I01UT3","FRANKLIN TEMPLETON ASSET MANAGEMENT (INDIA) PRIVATE LIMITED"]
[null,null,null,null,null,null,null,null,null,null,null,null,null,null,null,null,null,null,null,null,null,null,null,null,null,null,null,null,null,null,null,null,null,null,null,null,null,null,null,null,null,null,null,null,null,null,null,null,null,null,null,null,null,null,null,null,null,null,null,null,null,null,null,null,null,null,null,null,null,null,null,null,null,null,null,null,null,null,null,null,null,null,null,null,null,"INE500W01015","ALBANY MOLECULAR RESEARCH HYDERABAD RESEARCH CENTRE PRIVATE LIMITED EQ",null,null,null,null,null,null,null,null,null,null,null,null,null,null,"INF179KA1D41","HDFC MUTUAL FUND"]
[null,null,null,null,null,null,null,null,null,null,null,null,null,null,null,null,null,null,null,null,null,null,null,null,null,null,null,null,null,null,null,null,null,null,null,null,null,null,null,null,null,null,null,null,null,null,null,null,null,null,null,null,null,null,null,null,null,null,null,null,null,null,null,null,null,null,null,null,null,null,null,null,null,null,null,null,null,null,null,null,null,null,null,null,null,"INF204KB1EO8","NIPPON INDIA MUTUAL FUND FIXED HORIZON FD XXIV SR 18 DIVI PAY 02JL18",null,null,null,null,null,null,null,null,null,null,null,null,null,null,"INF336L01AH1","HSBC MUTUAL FUND"]
[null,null,null,null,null,null,null,null,null,null,null,null,null,null,null,null,null,null,null,null,null,null,null,null,null,null,null,null,null,null,null,null,null,null,null,null,null,null,null,null,null,null,null,null,null,null,null,null,null,null,null,null,null,null,null,null,null,null,null,null,null,null,null,null,null,null,null,null,null,null,null,null,null,null,null,null,null,null,null,null,null,null,null,null,null,"INE636T08026","SIPLA WIND ENERGY LIMITED CCD 09SP18 FVRS10",null,null,null,null,null,null,null,null,null,null,null,null,null,null,"INF740K01NA4","DSP MUTUAL FUND"]
[null,null,null,null,null,null,null,null,null,null,null,null,null,null,null,null,null,null,null,null,null,null,null,null,null,null,null,null,null,null,null,null,null,null,null,null,null,null,null,null,null,null,null,null,null,null,null,null,null,null,null,null,null,null,null,null,null,null,null,null,null,null,null,null,null,null,null,null,null,null,null,null,null,null,null,null,null,null,null,null,null,null,null,null,null,"INE162W18018","JMFARC-DENA SEZ SEPTEMBER 2016-TRUST SERIES I SECURITY RECEIPTS 29SP16",null,null,null,null,null,null,null,null,null,null,null,null,null,null,"INE093JA7TF2","ANAND RATHI GLOBAL FINANCE LIMITED"]
[null,null,null,null,null,null,null,null,null,null,null,null,null,null,null,null,null,null,null,null,null,null,null,null,null,null,null,null,null,null,null,null,null,null,null,null,null,null,null,null,null,null,null,null,null,null,null,null,null,null,null,null,null,null,null,null,null,null,null,null,null,null,null,null,null,null,null,null,null,null,null,null,null,null,null,null,null,null,null,null,null,null,null,null,null,"INE052X01015","DESTINATION INDUSTRIAL PARKS PRIVATE LIMITED EQ",null,null,null,null,null,null,null,null,null,null,null,null,null,null,"INE0G1E01012","MECORDS INDIA PRIVATE LIMITED"]
[null,null,null,null,null,null,null,null,null,null,null,null,null,null,null,null,null,null,null,null,null,null,null,null,null,null,null,null,null,null,null,null,null,null,null,null,null,null,null,null,null,null,null,null,null,null,null,null,null,null,null,null,null,null,null,null,null,null,null,null,null,null,null,null,null,null,null,null,null,null,null,null,null,null,null,null,null,null,null,null,null,null,null,null,null,"IN3120160160","STATE DEVELOPMENT LOAN 19031 TN 28DC26 7.26 FV RS 100",null,null,null,null,null,null,null,null,null,null,null,null,null,null,"INE242A14TL0","INDIAN OIL CORPORATION LIMITED"]
[null,null,null,null,null,null,null,null,null,null,null,null,null,null,null,null,null,null,null,null,null,null,null,null,null,null,null,null,null,null,null,null,null,null,null,null,null,null,null,null,null,null,null,null,null,null,null,null,null,null,null,null,null,null,null,null,null,null,null,null,null,null,null,null,null,null,null,null,null,null,null,null,null,null,null,null,null,null,null,null,null,null,null,null,null,"INF205K016L3","INVESCO MUTUAL FUND IND FMP SR 29 PL D REG SUB PL DIVI PAY 01MR20",null,null,null,null,null,null,null,null,null,null,null,null,null,null,"IN1020150158","STATE DEVELOPMENT LOAN"]
[null,null,null,null,null,null,null,null,null,null,null,null,null,null,null,null,null,null,null,null,null,null,null,null,null,null,null,null,null,null,null,null,null,null,null,null,null,null,null,null,null,null,null,null,null,null,null,null,null,null,null,null,null,null,null,null,null,null,null,null,null,null,null,null,null,null,null,null,null,null,null,null,null,null,null,null,null,null,null,null,null,null,null,null,null,"INE603W01017","AVYUKTA CONSTRUCTIONS PRIVATE LIMITED EQ",null,null,null,null,null,null,null,null,null,null,null,null,null,null,"INE475N08055","CONTINUUM GREEN ENERGY (INDIA) PRIVATE LIMITED"]
[null,null,null,null,null,null,null,null,null,null,null,null,null,null,null,null,null,null,null,null,null,null,null,null,null,null,null,null,null,null,null,null,null,null,null,null,null,null,null,null,null,null,null,null,null,null,null,null,null,null,null,null,null,null,null,null,null,null,null,null,null,null,null,null,null,null,null,null,null,null,null,null,null,null,null,null,null,null,null,null,null,null,null,null,null,"INE608A08017","PUNJAB AND SIND BANK SR-XIV 7.99 LOA 19OT26 FVRS10LAC",null,null,null,null,null,null,null,null,null,null,null,null,null,null,"INE04MY04044","SOYUZ TRADING COMPANY LIMITED"]
[null,null,null,null,null,null,null,null,null,null,null,null,null,null,null,null,null,null,null,null,null,null,null,null,null,null,null,null,null,null,null,null,null,null,null,null,null,null,null,null,null,null,null,null,null,null,null,null,null,null,null,null,null,null,null,null,null,null,null,null,null,null,null,null,null,null,null,null,null,null,null,null,null,null,null,null,null,null,null,null,null,null,null,null,null,"INE213W07012","FULLERTON INDIA HOME FINANCE COMPANY LIMITED SR-1 NCD 27MY20 FVRS10LAC",null,null,null,null,null,null,null,null,null,null,null,null,null,null,"INE574G20021","JOONKTOLLEE TEA & INDUSTRIES LTD."]
[null,null,null,null,null,null,null,null,null,null,null,null,null,null,null,null,null,null,null,null,null,null,null,null,null,null,null,null,null,null,null,null,null,null,null,null,null,null,null,null,null,null,null,null,null,null,null,null,null,null,null,null,null,null,null,null,null,null,null,null,null,null,null,null,null,null,null,null,null,null,null,null,null,null,null,null,null,null,null,null,null,null,null,null,null,"INE459X18016","PRUDENT TRUST - 8/17 SERIES I SECURITY RECEIPT 31MR17",null,null,null,null,null,null,null,null,null,null,null,null,null,null,"IN803V001012","UNIVERSUS PHOTO IMAGINGS LIMITED"]
[null,null,null,null,null,null,null,null,null,null,null,null,null,null,null,null,null,null,null,null,null,null,null,null,null,null,null,null,null,null,null,null,null,null,null,null,null,null,null,null,null,null,null,null,null,null,null,null,null,null,null,null,null,null,null,null,null,null,null,null,null,null,null,null,null,null,null,null,null,null,null,null,null,null,null,null,null,null,null,null,null,null,null,null,null,"INF846K01A11","AXIS MUTUAL FUND CORP DBT FD REG REG DIV REI OP",null,null,null,null,null,null,null,null,null,null,null,null,null,null,"IN8914E01031","ALANKIT LIMITED"]
[null,null,null,null,null,null,null,null,null,null,null,null,null,null,null,null,null,null,null,null,null,null,null,null,null,null,null,null,null,null,null,null,null,null,null,null,null,null,null,null,null,null,null,null,null,null,null,null,null,null,null,null,null,null,null,null,null,null,null,null,null,null,null,null,null,null,null,null,null,null,null,null,null,null,null,null,null,null,null,null,null,null,null,null,null,"INE746N07234","JHARKHAND ROAD PROJECTS IMPLEMENTATION CO.LTD SR-B TR1 STRPP21 9.5119 NCD 20JL22 FVRS1LAC",null,null,null,null,null,null,null,null,null,null,null,null,null,null,"INE015L07618","EDELWEISS ASSET RECONSTRUCTION CO. LTD"]
[null,null,null,null,null,null,null,null,null,null,null,null,null,null,null,null,null,null,null,null,null,null,null,null,null,null,null,null,null,null,null,null,null,null,null,null,null,null,null,null,null,null,null,null,null,null,null,null,null,null,null,null,null,null,null,null,null,null,null,null,null,null,null,null,null,null,null,null,null,null,null,null,null,null,null,null,null,null,null,null,null,null,null,null,null,"INE207P18049","ALCHEMIST - XVIII TRUST SLSL SECURITY RECEIPTS 29MR17",null,null,null,null,null,null,null,null,null,null,null,null,null,null,"INE020B07JS8","RURAL ELECTRIFICATION CORPORATION LIMITED"]
[null,null,null,null,null,null,null,null,null,null,null,null,null,null,null,null,null,null,null,null,null,null,null,null,null,null,null,null,null,null,null,null,null,null,null,null,null,null,null,null,null,null,null,null,null,null,null,null,null,null,null,null,null,null,null,null,null,null,null,null,null,null,null,null,null,null,null,null,null,null,null,null,null,null,null,null,null,null,null,null,null,null,null,null,null,"INE799R01013","E COMPLEX PRIVATE LIMITED EQ",null,null,null,null,null,null,null,null,null,null,null,null,null,null,"INE06JF03103","ZERO EFFORT TECHNOLOGIES PRIVATE LIMITED"]
[null,null,null,null,null,null,null,null,null,null,null,null,null,null,null,null,null,null,null,null,null,null,null,null,null,null,null,null,null,null,null,null,null,null,null,null,null,null,null,null,null,null,null,null,null,null,null,null,null,null,null,null,null,null,null,null,null,null,null,null,null,null,null,null,null,null,null,null,null,null,null,null,null,null,null,null,null,null,null,null,null,null,null,null,null,"INF109KC1CU4","ICICI PRUDENTIAL MUTUAL FUND FMP SR 82-1141D PL Y DR  QTRLYDVP 10JU21",null,null,null,null,null,null,null,null,null,null,null,null,null,null,"INE093JA7NT6","ANAND RATHI GLOBAL FINANCE LIMITED"]
[null,null,null,null,null,null,null,null,null,null,null,null,null,null,null,null,null,null,null,null,null,null,null,null,null,null,null,null,null,null,null,null,null,null,null,null,null,null,null,null,null,null,null,null,null,null,null,null,null,null,null,null,null,null,null,null,null,null,null,null,null,null,null,null,null,null,null,null,null,null,null,null,null,null,null,null,null,null,null,null,null,null,null,null,null,"INE881J07EX7","SREI EQUIPMENT FINANCE LTD SR-I 9 LOA 18JN28 FVRS10LAC",null,null,null,null,null,null,null,null,null,null,null,null,null,null,"INE0B2201014","OM FOURWAYS CARGO LIMITED"]
[null,null,null,null,null,null,null,null,null,null,null,null,null,null,null,null,null,null,null,null,null,null,null,null,null,null,null,null,null,null,null,null,null,null,null,null,null,null,null,null,null,null,null,null,null,null,null,null,null,null,null,null,null,null,null,null,null,null,null,null,null,null,null,null,null,null,null,null,null,null,null,null,null,null,null,null,null,null,null,null,null,null,null,null,null,"INE00EX01013","JUGGERNAUT BOOKS PRIVATE LIMITED EQ",null,null,null,null,null,null,null,null,null,null,null,null,null,null,"INE0DL001011","CONTISTEEL LIMITED"]
[null,null,null,null,null,null,null,null,null,null,null,null,null,null,null,null,null,null,null,null,null,null,null,null,null,null,null,null,null,null,null,null,null,null,null,null,null,null,null,null,null,null,null,null,null,null,null,null,null,null,null,null,null,null,null,null,null,null,null,null,null,null,null,null,null,null,null,null,null,null,null,null,null,null,null,null,null,null,null,null,null,null,null,null,null,"INE683A08036","THE SOUTH INDIAN BANK LTD. 9.5 BD 28MY28 FVRS1LAC LOAUPTO14FB18",null,null,null,null,null,null,null,null,null,null,null,null,null,null,"INE235G01011","USHER AGRO LTD"]
[null,null,null,null,null,null,null,null,null,null,null,null,null,null,null,null,null,null,null,null,null,null,null,null,null,null,null,null,null,null,null,null,null,null,null,null,null,null,null,null,null,null,null,null,null,null,null,null,null,null,null,null,null,null,null,null,null,null,null,null,null,null,null,null,null,null,null,null,null,null,null,null,null,null,null,null,null,null,null,null,null,null,null,null,null,"INE107L07027","HYDERABAD - YADGIRI TOLLWAY PRIVATE LIMITED TR-2 8.75 NCD 15MR31 FVRS1LAC",null,null,null,null,null,null,null,null,null,null,null,null,null,null,"INE300D01010","ROCK HARD PETROCHEMICAL INDUSTRIES LIMITED"]
[null,null,null,null,null,null,null,null,null,null,null,null,null,null,null,null,null,null,null,null,null,null,null,null,null,null,null,null,null,null,null,null,null,null,null,null,null,null,null,null,null,null,null,null,null,null,null,null,null,null,null,null,null,null,null,null,null,null,null,null,null,null,null,null,null,null,null,null,null,null,null,null,null,null,null,null,null,null,null,null,null,null,null,null,null,"INE302S08019","THAR COMMERCIAL FINANCE PRIVATE LIMITED 12 LOA 31MR27 FVRS10000",null,null,null,null,null,null,null,null,null,null,null,null,null,null,"INE523E08NH8","L&T FINANCE LIMITED"]
[null,null,null,null,null,null,null,null,null,null,null,null,null,null,null,null,null,null,null,null,null,null,null,null,null,null,null,null,null,null,null,null,null,null,null,null,null,null,null,null,null,null,null,null,null,null,null,null,null,null,null,null,null,null,null,null,null,null,null,null,null,null,null,null,null,null,null,null,null,null,null,null,null,null,null,null,null,null,null,null,null,null,null,null,null,"INE696M03018","JAYPEE UTTAR BHARAT VIKAS PRIVATE LIMITED 11% PREF 30JL22",null,null,null,null,null,null,null,null,null,null,null,null,null,null,"INE560S01017","LA RENON HEALTHCARE PRIVATE LIMITED"]
[null,null,null,null,null,null,null,null,null,null,null,null,null,null,null,null,null,null,null,null,null,null,null,null,null,null,null,null,null,null,null,null,null,null,null,null,null,null,null,null,null,null,null,null,null,null,null,null,null,null,null,null,null,null,null,null,null,null,null,null,null,null,null,null,null,null,null,null,null,null,null,null,null,null,null,null,null,null,null,null,null,null,null,null,null,"INE308N01012","SOUTHERN MAGNESIUM AND CHEMICALS LIMITED EQ",null,null,null,null,null,null,null,null,null,null,null,null,null,null,"INE774D07TT3","MAHINDRA & MAHINDRA FINANCIAL SERVICES LTD"]
[null,null,null,null,null,null,null,null,null,null,null,null,null,null,null,null,null,null,null,null,null,null,null,null,null,null,null,null,null,null,null,null,null,null,null,null,null,null,null,null,null,null,null,null,null,null,null,null,null,null,null,null,null,null,null,null,null,null,null,null,null,null,null,null,null,null,null,null,null,null,null,null,null,null,null,null,null,null,null,null,null,null,null,null,null,"IN0020170067","CENTRAL GOVERNMENT LOAN 19867 SGB 23OT17 S IV 2.50 FV RS 2987",null,null,null,null,null,null,null,null,null,null,null,null,null,null,"INE783Q01019","MRUNMAI PROPERTIES LIMITED"]
[null,null,null,null,null,null,null,null,null,null,null,null,null,null,null,null,null,null,null,null,null,null,null,null,null,null,null,null,null,null,null,null,null,null,null,null,null,null,null,null,null,null,null,null,null,null,null,null,null,null,null,null,null,null,null,null,null,null,null,null,null,null,null,null,null,null,null,null,null,null,null,null,null,null,null,null,null,null,null,null,null,null,null,null,null,"INE838Y01015","MANSAROVAR OUTDOORS PRIVATE LIMITED EQ",null,null,null,null,null,null,null,null,null,null,null,null,null,null,"INE979P01015","MICRO PRECISION PRODUCTS PRIVATE LIMITED"]
[null,null,null,null,null,null,null,null,null,null,null,null,null,null,null,null,null,null,null,null,null,null,null,null,null,null,null,null,null,null,null,null,null,null,null,null,null,null,null,null,null,null,null,null,null,null,null,null,null,null,null,null,null,null,null,null,null,null,null,null,null,null,null,null,null,null,null,null,null,null,null,null,null,null,null,null,null,null,null,null,null,null,null,null,null,"INE917M07035","DILIP BUILDCON LIMITED SR-III 8.9 NCD 28JU20 FVRS10LAC",null,null,null,null,null,null,null,null,null,null,null,null,null,null,"INF109KC1NB1","ICICI PRUDENTIAL MUTUAL FUND"]
[null,null,null,null,null,null,null,null,null,null,null,null,null,null,null,null,null,null,null,null,null,null,null,null,null,null,null,null,null,null,null,null,null,null,null,null,null,null,null,null,null,null,null,null,null,null,null,null,null,null,null,null,null,null,null,null,null,null,null,null,null,null,null,null,null,null,null,null,null,null,null,null,null,null,null,null,null,null,null,null,null,null,null,null,null,"INF204KB1TN8","NIPPON INDIA MUTUAL FUND DUAL ADV FXD TENR FD XII PLA GRWTH 11MY21",null,null,null,null,null,null,null,null,null,null,null,null,null,null,"INF204KB19P6","NIPPON INDIA MUTUAL FUND"]
[null,null,null,null,null,null,null,null,null,null,null,null,null,null,null,null,null,null,null,null,null,null,null,null,null,null,null,null,null,null,null,null,null,null,null,null,null,null,null,null,null,null,null,null,null,null,null,null,null,null,null,null,null,null,null,null,null,null,null,null,null,null,null,null,null,null,null,null,null,null,null,null,null,null,null,null,null,null,null,null,null,null,null,null,null,"INF174V01010","MAHINDRA MUTUAL FUND LIQUID FUND REG GROWTH",null,null,null,null,null,null,null,null,null,null,null,null,null,null,"INF663L01YW7","PGIM INDIA MUTUAL FUND"]
[null,null,null,null,null,null,null,null,null,null,null,null,null,null,null,null,null,null,null,null,null,null,null,null,null,null,null,null,null,null,null,null,null,null,null,null,null,null,null,null,null,null,null,null,null,null,null,null,null,null,null,null,null,null,null,null,null,null,null,null,null,null,null,null,null,null,null,null,null,null,null,null,null,null,null,null,null,null,null,null,null,null,null,null,null,"INE437T07021","SANJAY CONSTRUCTION AND FINANCE PVT LTD 16 NCD 30DC21 FVRS1000",null,null,null,null,null,null,null,null,null,null,null,null,null,null,"INF767K01HG6","LIC MUTUAL FUND"]
[null,null,null,null,null,null,null,null,null,null,null,null,null,null,null,null,null,null,null,null,null,null,null,null,null,null,null,null,null,null,null,null,null,null,null,null,null,null,null,null,null,null,null,null,null,null,null,null,null,null,null,null,null,null,null,null,null,null,null,null,null,null,null,null,null,null,null,null,null,null,null,null,null,null,null,null,null,null,null,null,null,null,null,null,null,"INE743X01027","SIDDHESH CAPITAL MARKET SERVICES PRIVATE LIMITED EQ NEW FV RS.10/-",null,null,null,null,null,null,null,null,null,null,null,null,null,null,"INE883F07181","AADHAR HOUSING FINANCE LIMITED"]
[null,null,null,null,null,null,null,null,null,null,null,null,null,null,null,null,null,null,null,null,null,null,null,null,null,null,null,null,null,null,null,null,null,null,null,null,null,null,null,null,null,null,null,null,null,null,null,null,null,null,null,null,null,null,null,null,null,null,null,null,null,null,null,null,null,null,null,null,null,null,null,null,null,null,null,null,null,null,null,null,null,null,null,null,null,"INE923L07399","SP JAMMU UDHAMPUR HIGHWAY LIMITED SR-13 7.82 NCD 31DC21 FVRS10LAC",null,null,null,null,null,null,null,null,null,null,null,null,null,null,"INE0GFY01016","ORISSA SPINNING MILLS LTD"]
[null,null,null,null,null,null,null,null,null,null,null,null,null,null,null,null,null,null,null,null,null,null,null,null,null,null,null,null,null,null,null,null,null,null,null,null,null,null,null,null,null,null,null,null,null,null,null,null,null,null,null,null,null,null,null,null,null,null,null,null,null,null,null,null,null,null,null,null,null,null,null,null,null,null,null,null,null,null,null,null,null,null,null,null,null,"INF179KB1Z84","HDFC MUTUAL FUND FMP 92D MR 18 (1) SR 39 DIR GROWTH 13JU18",null,null,null,null,null,null,null,null,null,null,null,null,null,null,"IN1620180100","STATE DEVELOPMENT LOAN"]
[null,null,null,null,null,null,null,null,null,null,null,null,null,null,null,null,null,null,null,null,null,null,null,null,null,null,null,null,null,null,null,null,null,null,null,null,null,null,null,null,null,null,null,null,null,null,null,null,null,null,null,null,null,null,null,null,null,null,null,null,null,null,null,null,null,null,null,null,null,null,null,null,null,null,null,null,null,null,null,null,null,null,null,null,null,"INE796Z18016","OMKARA PS02 / 2017 - 18 TRUST SECURITY RECEIPTS 18SP17",null,null,null,null,null,null,null,null,null,null,null,null,null,null,"INE860H07HE8","ADITYA BIRLA FINANCE LIMITED"]
[null,null,null,null,null,null,null,null,null,null,null,null,null,null,null,null,null,null,null,null,null,null,null,null,null,null,null,null,null,null,null,null,null,null,null,null,null,null,null,null,null,null,null,null,null,null,null,null,null,null,null,null,null,null,null,null,null,null,null,null,null,null,null,null,null,null,null,null,null,null,null,null,null,null,null,null,null,null,null,null,null,null,null,null,null,"INE134E08JH2","POWER FINANCE CORPORATION LTD. SR-171 7.62 BD 15DC27 FVRS10LAC",null,null,null,null,null,null,null,null,null,null,null,null,null,null,"INE01ED07036","DIGIKREDIT FINANCE PRIVATE LIMITED"]
[null,null,null,null,null,null,null,null,null,null,null,null,null,null,null,null,null,null,null,null,null,null,null,null,null,null,null,null,null,null,null,null,null,null,null,null,null,null,null,null,null,null,null,null,null,null,null,null,null,null,null,null,null,null,null,null,null,null,null,null,null,null,null,null,null,null,null,null,null,null,null,null,null,null,null,null,null,null,null,null,null,null,null,null,null,"INF789FC1JS7","UTI MUTUAL FUND FTI SR XXVI-V(1160D)REG MTRYDIVPAY 12MY20",null,null,null,null,null,null,null,null,null,null,null,null,null,null,"INE06BN01017","MULTIPLIER BRAND SOLUTIONS PRIVATE LIMITED"]
[null,null,null,null,null,null,null,null,null,null,null,null,null,null,null,null,null,null,null,null,null,null,null,null,null,null,null,null,null,null,null,null,null,null,null,null,null,null,null,null,null,null,null,null,null,null,null,null,null,null,null,null,null,null,null,null,null,null,null,null,null,null,null,null,null,null,null,null,null,null,null,null,null,null,null,null,null,null,null,null,null,null,null,null,null,"INE03AL01010","NRL CLAYBURN LIMITED EQ",null,null,null,null,null,null,null,null,null,null,null,null,null,null,"IN8215F01014","THE WESTERN INDIA PLYWOODS LTD."]
[null,null,null,null,null,null,null,null,null,null,null,null,null,null,null,null,null,null,null,null,null,null,null,null,null,null,null,null,null,null,null,null,null,null,null,null,null,null,null,null,null,null,null,null,null,null,null,null,null,null,null,null,null,null,null,null,null,null,null,null,null,null,null,null,null,null,null,null,null,null,null,null,null,null,null,null,null,null,null,null,null,null,null,null,null,"INE04PL01016","ORIENT CRAFT BRANDS LIMITED EQ",null,null,null,null,null,null,null,null,null,null,null,null,null,null,"IN8431E01010","SANGAM HEALTH CARE PRODUCTS LIMITED"]
[null,null,null,null,null,null,null,null,null,null,null,null,null,null,null,null,null,null,null,null,null,null,null,null,null,null,null,null,null,null,null,null,null,null,null,null,null,null,null,null,null,null,null,null,null,null,null,null,null,null,null,null,null,null,null,null,null,null,null,null,null,null,null,null,null,null,null,null,null,null,null,null,null,null,null,null,null,null,null,null,null,null,null,null,null,"INF204KB1P41","NIPPON INDIA MUTUAL FUND INTERVAL FUND V SR 2 RG GWTH",null,null,null,null,null,null,null,null,null,null,null,null,null,null,"INE00CQ01011","D.P.K. ENGINEERS PRIVATE LIMITED"]
[null,null,null,null,null,null,null,null,null,null,null,null,null,null,null,null,null,null,null,null,null,null,null,null,null,null,null,null,null,null,null,null,null,null,null,null,null,null,null,null,null,null,null,null,null,null,null,null,null,null,null,null,null,null,null,null,null,null,null,null,null,null,null,null,null,null,null,null,null,null,null,null,null,null,null,null,null,null,null,null,null,null,null,null,null,"INE093J07J20","ANAND RATHI GLOBAL FINANCE LIMITED SR-II BR NCD 05MR22 FVRS1LAC",null,null,null,null,null,null,null,null,null,null,null,null,null,null,"INE028804016","IZRA SOLAR ENERGY PRIVATE LIMITED"]
[null,null,null,null,null,null,null,null,null,null,null,null,null,null,null,null,null,null,null,null,null,null,null,null,null,null,null,null,null,null,null,null,null,null,null,null,null,null,null,null,null,null,null,null,null,null,null,null,null,null,null,null,null,null,null,null,null,null,null,null,null,null,null,null,null,null,null,null,null,null,null,null,null,null,null,null,null,null,null,null,null,null,null,null,null,"INF754K01JO4","EDELWEISS MUTUAL FUND SMLL CP FD DIR DVP OP",null,null,null,null,null,null,null,null,null,null,null,null,null,null,"INE04JQ08013","AURINKO ENERGY PRIVATE LIMITED"]
[null,null,null,null,null,null,null,null,null,null,null,null,null,null,null,null,null,null,null,null,null,null,null,null,null,null,null,null,null,null,null,null,null,null,null,null,null,null,null,null,null,null,null,null,null,null,null,null,null,null,null,null,null,null,null,null,null,null,null,null,null,null,null,null,null,null,null,null,null,null,null,null,null,null,null,null,null,null,null,null,null,null,null,null,null,"INE03KE01014","TITANIUM REALTY PROJECTS PRIVATE LIMITED EQ",null,null,null,null,null,null,null,null,null,null,null,null,null,null,"INE07FU01011","MIRAJ DEVELOPERS LIMITED"]
[null,null,null,null,null,null,null,null,null,null,null,null,null,null,null,null,null,null,null,null,null,null,null,null,null,null,null,null,null,null,null,null,null,null,null,null,null,null,null,null,null,null,null,null,null,null,null,null,null,null,null,null,null,null,null,null,null,null,null,null,null,null,null,null,null,null,null,null,null,null,null,null,null,null,null,null,null,null,null,null,null,null,null,null,null,"INE127V08071","PARAMPUJYA SOLAR ENERGY PRIVATE LIMITED SERIES VII 10.5 LOA 30OT37 FVRS100",null,null,null,null,null,null,null,null,null,null,null,null,null,null,"INE0BVL01011","WYCH ELM LABORATORIES LIMITED"]
[null,null,null,null,null,null,null,null,null,null,null,null,null,null,null,null,null,null,null,null,null,null,null,null,null,null,null,null,null,null,null,null,null,null,null,null,null,null,null,null,null,null,null,null,null,null,null,null,null,null,null,null,null,null,null,null,null,null,null,null,null,null,null,null,null,null,null,null,null,null,null,null,null,null,null,null,null,null,null,null,null,null,null,null,null,"INE774D07SN8","MAHINDRA & MAHINDRA FINANCIAL SERVICES LTD AR2018 BR NCD 24MR20 FVRS10LAC LOAUPTO04DC18",null,null,null,null,null,null,null,null,null,null,null,null,null,null,"INE158F01017","EL FORGE LIMITED"]
[null,null,null,null,null,null,null,null,null,null,null,null,null,null,null,null,null,null,null,null,null,null,null,null,null,null,null,null,null,null,null,null,null,null,null,null,null,null,null,null,null,null,null,null,null,null,null,null,null,null,null,null,null,null,null,null,null,null,null,null,null,null,null,null,null,null,null,null,null,null,null,null,null,null,null,null,null,null,null,null,null,null,null,null,null,"INE01CU01011","INSTITUTE OF SILICON SYSTEMS PRIVATE LIMITED EQ",null,null,null,null,null,null,null,null,null,null,null,null,null,null,"INE278R07031","KARDA CONSTRUCTIONS LIMITED"]
[null,null,null,null,null,null,null,null,null,null,null,null,null,null,null,null,null,null,null,null,null,null,null,null,null,null,null,null,null,null,null,null,null,null,null,null,null,null,null,null,null,null,null,null,null,null,null,null,null,null,null,null,null,null,null,null,null,null,null,null,null,null,null,null,null,null,null,null,null,null,null,null,null,null,null,null,null,null,null,null,null,null,null,null,null,"INE01F718014","JMFARC - METALLICS JULY  2018 - TRUST SERIES I SECURITY RECEIPTS 11JL18",null,null,null,null,null,null,null,null,null,null,null,null,null,null,"INE314Z01014","RIDINGS CONSULTING ENGINEERS INDIA LIMITED"]
[null,null,null,null,null,null,null,null,null,null,null,null,null,null,null,null,null,null,null,null,null,null,null,null,null,null,null,null,null,null,null,null,null,null,null,null,null,null,null,null,null,null,null,null,null,null,null,null,null,null,null,null,null,null,null,null,null,null,null,null,null,null,null,null,null,null,null,null,null,null,null,null,null,null,null,null,null,null,null,null,null,null,null,null,null,"INE01C901019","KARNATAKA RURAL INFRASTRUCTURE DEVELOPMENT LIMITED EQ",null,null,null,null,null,null,null,null,null,null,null,null,null,null,"INE474H01014","R.R. SECURITIES LIMITED"]
[null,null,null,null,null,null,null,null,null,null,null,null,null,null,null,null,null,null,null,null,null,null,null,null,null,null,null,null,null,null,null,null,null,null,null,null,null,null,null,null,null,null,null,null,null,null,null,null,null,null,null,null,null,null,null,null,null,null,null,null,null,null,null,null,null,null,null,null,null,null,null,null,null,null,null,null,null,null,null,null,null,null,null,null,null,"INE00MX08011","SVATANTRA MICROFIN PRIVATE LIMITED 11.7 NCD 30NV23 FVRS10LAC",null,null,null,null,null,null,null,null,null,null,null,null,null,null,"INE601U08093","TATA MOTORS FINANCE LIMITED"]
[null,null,null,null,null,null,null,null,null,null,null,null,null,null,null,null,null,null,null,null,null,null,null,null,null,null,null,null,null,null,null,null,null,null,null,null,null,null,null,null,null,null,null,null,null,null,null,null,null,null,null,null,null,null,null,null,null,null,null,null,null,null,null,null,null,null,null,null,null,null,null,null,null,null,null,null,null,null,null,null,null,null,null,null,null,"INE00HR01018","AVA LIFESTYLE PRODUCTS & SERVICES PRIVATE LIMITED EQ",null,null,null,null,null,null,null,null,null,null,null,null,null,null,"INE719Y01017","REDDY PROJECTS AND DEVELOPERS PRIVATE LIMITED"]
[null,null,null,null,null,null,null,null,null,null,null,null,null,null,null,null,null,null,null,null,null,null,null,null,null,null,null,null,null,null,null,null,null,null,null,null,null,null,null,null,null,null,null,null,null,null,null,null,null,null,null,null,null,null,null,null,null,null,null,null,null,null,null,null,null,null,null,null,null,null,null,null,null,null,null,null,null,null,null,null,null,null,null,null,null,"INF109KC1FQ5","ICICI PRUDENTIAL MUTUAL FUND FMP SR 83 1108D PL H DR QTLY DVP 23JU21",null,null,null,null,null,null,null,null,null,null,null,null,null,null,"INE863N01016","DLF CITY CENTRE LIMITED"]
[null,null,null,null,null,null,null,null,null,null,null,null,null,null,null,null,null,null,null,null,null,null,null,null,null,null,null,null,null,null,null,null,null,null,null,null,null,null,null,null,null,null,null,null,null,null,null,null,null,null,null,null,null,null,null,null,null,null,null,null,null,null,null,null,null,null,null,null,null,null,null,null,null,null,null,null,null,null,null,null,null,null,null,null,null,"INE00QD18013","CFMARC TRUST - 1 GILL SECURITY RECEIPT 31MR18",null,null,null,null,null,null,null,null,null,null,null,null,null,null,"INE900J01014","ARYAMAN CONSTRUCTION PVT LTD"]
[null,null,null,null,null,null,null,null,null,null,null,null,null,null,null,null,null,null,null,null,null,null,null,null,null,null,null,null,null,null,null,null,null,null,null,null,null,null,null,null,null,null,null,null,null,null,null,null,null,null,null,null,null,null,null,null,null,null,null,null,null,null,null,null,null,null,null,null,null,null,null,null,null,null,null,null,null,null,null,null,null,null,null,null,null,"INE721A07NZ0","SHRIRAM TRANSPORT FINANCE COMPANY LIMITED TR-I SR-VII NCD 12JL23 FVRS1000",null,null,null,null,null,null,null,null,null,null,null,null,null,null,"INF194K01IS6","IDFC MUTUAL FUND"]
[null,null,null,null,null,null,null,null,null,null,null,null,null,null,null,null,null,null,null,null,null,null,null,null,null,null,null,null,null,null,null,null,null,null,null,null,null,null,null,null,null,null,null,null,null,null,null,null,null,null,null,null,null,null,null,null,null,null,null,null,null,null,null,null,null,null,null,null,null,null,null,null,null,null,null,null,null,null,null,null,null,null,null,null,null,"INF090I01PQ9","FRANKLIN TEMPLETON ASSET MANAGEMENT (INDIA) PRIVATE LIMITED IND FMP SR 4  PL C  DIR DIV PAY 31AG21",null,null,null,null,null,null,null,null,null,null,null,null,null,null,"INF194KA1V71","IDFC MUTUAL FUND"]
[null,null,null,null,null,null,null,null,null,null,null,null,null,null,null,null,null,null,null,null,null,null,null,null,null,null,null,null,null,null,null,null,null,null,null,null,null,null,null,null,null,null,null,null,null,null,null,null,null,null,null,null,null,null,null,null,null,null,null,null,null,null,null,null,null,null,null,null,null,null,null,null,null,null,null,null,null,null,null,null,null,null,null,null,null,"INE016P07138","VISTAAR FINANCIAL SERVICES PRIVATE LIMITED SR-II 10.5 NCD 23JL24 FVRS10LAC",null,null,null,null,null,null,null,null,null,null,null,null,null,null,"INF663L01XJ6","PGIM INDIA MUTUAL FUND"]
[null,null,null,null,null,null,null,null,null,null,null,null,null,null,null,null,null,null,null,null,null,null,null,null,null,null,null,null,null,null,null,null,null,null,null,null,null,null,null,null,null,null,null,null,null,null,null,null,null,null,null,null,null,null,null,null,null,null,null,null,null,null,null,null,null,null,null,null,null,null,null,null,null,null,null,null,null,null,null,null,null,null,null,null,null,"INE485H07025","RMZ INFOTECH PRIVATE LIMITED NCD 28JU19 FVRS10LAC",null,null,null,null,null,null,null,null,null,null,null,null,null,null,"INF903J01CD7","SUNDARAM MUTUAL FUND"]
[null,null,null,null,null,null,null,null,null,null,null,null,null,null,null,null,null,null,null,null,null,null,null,null,null,null,null,null,null,null,null,null,null,null,null,null,null,null,null,null,null,null,null,null,null,null,null,null,null,null,null,null,null,null,null,null,null,null,null,null,null,null,null,null,null,null,null,null,null,null,null,null,null,null,null,null,null,null,null,null,null,null,null,null,null,"INE093J07A86","ANAND RATHI GLOBAL FINANCE LIMITED SERIES I BR NCD 05DC21 FVRS1LAC",null,null,null,null,null,null,null,null,null,null,null,null,null,null,"INE0J3U01011","SINGHVI FINLEASE (INDIA) LIMITED"]
[null,null,null,null,null,null,null,null,null,null,null,null,null,null,null,null,null,null,null,null,null,null,null,null,null,null,null,null,null,null,null,null,null,null,null,null,null,null,null,null,null,null,null,null,null,null,null,null,null,null,null,null,null,null,null,null,null,null,null,null,null,null,null,null,null,null,null,null,null,null,null,null,null,null,null,null,null,null,null,null,null,null,null,null,null,"INE02WP01017","INDIAN STRATEGIC PETROLEUM RESERVES LIMITED EQ",null,null,null,null,null,null,null,null,null,null,null,null,null,null,"INE918K14595","EDELWEISS FINANCE & INVESTMENTS LTD"]
[null,null,null,null,null,null,null,null,null,null,null,null,null,null,null,null,null,null,null,null,null,null,null,null,null,null,null,null,null,null,null,null,null,null,null,null,null,null,null,null,null,null,null,null,null,null,null,null,null,null,null,null,null,null,null,null,null,null,null,null,null,null,null,null,null,null,null,null,null,null,null,null,null,null,null,null,null,null,null,null,null,null,null,null,null,"INF204KB1W18","NIPPON INDIA MUTUAL FUND FXD HRZ FD XXXX SR 16RG GWTH 15JU22",null,null,null,null,null,null,null,null,null,null,null,null,null,null,"IN1220190111","STATE DEVELOPMENT LOAN"]
[null,null,null,null,null,null,null,null,null,null,null,null,null,null,null,null,null,null,null,null,null,null,null,null,null,null,null,null,null,null,null,null,null,null,null,null,null,null,null,null,null,null,null,null,null,null,null,null,null,null,null,null,null,null,null,null,null,null,null,null,null,null,null,null,null,null,null,null,null,null,null,null,null,null,null,null,null,null,null,null,null,null,null,null,null,"INF179KB16U6","HDFC MUTUAL FUND FMP 1265D OCT18(1)SR 43 RG QTLYDVP 18AP22",null,null,null,null,null,null,null,null,null,null,null,null,null,null,"INF200KA15C2","SBI MUTUAL FUND"]
[null,null,null,null,null,null,null,null,null,null,null,null,null,null,null,null,null,null,null,null,null,null,null,null,null,null,null,null,null,null,null,null,null,null,null,null,null,null,null,null,null,null,null,null,null,null,null,null,null,null,null,null,null,null,null,null,null,null,null,null,null,null,null,null,null,null,null,null,null,null,null,null,null,null,null,null,null,null,null,null,null,null,null,null,null,"INE00VN03014","PERIDOT POWER VENTURES LIMITED PREF 30MR33",null,null,null,null,null,null,null,null,null,null,null,null,null,null,"INE0JA901019","RAWMET RESOURCES PRIVATE LIMITED"]
[null,null,null,null,null,null,null,null,null,null,null,null,null,null,null,null,null,null,null,null,null,null,null,null,null,null,null,null,null,null,null,null,null,null,null,null,null,null,null,null,null,null,null,null,null,null,null,null,null,null,null,null,null,null,null,null,null,null,null,null,null,null,null,null,null,null,null,null,null,null,null,null,null,null,null,null,null,null,null,null,null,null,null,null,null,"INE04V201018","JYOTI PORTFOLIO PRIVATE LIMITED EQ",null,null,null,null,null,null,null,null,null,null,null,null,null,null,"INE0H4301017","LIVQUIK TECHNOLOGY (INDIA) PRIVATE LIMITED"]
[null,null,null,null,null,null,null,null,null,null,null,null,null,null,null,null,null,null,null,null,null,null,null,null,null,null,null,null,null,null,null,null,null,null,null,null,null,null,null,null,null,null,null,null,null,null,null,null,null,null,null,null,null,null,null,null,null,null,null,null,null,null,null,null,null,null,null,null,null,null,null,null,null,null,null,null,null,null,null,null,null,null,null,null,null,"INE025901013","PEOPLE INTERACTIVE (INDIA) PRIVATE LIMITED EQ",null,null,null,null,null,null,null,null,null,null,null,null,null,null,"IN906E503113","HELLA INFRA MARKET PRIVATE  LIMITED"]
[null,null,null,null,null,null,null,null,null,null,null,null,null,null,null,null,null,null,null,null,null,null,null,null,null,null,null,null,null,null,null,null,null,null,null,null,null,null,null,null,null,null,null,null,null,null,null,null,null,null,null,null,null,null,null,null,null,null,null,null,null,null,null,null,null,null,null,null,null,null,null,null,null,null,null,null,null,null,null,null,null,null,null,null,null,null,null,null,null,null,null,null,null,null,null,null,null,null,null,null,null,"IN8550U01013","VITESSE AGRO LIMITED"]
[null,null,null,null,null,null,null,null,null,null,null,null,null,null,null,null,null,null,null,null,null,null,null,null,null,null,null,null,null,null,null,null,null,null,null,null,null,null,null,null,null,null,null,null,null,null,null,null,null,null,null,null,null,null,null,null,null,null,null,null,null,null,null,null,null,null,null,null,null,null,null,null,null,null,null,null,null,null,null,null,null,null,null,null,null,null,null,null,null,null,null,null,null,null,null,null,null,null,null,null,null,"INE00SP18013","ARCIL-AST-0034-II TRUST"]
[null,null,null,null,null,null,null,null,null,null,null,null,null,null,null,null,null,null,null,null,null,null,null,null,null,null,null,null,null,null,null,null,null,null,null,null,null,null,null,null,null,null,null,null,null,null,null,null,null,null,null,null,null,null,null,null,null,null,null,null,null,null,null,null,null,null,null,null,null,null,null,null,null,null,null,null,null,null,null,null,null,null,null,null,null,null,null,null,null,null,null,null,null,null,null,null,null,null,null,null,null,"INE027E07790","L&T FINANCE LIMITED"]
[null,null,null,null,null,null,null,null,null,null,null,null,null,null,null,null,null,null,null,null,null,null,null,null,null,null,null,null,null,null,null,null,null,null,null,null,null,null,null,null,null,null,null,null,null,null,null,null,null,null,null,null,null,null,null,null,null,null,null,null,null,null,null,null,null,null,null,null,null,null,null,null,null,null,null,null,null,null,null,null,null,null,null,null,null,null,null,null,null,null,null,null,null,null,null,null,null,null,null,null,null,"INE068D01021","CASTEX TECHNOLOGIES LIMITED"]
[null,null,null,null,null,null,null,null,null,null,null,null,null,null,null,null,null,null,null,null,null,null,null,null,null,null,null,null,null,null,null,null,null,null,null,null,null,null,null,null,null,null,null,null,null,null,null,null,null,null,null,null,null,null,null,null,null,null,null,null,null,null,null,null,null,null,null,null,null,null,null,null,null,null,null,null,null,null,null,null,null,null,null,null,null,null,null,null,null,null,null,null,null,null,null,null,null,null,null,null,null,"INE07BZ01019","MALSI HOTELS LIMITED"]
[null,null,null,null,null,null,null,null,null,null,null,null,null,null,null,null,null,null,null,null,null,null,null,null,null,null,null,null,null,null,null,null,null,null,null,null,null,null,null,null,null,null,null,null,null,null,null,null,null,null,null,null,null,null,null,null,null,null,null,null,null,null,null,null,null,null,null,null,null,null,null,null,null,null,null,null,null,null,null,null,null,null,null,null,null,null,null,null,null,null,null,null,null,null,null,null,null,null,null,null,null,"INE093JA7963","ANAND RATHI GLOBAL FINANCE LIMITED"]
[null,null,null,null,null,null,null,null,null,null,null,null,null,null,null,null,null,null,null,null,null,null,null,null,null,null,null,null,null,null,null,null,null,null,null,null,null,null,null,null,null,null,null,null,null,null,null,null,null,null,null,null,null,null,null,null,null,null,null,null,null,null,null,null,null,null,null,null,null,null,null,null,null,null,null,null,null,null,null,null,null,null,null,null,null,null,null,null,null,null,null,null,null,null,null,null,null,null,null,null,null,"INE0DFY01013","PYRITE BUILDERS & CONSTRUCTIONS PRIVATE LIMITED"]
[null,null,null,null,null,null,null,null,null,null,null,null,null,null,null,null,null,null,null,null,null,null,null,null,null,null,null,null,null,null,null,null,null,null,null,null,null,null,null,null,null,null,null,null,null,null,null,null,null,null,null,null,null,null,null,null,null,null,null,null,null,null,null,null,null,null,null,null,null,null,null,null,null,null,null,null,null,null,null,null,null,null,null,null,null,null,null,null,null,null,null,null,null,null,null,null,null,null,null,null,null,"INE246E04207","GOBIND SUGAR MILLS LTD."]
[null,null,null,null,null,null,null,null,null,null,null,null,null,null,null,null,null,null,null,null,null,null,null,null,null,null,null,null,null,null,null,null,null,null,null,null,null,null,null,null,null,null,null,null,null,null,null,null,null,null,null,null,null,null,null,null,null,null,null,null,null,null,null,null,null,null,null,null,null,null,null,null,null,null,null,null,null,null,null,null,null,null,null,null,null,null,null,null,null,null,null,null,null,null,null,null,null,null,null,null,null,"INE383Y01020","FORGE POINT LIMITED"]
[null,null,null,null,null,null,null,null,null,null,null,null,null,null,null,null,null,null,null,null,null,null,null,null,null,null,null,null,null,null,null,null,null,null,null,null,null,null,null,null,null,null,null,null,null,null,null,null,null,null,null,null,null,null,null,null,null,null,null,null,null,null,null,null,null,null,null,null,null,null,null,null,null,null,null,null,null,null,null,null,null,null,null,null,null,null,null,null,null,null,null,null,null,null,null,null,null,null,null,null,null,"INE403Q07235","KOSAMATTAM FINANCE LIMITED"]
[null,null,null,null,null,null,null,null,null,null,null,null,null,null,null,null,null,null,null,null,null,null,null,null,null,null,null,null,null,null,null,null,null,null,null,null,null,null,null,null,null,null,null,null,null,null,null,null,null,null,null,null,null,null,null,null,null,null,null,null,null,null,null,null,null,null,null,null,null,null,null,null,null,null,null,null,null,null,null,null,null,null,null,null,null,null,null,null,null,null,null,null,null,null,null,null,null,null,null,null,null,"INE587T07015","VISHWAROOP REALTORS PRIVATE LIMITED"]
[null,null,null,null,null,null,null,null,null,null,null,null,null,null,null,null,null,null,null,null,null,null,null,null,null,null,null,null,null,null,null,null,null,null,null,null,null,null,null,null,null,null,null,null,null,null,null,null,null,null,null,null,null,null,null,null,null,null,null,null,null,null,null,null,null,null,null,null,null,null,null,null,null,null,null,null,null,null,null,null,null,null,null,null,null,null,null,null,null,null,null,null,null,null,null,null,null,null,null,null,null,"INE665J01013","V-MART RETAIL LIMITED"]
[null,null,null,null,null,null,null,null,null,null,null,null,null,null,null,null,null,null,null,null,null,null,null,null,null,null,null,null,null,null,null,null,null,null,null,null,null,null,null,null,null,null,null,null,null,null,null,null,null,null,null,null,null,null,null,null,null,null,null,null,null,null,null,null,null,null,null,null,null,null,null,null,null,null,null,null,null,null,null,null,null,null,null,null,null,null,null,null,null,null,null,null,null,null,null,null,null,null,null,null,null,"INE818F07021","KERALA FINANCIAL CORPORATION"]
[null,null,null,null,null,null,null,null,null,null,null,null,null,null,null,null,null,null,null,null,null,null,null,null,null,null,null,null,null,null,null,null,null,null,null,null,null,null,null,null,null,null,null,null,null,null,null,null,null,null,null,null,null,null,null,null,null,null,null,null,null,null,null,null,null,null,null,null,null,null,null,null,null,null,null,null,null,null,null,null,null,null,null,null,null,null,null,null,null,null,null,null,null,null,null,null,null,null,null,null,null,"INE894V01014","BADVE ENGINEERING LIMITED"]
[null,null,null,null,null,null,null,null,null,null,null,null,null,null,null,null,null,null,null,null,null,null,null,null,null,null,null,null,null,null,null,null,null,null,null,null,null,null,null,null,null,null,null,null,null,null,null,null,null,null,null,null,null,null,null,null,null,null,null,null,null,null,null,null,null,null,null,null,null,null,null,null,null,null,null,null,null,null,null,null,null,null,null,null,null,null,null,null,null,null,null,null,null,null,null,null,null,null,null,null,null,"INF109KC1VR0","ICICI PRUDENTIAL MUTUAL FUND"]
[null,null,null,null,null,null,null,null,null,null,null,null,null,null,null,null,null,null,null,null,null,null,null,null,null,null,null,null,null,null,null,null,null,null,null,null,null,null,null,null,null,null,null,null,null,null,null,null,null,null,null,null,null,null,null,null,null,null,null,null,null,null,null,null,null,null,null,null,null,null,null,null,null,null,null,null,null,null,null,null,null,null,null,null,null,null,null,null,null,null,null,null,null,null,null,null,null,null,null,null,null,"INF179KB11U7","HDFC MUTUAL FUND"]
[null,null,null,null,null,null,null,null,null,null,null,null,null,null,null,null,null,null,null,null,null,null,null,null,null,null,null,null,null,null,null,null,null,null,null,null,null,null,null,null,null,null,null,null,null,null,null,null,null,null,null,null,null,null,null,null,null,null,null,null,null,null,null,null,null,null,null,null,null,null,null,null,null,null,null,null,null,null,null,null,null,null,null,null,null,null,null,null,null,null,null,null,null,null,null,null,null,null,null,null,null,"INF205KA1163","INVESCO MUTUAL FUND"]
[null,null,null,null,null,null,null,null,null,null,null,null,null,null,null,null,null,null,null,null,null,null,null,null,null,null,null,null,null,null,null,null,null,null,null,null,null,null,null,null,null,null,null,null,null,null,null,null,null,null,null,null,null,null,null,null,null,null,null,null,null,null,null,null,null,null,null,null,null,null,null,null,null,null,null,null,null,null,null,null,null,null,null,null,null,null,null,null,null,null,null,null,null,null,null,null,null,null,null,null,null,"INF761K01EA9","BOI AXA MUTUAL FUND"]
[null,null,null,null,null,null,null,null,null,null,null,null,null,null,null,null,null,null,null,null,null,null,null,null,null,null,null,null,null,null,null,null,null,null,null,null,null,null,null,null,null,null,null,null,null,null,null,null,null,null,null,null,null,null,null,null,null,null,null,null,null,null,null,null,null,null,null,null,null,null,null,null,null,null,null,null,null,null,null,null,null,null,null,null,null,null,null,null,null,null,null,null,null,null,null,null,null,null,null,null,null,"INE039A09LX2","IFCI LIMITED"]
[null,null,null,null,null,null,null,null,null,null,null,null,null,null,null,null,null,null,null,null,null,null,null,null,null,null,null,null,null,null,null,null,null,null,null,null,null,null,null,null,null,null,null,null,null,null,null,null,null,null,null,null,null,null,null,null,null,null,null,null,null,null,null,null,null,null,null,null,null,null,null,null,null,null,null,null,null,null,null,null,null,null,null,null,null,null,null,null,null,null,null,null,null,null,null,null,null,null,null,null,null,"INE093JA7R03","ANAND RATHI GLOBAL FINANCE LIMITED"]
[null,null,null,null,null,null,null,null,null,null,null,null,null,null,null,null,null,null,null,null,null,null,null,null,null,null,null,null,null,null,null,null,null,null,null,null,null,null,null,null,null,null,null,null,null,null,null,null,null,null,null,null,null,null,null,null,null,null,null,null,null,null,null,null,null,null,null,null,null,null,null,null,null,null,null,null,null,null,null,null,null,null,null,null,null,null,null,null,null,null,null,null,null,null,null,null,null,null,null,null,null,"IN1920180214","STATE DEVELOPMENT LOAN"]
[null,null,null,null,null,null,null,null,null,null,null,null,null,null,null,null,null,null,null,null,null,null,null,null,null,null,null,null,null,null,null,null,null,null,null,null,null,null,null,null,null,null,null,null,null,null,null,null,null,null,null,null,null,null,null,null,null,null,null,null,null,null,null,null,null,null,null,null,null,null,null,null,null,null,null,null,null,null,null,null,null,null,null,null,null,null,null,null,null,null,null,null,null,null,null,null,null,null,null,null,null,"IN80FFK01016","NETWORK PEOPLE SERVICES TECHNOLOGIES LIMITED"]
[null,null,null,null,null,null,null,null,null,null,null,null,null,null,null,null,null,null,null,null,null,null,null,null,null,null,null,null,null,null,null,null,null,null,null,null,null,null,null,null,null,null,null,null,null,null,null,null,null,null,null,null,null,null,null,null,null,null,null,null,null,null,null,null,null,null,null,null,null,null,null,null,null,null,null,null,null,null,null,null,null,null,null,null,null,null,null,null,null,null,null,null,null,null,null,null,null,null,null,null,null,"INE04MY04069","SOYUZ TRADING COMPANY LIMITED"]
[null,null,null,null,null,null,null,null,null,null,null,null,null,null,null,null,null,null,null,null,null,null,null,null,null,null,null,null,null,null,null,null,null,null,null,null,null,null,null,null,null,null,null,null,null,null,null,null,null,null,null,null,null,null,null,null,null,null,null,null,null,null,null,null,null,null,null,null,null,null,null,null,null,null,null,null,null,null,null,null,null,null,null,null,null,null,null,null,null,null,null,null,null,null,null,null,null,null,null,null,null,"INE101Q08159","MUTHOOTTU MINI FINANCIERS LTD"]
[null,null,null,null,null,null,null,null,null,null,null,null,null,null,null,null,null,null,null,null,null,null,null,null,null,null,null,null,null,null,null,null,null,null,null,null,null,null,null,null,null,null,null,null,null,null,null,null,null,null,null,null,null,null,null,null,null,null,null,null,null,null,null,null,null,null,null,null,null,null,null,null,null,null,null,null,null,null,null,null,null,null,null,null,null,null,null,null,null,null,null,null,null,null,null,null,null,null,null,null,null,"INE227N07029","GREENKO ANUBHAV HYDEL POWER PRIVATE LIMITED"]
[null,null,null,null,null,null,null,null,null,null,null,null,null,null,null,null,null,null,null,null,null,null,null,null,null,null,null,null,null,null,null,null,null,null,null,null,null,null,null,null,null,null,null,null,null,null,null,null,null,null,null,null,null,null,null,null,null,null,null,null,null,null,null,null,null,null,null,null,null,null,null,null,null,null,null,null,null,null,null,null,null,null,null,null,null,null,null,null,null,null,null,null,null,null,null,null,null,null,null,null,null,"IN8361M01020","HIGH GROUND ENTERPRISE LIMITED"]
[null,null,null,null,null,null,null,null,null,null,null,null,null,null,null,null,null,null,null,null,null,null,null,null,null,null,null,null,null,null,null,null,null,null,null,null,null,null,null,null,null,null,null,null,null,null,null,null,null,null,null,null,null,null,null,null,null,null,null,null,null,null,null,null,null,null,null,null,null,null,null,null,null,null,null,null,null,null,null,null,null,null,null,null,null,null,null,null,null,null,null,null,null,null,null,null,null,null,null,null,null,"INE00MG18015","JMFARC - IRIS CANARA MARCH 2018 - TRUST"]
[null,null,null,null,null,null,null,null,null,null,null,null,null,null,null,null,null,null,null,null,null,null,null,null,null,null,null,null,null,null,null,null,null,null,null,null,null,null,null,null,null,null,null,null,null,null,null,null,null,null,null,null,null,null,null,null,null,null,null,null,null,null,null,null,null,null,null,null,null,null,null,null,null,null,null,null,null,null,null,null,null,null,null,null,null,null,null,null,null,null,null,null,null,null,null,null,null,null,null,null,null,"INE023U18016","EARC TRUST - SC 169"]
[null,null,null,null,null,null,null,null,null,null,null,null,null,null,null,null,null,null,null,null,null,null,null,null,null,null,null,null,null,null,null,null,null,null,null,null,null,null,null,null,null,null,null,null,null,null,null,null,null,null,null,null,null,null,null,null,null,null,null,null,null,null,null,null,null,null,null,null,null,null,null,null,null,null,null,null,null,null,null,null,null,null,null,null,null,null,null,null,null,null,null,null,null,null,null,null,null,null,null,null,null,"INE05MU01011","VINAYAK LOCAL AREA BANK LIMITED"]
[null,null,null,null,null,null,null,null,null,null,null,null,null,null,null,null,null,null,null,null,null,null,null,null,null,null,null,null,null,null,null,null,null,null,null,null,null,null,null,null,null,null,null,null,null,null,null,null,null,null,null,null,null,null,null,null,null,null,null,null,null,null,null,null,null,null,null,null,null,null,null,null,null,null,null,null,null,null,null,null,null,null,null,null,null,null,null,null,null,null,null,null,null,null,null,null,null,null,null,null,null,"INE07QQ01016","CHANDRA BHAGAT PHARMA LIMITED"]
[null,null,null,null,null,null,null,null,null,null,null,null,null,null,null,null,null,null,null,null,null,null,null,null,null,null,null,null,null,null,null,null,null,null,null,null,null,null,null,null,null,null,null,null,null,null,null,null,null,null,null,null,null,null,null,null,null,null,null,null,null,null,null,null,null,null,null,null,null,null,null,null,null,null,null,null,null,null,null,null,null,null,null,null,null,null,null,null,null,null,null,null,null,null,null,null,null,null,null,null,null,"INE092T08EW0","IDFC FIRST BANK LIMITED"]
[null,null,null,null,null,null,null,null,null,null,null,null,null,null,null,null,null,null,null,null,null,null,null,null,null,null,null,null,null,null,null,null,null,null,null,null,null,null,null,null,null,null,null,null,null,null,null,null,null,null,null,null,null,null,null,null,null,null,null,null,null,null,null,null,null,null,null,null,null,null,null,null,null,null,null,null,null,null,null,null,null,null,null,null,null,null,null,null,null,null,null,null,null,null,null,null,null,null,null,null,null,"INE0CWI01013","RENEW MEGA URJA PRIVATE LIMITED"]
[null,null,null,null,null,null,null,null,null,null,null,null,null,null,null,null,null,null,null,null,null,null,null,null,null,null,null,null,null,null,null,null,null,null,null,null,null,null,null,null,null,null,null,null,null,null,null,null,null,null,null,null,null,null,null,null,null,null,null,null,null,null,null,null,null,null,null,null,null,null,null,null,null,null,null,null,null,null,null,null,null,null,null,null,null,null,null,null,null,null,null,null,null,null,null,null,null,null,null,null,null,"INE152H18036","ARCIL-PARASRAMPURIA SYNTHETICS LTD TRUST"]
[null,null,null,null,null,null,null,null,null,null,null,null,null,null,null,null,null,null,null,null,null,null,null,null,null,null,null,null,null,null,null,null,null,null,null,null,null,null,null,null,null,null,null,null,null,null,null,null,null,null,null,null,null,null,null,null,null,null,null,null,null,null,null,null,null,null,null,null,null,null,null,null,null,null,null,null,null,null,null,null,null,null,null,null,null,null,null,null,null,null,null,null,null,null,null,null,null,null,null,null,null,"INE314X08030","BHAGWANPUR SOLAR PROJECTS PRIVATE LIMITED"]
[null,null,null,null,null,null,null,null,null,null,null,null,null,null,null,null,null,null,null,null,null,null,null,null,null,null,null,null,null,null,null,null,null,null,null,null,null,null,null,null,null,null,null,null,null,null,null,null,null,null,null,null,null,null,null,null,null,null,null,null,null,null,null,null,null,null,null,null,null,null,null,null,null,null,null,null,null,null,null,null,null,null,null,null,null,null,null,null,null,null,null,null,null,null,null,null,null,null,null,null,null,"INE480J01025","GUJARAT CHEMICAL PORT TERMINAL COMPANY LIMITED"]
[null,null,null,null,null,null,null,null,null,null,null,null,null,null,null,null,null,null,null,null,null,null,null,null,null,null,null,null,null,null,null,null,null,null,null,null,null,null,null,null,null,null,null,null,null,null,null,null,null,null,null,null,null,null,null,null,null,null,null,null,null,null,null,null,null,null,null,null,null,null,null,null,null,null,null,null,null,null,null,null,null,null,null,null,null,null,null,null,null,null,null,null,null,null,null,null,null,null,null,null,null,"INE569L18090","IARF-I TRUST SCHEME I"]
[null,null,null,null,null,null,null,null,null,null,null,null,null,null,null,null,null,null,null,null,null,null,null,null,null,null,null,null,null,null,null,null,null,null,null,null,null,null,null,null,null,null,null,null,null,null,null,null,null,null,null,null,null,null,null,null,null,null,null,null,null,null,null,null,null,null,null,null,null,null,null,null,null,null,null,null,null,null,null,null,null,null,null,null,null,null,null,null,null,null,null,null,null,null,null,null,null,null,null,null,null,"INE622O03010","BHASKAR INDUSTRIES PRIVATE LIMITED"]
[null,null,null,null,null,null,null,null,null,null,null,null,null,null,null,null,null,null,null,null,null,null,null,null,null,null,null,null,null,null,null,null,null,null,null,null,null,null,null,null,null,null,null,null,null,null,null,null,null,null,null,null,null,null,null,null,null,null,null,null,null,null,null,null,null,null,null,null,null,null,null,null,null,null,null,null,null,null,null,null,null,null,null,null,null,null,null,null,null,null,null,null,null,null,null,null,null,null,null,null,null,"INE809M07018","GAMA INFRAPROP PRIVATE LIMITED"]
[null,null,null,null,null,null,null,null,null,null,null,null,null,null,null,null,null,null,null,null,null,null,null,null,null,null,null,null,null,null,null,null,null,null,null,null,null,null,null,null,null,null,null,null,null,null,null,null,null,null,null,null,null,null,null,null,null,null,null,null,null,null,null,null,null,null,null,null,null,null,null,null,null,null,null,null,null,null,null,null,null,null,null,null,null,null,null,null,null,null,null,null,null,null,null,null,null,null,null,null,null,"INE866D01010","MARIS SPINNERS LIMITED"]
[null,null,null,null,null,null,null,null,null,null,null,null,null,null,null,null,null,null,null,null,null,null,null,null,null,null,null,null,null,null,null,null,null,null,null,null,null,null,null,null,null,null,null,null,null,null,null,null,null,null,null,null,null,null,null,null,null,null,null,null,null,null,null,null,null,null,null,null,null,null,null,null,null,null,null,null,null,null,null,null,null,null,null,null,null,null,null,null,null,null,null,null,null,null,null,null,null,null,null,null,null,"INF109K010B4","ICICI PRUDENTIAL MUTUAL FUND"]
[null,null,null,null,null,null,null,null,null,null,null,null,null,null,null,null,null,null,null,null,null,null,null,null,null,null,null,null,null,null,null,null,null,null,null,null,null,null,null,null,null,null,null,null,null,null,null,null,null,null,null,null,null,null,null,null,null,null,null,null,null,null,null,null,null,null,null,null,null,null,null,null,null,null,null,null,null,null,null,null,null,null,null,null,null,null,null,null,null,null,null,null,null,null,null,null,null,null,null,null,null,"INF179KB10W5","HDFC MUTUAL FUND"]
[null,null,null,null,null,null,null,null,null,null,null,null,null,null,null,null,null,null,null,null,null,null,null,null,null,null,null,null,null,null,null,null,null,null,null,null,null,null,null,null,null,null,null,null,null,null,null,null,null,null,null,null,null,null,null,null,null,null,null,null,null,null,null,null,null,null,null,null,null,null,null,null,null,null,null,null,null,null,null,null,null,null,null,null,null,null,null,null,null,null,null,null,null,null,null,null,null,null,null,null,null,"INF277K012Z5","TATA MUTUAL FUND"]
[null,null,null,null,null,null,null,null,null,null,null,null,null,null,null,null,null,null,null,null,null,null,null,null,null,null,null,null,null,null,null,null,null,null,null,null,null,null,null,null,null,null,null,null,null,null,null,null,null,null,null,null,null,null,null,null,null,null,null,null,null,null,null,null,null,null,null,null,null,null,null,null,null,null,null,null,null,null,null,null,null,null,null,null,null,null,null,null,null,null,null,null,null,null,null,null,null,null,null,null,null,"INF663L01GX2","PGIM INDIA MUTUAL FUND"]
[null,null,null,null,null,null,null,null,null,null,null,null,null,null,null,null,null,null,null,null,null,null,null,null,null,null,null,null,null,null,null,null,null,null,null,null,null,null,null,null,null,null,null,null,null,null,null,null,null,null,null,null,null,null,null,null,null,null,null,null,null,null,null,null,null,null,null,null,null,null,null,null,null,null,null,null,null,null,null,null,null,null,null,null,null,null,null,null,null,null,null,null,null,null,null,null,null,null,null,null,null,"INE093JA7SR9","ANAND RATHI GLOBAL FINANCE LIMITED"]
[null,null,null,null,null,null,null,null,null,null,null,null,null,null,null,null,null,null,null,null,null,null,null,null,null,null,null,null,null,null,null,null,null,null,null,null,null,null,null,null,null,null,null,null,null,null,null,null,null,null,null,null,null,null,null,null,null,null,null,null,null,null,null,null,null,null,null,null,null,null,null,null,null,null,null,null,null,null,null,null,null,null,null,null,null,null,null,null,null,null,null,null,null,null,null,null,null,null,null,null,null,"INE197A07104","JYOTI STRUCTURES LIMITED"]
[null,null,null,null,null,null,null,null,null,null,null,null,null,null,null,null,null,null,null,null,null,null,null,null,null,null,null,null,null,null,null,null,null,null,null,null,null,null,null,null,null,null,null,null,null,null,null,null,null,null,null,null,null,null,null,null,null,null,null,null,null,null,null,null,null,null,null,null,null,null,null,null,null,null,null,null,null,null,null,null,null,null,null,null,null,null,null,null,null,null,null,null,null,null,null,null,null,null,null,null,null,"INE172Y07024","AZURE GREEN TECH PRIVATE LIMITED"]
[null,null,null,null,null,null,null,null,null,null,null,null,null,null,null,null,null,null,null,null,null,null,null,null,null,null,null,null,null,null,null,null,null,null,null,null,null,null,null,null,null,null,null,null,null,null,null,null,null,null,null,null,null,null,null,null,null,null,null,null,null,null,null,null,null,null,null,null,null,null,null,null,null,null,null,null,null,null,null,null,null,null,null,null,null,null,null,null,null,null,null,null,null,null,null,null,null,null,null,null,null,"IN2120150049","STATE DEVELOPMENT LOAN"]
[null,null,null,null,null,null,null,null,null,null,null,null,null,null,null,null,null,null,null,null,null,null,null,null,null,null,null,null,null,null,null,null,null,null,null,null,null,null,null,null,null,null,null,null,null,null,null,null,null,null,null,null,null,null,null,null,null,null,null,null,null,null,null,null,null,null,null,null,null,null,null,null,null,null,null,null,null,null,null,null,null,null,null,null,null,null,null,null,null,null,null,null,null,null,null,null,null,null,null,null,null,"INE0FQR03023","FREE INDIA ASSURANCE SERVICES LIMITED"]
[null,null,null,null,null,null,null,null,null,null,null,null,null,null,null,null,null,null,null,null,null,null,null,null,null,null,null,null,null,null,null,null,null,null,null,null,null,null,null,null,null,null,null,null,null,null,null,null,null,null,null,null,null,null,null,null,null,null,null,null,null,null,null,null,null,null,null,null,null,null,null,null,null,null,null,null,null,null,null,null,null,null,null,null,null,null,null,null,null,null,null,null,null,null,null,null,null,null,null,null,null,"INE242A14SI8","INDIAN OIL CORPORATION LIMITED"]
[null,null,null,null,null,null,null,null,null,null,null,null,null,null,null,null,null,null,null,null,null,null,null,null,null,null,null,null,null,null,null,null,null,null,null,null,null,null,null,null,null,null,null,null,null,null,null,null,null,null,null,null,null,null,null,null,null,null,null,null,null,null,null,null,null,null,null,null,null,null,null,null,null,null,null,null,null,null,null,null,null,null,null,null,null,null,null,null,null,null,null,null,null,null,null,null,null,null,null,null,null,"INE034907860","MANAPPURAM ASSET FINANCE LIMITED"]
[null,null,null,null,null,null,null,null,null,null,null,null,null,null,null,null,null,null,null,null,null,null,null,null,null,null,null,null,null,null,null,null,null,null,null,null,null,null,null,null,null,null,null,null,null,null,null,null,null,null,null,null,null,null,null,null,null,null,null,null,null,null,null,null,null,null,null,null,null,null,null,null,null,null,null,null,null,null,null,null,null,null,null,null,null,null,null,null,null,null,null,null,null,null,null,null,null,null,null,null,null,"IN800M201012","STERLING AND WILSON RENEWABLE ENERGY LIMITED"]
[null,null,null,null,null,null,null,null,null,null,null,null,null,null,null,null,null,null,null,null,null,null,null,null,null,null,null,null,null,null,null,null,null,null,null,null,null,null,null,null,null,null,null,null,null,null,null,null,null,null,null,null,null,null,null,null,null,null,null,null,null,null,null,null,null,null,null,null,null,null,null,null,null,null,null,null,null,null,null,null,null,null,null,null,null,null,null,null,null,null,null,null,null,null,null,null,null,null,null,null,null,"IN8423B01013","DAISY SYSTEMS LIMITED"]
[null,null,null,null,null,null,null,null,null,null,null,null,null,null,null,null,null,null,null,null,null,null,null,null,null,null,null,null,null,null,null,null,null,null,null,null,null,null,null,null,null,null,null,null,null,null,null,null,null,null,null,null,null,null,null,null,null,null,null,null,null,null,null,null,null,null,null,null,null,null,null,null,null,null,null,null,null,null,null,null,null,null,null,null,null,null,null,null,null,null,null,null,null,null,null,null,null,null,null,null,null,"INE00VH08015","TRIDHAATU RENOVATORS PRIVATE LIMITED"]
[null,null,null,null,null,null,null,null,null,null,null,null,null,null,null,null,null,null,null,null,null,null,null,null,null,null,null,null,null,null,null,null,null,null,null,null,null,null,null,null,null,null,null,null,null,null,null,null,null,null,null,null,null,null,null,null,null,null,null,null,null,null,null,null,null,null,null,null,null,null,null,null,null,null,null,null,null,null,null,null,null,null,null,null,null,null,null,null,null,null,null,null,null,null,null,null,null,null,null,null,null,"INE03ZR01014","ATHENA DRUG DELIVERY SOLUTIONS PRIVATE LIMITED"]
[null,null,null,null,null,null,null,null,null,null,null,null,null,null,null,null,null,null,null,null,null,null,null,null,null,null,null,null,null,null,null,null,null,null,null,null,null,null,null,null,null,null,null,null,null,null,null,null,null,null,null,null,null,null,null,null,null,null,null,null,null,null,null,null,null,null,null,null,null,null,null,null,null,null,null,null,null,null,null,null,null,null,null,null,null,null,null,null,null,null,null,null,null,null,null,null,null,null,null,null,null,"INE064F01017","SUBHADRA TRADE & FINANCE LIMITED"]
[null,null,null,null,null,null,null,null,null,null,null,null,null,null,null,null,null,null,null,null,null,null,null,null,null,null,null,null,null,null,null,null,null,null,null,null,null,null,null,null,null,null,null,null,null,null,null,null,null,null,null,null,null,null,null,null,null,null,null,null,null,null,null,null,null,null,null,null,null,null,null,null,null,null,null,null,null,null,null,null,null,null,null,null,null,null,null,null,null,null,null,null,null,null,null,null,null,null,null,null,null,"INE07GX01013","SNOW VIEW PROPERTIES LIMITED"]
[null,null,null,null,null,null,null,null,null,null,null,null,null,null,null,null,null,null,null,null,null,null,null,null,null,null,null,null,null,null,null,null,null,null,null,null,null,null,null,null,null,null,null,null,null,null,null,null,null,null,null,null,null,null,null,null,null,null,null,null,null,null,null,null,null,null,null,null,null,null,null,null,null,null,null,null,null,null,null,null,null,null,null,null,null,null,null,null,null,null,null,null,null,null,null,null,null,null,null,null,null,"INE0B3B01019","AMARAVATI AGRO LIMITED"]
[null,null,null,null,null,null,null,null,null,null,null,null,null,null,null,null,null,null,null,null,null,null,null,null,null,null,null,null,null,null,null,null,null,null,null,null,null,null,null,null,null,null,null,null,null,null,null,null,null,null,null,null,null,null,null,null,null,null,null,null,null,null,null,null,null,null,null,null,null,null,null,null,null,null,null,null,null,null,null,null,null,null,null,null,null,null,null,null,null,null,null,null,null,null,null,null,null,null,null,null,null,"INE0D6L01019","MARAMI INFOTECH LIMITED"]
[null,null,null,null,null,null,null,null,null,null,null,null,null,null,null,null,null,null,null,null,null,null,null,null,null,null,null,null,null,null,null,null,null,null,null,null,null,null,null,null,null,null,null,null,null,null,null,null,null,null,null,null,null,null,null,null,null,null,null,null,null,null,null,null,null,null,null,null,null,null,null,null,null,null,null,null,null,null,null,null,null,null,null,null,null,null,null,null,null,null,null,null,null,null,null,null,null,null,null,null,null,"INE214F01026","GRAVISS HOSPITALITY LIMITED"]
[null,null,null,null,null,null,null,null,null,null,null,null,null,null,null,null,null,null,null,null,null,null,null,null,null,null,null,null,null,null,null,null,null,null,null,null,null,null,null,null,null,null,null,null,null,null,null,null,null,null,null,null,null,null,null,null,null,null,null,null,null,null,null,null,null,null,null,null,null,null,null,null,null,null,null,null,null,null,null,null,null,null,null,null,null,null,null,null,null,null,null,null,null,null,null,null,null,null,null,null,null,"INE320K01013","CREDENCE LOGISTICS LIMITED"]
[null,null,null,null,null,null,null,null,null,null,null,null,null,null,null,null,null,null,null,null,null,null,null,null,null,null,null,null,null,null,null,null,null,null,null,null,null,null,null,null,null,null,null,null,null,null,null,null,null,null,null,null,null,null,null,null,null,null,null,null,null,null,null,null,null,null,null,null,null,null,null,null,null,null,null,null,null,null,null,null,null,null,null,null,null,null,null,null,null,null,null,null,null,null,null,null,null,null,null,null,null,"INE501F01018","PBM POLYTEX LIMITED"]
[null,null,null,null,null,null,null,null,null,null,null,null,null,null,null,null,null,null,null,null,null,null,null,null,null,null,null,null,null,null,null,null,null,null,null,null,null,null,null,null,null,null,null,null,null,null,null,null,null,null,null,null,null,null,null,null,null,null,null,null,null,null,null,null,null,null,null,null,null,null,null,null,null,null,null,null,null,null,null,null,null,null,null,null,null,null,null,null,null,null,null,null,null,null,null,null,null,null,null,null,null,"INE531B01014","COMPUDYNE WINFOSYSTEMS LIMITED"]
[null,null,null,null,null,null,null,null,null,null,null,null,null,null,null,null,null,null,null,null,null,null,null,null,null,null,null,null,null,null,null,null,null,null,null,null,null,null,null,null,null,null,null,null,null,null,null,null,null,null,null,null,null,null,null,null,null,null,null,null,null,null,null,null,null,null,null,null,null,null,null,null,null,null,null,null,null,null,null,null,null,null,null,null,null,null,null,null,null,null,null,null,null,null,null,null,null,null,null,null,null,"INE749X01016","ACHINTYA SOLAR POWER PRIVATE LIMITED"]
[null,null,null,null,null,null,null,null,null,null,null,null,null,null,null,null,null,null,null,null,null,null,null,null,null,null,null,null,null,null,null,null,null,null,null,null,null,null,null,null,null,null,null,null,null,null,null,null,null,null,null,null,null,null,null,null,null,null,null,null,null,null,null,null,null,null,null,null,null,null,null,null,null,null,null,null,null,null,null,null,null,null,null,null,null,null,null,null,null,null,null,null,null,null,null,null,null,null,null,null,null,"INE835H07070","MAHUA BHARATPUR EXPRESSWAYS LIMITED"]
[null,null,null,null,null,null,null,null,null,null,null,null,null,null,null,null,null,null,null,null,null,null,null,null,null,null,null,null,null,null,null,null,null,null,null,null,null,null,null,null,null,null,null,null,null,null,null,null,null,null,null,null,null,null,null,null,null,null,null,null,null,null,null,null,null,null,null,null,null,null,null,null,null,null,null,null,null,null,null,null,null,null,null,null,null,null,null,null,null,null,null,null,null,null,null,null,null,null,null,null,null,"INE964K18012","ISARC-UBI-3/2009-10 TRUST"]
[null,null,null,null,null,null,null,null,null,null,null,null,null,null,null,null,null,null,null,null,null,null,null,null,null,null,null,null,null,null,null,null,null,null,null,null,null,null,null,null,null,null,null,null,null,null,null,null,null,null,null,null,null,null,null,null,null,null,null,null,null,null,null,null,null,null,null,null,null,null,null,null,null,null,null,null,null,null,null,null,null,null,null,null,null,null,null,null,null,null,null,null,null,null,null,null,null,null,null,null,null,"INF109K01TP7","ICICI PRUDENTIAL MUTUAL FUND"]
[null,null,null,null,null,null,null,null,null,null,null,null,null,null,null,null,null,null,null,null,null,null,null,null,null,null,null,null,null,null,null,null,null,null,null,null,null,null,null,null,null,null,null,null,null,null,null,null,null,null,null,null,null,null,null,null,null,null,null,null,null,null,null,null,null,null,null,null,null,null,null,null,null,null,null,null,null,null,null,null,null,null,null,null,null,null,null,null,null,null,null,null,null,null,null,null,null,null,null,null,null,"INF204K01ZA5","NIPPON INDIA MUTUAL FUND"]
[null,null,null,null,null,null,null,null,null,null,null,null,null,null,null,null,null,null,null,null,null,null,null,null,null,null,null,null,null,null,null,null,null,null,null,null,null,null,null,null,null,null,null,null,null,null,null,null,null,null,null,null,null,null,null,null,null,null,null,null,null,null,null,null,null,null,null,null,null,null,null,null,null,null,null,null,null,null,null,null,null,null,null,null,null,null,null,null,null,null,null,null,null,null,null,null,null,null,null,null,null,"INF582M01CW3","UNION MUTUAL FUND"]
[null,null,null,null,null,null,null,null,null,null,null,null,null,null,null,null,null,null,null,null,null,null,null,null,null,null,null,null,null,null,null,null,null,null,null,null,null,null,null,null,null,null,null,null,null,null,null,null,null,null,null,null,null,null,null,null,null,null,null,null,null,null,null,null,null,null,null,null,null,null,null,null,null,null,null,null,null,null,null,null,null,null,null,null,null,null,null,null,null,null,null,null,null,null,null,null,null,null,null,null,null,"INF955L01BL8","BARODA MUTUAL FUND"]
[null,null,null,null,null,null,null,null,null,null,null,null,null,null,null,null,null,null,null,null,null,null,null,null,null,null,null,null,null,null,null,null,null,null,null,null,null,null,null,null,null,null,null,null,null,null,null,null,null,null,null,null,null,null,null,null,null,null,null,null,null,null,null,null,null,null,null,null,null,null,null,null,null,null,null,null,null,null,null,null,null,null,null,null,null,null,null,null,null,null,null,null,null,null,null,null,null,null,null,null,null,"INE0EKC01017","JAS LEASING AND PROPERTY DEVELOPERS LIMITED."]
[null,null,null,null,null,null,null,null,null,null,null,null,null,null,null,null,null,null,null,null,null,null,null,null,null,null,null,null,null,null,null,null,null,null,null,null,null,null,null,null,null,null,null,null,null,null,null,null,null,null,null,null,null,null,null,null,null,null,null,null,null,null,null,null,null,null,null,null,null,null,null,null,null,null,null,null,null,null,null,null,null,null,null,null,null,null,null,null,null,null,null,null,null,null,null,null,null,null,null,null,null,"INE0JBE01011","MARSHALL DIE CASTING PRIVATE LIMITED"]
[null,null,null,null,null,null,null,null,null,null,null,null,null,null,null,null,null,null,null,null,null,null,null,null,null,null,null,null,null,null,null,null,null,null,null,null,null,null,null,null,null,null,null,null,null,null,null,null,null,null,null,null,null,null,null,null,null,null,null,null,null,null,null,null,null,null,null,null,null,null,null,null,null,null,null,null,null,null,null,null,null,null,null,null,null,null,null,null,null,null,null,null,null,null,null,null,null,null,null,null,null,"IN3120140014","STATE DEVELOPMENT LOAN"]
[null,null,null,null,null,null,null,null,null,null,null,null,null,null,null,null,null,null,null,null,null,null,null,null,null,null,null,null,null,null,null,null,null,null,null,null,null,null,null,null,null,null,null,null,null,null,null,null,null,null,null,null,null,null,null,null,null,null,null,null,null,null,null,null,null,null,null,null,null,null,null,null,null,null,null,null,null,null,null,null,null,null,null,null,null,null,null,null,null,null,null,null,null,null,null,null,null,null,null,null,null,"IN3620190071","STATE DEVELOPMENT LOAN"]
[null,null,null,null,null,null,null,null,null,null,null,null,null,null,null,null,null,null,null,null,null,null,null,null,null,null,null,null,null,null,null,null,null,null,null,null,null,null,null,null,null,null,null,null,null,null,null,null,null,null,null,null,null,null,null,null,null,null,null,null,null,null,null,null,null,null,null,null,null,null,null,null,null,null,null,null,null,null,null,null,null,null,null,null,null,null,null,null,null,null,null,null,null,null,null,null,null,null,null,null,null,"IN3820130026","STATE DEVELOPMENT LOAN"]
[null,null,null,null,null,null,null,null,null,null,null,null,null,null,null,null,null,null,null,null,null,null,null,null,null,null,null,null,null,null,null,null,null,null,null,null,null,null,null,null,null,null,null,null,null,null,null,null,null,null,null,null,null,null,null,null,null,null,null,null,null,null,null,null,null,null,null,null,null,null,null,null,null,null,null,null,null,null,null,null,null,null,null,null,null,null,null,null,null,null,null,null,null,null,null,null,null,null,null,null,null,"IN3820180062","STATE DEVELOPMENT LOAN"]
[null,null,null,null,null,null,null,null,null,null,null,null,null,null,null,null,null,null,null,null,null,null,null,null,null,null,null,null,null,null,null,null,null,null,null,null,null,null,null,null,null,null,null,null,null,null,null,null,null,null,null,null,null,null,null,null,null,null,null,null,null,null,null,null,null,null,null,null,null,null,null,null,null,null,null,null,null,null,null,null,null,null,null,null,null,null,null,null,null,null,null,null,null,null,null,null,null,null,null,null,null,"IN3820190020","STATE DEVELOPMENT LOAN"]
[null,null,null,null,null,null,null,null,null,null,null,null,null,null,null,null,null,null,null,null,null,null,null,null,null,null,null,null,null,null,null,null,null,null,null,null,null,null,null,null,null,null,null,null,null,null,null,null,null,null,null,null,null,null,null,null,null,null,null,null,null,null,null,null,null,null,null,null,null,null,null,null,null,null,null,null,null,null,null,null,null,null,null,null,null,null,null,null,null,null,null,null,null,null,null,null,null,null,null,null,null,"IN3820190053","STATE DEVELOPMENT LOAN"]
[null,null,null,null,null,null,null,null,null,null,null,null,null,null,null,null,null,null,null,null,null,null,null,null,null,null,null,null,null,null,null,null,null,null,null,null,null,null,null,null,null,null,null,null,null,null,null,null,null,null,null,null,null,null,null,null,null,null,null,null,null,null,null,null,null,null,null,null,null,null,null,null,null,null,null,null,null,null,null,null,null,null,null,null,null,null,null,null,null,null,null,null,null,null,null,null,null,null,null,null,null,"IN3820190087","STATE DEVELOPMENT LOAN"]
[null,null,null,null,null,null,null,null,null,null,null,null,null,null,null,null,null,null,null,null,null,null,null,null,null,null,null,null,null,null,null,null,null,null,null,null,null,null,null,null,null,null,null,null,null,null,null,null,null,null,null,null,null,null,null,null,null,null,null,null,null,null,null,null,null,null,null,null,null,null,null,null,null,null,null,null,null,null,null,null,null,null,null,null,null,null,null,null,null,null,null,null,null,null,null,null,null,null,null,null,null,"IN4520140042","STATE DEVELOPMENT LOAN"]
[null,null,null,null,null,null,null,null,null,null,null,null,null,null,null,null,null,null,null,null,null,null,null,null,null,null,null,null,null,null,null,null,null,null,null,null,null,null,null,null,null,null,null,null,null,null,null,null,null,null,null,null,null,null,null,null,null,null,null,null,null,null,null,null,null,null,null,null,null,null,null,null,null,null,null,null,null,null,null,null,null,null,null,null,null,null,null,null,null,null,null,null,null,null,null,null,null,null,null,null,null,"IN4520140083","STATE DEVELOPMENT LOAN"]
[null,null,null,null,null,null,null,null,null,null,null,null,null,null,null,null,null,null,null,null,null,null,null,null,null,null,null,null,null,null,null,null,null,null,null,null,null,null,null,null,null,null,null,null,null,null,null,null,null,null,null,null,null,null,null,null,null,null,null,null,null,null,null,null,null,null,null,null,null,null,null,null,null,null,null,null,null,null,null,null,null,null,null,null,null,null,null,null,null,null,null,null,null,null,null,null,null,null,null,null,null,"IN4520150017","STATE DEVELOPMENT LOAN"]
[null,null,null,null,null,null,null,null,null,null,null,null,null,null,null,null,null,null,null,null,null,null,null,null,null,null,null,null,null,null,null,null,null,null,null,null,null,null,null,null,null,null,null,null,null,null,null,null,null,null,null,null,null,null,null,null,null,null,null,null,null,null,null,null,null,null,null,null,null,null,null,null,null,null,null,null,null,null,null,null,null,null,null,null,null,null,null,null,null,null,null,null,null,null,null,null,null,null,null,null,null,"IN4520160032","STATE DEVELOPMENT LOAN"]
[null,null,null,null,null,null,null,null,null,null,null,null,null,null,null,null,null,null,null,null,null,null,null,null,null,null,null,null,null,null,null,null,null,null,null,null,null,null,null,null,null,null,null,null,null,null,null,null,null,null,null,null,null,null,null,null,null,null,null,null,null,null,null,null,null,null,null,null,null,null,null,null,null,null,null,null,null,null,null,null,null,null,null,null,null,null,null,null,null,null,null,null,null,null,null,null,null,null,null,null,null,"IN4520160172","STATE DEVELOPMENT LOAN"]
[null,null,null,null,null,null,null,null,null,null,null,null,null,null,null,null,null,null,null,null,null,null,null,null,null,null,null,null,null,null,null,null,null,null,null,null,null,null,null,null,null,null,null,null,null,null,null,null,null,null,null,null,null,null,null,null,null,null,null,null,null,null,null,null,null,null,null,null,null,null,null,null,null,null,null,null,null,null,null,null,null,null,null,null,null,null,null,null,null,null,null,null,null,null,null,null,null,null,null,null,null,"IN4520160180","STATE DEVELOPMENT LOAN"]
[null,null,null,null,null,null,null,null,null,null,null,null,null,null,null,null,null,null,null,null,null,null,null,null,null,null,null,null,null,null,null,null,null,null,null,null,null,null,null,null,null,null,null,null,null,null,null,null,null,null,null,null,null,null,null,null,null,null,null,null,null,null,null,null,null,null,null,null,null,null,null,null,null,null,null,null,null,null,null,null,null,null,null,null,null,null,null,null,null,null,null,null,null,null,null,null,null,null,null,null,null,"IN4520160321","STATE DEVELOPMENT LOAN"]
[null,null,null,null,null,null,null,null,null,null,null,null,null,null,null,null,null,null,null,null,null,null,null,null,null,null,null,null,null,null,null,null,null,null,null,null,null,null,null,null,null,null,null,null,null,null,null,null,null,null,null,null,null,null,null,null,null,null,null,null,null,null,null,null,null,null,null,null,null,null,null,null,null,null,null,null,null,null,null,null,null,null,null,null,null,null,null,null,null,null,null,null,null,null,null,null,null,null,null,null,null,"IN4520160339","STATE DEVELOPMENT LOAN"]
[null,null,null,null,null,null,null,null,null,null,null,null,null,null,null,null,null,null,null,null,null,null,null,null,null,null,null,null,null,null,null,null,null,null,null,null,null,null,null,null,null,null,null,null,null,null,null,null,null,null,null,null,null,null,null,null,null,null,null,null,null,null,null,null,null,null,null,null,null,null,null,null,null,null,null,null,null,null,null,null,null,null,null,null,null,null,null,null,null,null,null,null,null,null,null,null,null,null,null,null,null,"IN4520170163","STATE DEVELOPMENT LOAN"]
[null,null,null,null,null,null,null,null,null,null,null,null,null,null,null,null,null,null,null,null,null,null,null,null,null,null,null,null,null,null,null,null,null,null,null,null,null,null,null,null,null,null,null,null,null,null,null,null,null,null,null,null,null,null,null,null,null,null,null,null,null,null,null,null,null,null,null,null,null,null,null,null,null,null,null,null,null,null,null,null,null,null,null,null,null,null,null,null,null,null,null,null,null,null,null,null,null,null,null,null,null,"IN4520170171","STATE DEVELOPMENT LOAN"]
[null,null,null,null,null,null,null,null,null,null,null,null,null,null,null,null,null,null,null,null,null,null,null,null,null,null,null,null,null,null,null,null,null,null,null,null,null,null,null,null,null,null,null,null,null,null,null,null,null,null,null,null,null,null,null,null,null,null,null,null,null,null,null,null,null,null,null,null,null,null,null,null,null,null,null,null,null,null,null,null,null,null,null,null,null,null,null,null,null,null,null,null,null,null,null,null,null,null,null,null,null,"IN4520180162","STATE DEVELOPMENT LOAN"]
[null,null,null,null,null,null,null,null,null,null,null,null,null,null,null,null,null,null,null,null,null,null,null,null,null,null,null,null,null,null,null,null,null,null,null,null,null,null,null,null,null,null,null,null,null,null,null,null,null,null,null,null,null,null,null,null,null,null,null,null,null,null,null,null,null,null,null,null,null,null,null,null,null,null,null,null,null,null,null,null,null,null,null,null,null,null,null,null,null,null,null,null,null,null,null,null,null,null,null,null,null,"IN4520190013","STATE DEVELOPMENT LOAN"]
[null,null,null,null,null,null,null,null,null,null,null,null,null,null,null,null,null,null,null,null,null,null,null,null,null,null,null,null,null,null,null,null,null,null,null,null,null,null,null,null,null,null,null,null,null,null,null,null,null,null,null,null,null,null,null,null,null,null,null,null,null,null,null,null,null,null,null,null,null,null,null,null,null,null,null,null,null,null,null,null,null,null,null,null,null,null,null,null,null,null,null,null,null,null,null,null,null,null,null,null,null,"IN4520190096","STATE DEVELOPMENT LOAN"]
[null,null,null,null,null,null,null,null,null,null,null,null,null,null,null,null,null,null,null,null,null,null,null,null,null,null,null,null,null,null,null,null,null,null,null,null,null,null,null,null,null,null,null,null,null,null,null,null,null,null,null,null,null,null,null,null,null,null,null,null,null,null,null,null,null,null,null,null,null,null,null,null,null,null,null,null,null,null,null,null,null,null,null,null,null,null,null,null,null,null,null,null,null,null,null,null,null,null,null,null,null,"INE093JA7K67","ANAND RATHI GLOBAL FINANCE LIMITED"]
[null,null,null,null,null,null,null,null,null,null,null,null,null,null,null,null,null,null,null,null,null,null,null,null,null,null,null,null,null,null,null,null,null,null,null,null,null,null,null,null,null,null,null,null,null,null,null,null,null,null,null,null,null,null,null,null,null,null,null,null,null,null,null,null,null,null,null,null,null,null,null,null,null,null,null,null,null,null,null,null,null,null,null,null,null,null,null,null,null,null,null,null,null,null,null,null,null,null,null,null,null,"INE0GI118023","OMKARA PS 16/2020-21 TRUST"]
[null,null,null,null,null,null,null,null,null,null,null,null,null,null,null,null,null,null,null,null,null,null,null,null,null,null,null,null,null,null,null,null,null,null,null,null,null,null,null,null,null,null,null,null,null,null,null,null,null,null,null,null,null,null,null,null,null,null,null,null,null,null,null,null,null,null,null,null,null,null,null,null,null,null,null,null,null,null,null,null,null,null,null,null,null,null,null,null,null,null,null,null,null,null,null,null,null,null,null,null,null,"INE0GUG18032","OMKARA PS20/2020-21 TRUST"]
[null,null,null,null,null,null,null,null,null,null,null,null,null,null,null,null,null,null,null,null,null,null,null,null,null,null,null,null,null,null,null,null,null,null,null,null,null,null,null,null,null,null,null,null,null,null,null,null,null,null,null,null,null,null,null,null,null,null,null,null,null,null,null,null,null,null,null,null,null,null,null,null,null,null,null,null,null,null,null,null,null,null,null,null,null,null,null,null,null,null,null,null,null,null,null,null,null,null,null,null,null,"INE0HBI18010","PHOENIX TRUST - FY21 - 13"]
[null,null,null,null,null,null,null,null,null,null,null,null,null,null,null,null,null,null,null,null,null,null,null,null,null,null,null,null,null,null,null,null,null,null,null,null,null,null,null,null,null,null,null,null,null,null,null,null,null,null,null,null,null,null,null,null,null,null,null,null,null,null,null,null,null,null,null,null,null,null,null,null,null,null,null,null,null,null,null,null,null,null,null,null,null,null,null,null,null,null,null,null,null,null,null,null,null,null,null,null,null,"INE0HBM01018","EIFFEL HILLS & DALES DEVELOPERS PRIVATE LIMITED"]
[null,null,null,null,null,null,null,null,null,null,null,null,null,null,null,null,null,null,null,null,null,null,null,null,null,null,null,null,null,null,null,null,null,null,null,null,null,null,null,null,null,null,null,null,null,null,null,null,null,null,null,null,null,null,null,null,null,null,null,null,null,null,null,null,null,null,null,null,null,null,null,null,null,null,null,null,null,null,null,null,null,null,null,null,null,null,null,null,null,null,null,null,null,null,null,null,null,null,null,null,null,"INE0HBP01011","PRECEPT PHARMA LIMITED"]
[null,null,null,null,null,null,null,null,null,null,null,null,null,null,null,null,null,null,null,null,null,null,null,null,null,null,null,null,null,null,null,null,null,null,null,null,null,null,null,null,null,null,null,null,null,null,null,null,null,null,null,null,null,null,null,null,null,null,null,null,null,null,null,null,null,null,null,null,null,null,null,null,null,null,null,null,null,null,null,null,null,null,null,null,null,null,null,null,null,null,null,null,null,null,null,null,null,null,null,null,null,"INE0HBR01017","WHOLE ORGANIC FOODS LIMITED"]
[null,null,null,null,null,null,null,null,null,null,null,null,null,null,null,null,null,null,null,null,null,null,null,null,null,null,null,null,null,null,null,null,null,null,null,null,null,null,null,null,null,null,null,null,null,null,null,null,null,null,null,null,null,null,null,null,null,null,null,null,null,null,null,null,null,null,null,null,null,null,null,null,null,null,null,null,null,null,null,null,null,null,null,null,null,null,null,null,null,null,null,null,null,null,null,null,null,null,null,null,null,"INE0HBV01019","SMS IT SOLUTIONS PRIVATE LIMITED"]
[null,null,null,null,null,null,null,null,null,null,null,null,null,null,null,null,null,null,null,null,null,null,null,null,null,null,null,null,null,null,null,null,null,null,null,null,null,null,null,null,null,null,null,null,null,null,null,null,null,null,null,null,null,null,null,null,null,null,null,null,null,null,null,null,null,null,null,null,null,null,null,null,null,null,null,null,null,null,null,null,null,null,null,null,null,null,null,null,null,null,null,null,null,null,null,null,null,null,null,null,null,"INE508G14AJ5","TIME TECHNOPLAST LIMITED"]
[null,null,null,null,null,null,null,null,null,null,null,null,null,null,null,null,null,null,null,null,null,null,null,null,null,null,null,null,null,null,null,null,null,null,null,null,null,null,null,null,null,null,null,null,null,null,null,null,null,null,null,null,null,null,null,null,null,null,null,null,null,null,null,null,null,null,null,null,null,null,null,null,null,null,null,null,null,null,null,null,null,null,null,null,null,null,null,null,null,null,null,null,null,null,null,null,null,null,null,null,null,"INE939X07044","MANBA FINANCE LIMITED"]
[null,null,null,null,null,null,null,null,null,null,null,null,null,null,null,null,null,null,null,null,null,null,null,null,null,null,null,null,null,null,null,null,null,null,null,null,null,null,null,null,null,null,null,null,null,null,null,null,null,null,null,null,null,null,null,null,null,null,null,null,null,null,null,null,null,null,null,null,null,null,null,null,null,null,null,null,null,null,null,null,null,null,null,null,null,null,null,null,null,null,null,null,null,null,null,null,null,null,null,null,null,"INE0FU603011","GRAYQUEST EDUCATION FINANCE PRIVATE LIMITED"]
[null,null,null,null,null,null,null,null,null,null,null,null,null,null,null,null,null,null,null,null,null,null,null,null,null,null,null,null,null,null,null,null,null,null,null,null,null,null,null,null,null,null,null,null,null,null,null,null,null,null,null,null,null,null,null,null,null,null,null,null,null,null,null,null,null,null,null,null,null,null,null,null,null,null,null,null,null,null,null,null,null,null,null,null,null,null,null,null,null,null,null,null,null,null,null,null,null,null,null,null,null,"INE0FU603029","GRAYQUEST EDUCATION FINANCE PRIVATE LIMITED"]
[null,null,null,null,null,null,null,null,null,null,null,null,null,null,null,null,null,null,null,null,null,null,null,null,null,null,null,null,null,null,null,null,null,null,null,null,null,null,null,null,null,null,null,null,null,null,null,null,null,null,null,null,null,null,null,null,null,null,null,null,null,null,null,null,null,null,null,null,null,null,null,null,null,null,null,null,null,null,null,null,null,null,null,null,null,null,null,null,null,null,null,null,null,null,null,null,null,null,null,null,null,"INE0GOA01018","NAAPBOOKS LIMITED"]
[null,null,null,null,null,null,null,null,null,null,null,null,null,null,null,null,null,null,null,null,null,null,null,null,null,null,null,null,null,null,null,null,null,null,null,null,null,null,null,null,null,null,null,null,null,null,null,null,null,null,null,null,null,null,null,null,null,null,null,null,null,null,null,null,null,null,null,null,null,null,null,null,null,null,null,null,null,null,null,null,null,null,null,null,null,null,null,null,null,null,null,null,null,null,null,null,null,null,null,null,null,"INE0GPM01010","SRI NATH JI ISPAT LIMITED"]
[null,null,null,null,null,null,null,null,null,null,null,null,null,null,null,null,null,null,null,null,null,null,null,null,null,null,null,null,null,null,null,null,null,null,null,null,null,null,null,null,null,null,null,null,null,null,null,null,null,null,null,null,null,null,null,null,null,null,null,null,null,null,null,null,null,null,null,null,null,null,null,null,null,null,null,null,null,null,null,null,null,null,null,null,null,null,null,null,null,null,null,null,null,null,null,null,null,null,null,null,null,"INE139V07029","SHREE VARDHMAN BUILDPROP PRIVATE LIMITED"]
[null,null,null,null,null,null,null,null,null,null,null,null,null,null,null,null,null,null,null,null,null,null,null,null,null,null,null,null,null,null,null,null,null,null,null,null,null,null,null,null,null,null,null,null,null,null,null,null,null,null,null,null,null,null,null,null,null,null,null,null,null,null,null,null,null,null,null,null,null,null,null,null,null,null,null,null,null,null,null,null,null,null,null,null,null,null,null,null,null,null,null,null,null,null,null,null,null,null,null,null,null,"INE722A07AN1","SHRIRAM CITY UNION FINANCE LIMITED"]
[null,null,null,null,null,null,null,null,null,null,null,null,null,null,null,null,null,null,null,null,null,null,null,null,null,null,null,null,null,null,null,null,null,null,null,null,null,null,null,null,null,null,null,null,null,null,null,null,null,null,null,null,null,null,null,null,null,null,null,null,null,null,null,null,null,null,null,null,null,null,null,null,null,null,null,null,null,null,null,null,null,null,null,null,null,null,null,null,null,null,null,null,null,null,null,null,null,null,null,null,null,"INE743G08100","VITP PRIVATE  LIMITED"]
[null,null,null,null,null,null,null,null,null,null,null,null,null,null,null,null,null,null,null,null,null,null,null,null,null,null,null,null,null,null,null,null,null,null,null,null,null,null,null,null,null,null,null,null,null,null,null,null,null,null,null,null,null,null,null,null,null,null,null,null,null,null,null,null,null,null,null,null,null,null,null,null,null,null,null,null,null,null,null,null,null,null,null,null,null,null,null,null,null,null,null,null,null,null,null,null,null,null,null,null,null,"IN90BEE01010","TORRENT GAS PRIVATE LIMITED"]
[null,null,null,null,null,null,null,null,null,null,null,null,null,null,null,null,null,null,null,null,null,null,null,null,null,null,null,null,null,null,null,null,null,null,null,null,null,null,null,null,null,null,null,null,null,null,null,null,null,null,null,null,null,null,null,null,null,null,null,null,null,null,null,null,null,null,null,null,null,null,null,null,null,null,null,null,null,null,null,null,null,null,null,null,null,null,null,null,null,null,null,null,null,null,null,null,null,null,null,null,null,"INE093JA7UZ8","ANAND RATHI GLOBAL FINANCE LIMITED"]
[null,null,null,null,null,null,null,null,null,null,null,null,null,null,null,null,null,null,null,null,null,null,null,null,null,null,null,null,null,null,null,null,null,null,null,null,null,null,null,null,null,null,null,null,null,null,null,null,null,null,null,null,null,null,null,null,null,null,null,null,null,null,null,null,null,null,null,null,null,null,null,null,null,null,null,null,null,null,null,null,null,null,null,null,null,null,null,null,null,null,null,null,null,null,null,null,null,null,null,null,null,"INE093JA7VC5","ANAND RATHI GLOBAL FINANCE LIMITED"]
[null,null,null,null,null,null,null,null,null,null,null,null,null,null,null,null,null,null,null,null,null,null,null,null,null,null,null,null,null,null,null,null,null,null,null,null,null,null,null,null,null,null,null,null,null,null,null,null,null,null,null,null,null,null,null,null,null,null,null,null,null,null,null,null,null,null,null,null,null,null,null,null,null,null,null,null,null,null,null,null,null,null,null,null,null,null,null,null,null,null,null,null,null,null,null,null,null,null,null,null,null,"INE672R01012","GATI-KINTETSU EXPRESS PRIVATE LIMITED"]
[null,null,null,null,null,null,null,null,null,null,null,null,null,null,null,null,null,null,null,null,null,null,null,null,null,null,null,null,null,null,null,null,null,null,null,null,null,null,null,null,null,null,null,null,null,null,null,null,null,null,null,null,null,null,null,null,null,null,null,null,null,null,null,null,null,null,null,null,null,null,null,null,null,null,null,null,null,null,null,null,null,null,null,null,null,null,null,null,null,null,null,null,null,null,null,null,null,null,null,null,null,"INE788Y01012","L&T-MHI POWER BOILERS PRIVATE LIMITED"]
[null,null,null,null,null,null,null,null,null,null,null,null,null,null,null,null,null,null,null,null,null,null,null,null,null,null,null,null,null,null,null,null,null,null,null,null,null,null,null,null,null,null,null,null,null,null,null,null,null,null,null,null,null,null,null,null,null,null,null,null,null,null,null,null,null,null,null,null,null,null,null,null,null,null,null,null,null,null,null,null,null,null,null,null,null,null,null,null,null,null,null,null,null,null,null,null,null,null,null,null,null,"IN8786J01024","SHEETAL DIAMONDS LIMITED"]
[null,null,null,null,null,null,null,null,null,null,null,null,null,null,null,null,null,null,null,null,null,null,null,null,null,null,null,null,null,null,null,null,null,null,null,null,null,null,null,null,null,null,null,null,null,null,null,null,null,null,null,null,null,null,null,null,null,null,null,null,null,null,null,null,null,null,null,null,null,null,null,null,null,null,null,null,null,null,null,null,null,null,null,null,null,null,null,null,null,null,null,null,null,null,null,null,null,null,null,null,null,"INE0FOO03058","BIGFOOT RETAIL SOLUTIONS PRIVATE LIMITED"]
[null,null,null,null,null,null,null,null,null,null,null,null,null,null,null,null,null,null,null,null,null,null,null,null,null,null,null,null,null,null,null,null,null,null,null,null,null,null,null,null,null,null,null,null,null,null,null,null,null,null,null,null,null,null,null,null,null,null,null,null,null,null,null,null,null,null,null,null,null,null,null,null,null,null,null,null,null,null,null,null,null,null,null,null,null,null,null,null,null,null,null,null,null,null,null,null,null,null,null,null,null,"INE0K4H01013","JAI JUTE & INDUSTRIES LIMITED"]
[null,null,null,null,null,null,null,null,null,null,null,null,null,null,null,null,null,null,null,null,null,null,null,null,null,null,null,null,null,null,null,null,null,null,null,null,null,null,null,null,null,null,null,null,null,null,null,null,null,null,null,null,null,null,null,null,null,null,null,null,null,null,null,null,null,null,null,null,null,null,null,null,null,null,null,null,null,null,null,null,null,null,null,null,null,null,null,null,null,null,null,null,null,null,null,null,null,null,null,null,null,"INE251B08014","ZEN TECHNOLOGIES LIMITED"]
[null,null,null,null,null,null,null,null,null,null,null,null,null,null,null,null,null,null,null,null,null,null,null,null,null,null,null,null,null,null,null,null,null,null,null,null,null,null,null,null,null,null,null,null,null,null,null,null,null,null,null,null,null,null,null,null,null,null,null,null,null,null,null,null,null,null,null,null,null,null,null,null,null,null,null,null,null,null,null,null,null,null,null,null,null,null,null,null,null,null,null,null,null,null,null,null,null,null,null,null,null,"INE393E04017","INDIANIVESH CAPITALS LIMITED"]
[null,null,null,null,null,null,null,null,null,null,null,null,null,null,null,null,null,null,null,null,null,null,null,null,null,null,null,null,null,null,null,null,null,null,null,null,null,null,null,null,null,null,null,null,null,null,null,null,null,null,null,null,null,null,null,null,null,null,null,null,null,null,null,null,null,null,null,null,null,null,null,null,null,null,null,null,null,null,null,null,null,null,null,null,null,null,null,null,null,null,null,null,null,null,null,null,null,null,null,null,null,"INF109KC1Y31","ICICI PRUDENTIAL MUTUAL FUND"]
[null,null,null,null,null,null,null,null,null,null,null,null,null,null,null,null,null,null,null,null,null,null,null,null,null,null,null,null,null,null,null,null,null,null,null,null,null,null,null,null,null,null,null,null,null,null,null,null,null,null,null,null,null,null,null,null,null,null,null,null,null,null,null,null,null,null,null,null,null,null,null,null,null,null,null,null,null,null,null,null,null,null,null,null,null,null,null,null,null,null,null,null,null,null,null,null,null,null,null,null,null,"IN8840Y01028","ONE POINT ONE SOLUTIONS LIMITED"]
[null,null,null,null,null,null,null,null,null,null,null,null,null,null,null,null,null,null,null,null,null,null,null,null,null,null,null,null,null,null,null,null,null,null,null,null,null,null,null,null,null,null,null,null,null,null,null,null,null,null,null,null,null,null,null,null,null,null,null,null,null,null,null,null,null,null,null,null,null,null,null,null,null,null,null,null,null,null,null,null,null,null,null,null,null,null,null,null,null,null,null,null,null,null,null,null,null,null,null,null,null,"INE0KDK01012","KALLAM TRANSMISSION LIMITED"]
[null,null,null,null,null,null,null,null,null,null,null,null,null,null,null,null,null,null,null,null,null,null,null,null,null,null,null,null,null,null,null,null,null,null,null,null,null,null,null,null,null,null,null,null,null,null,null,null,null,null,null,null,null,null,null,null,null,null,null,null,null,null,null,null,null,null,null,null,null,null,null,null,null,null,null,null,null,null,null,null,null,null,null,null,null,null,null,null,null,null,null,null,null,null,null,null,null,null,null,null,null,"INE0KDS03011","SAMAST TECHNOLOGIES PRIVATE LIMITED"]
[null,null,null,null,null,null,null,null,null,null,null,null,null,null,null,null,null,null,null,null,null,null,null,null,null,null,null,null,null,null,null,null,null,null,null,null,null,null,null,null,null,null,null,null,null,null,null,null,null,null,null,null,null,null,null,null,null,null,null,null,null,null,null,null,null,null,null,null,null,null,null,null,null,null,null,null,null,null,null,null,null,null,null,null,null,null,null,null,null,null,null,null,null,null,null,null,null,null,null,null,null,"INE415N01023","NAAPTOL ONLINE SHOPPING PRIVATE LIMITED"]
[null,null,null,null,null,null,null,null,null,null,null,null,null,null,null,null,null,null,null,null,null,null,null,null,null,null,null,null,null,null,null,null,null,null,null,null,null,null,null,null,null,null,null,null,null,null,null,null,null,null,null,null,null,null,null,null,null,null,null,null,null,null,null,null,null,null,null,null,null,null,null,null,null,null,null,null,null,null,null,null,null,null,null,null,null,null,null,null,null,null,null,null,null,null,null,null,null,null,null,null,null,"INE0GYU07020","VIRESCENT RENEWABLE ENERGY TRUST"]
[null,null,null,null,null,null,null,null,null,null,null,null,null,null,null,null,null,null,null,null,null,null,null,null,null,null,null,null,null,null,null,null,null,null,null,null,null,null,null,null,null,null,null,null,null,null,null,null,null,null,null,null,null,null,null,null,null,null,null,null,null,null,null,null,null,null,null,null,null,null,null,null,null,null,null,null,null,null,null,null,null,null,null,null,null,null,null,null,null,null,null,null,null,null,null,null,null,null,null,null,null,"INE0JMN01019","SHASHWAT FURNISHING SOLUTIONS LIMITED"]
[null,null,null,null,null,null,null,null,null,null,null,null,null,null,null,null,null,null,null,null,null,null,null,null,null,null,null,null,null,null,null,null,null,null,null,null,null,null,null,null,null,null,null,null,null,null,null,null,null,null,null,null,null,null,null,null,null,null,null,null,null,null,null,null,null,null,null,null,null,null,null,null,null,null,null,null,null,null,null,null,null,null,null,null,null,null,null,null,null,null,null,null,null,null,null,null,null,null,null,null,null,"INE0JP301015","KALKA LIQUORS (INDIA) LIMITED"]
[null,null,null,null,null,null,null,null,null,null,null,null,null,null,null,null,null,null,null,null,null,null,null,null,null,null,null,null,null,null,null,null,null,null,null,null,null,null,null,null,null,null,null,null,null,null,null,null,null,null,null,null,null,null,null,null,null,null,null,null,null,null,null,null,null,null,null,null,null,null,null,null,null,null,null,null,null,null,null,null,null,null,null,null,null,null,null,null,null,null,null,null,null,null,null,null,null,null,null,null,null,"INE0JP901012","KARTIKAYE LIQUORS LIMITED"]
[null,null,null,null,null,null,null,null,null,null,null,null,null,null,null,null,null,null,null,null,null,null,null,null,null,null,null,null,null,null,null,null,null,null,null,null,null,null,null,null,null,null,null,null,null,null,null,null,null,null,null,null,null,null,null,null,null,null,null,null,null,null,null,null,null,null,null,null,null,null,null,null,null,null,null,null,null,null,null,null,null,null,null,null,null,null,null,null,null,null,null,null,null,null,null,null,null,null,null,null,null,"INE0JPG01016","MATRIX WATER MANAGEMENT PRIVATE LIMITED"]
[null,null,null,null,null,null,null,null,null,null,null,null,null,null,null,null,null,null,null,null,null,null,null,null,null,null,null,null,null,null,null,null,null,null,null,null,null,null,null,null,null,null,null,null,null,null,null,null,null,null,null,null,null,null,null,null,null,null,null,null,null,null,null,null,null,null,null,null,null,null,null,null,null,null,null,null,null,null,null,null,null,null,null,null,null,null,null,null,null,null,null,null,null,null,null,null,null,null,null,null,null,"INE0JPI01012","SHAGUN FARMS PRIVATE LIMITED"]
[null,null,null,null,null,null,null,null,null,null,null,null,null,null,null,null,null,null,null,null,null,null,null,null,null,null,null,null,null,null,null,null,null,null,null,null,null,null,null,null,null,null,null,null,null,null,null,null,null,null,null,null,null,null,null,null,null,null,null,null,null,null,null,null,null,null,null,null,null,null,null,null,null,null,null,null,null,null,null,null,null,null,null,null,null,null,null,null,null,null,null,null,null,null,null,null,null,null,null,null,null,"INE0JPJ01010","PANAGARH PALSIT ROAD PRIVATE LIMITED"]
[null,null,null,null,null,null,null,null,null,null,null,null,null,null,null,null,null,null,null,null,null,null,null,null,null,null,null,null,null,null,null,null,null,null,null,null,null,null,null,null,null,null,null,null,null,null,null,null,null,null,null,null,null,null,null,null,null,null,null,null,null,null,null,null,null,null,null,null,null,null,null,null,null,null,null,null,null,null,null,null,null,null,null,null,null,null,null,null,null,null,null,null,null,null,null,null,null,null,null,null,null,"INE0JPO15010","SANSAR TRUST SEPTEMBER 2021 VIII"]
[null,null,null,null,null,null,null,null,null,null,null,null,null,null,null,null,null,null,null,null,null,null,null,null,null,null,null,null,null,null,null,null,null,null,null,null,null,null,null,null,null,null,null,null,null,null,null,null,null,null,null,null,null,null,null,null,null,null,null,null,null,null,null,null,null,null,null,null,null,null,null,null,null,null,null,null,null,null,null,null,null,null,null,null,null,null,null,null,null,null,null,null,null,null,null,null,null,null,null,null,null,"INF00XX01BT8","ITI MUTUAL FUND"]
[null,null,null,null,null,null,null,null,null,null,null,null,null,null,null,null,null,null,null,null,null,null,null,null,null,null,null,null,null,null,null,null,null,null,null,null,null,null,null,null,null,null,null,null,null,null,null,null,null,null,null,null,null,null,null,null,null,null,null,null,null,null,null,null,null,null,null,null,null,null,null,null,null,null,null,null,null,null,null,null,null,null,null,null,null,null,null,null,null,null,null,null,null,null,null,null,null,null,null,null,null,"INF846K015D7","AXIS MUTUAL FUND"]
[null,null,null,null,null,null,null,null,null,null,null,null,null,null,null,null,null,null,null,null,null,null,null,null,null,null,null,null,null,null,null,null,null,null,null,null,null,null,null,null,null,null,null,null,null,null,null,null,null,null,null,null,null,null,null,null,null,null,null,null,null,null,null,null,null,null,null,null,null,null,null,null,null,null,null,null,null,null,null,null,null,null,null,null,null,null,null,null,null,null,null,null,null,null,null,null,null,null,null,null,null,"INF846K016D5","AXIS MUTUAL FUND"]

{"sheet":"112","index":54,"n_rows":1,"n_cols":6,"rows_kept":1,"cut":false,"hidden":true,"merged":[]}
["ISIN CODE","No. of Shares/Units","Sale-price per Share/Unit","Cost of acquisition","Fair Market Value per share/unit as on 31st January,2018","Expenditure wholly and exclusively in connection with transfer"]

{"sheet":"115","index":55,"n_rows":1,"n_cols":6,"rows_kept":1,"cut":false,"hidden":true,"merged":[]}
["ISIN CODE","No. of Shares/Units","Sale-price per Share/Unit","Cost of acquisition","Fair Market Value per share/unit as on 31st January,2018","Expenditure wholly and exclusively in connection with transfer"]